BEGIN:VCALENDAR
VERSION:2.0
PRODID:-//Nicole Johnston - ECPv4.8.1//NONSGML v1.0//EN
CALSCALE:GREGORIAN
METHOD:PUBLISH
X-WR-CALNAME:Nicole Johnston
X-ORIGINAL-URL:http://nicolejohnston.com.au
X-WR-CALDESC:Events for Nicole Johnston
BEGIN:VEVENT
DTSTART;TZID=Australia/Brisbane:20190128T091500
DTEND;TZID=Australia/Brisbane:20190128T094500
DTSTAMP:20190227T113053
CREATED:20151205T174653Z
LAST-MODIFIED:20151205T174653Z
UID:11456-1548666900-1548668700@nicolejohnston.com.au
SUMMARY:Indooroopilly First 5 Babies\, Books & Rhymes
DESCRIPTION:Meet other parents and babies for a fun session of singing\, clapping and dancing. \nLearn songs and action rhymes to nurture your baby’s pre-literacy\, communication\, language and social skills. \nIdeal for babies and toddlers aged up to 12 months.  Bookings not required. \nThe First 5 Forever initiative is funded by the Queensland Government. \n
URL:http://nicolejohnston.com.au/event/indooroopilly-first-5-babies-books-rhymes/2019-01-28/
LOCATION:Indooroopilly Library\, Lvl 4\, Indooroopilly Shopping Centre\,  322 Moggill Road\, Indooroopilly\, Queensland\, 4068\, Australia
GEO:-27.4995022;152.9728456
X-APPLE-STRUCTURED-LOCATION;VALUE=URI;X-ADDRESS=Indooroopilly Library Lvl 4 Indooroopilly Shopping Centre  322 Moggill Road Indooroopilly Queensland 4068 Australia;X-APPLE-RADIUS=500;X-TITLE=Lvl 4\, Indooroopilly Shopping Centre\,  322 Moggill Road:geo:152.9728456,-27.4995022
END:VEVENT
BEGIN:VEVENT
DTSTART;TZID=Australia/Brisbane:20190128T100000
DTEND;TZID=Australia/Brisbane:20190128T103000
DTSTAMP:20190227T113053
CREATED:20160210T132919Z
LAST-MODIFIED:20160210T132919Z
UID:11459-1548669600-1548671400@nicolejohnston.com.au
SUMMARY:Annerley | First 5 Forever Toddler Time
DESCRIPTION:Meet other parents and toddlers for a fun session of singing\, clapping and dancing. Learn action rhymes and songs which will help your child’s pre-literacy\, communication\, language and social skills. \nIdeal for babies and toddlers aged 1-3 years. \nThe First 5 Forever initiative is funded by the Queensland Government. \n
URL:http://nicolejohnston.com.au/event/annerley-first-5-forever-toddler-time/2019-01-28/
LOCATION:Annerley Library\, 469 Ipswich Rd\, Annerley\, Queensland\, 4103\, Australia
GEO:-27.5115338;153.0317863
X-APPLE-STRUCTURED-LOCATION;VALUE=URI;X-ADDRESS=Annerley Library 469 Ipswich Rd Annerley Queensland 4103 Australia;X-APPLE-RADIUS=500;X-TITLE=469 Ipswich Rd:geo:153.0317863,-27.5115338
END:VEVENT
BEGIN:VEVENT
DTSTART;TZID=Australia/Brisbane:20190128T100000
DTEND;TZID=Australia/Brisbane:20190128T120000
DTSTAMP:20190227T113053
CREATED:20180504T012013Z
LAST-MODIFIED:20180504T012013Z
UID:16157-1548669600-1548676800@nicolejohnston.com.au
SUMMARY:Seniors Group | Yeronga Community Centre
DESCRIPTION:Socialising and games \n
URL:http://nicolejohnston.com.au/event/yeronga-community-centre-seniors-group/2019-01-28/
LOCATION:Yeronga Community Centre\, 26 Devon St\, Yeronga\, Queensland\, 4103\, Australia
GEO:-27.5178214;153.0308084
X-APPLE-STRUCTURED-LOCATION;VALUE=URI;X-ADDRESS=Yeronga Community Centre 26 Devon St Yeronga Queensland 4103 Australia;X-APPLE-RADIUS=500;X-TITLE=26 Devon St:geo:153.0308084,-27.5178214
END:VEVENT
BEGIN:VEVENT
DTSTART;TZID=Australia/Brisbane:20190128T100000
DTEND;TZID=Australia/Brisbane:20190128T120000
DTSTAMP:20190227T113053
CREATED:20180504T012141Z
LAST-MODIFIED:20180504T012141Z
UID:16219-1548669600-1548676800@nicolejohnston.com.au
SUMMARY:Computer Assistance | Yeronga Community Centre
DESCRIPTION:
URL:http://nicolejohnston.com.au/event/computer-assistance-yeronga-community-centre-2/2019-01-28/
LOCATION:Yeronga Community Centre\, 26 Devon St\, Yeronga\, Queensland\, 4103\, Australia
GEO:-27.5178214;153.0308084
X-APPLE-STRUCTURED-LOCATION;VALUE=URI;X-ADDRESS=Yeronga Community Centre 26 Devon St Yeronga Queensland 4103 Australia;X-APPLE-RADIUS=500;X-TITLE=26 Devon St:geo:153.0308084,-27.5178214
END:VEVENT
BEGIN:VEVENT
DTSTART;TZID=Australia/Brisbane:20190128T100000
DTEND;TZID=Australia/Brisbane:20190128T110000
DTSTAMP:20190227T113053
CREATED:20180504T015313Z
LAST-MODIFIED:20180504T015313Z
UID:16659-1548669600-1548673200@nicolejohnston.com.au
SUMMARY:Indoor Lawn Bowls | Yeronga Community Centre
DESCRIPTION:Come and have some fun on the ‘bowling green’ at the community centre at Yeronga. Every Monday at 10:00am. Everyone is welcome\, and best of all – it’s free! \n
URL:http://nicolejohnston.com.au/event/indoor-lawn-bowls-yeronga-community-centre/2019-01-28/
LOCATION:Yeronga Community Centre\, 26 Devon St\, Yeronga\, Queensland\, 4103\, Australia
GEO:-27.5178214;153.0308084
X-APPLE-STRUCTURED-LOCATION;VALUE=URI;X-ADDRESS=Yeronga Community Centre 26 Devon St Yeronga Queensland 4103 Australia;X-APPLE-RADIUS=500;X-TITLE=26 Devon St:geo:153.0308084,-27.5178214
END:VEVENT
BEGIN:VEVENT
DTSTART;TZID=Australia/Brisbane:20190128T113000
DTEND;TZID=Australia/Brisbane:20190128T120000
DTSTAMP:20190227T113053
CREATED:20160210T133213Z
LAST-MODIFIED:20160210T133213Z
UID:11460-1548675000-1548676800@nicolejohnston.com.au
SUMMARY:Annerley | Babies\, Books & Rhymes
DESCRIPTION:Meet other parents and babies for a fun session of singing\, clapping and dancing. Learn songs and action rhymes to nurture your baby’s pre-literacy\, communication\, language and social skills. \nIdeal for babies aged up to two years. \n
URL:http://nicolejohnston.com.au/event/annerley-babies-books-rhymes-2/2019-01-28/
LOCATION:Annerley Library\, 469 Ipswich Rd\, Annerley\, Queensland\, 4103\, Australia
GEO:-27.5115338;153.0317863
X-APPLE-STRUCTURED-LOCATION;VALUE=URI;X-ADDRESS=Annerley Library 469 Ipswich Rd Annerley Queensland 4103 Australia;X-APPLE-RADIUS=500;X-TITLE=469 Ipswich Rd:geo:153.0317863,-27.5115338
END:VEVENT
BEGIN:VEVENT
DTSTART;TZID=Australia/Brisbane:20190128T153000
DTEND;TZID=Australia/Brisbane:20190128T160000
DTSTAMP:20190227T113053
CREATED:20160210T132637Z
LAST-MODIFIED:20160210T132637Z
UID:11458-1548689400-1548691200@nicolejohnston.com.au
SUMMARY:Annerley | Children's Storytime
DESCRIPTION:\nExperience the magic of storytime with your child at the library. This interactive session includes stories\, songs and creative early literacy experiences for children. \nIdeal for children aged 2-5 years. \n\n
URL:http://nicolejohnston.com.au/event/annerley-childrens-storytime-3/2019-01-28/
LOCATION:Annerley Library\, 469 Ipswich Rd\, Annerley\, Queensland\, 4103\, Australia
GEO:-27.5115338;153.0317863
X-APPLE-STRUCTURED-LOCATION;VALUE=URI;X-ADDRESS=Annerley Library 469 Ipswich Rd Annerley Queensland 4103 Australia;X-APPLE-RADIUS=500;X-TITLE=469 Ipswich Rd:geo:153.0317863,-27.5115338
END:VEVENT
END:VCALENDAR