BEGIN:VCALENDAR
VERSION:2.0
PRODID:-//Nicole Johnston - ECPv6.15.20//NONSGML v1.0//EN
CALSCALE:GREGORIAN
METHOD:PUBLISH
X-WR-CALNAME:Nicole Johnston
X-ORIGINAL-URL:https://nicolejohnston.com.au
X-WR-CALDESC:Events for Nicole Johnston
REFRESH-INTERVAL;VALUE=DURATION:PT1H
X-Robots-Tag:noindex
X-PUBLISHED-TTL:PT1H
BEGIN:VTIMEZONE
TZID:Australia/Brisbane
BEGIN:STANDARD
TZOFFSETFROM:+1000
TZOFFSETTO:+1000
TZNAME:AEST
DTSTART:20150101T000000
END:STANDARD
END:VTIMEZONE
BEGIN:VEVENT
DTSTART;TZID=Australia/Brisbane:20160305T080000
DTEND;TZID=Australia/Brisbane:20160305T150000
DTSTAMP:20260425T030156
CREATED:20160302T134840Z
LAST-MODIFIED:20160302T134840Z
UID:7850-1457164800-1457190000@nicolejohnston.com.au
SUMMARY:Hazardous Waste Drop Off Day
DESCRIPTION:Household hazardous waste includes everyday products such as bleach\, garden and pool chemicals\, and cleaning solvents that are purchased from the supermarket or hardware store. \nThe following items can be taken to Council transfer stations: \n\naerosols\nbatteries (household and lead acid batteries)\nempty gas bottles (up to 9kg)\nelectronic waste\nfluorescent light bulbs and tubes\npaint\nused mineral engine oil.\n\nItems must remain in their original containers and not be mixed. A 20 litre limit for each chemical or product applies to residents.
URL:https://nicolejohnston.com.au/event/hazardous-waste-drop-off-day/
LOCATION:Willawong Resource Recovery Centre\, 360 Sherbrooke Rd\, Willawong\, Qld\, 4110\, Australia
GEO:-27.601944;153.005908
X-APPLE-STRUCTURED-LOCATION;VALUE=URI;X-ADDRESS=Willawong Resource Recovery Centre 360 Sherbrooke Rd Willawong Qld 4110 Australia;X-APPLE-RADIUS=500;X-TITLE=360 Sherbrooke Rd:geo:153.005908,-27.601944
END:VEVENT
END:VCALENDAR