BEGIN:VCALENDAR
VERSION:2.0
PRODID:-//Nicole Johnston - ECPv6.15.20//NONSGML v1.0//EN
CALSCALE:GREGORIAN
METHOD:PUBLISH
X-WR-CALNAME:Nicole Johnston
X-ORIGINAL-URL:https://nicolejohnston.com.au
X-WR-CALDESC:Events for Nicole Johnston
REFRESH-INTERVAL;VALUE=DURATION:PT1H
X-Robots-Tag:noindex
X-PUBLISHED-TTL:PT1H
BEGIN:VTIMEZONE
TZID:Australia/Brisbane
BEGIN:STANDARD
TZOFFSETFROM:+1000
TZOFFSETTO:+1000
TZNAME:AEST
DTSTART:20140101T000000
END:STANDARD
END:VTIMEZONE
BEGIN:VEVENT
DTSTART;TZID=Australia/Brisbane:20151216T140000
DTEND;TZID=Australia/Brisbane:20151216T144500
DTSTAMP:20260425T030548
CREATED:20151109T135132Z
LAST-MODIFIED:20151109T135132Z
UID:4820-1450274400-1450277100@nicolejohnston.com.au
SUMMARY:Merlin's Voyage Storytime | Fairfield Library
DESCRIPTION:Bookings required. \nJoin author Emmanuelle Buecher-Hall as she reads from her book Merlin’s Voyage\, and shares a craft activity from the story. \nIdeal for children aged 5-8 years. \n\n\nPresented as part of Brisbane City Council’s Summer Reading program. \nIt’s game on with Summer Reading these school holidays! By reading books and attending Summer Reading events at Brisbane libraries over the summer break\, children can collect 10 stickers for their Summer Reading pocket book and receive an exciting reward! To get started\, visit your local library and collect a Summer Reading pocket book.
URL:https://nicolejohnston.com.au/event/merlins-voyage-storytime-fairfield-library/
LOCATION:Fairfield Library\, Fairfield Gardens\, 180 Fairfield Rd\, Fairfield\, Queensland\, 4103\, Australia
GEO:-27.508752;153.025501
X-APPLE-STRUCTURED-LOCATION;VALUE=URI;X-ADDRESS=Fairfield Library Fairfield Gardens 180 Fairfield Rd Fairfield Queensland 4103 Australia;X-APPLE-RADIUS=500;X-TITLE=Fairfield Gardens\, 180 Fairfield Rd:geo:153.025501,-27.508752
END:VEVENT
END:VCALENDAR