BEGIN:VCALENDAR
VERSION:2.0
PRODID:-//Nicole Johnston - ECPv6.15.20//NONSGML v1.0//EN
CALSCALE:GREGORIAN
METHOD:PUBLISH
X-WR-CALNAME:Nicole Johnston
X-ORIGINAL-URL:https://nicolejohnston.com.au
X-WR-CALDESC:Events for Nicole Johnston
REFRESH-INTERVAL;VALUE=DURATION:PT1H
X-Robots-Tag:noindex
X-PUBLISHED-TTL:PT1H
BEGIN:VTIMEZONE
TZID:Australia/Brisbane
BEGIN:STANDARD
TZOFFSETFROM:+1000
TZOFFSETTO:+1000
TZNAME:AEST
DTSTART:20140101T000000
END:STANDARD
END:VTIMEZONE
BEGIN:VEVENT
DTSTART;TZID=Australia/Brisbane:20151111T103000
DTEND;TZID=Australia/Brisbane:20151111T113000
DTSTAMP:20260425T030145
CREATED:20151110T095406Z
LAST-MODIFIED:20151110T095406Z
UID:5393-1447237800-1447241400@nicolejohnston.com.au
SUMMARY:Remembrance Day - Corinda
DESCRIPTION:2015 marks the 97th anniversary of the signing of the Armistice that ended World War I. Every year at the 11th hour of the 11th day of the 11th month\, one minutes silence is observed throughout the country in remembrance of those who lost their lives during war.
URL:https://nicolejohnston.com.au/event/remembrance-day-corinda/
LOCATION:Croll Memorial Precinct\, Cnr Browne & Clewley Sts\, Corinda\, Qld\, 4075\, Australia
GEO:-27.5384488;152.9806087
X-APPLE-STRUCTURED-LOCATION;VALUE=URI;X-ADDRESS=Croll Memorial Precinct Cnr Browne & Clewley Sts Corinda Qld 4075 Australia;X-APPLE-RADIUS=500;X-TITLE=Cnr Browne & Clewley Sts:geo:152.9806087,-27.5384488
END:VEVENT
END:VCALENDAR