BEGIN:VCALENDAR
VERSION:2.0
PRODID:-//Nicole Johnston - ECPv6.15.20//NONSGML v1.0//EN
CALSCALE:GREGORIAN
METHOD:PUBLISH
X-WR-CALNAME:Nicole Johnston
X-ORIGINAL-URL:https://nicolejohnston.com.au
X-WR-CALDESC:Events for Nicole Johnston
REFRESH-INTERVAL;VALUE=DURATION:PT1H
X-Robots-Tag:noindex
X-PUBLISHED-TTL:PT1H
BEGIN:VTIMEZONE
TZID:Australia/Brisbane
BEGIN:STANDARD
TZOFFSETFROM:+1000
TZOFFSETTO:+1000
TZNAME:AEST
DTSTART:20170101T000000
END:STANDARD
END:VTIMEZONE
BEGIN:VEVENT
DTSTART;TZID=Australia/Brisbane:20180516T073000
DTEND;TZID=Australia/Brisbane:20180516T090000
DTSTAMP:20260425T033445
CREATED:20180504T015128Z
LAST-MODIFIED:20180504T015128Z
UID:16607-1526455800-1526461200@nicolejohnston.com.au
SUMMARY:Yeronga | G'day May Breakfast
DESCRIPTION:Join the Yeronga Community Centre at the Kurilpa Scouts Hall cnr Park Rd and Villa St\, Yeronga for a community breakfast. All are welcome.
URL:https://nicolejohnston.com.au/event/yeronga-gday-may-breakfast/
LOCATION:Kurilpa Scout Den\, cnr Villa St and Park Rd\, Yeronga\, Qld\, 4104\, Australia
ORGANIZER;CN="Yeronga Community Centre":MAILTO:yeronga@communityplus.org.au
GEO:-27.5173602;153.0198951
X-APPLE-STRUCTURED-LOCATION;VALUE=URI;X-ADDRESS=Kurilpa Scout Den cnr Villa St and Park Rd Yeronga Qld 4104 Australia;X-APPLE-RADIUS=500;X-TITLE=cnr Villa St and Park Rd:geo:153.0198951,-27.5173602
END:VEVENT
END:VCALENDAR