BEGIN:VCALENDAR
VERSION:2.0
PRODID:-//Nicole Johnston - ECPv6.15.20//NONSGML v1.0//EN
CALSCALE:GREGORIAN
METHOD:PUBLISH
X-WR-CALNAME:Nicole Johnston
X-ORIGINAL-URL:https://nicolejohnston.com.au
X-WR-CALDESC:Events for Nicole Johnston
REFRESH-INTERVAL;VALUE=DURATION:PT1H
X-Robots-Tag:noindex
X-PUBLISHED-TTL:PT1H
BEGIN:VTIMEZONE
TZID:Australia/Brisbane
BEGIN:STANDARD
TZOFFSETFROM:+1000
TZOFFSETTO:+1000
TZNAME:AEST
DTSTART:20250101T000000
END:STANDARD
END:VTIMEZONE
BEGIN:VEVENT
DTSTART;TZID=Australia/Brisbane:20260426T080000
DTEND;TZID=Australia/Brisbane:20260426T090000
DTSTAMP:20260426T015603
CREATED:20260302T044122Z
LAST-MODIFIED:20260302T044122Z
UID:32184-1777190400-1777194000@nicolejohnston.com.au
SUMMARY:Fairfield | GOLD Tai Chi Qigong
DESCRIPTION:This dynamic activity is invigorating and will help you feel relaxed\, refreshed and calm. Rejuvenate your body and learn to create a tranquil mind. Join any week. This is a GOLD event suitable for seniors. \nNo bookings required. For more information phone Rod from Australian Academy of Tai Chi on 0400 335 645. \nMeet near the playground\, off Sydney Street.
URL:https://nicolejohnston.com.au/event/fairfield-gold-tai-chi-qigong-31/
LOCATION:Robinson Park\, 221 Fairfield Road\, Fairfield\, Queensland\, 4103\, Australia
GEO:-27.5099948;153.023042
X-APPLE-STRUCTURED-LOCATION;VALUE=URI;X-ADDRESS=Robinson Park 221 Fairfield Road Fairfield Queensland 4103 Australia;X-APPLE-RADIUS=500;X-TITLE=221 Fairfield Road:geo:153.023042,-27.5099948
END:VEVENT
END:VCALENDAR