BEGIN:VCALENDAR
VERSION:2.0
PRODID:-//Nicole Johnston - ECPv6.15.20//NONSGML v1.0//EN
CALSCALE:GREGORIAN
METHOD:PUBLISH
X-ORIGINAL-URL:https://nicolejohnston.com.au
X-WR-CALDESC:Events for Nicole Johnston
REFRESH-INTERVAL;VALUE=DURATION:PT1H
X-Robots-Tag:noindex
X-PUBLISHED-TTL:PT1H
BEGIN:VTIMEZONE
TZID:Australia/Brisbane
BEGIN:STANDARD
TZOFFSETFROM:+1000
TZOFFSETTO:+1000
TZNAME:AEST
DTSTART:20240101T000000
END:STANDARD
END:VTIMEZONE
BEGIN:VEVENT
DTSTART;TZID=Australia/Brisbane:20250207T163000
DTEND;TZID=Australia/Brisbane:20250207T183000
DTSTAMP:20260425T033441
CREATED:20250121T052004Z
LAST-MODIFIED:20250121T052004Z
UID:29214-1738945800-1738953000@nicolejohnston.com.au
SUMMARY:Graceville Riverside Parklands Ninja Warrior Course training session
DESCRIPTION:Learn how to use the new Ninja Warrior course at Graceville Riverside Parklands during a free training session with Emma Teede\, Australian Wonder Woman\, Ninja Warrior & founder of Centenary Playground.\nFriday 31 Jan\, 7 Feb and 14 Feb.\nKids session 4:30pm-5:30pm18+ session 5:30pm-6:30pm\n\nFor more information please contact the Tennyson Ward Office. E: tennyson.ward@bcc.qld.gov.au or PH: 3403 8605.\n\nThis event is proudly supported by the Lord Mayor’s Community Fund and Cr Nicole Johnston\, Councillor for Tennyson Ward.
URL:https://nicolejohnston.com.au/event/graceville-riverside-parklands-ninja-warrior-course-launch/2025-02-07/
LOCATION:Graceville Riverside Parklands\, Graceville Avenue\, Graceville\, Queensland\, 4075\, Australia
CATEGORIES:Community Event
ATTACH;FMTTYPE=image/png:https://nicolejohnston.com.au/wp-content/uploads/2025/01/Ninja-Warrior-FB-tile.png
GEO:-27.5228793;152.9875616
X-APPLE-STRUCTURED-LOCATION;VALUE=URI;X-ADDRESS=Graceville Riverside Parklands Graceville Avenue Graceville Queensland 4075 Australia;X-APPLE-RADIUS=500;X-TITLE=Graceville Avenue:geo:152.9875616,-27.5228793
END:VEVENT
BEGIN:VEVENT
DTSTART;TZID=Australia/Brisbane:20250214T163000
DTEND;TZID=Australia/Brisbane:20250214T183000
DTSTAMP:20260425T033441
CREATED:20250121T052004Z
LAST-MODIFIED:20250121T052004Z
UID:29215-1739550600-1739557800@nicolejohnston.com.au
SUMMARY:Graceville Riverside Parklands Ninja Warrior Course training session
DESCRIPTION:Learn how to use the new Ninja Warrior course at Graceville Riverside Parklands during a free training session with Emma Teede\, Australian Wonder Woman\, Ninja Warrior & founder of Centenary Playground.\nFriday 31 Jan\, 7 Feb and 14 Feb.\nKids session 4:30pm-5:30pm18+ session 5:30pm-6:30pm\n\nFor more information please contact the Tennyson Ward Office. E: tennyson.ward@bcc.qld.gov.au or PH: 3403 8605.\n\nThis event is proudly supported by the Lord Mayor’s Community Fund and Cr Nicole Johnston\, Councillor for Tennyson Ward.
URL:https://nicolejohnston.com.au/event/graceville-riverside-parklands-ninja-warrior-course-launch/2025-02-14/
LOCATION:Graceville Riverside Parklands\, Graceville Avenue\, Graceville\, Queensland\, 4075\, Australia
CATEGORIES:Community Event
ATTACH;FMTTYPE=image/png:https://nicolejohnston.com.au/wp-content/uploads/2025/01/Ninja-Warrior-FB-tile.png
GEO:-27.5228793;152.9875616
X-APPLE-STRUCTURED-LOCATION;VALUE=URI;X-ADDRESS=Graceville Riverside Parklands Graceville Avenue Graceville Queensland 4075 Australia;X-APPLE-RADIUS=500;X-TITLE=Graceville Avenue:geo:152.9875616,-27.5228793
END:VEVENT
BEGIN:VEVENT
DTSTART;TZID=Australia/Brisbane:20250215T180000
DTEND;TZID=Australia/Brisbane:20250215T200000
DTSTAMP:20260425T033441
CREATED:20250206T035107Z
LAST-MODIFIED:20250206T035331Z
UID:29218-1739642400-1739649600@nicolejohnston.com.au
SUMMARY:Tennyson | Bands in Parks: Love Match
DESCRIPTION:It’s Valentine’s weekend and Sunnybank Brass with vocalist Izabella Cihajic will give you a sunset serenade with romantic jazz standards and beautiful ballads.\nGet in the mood and join the swing dance class for anyone keen to participate. Finish the night off at the café or bar and enjoy your music with a glass of wine and a meal. \nEntry is free but bookings are required. To book visit Eventbrite. \nPlease note no BYO is permitted at this event. Food and drinks are available to purchase.
URL:https://nicolejohnston.com.au/event/bands-in-parks-love-match/
LOCATION:QLD Tennis Centre\, 190 King Arthur Tce\, Tennyson\, Queensland\, 4105\, Australia
CATEGORIES:Community Event
ATTACH;FMTTYPE=image/jpeg:https://nicolejohnston.com.au/wp-content/uploads/2021/09/NJ-at-Game-Set-Swing-Brisbane-Metropolitan-Bands-Feb-landscape.jpeg
END:VEVENT
BEGIN:VEVENT
DTSTART;TZID=Australia/Brisbane:20250219T180000
DTEND;TZID=Australia/Brisbane:20250219T193000
DTSTAMP:20260425T033441
CREATED:20250206T040628Z
LAST-MODIFIED:20250206T040628Z
UID:29221-1739988000-1739993400@nicolejohnston.com.au
SUMMARY:Local Aircraft Noise and Flight Paths - Community Forum
DESCRIPTION:Yeronga District Residents Association (YDRA) is hosting a community forum about aircraft noise and its effects on the suburbs of Yeronga\, Fairfield\, Annerley\, Moorooka\, Yeerongpilly and Tennyson. Learn about what Brisbane Airport Corporation has planned for these suburbs over the next few years.
URL:https://nicolejohnston.com.au/event/local-aircraft-noise-and-flight-paths-community-forum/
LOCATION:Yeronga Community Centre\, 62 Park Rd\, Yeronga\, Queensland\, 4103\, Australia
CATEGORIES:Community Event
ATTACH;FMTTYPE=application/pdf:https://nicolejohnston.com.au/wp-content/uploads/2025/02/YDRA-Aircraft-Noise-Forum-Flyer-30012025.pdf
ORGANIZER;CN="Yeronga District Residents Association":MAILTO:ydra.secretary@gmail.com
GEO:-27.5178214;153.0308084
X-APPLE-STRUCTURED-LOCATION;VALUE=URI;X-ADDRESS=Yeronga Community Centre 62 Park Rd Yeronga Queensland 4103 Australia;X-APPLE-RADIUS=500;X-TITLE=62 Park Rd:geo:153.0308084,-27.5178214
END:VEVENT
BEGIN:VEVENT
DTSTART;TZID=Australia/Brisbane:20250227T080000
DTEND;TZID=Australia/Brisbane:20250227T170000
DTSTAMP:20260425T033441
CREATED:20250227T035027Z
LAST-MODIFIED:20250227T035027Z
UID:29249-1740643200-1740675600@nicolejohnston.com.au
SUMMARY:Corinda - Brisbane Taylor Bridge Rotary Trivia Night
DESCRIPTION:
URL:https://nicolejohnston.com.au/event/corinda-brisbane-taylor-bridge-rotary-trivia-night/
LOCATION:Corinda RSL\, Clewley St\, Corinda\, Qld\, 4075\, Australia
CATEGORIES:Community Event
ATTACH;FMTTYPE=image/png:https://nicolejohnston.com.au/wp-content/uploads/2025/02/Brisbane-Taylor-Bridge-Rotary-Club-re-Trivia-Night-flyer.png
ORGANIZER;CN="Brisbane Taylor Bridge Rotary Club":MAILTO:trivia@btbrotary.org.au
GEO:-27.5383287;152.9839763
X-APPLE-STRUCTURED-LOCATION;VALUE=URI;X-ADDRESS=Corinda RSL Clewley St Corinda Qld 4075 Australia;X-APPLE-RADIUS=500;X-TITLE=Clewley St:geo:152.9839763,-27.5383287
END:VEVENT
END:VCALENDAR