BEGIN:VCALENDAR
VERSION:2.0
PRODID:-//Nicole Johnston - ECPv6.15.20//NONSGML v1.0//EN
CALSCALE:GREGORIAN
METHOD:PUBLISH
X-WR-CALNAME:Nicole Johnston
X-ORIGINAL-URL:https://nicolejohnston.com.au
X-WR-CALDESC:Events for Nicole Johnston
REFRESH-INTERVAL;VALUE=DURATION:PT1H
X-Robots-Tag:noindex
X-PUBLISHED-TTL:PT1H
BEGIN:VTIMEZONE
TZID:Australia/Brisbane
BEGIN:STANDARD
TZOFFSETFROM:+1000
TZOFFSETTO:+1000
TZNAME:AEST
DTSTART:20240101T000000
END:STANDARD
END:VTIMEZONE
BEGIN:VEVENT
DTSTART;TZID=Australia/Brisbane:20250405T130000
DTEND;TZID=Australia/Brisbane:20250405T160000
DTSTAMP:20260425T000555
CREATED:20250317T020046Z
LAST-MODIFIED:20250317T020047Z
UID:29303-1743858000-1743868800@nicolejohnston.com.au
SUMMARY:Sherwood | Sherwood Neighbourhood Centre Hobbies and Interests Expo
DESCRIPTION:Displays from local clubs\, hobby groups\, art and craft for all ages. Free entry. Face painting and BBQ for gold coin donation.
URL:https://nicolejohnston.com.au/event/sherwood-sherwood-neighbourhood-centre-hobbies-and-interests-expo/
LOCATION:Sherwood Neighbourhood Centre\, 38 Thallon Street\, Sherwood\, Queensland\, 4075\, Australia
CATEGORIES:Community Event
ATTACH;FMTTYPE=image/jpeg:https://nicolejohnston.com.au/wp-content/uploads/2025/03/Hobbies-Expo-Flyer-SNC-5-Apr.jpg
GEO:-27.53402;152.981098
X-APPLE-STRUCTURED-LOCATION;VALUE=URI;X-ADDRESS=Sherwood Neighbourhood Centre 38 Thallon Street Sherwood Queensland 4075 Australia;X-APPLE-RADIUS=500;X-TITLE=38 Thallon Street:geo:152.981098,-27.53402
END:VEVENT
BEGIN:VEVENT
DTSTART;TZID=Australia/Brisbane:20250407T190000
DTEND;TZID=Australia/Brisbane:20250407T201500
DTSTAMP:20260425T000555
CREATED:20250331T015814Z
LAST-MODIFIED:20250331T015814Z
UID:29379-1744052400-1744056900@nicolejohnston.com.au
SUMMARY:Yeronga | Lest We Forget History Talk
DESCRIPTION:Lest We Forget – but what are we remembering? Learning and unlearning about the Great War.\n\nA special Talking History event following the ASHG general business meeting by guest speaker Dr Mark Cryle. This event will be held at the Yeronga Community Centre.\nIn 2015\, published historian Dr Mark Cryle completed a PhD entitled Making ‘the One Day of the Year’: a Genealogy of Anzac Day to 1918. In 2016 he was awarded a Q Anzac100 Fellowship from the State Library of Queensland. With Erica McWilham\, Mark recently co-wrote Somerville House: Then and Now (2024).\n\nRSVP BY Friday 4 April 2025 annerleystephenshistorygroupin@gmail.com
URL:https://nicolejohnston.com.au/event/yeronga-lest-we-forget-history-talk/
LOCATION:Yeronga Community Centre\, 62 Park Rd\, Yeronga\, Queensland\, 4103\, Australia
CATEGORIES:Community Event
ATTACH;FMTTYPE=image/jpeg:https://nicolejohnston.com.au/wp-content/uploads/2025/03/ASHG-Lest-We-Forget-Talk-April-7.jpg
ORGANIZER;CN="Annerley Stephens History Group":MAILTO:annerleystephenshistorygroupin@gmail.com
GEO:-27.5178214;153.0308084
X-APPLE-STRUCTURED-LOCATION;VALUE=URI;X-ADDRESS=Yeronga Community Centre 62 Park Rd Yeronga Queensland 4103 Australia;X-APPLE-RADIUS=500;X-TITLE=62 Park Rd:geo:153.0308084,-27.5178214
END:VEVENT
BEGIN:VEVENT
DTSTART;TZID=Australia/Brisbane:20250409T113000
DTEND;TZID=Australia/Brisbane:20250409T133000
DTSTAMP:20260425T000555
CREATED:20250331T020106Z
LAST-MODIFIED:20250331T020106Z
UID:29383-1744198200-1744205400@nicolejohnston.com.au
SUMMARY:Sherwood | Free Community Lunch
DESCRIPTION:
URL:https://nicolejohnston.com.au/event/sherwood-free-community-lunch/
LOCATION:Sherwood Neighbourhood Centre\, 38 Thallon Street\, Sherwood\, Queensland\, 4075\, Australia
CATEGORIES:Community Event
ATTACH;FMTTYPE=image/jpeg:https://nicolejohnston.com.au/wp-content/uploads/2025/03/SNC-April-Community-Lunch.jpg
GEO:-27.53402;152.981098
X-APPLE-STRUCTURED-LOCATION;VALUE=URI;X-ADDRESS=Sherwood Neighbourhood Centre 38 Thallon Street Sherwood Queensland 4075 Australia;X-APPLE-RADIUS=500;X-TITLE=38 Thallon Street:geo:152.981098,-27.53402
END:VEVENT
BEGIN:VEVENT
DTSTART;TZID=Australia/Brisbane:20250413T080000
DTEND;TZID=Australia/Brisbane:20250413T100000
DTSTAMP:20260425T000555
CREATED:20250408T033522Z
LAST-MODIFIED:20250408T033632Z
UID:29577-1744531200-1744538400@nicolejohnston.com.au
SUMMARY:Sherwood | Sherwood Arboretum Community Planting Day
DESCRIPTION:Join us for a community planting event at Sherwood Arboretum as we enhance wildlife habitat and create a greener space for everyone to enjoy. This is a great opportunity to connect with your community\, support the local environment\, and make a lasting impact. All planting holes will be pre-dug\, and all tools will be supplied. \nMeet at the new nature-inspired playground. Morning tea will be provided. \nFor your comfort and safety\, please wear sturdy shoes\, a hat\, and sunscreen\, and bring a reusable water bottle.
URL:https://nicolejohnston.com.au/event/sherwood-sherwood-arboretum-community-planting-day/
LOCATION:Sherwood Arboretum\, 57 Dewar Terrace\, Sherwood\, Queensland\, 4075\, Australia
CATEGORIES:Community Event
ATTACH;FMTTYPE=image/jpeg:https://nicolejohnston.com.au/wp-content/uploads/2025/04/Sherwood-Arboretum-Planting-Bee.jpg
ORGANIZER;CN="Friends of Sherwood Arboretum":MAILTO:secretaryatfosa@gmail.com
GEO:-27.532253;152.977305
X-APPLE-STRUCTURED-LOCATION;VALUE=URI;X-ADDRESS=Sherwood Arboretum 57 Dewar Terrace Sherwood Queensland 4075 Australia;X-APPLE-RADIUS=500;X-TITLE=57 Dewar Terrace:geo:152.977305,-27.532253
END:VEVENT
BEGIN:VEVENT
DTSTART;TZID=Australia/Brisbane:20250417T173000
DTEND;TZID=Australia/Brisbane:20250417T190000
DTSTAMP:20260425T000555
CREATED:20250411T002111Z
LAST-MODIFIED:20250411T002151Z
UID:29588-1744911000-1744916400@nicolejohnston.com.au
SUMMARY:Oxley | Oxley Bowls Club Easter Egg Hunt
DESCRIPTION:Oxley Bowls Club is pleased to announce a revised date for their Easter Egg hunt. Thursday\, 17 April\, commencing at 5:30 pm. \nOver 900 Easter eggs will be distributed. There’ll also be a raffle on the evening with fantastic prizes. All welcome.
URL:https://nicolejohnston.com.au/event/oxley-oxley-bowls-club-easter-egg-hunt/
LOCATION:Oxley Bowls Club\, Englefield Road\, Oxley\, QLD\, 4075\, Australia
CATEGORIES:Community Event
ATTACH;FMTTYPE=image/jpeg:https://nicolejohnston.com.au/wp-content/uploads/2025/04/NJ-at-Oxley-Bowls-Club-Easter-Egg-Hunt.jpg
END:VEVENT
BEGIN:VEVENT
DTSTART;TZID=Australia/Brisbane:20250425T051500
DTEND;TZID=Australia/Brisbane:20250425T070000
DTSTAMP:20260425T000555
CREATED:20250408T031800Z
LAST-MODIFIED:20250408T031900Z
UID:29558-1745558100-1745564400@nicolejohnston.com.au
SUMMARY:Corinda | Sherwood-Indooroopilly RSL Sub Branch ANZAC Day Dawn Service
DESCRIPTION:The Dawn Service will be held at 5.15 am. \nA Gunfire-style Breakfast will follow the service at Westside HQ.
URL:https://nicolejohnston.com.au/event/corinda-sherwood-indooroopilly-rsl-sub-branch-dawn-service/
LOCATION:Sherwood-Indooroopilly RSL\, 2 Clewley St\, Corinda\, Qld\, 4075\, Australia
CATEGORIES:Community Event
ATTACH;FMTTYPE=image/jpeg:https://nicolejohnston.com.au/wp-content/uploads/2025/04/ANZAC-Day-2025.jpg
GEO:-27.5376407;152.9810731
X-APPLE-STRUCTURED-LOCATION;VALUE=URI;X-ADDRESS=Sherwood-Indooroopilly RSL 2 Clewley St Corinda Qld 4075 Australia;X-APPLE-RADIUS=500;X-TITLE=2 Clewley St:geo:152.9810731,-27.5376407
END:VEVENT
BEGIN:VEVENT
DTSTART;TZID=Australia/Brisbane:20250425T062000
DTEND;TZID=Australia/Brisbane:20250425T071500
DTSTAMP:20260425T000555
CREATED:20250408T032006Z
LAST-MODIFIED:20250408T032006Z
UID:29561-1745562000-1745565300@nicolejohnston.com.au
SUMMARY:Sherwood | Sherwood-Indooroopilly RSL Sub Branch ANZAC Day Service
DESCRIPTION:Please join us for the Sherwood ANZAC Day Service at the Sherwood Cemetery at 6.30am \nAll are welcome.
URL:https://nicolejohnston.com.au/event/sherwood-sherwood-indooroopilly-rsl-sub-branch-anzac-day-service/
LOCATION:Sherwood Cemetery\, 533 Sherwood Rd\, Sherwood\, QLD\, 4075\, Australia
CATEGORIES:Community Event
ATTACH;FMTTYPE=image/jpeg:https://nicolejohnston.com.au/wp-content/uploads/2025/04/ANZAC-Day-2025.jpg
END:VEVENT
BEGIN:VEVENT
DTSTART;TZID=Australia/Brisbane:20250425T070000
DTEND;TZID=Australia/Brisbane:20250425T083000
DTSTAMP:20260425T000555
CREATED:20250408T032204Z
LAST-MODIFIED:20250408T032204Z
UID:29564-1745564400-1745569800@nicolejohnston.com.au
SUMMARY:Graceville | Sherwood-Indooroopilly RSL Sub Branch ANZAC Day March and Service
DESCRIPTION:7:00am – Meet at Graceville Train Station – Marching off to the Memorial Park.\n7.30am – ANZAC Day Commemorative Service – a simple\, very moving service. \nAll are welcome.
URL:https://nicolejohnston.com.au/event/graceville-sherwood-indooroopilly-rsl-sub-branch-anzac-day-march-and-service/
LOCATION:Graceville Memorial Park\, 173 Oxley Rd\, Graceville\, Qld\, 4075\, Australia
CATEGORIES:Community Event
ATTACH;FMTTYPE=image/jpeg:https://nicolejohnston.com.au/wp-content/uploads/2025/04/ANZAC-Day-2025.jpg
GEO:-27.5176118;152.9764956
X-APPLE-STRUCTURED-LOCATION;VALUE=URI;X-ADDRESS=Graceville Memorial Park 173 Oxley Rd Graceville Qld 4075 Australia;X-APPLE-RADIUS=500;X-TITLE=173 Oxley Rd:geo:152.9764956,-27.5176118
END:VEVENT
BEGIN:VEVENT
DTSTART;TZID=Australia/Brisbane:20250425T070000
DTEND;TZID=Australia/Brisbane:20250425T083000
DTSTAMP:20260425T000555
CREATED:20250408T032805Z
LAST-MODIFIED:20250408T032806Z
UID:29568-1745564400-1745569800@nicolejohnston.com.au
SUMMARY:Yeronga | Stephens RSL Sub Branch 2025 ANZAC Day Service
DESCRIPTION:The Stephens RSL Sub Branch ANZAC Day Parade will step off at 7:00am from outside the Yeronga State School. The Parade will travel along Park Road\, turn right through the Yeronga Memorial Park gates into Honour Avenue and proceed to the WW1 Cenotaph. ANZAC Day Service to follow.
URL:https://nicolejohnston.com.au/event/yeronga-stephens-rsl-sub-branch-2025-anzac-day-service/
LOCATION:Yeronga Memorial Park\, School Road\, Yeronga\, Queensland\, 4104\, Australia
CATEGORIES:Community Event
ATTACH;FMTTYPE=image/jpeg:https://nicolejohnston.com.au/wp-content/uploads/2025/04/ANZAC-Day-2025.jpg
GEO:-27.5212612;153.0201362
X-APPLE-STRUCTURED-LOCATION;VALUE=URI;X-ADDRESS=Yeronga Memorial Park School Road Yeronga Queensland 4104 Australia;X-APPLE-RADIUS=500;X-TITLE=School Road:geo:153.0201362,-27.5212612
END:VEVENT
BEGIN:VEVENT
DTSTART;TZID=Australia/Brisbane:20250425T083000
DTEND;TZID=Australia/Brisbane:20250425T090000
DTSTAMP:20260425T000555
CREATED:20250408T033302Z
LAST-MODIFIED:20250408T033303Z
UID:29573-1745569800-1745571600@nicolejohnston.com.au
SUMMARY:Dutton Park | Yeronga Dutton Park RSL
DESCRIPTION:
URL:https://nicolejohnston.com.au/event/dutton-park-yeronga-dutton-park-rsl/
LOCATION:Gair Park\, 181 Annerley Rd\, Dutton Park\, Queensland\, Australia
CATEGORIES:Community Event
ATTACH;FMTTYPE=image/jpeg:https://nicolejohnston.com.au/wp-content/uploads/2025/04/ANZAC-Day-2025.jpg
END:VEVENT
BEGIN:VEVENT
DTSTART;TZID=Australia/Brisbane:20250425T083000
DTEND;TZID=Australia/Brisbane:20250425T093000
DTSTAMP:20260425T000555
CREATED:20250408T033045Z
LAST-MODIFIED:20250408T033046Z
UID:29570-1745569800-1745573400@nicolejohnston.com.au
SUMMARY:Tennyson | Pamphlett Tennyson Sea Scout Group ANZAC Day Service
DESCRIPTION:
URL:https://nicolejohnston.com.au/event/tennyson-pamphlett-tennyson-sea-scout-group-anzac-day-service/
LOCATION:Tennyson Memorial\, 54 Myla Tce\, Tennyson\, QLD\, 4105\, Australia
CATEGORIES:Community Event
ATTACH;FMTTYPE=image/jpeg:https://nicolejohnston.com.au/wp-content/uploads/2025/04/ANZAC-Day-2025.jpg
END:VEVENT
BEGIN:VEVENT
DTSTART;TZID=Australia/Brisbane:20250425T093000
DTEND;TZID=Australia/Brisbane:20250425T101500
DTSTAMP:20260425T000555
CREATED:20250408T032607Z
LAST-MODIFIED:20250408T032607Z
UID:29566-1745573400-1745576100@nicolejohnston.com.au
SUMMARY:Oxley | Sherwood-Indooroopilly RSL Sub Branch ANZAC Day Service
DESCRIPTION:Please join us for the ANZAC Day Service commencing at 9.30 am Oxley Memorial Park \nAll are welcome.
URL:https://nicolejohnston.com.au/event/oxley-sherwood-indooroopilly-rsl-sub-branch-anzac-day-service/
LOCATION:Oxley Memorial Park\, 1218 Oxley Rd\, Oxley\, QLD\, 4075\, Australia
CATEGORIES:Community Event
ATTACH;FMTTYPE=image/jpeg:https://nicolejohnston.com.au/wp-content/uploads/2025/04/ANZAC-Day-2025.jpg
END:VEVENT
BEGIN:VEVENT
DTSTART;TZID=Australia/Brisbane:20250426T180000
DTEND;TZID=Australia/Brisbane:20250426T200000
DTSTAMP:20260425T000555
CREATED:20250401T032433Z
LAST-MODIFIED:20250401T032433Z
UID:29399-1745690400-1745697600@nicolejohnston.com.au
SUMMARY:Tennyson | Bands in Parks: Saturday Night at the Movies
DESCRIPTION:Bands in Parks returns to the QLD Tennis Centre. The South East Queensland Symphonic Winds will perform themes and scores from throughout the history of cinema\, including classics like the Wizard of Oz\, West Side Story\, Les Mis\, Disney favourites The Little Mermaid and Pocahontas\, Titanic and Out of Africa. \nPlease note there is no BYO to this event. Food and drinks will be available to purchase from the cafe.
URL:https://nicolejohnston.com.au/event/tennyson-bands-in-parks-saturday-night-at-the-movies/
LOCATION:QLD Tennis Centre\, 190 King Arthur Tce\, Tennyson\, Queensland\, 4105\, Australia
CATEGORIES:Community Event
ATTACH;FMTTYPE=image/jpeg:https://nicolejohnston.com.au/wp-content/uploads/2021/09/NJ-at-Game-Set-Swing-Brisbane-Metropolitan-Bands-Feb-landscape.jpeg
END:VEVENT
END:VCALENDAR