BEGIN:VCALENDAR
VERSION:2.0
PRODID:-//Nicole Johnston - ECPv6.15.20//NONSGML v1.0//EN
CALSCALE:GREGORIAN
METHOD:PUBLISH
X-WR-CALNAME:Nicole Johnston
X-ORIGINAL-URL:https://nicolejohnston.com.au
X-WR-CALDESC:Events for Nicole Johnston
REFRESH-INTERVAL;VALUE=DURATION:PT1H
X-Robots-Tag:noindex
X-PUBLISHED-TTL:PT1H
BEGIN:VTIMEZONE
TZID:Australia/Brisbane
BEGIN:STANDARD
TZOFFSETFROM:+1000
TZOFFSETTO:+1000
TZNAME:AEST
DTSTART:20240101T000000
END:STANDARD
END:VTIMEZONE
BEGIN:VEVENT
DTSTART;TZID=Australia/Brisbane:20250802T110000
DTEND;TZID=Australia/Brisbane:20250802T183000
DTSTAMP:20260424T163338
CREATED:20250604T054431Z
LAST-MODIFIED:20250721T012342Z
UID:29884-1754132400-1754159400@nicolejohnston.com.au
SUMMARY:Graceville | Graceville State School Fair
DESCRIPTION:Bazaar + Cakes 11AM | Food 11.30AM | Rides 12PM – 6PM Fireworks 6.30PM
URL:https://nicolejohnston.com.au/event/graceville-graceville-state-school-fair-2/
LOCATION:Graceville State School\, 23 Acacia Avenue\, Graceville\, Queensland\, 4075\, Australia
CATEGORIES:Community Event
ATTACH;FMTTYPE=image/jpeg:https://nicolejohnston.com.au/wp-content/uploads/2025/06/GSS-Fair-Promo.jpg
GEO:-27.51779;152.979029
X-APPLE-STRUCTURED-LOCATION;VALUE=URI;X-ADDRESS=Graceville State School 23 Acacia Avenue Graceville Queensland 4075 Australia;X-APPLE-RADIUS=500;X-TITLE=23 Acacia Avenue:geo:152.979029,-27.51779
END:VEVENT
BEGIN:VEVENT
DTSTART;TZID=Australia/Brisbane:20250803T113000
DTEND;TZID=Australia/Brisbane:20250803T133000
DTSTAMP:20260424T163338
CREATED:20250709T235222Z
LAST-MODIFIED:20250714T001339Z
UID:30253-1754220600-1754227800@nicolejohnston.com.au
SUMMARY:Sherwood | Sherwood Neighbourhood Watch Community BBQ
DESCRIPTION:Catch up with your neighbours and local representatives. All welcome to enjoy a sausage sizzle\, lawn games and entertainment. \nThis a free event. A gold coin donation is appreciated.
URL:https://nicolejohnston.com.au/event/sherwood-sherwood-neighbourhood-watch-community-bbq/
LOCATION:Erna Brazier Park\, Cnr Thomas St and Egmont St\, Sherwood\, Queensland\, 4075\, Australia
CATEGORIES:Community Event
ATTACH;FMTTYPE=image/jpeg:https://nicolejohnston.com.au/wp-content/uploads/2025/07/Sherwood-NHW-Newsletter-e1752451904732.jpg
END:VEVENT
BEGIN:VEVENT
DTSTART;TZID=Australia/Brisbane:20250830T090000
DTEND;TZID=Australia/Brisbane:20250830T150000
DTSTAMP:20260424T163338
CREATED:20250724T054307Z
LAST-MODIFIED:20250724T054307Z
UID:30475-1756544400-1756566000@nicolejohnston.com.au
SUMMARY:Sherwood | Sherwood Stitchers Quilt Show
DESCRIPTION:Morning and afternoon tea available for purchase. Craft stall raising funds for Project Linus.
URL:https://nicolejohnston.com.au/event/sherwood-sherwood-stitchers-quilt-show/
LOCATION:St Matthew’s Anglican Church Sherwood\, 648-650 Sherwood Rd\, Sherwood\, Qld\, 4075\, Australia
CATEGORIES:Community Event
ATTACH;FMTTYPE=image/jpeg:https://nicolejohnston.com.au/wp-content/uploads/2025/07/Sherwood-Stitchers.jpg
END:VEVENT
BEGIN:VEVENT
DTSTART;TZID=Australia/Brisbane:20250830T103000
DTEND;TZID=Australia/Brisbane:20250830T130000
DTSTAMP:20260424T163338
CREATED:20250730T020836Z
LAST-MODIFIED:20250730T020836Z
UID:30481-1756549800-1756558800@nicolejohnston.com.au
SUMMARY:Yeronga | Annerley Stephens History Group Villa Street Revealed Launch
DESCRIPTION:
URL:https://nicolejohnston.com.au/event/yeronga-annerley-stephens-history-group-villa-street-revealed-launch/
LOCATION:Yeronga Community Centre\, 62 Park Rd\, Yeronga\, Queensland\, 4103\, Australia
CATEGORIES:Community Event
ATTACH;FMTTYPE=image/png:https://nicolejohnston.com.au/wp-content/uploads/2025/07/ASHG-Villa-St-Revealed-Launch-poster.png
ORGANIZER;CN="Annerley Stephens History Group":MAILTO:annerleystephenshistorygroupin@gmail.com
GEO:-27.5178214;153.0308084
X-APPLE-STRUCTURED-LOCATION;VALUE=URI;X-ADDRESS=Yeronga Community Centre 62 Park Rd Yeronga Queensland 4103 Australia;X-APPLE-RADIUS=500;X-TITLE=62 Park Rd:geo:153.0308084,-27.5178214
END:VEVENT
BEGIN:VEVENT
DTSTART;TZID=Australia/Brisbane:20250830T140000
DTEND;TZID=Australia/Brisbane:20250830T173000
DTSTAMP:20260424T163338
CREATED:20250822T041220Z
LAST-MODIFIED:20250828T031350Z
UID:30517-1756562400-1756575000@nicolejohnston.com.au
SUMMARY:Chelmer | Community Conversation “Truth Telling”
DESCRIPTION:Community Conversation “truth telling” – gather together in a safe space to listen and share respectful dialogue. Milperra State School\, 2 Parker St\, Chelmer Saturday 30 August from 2-5.30pm.
URL:https://nicolejohnston.com.au/event/community-conversation-truth-telling/
LOCATION:Milperra State  High School\, 2 Parker St\, Chelmer\, Qld\, 4068\, Australia
CATEGORIES:Community Event
ATTACH;FMTTYPE=image/png:https://nicolejohnston.com.au/wp-content/uploads/2025/08/Benarrawa-Community-Conversation-at-Milpera-Flyer.png
ORGANIZER;CN="Benarrawa Community Development Assn.":MAILTO:benarrawa@westnet.com.au
GEO:-27.5134229;152.9771274
X-APPLE-STRUCTURED-LOCATION;VALUE=URI;X-ADDRESS=Milperra State  High School 2 Parker St Chelmer Qld 4068 Australia;X-APPLE-RADIUS=500;X-TITLE=2 Parker St:geo:152.9771274,-27.5134229
END:VEVENT
BEGIN:VEVENT
DTSTART;TZID=Australia/Brisbane:20250831T070000
DTEND;TZID=Australia/Brisbane:20250831T120000
DTSTAMP:20260424T163338
CREATED:20250709T235718Z
LAST-MODIFIED:20250709T235718Z
UID:30256-1756623600-1756641600@nicolejohnston.com.au
SUMMARY:Oxley | Oxley State School Car Boot Sale
DESCRIPTION:Visit stalls selling selling plants\, toys\, clothing\, arts & crafts\, homemade honey\, household items and more. Grab a coffee and make sure you stop by the P&C stalls for a bacon & egg burger\, sausage sizzle or something from the bake sale. \nTo book a stall site\, visit: https://oxleysspandc.square.site/
URL:https://nicolejohnston.com.au/event/oxley-oxley-state-school-car-boot-sale/
LOCATION:Oxley State School\, Bannerman St\, Oxley\, Queensland\, 4075\, Australia
CATEGORIES:Community Event
ATTACH;FMTTYPE=image/jpeg:https://nicolejohnston.com.au/wp-content/uploads/2025/07/Oxley-SS-PC-Car-Boot-Sale-2025.jpg
END:VEVENT
BEGIN:VEVENT
DTSTART;TZID=Australia/Brisbane:20250831T100000
DTEND;TZID=Australia/Brisbane:20250831T150000
DTSTAMP:20260424T163338
CREATED:20250822T042500Z
LAST-MODIFIED:20250822T042659Z
UID:30524-1756634400-1756652400@nicolejohnston.com.au
SUMMARY:Yeronga | Yeronga Park Kindy Fete
DESCRIPTION:Celebrating 75 years of Magic and Wonder. Plenty of rides\, games\, performances\, excellent food\, face painting and more!
URL:https://nicolejohnston.com.au/event/yeronga-i-yeronga-park-kindy-fete/
LOCATION:Yeronga Park Kindy\, 15 School Road\, Yeronga\, Queensland\, 4104\, Australia
CATEGORIES:Community Event
ATTACH;FMTTYPE=image/jpeg:https://nicolejohnston.com.au/wp-content/uploads/2025/08/Yeronga-Park-Kindy-Fete.jpg
GEO:-27.5218568;153.0242921
X-APPLE-STRUCTURED-LOCATION;VALUE=URI;X-ADDRESS=Yeronga Park Kindy 15 School Road Yeronga Queensland 4104 Australia;X-APPLE-RADIUS=500;X-TITLE=15 School Road:geo:153.0242921,-27.5218568
END:VEVENT
BEGIN:VEVENT
DTSTART;TZID=Australia/Brisbane:20250831T150000
DTEND;TZID=Australia/Brisbane:20250831T180000
DTSTAMP:20260424T163338
CREATED:20250822T041916Z
LAST-MODIFIED:20250828T031057Z
UID:30520-1756652400-1756663200@nicolejohnston.com.au
SUMMARY:City Hall | ENCORE - Musical Gems and Show Tune Classics
DESCRIPTION:Join Ignite Choir for their special 20th Anniversary Showstoppers concert titled “Encore” on Sunday afternoon\, 31st August 2025 from 3.00 – 6.00pm in the Brisbane City Hall Auditorium . Encore will feature many familiar show tune classics and musical gems\, which we will be presented with a full orchestra. \nTickets can be purchased online via Humanitix https://events.humanitix.com/2025-encore
URL:https://nicolejohnston.com.au/event/encore-musical-gems-and-show-tune-classics/
LOCATION:Brisbane City Hall\, King George Square\, Brisbane\, Queensland\, 4000\, Australia
CATEGORIES:Community Event
ATTACH;FMTTYPE=image/png:https://nicolejohnston.com.au/wp-content/uploads/2025/08/Ignite-Choir-City-Hall.png
ORGANIZER;CN="Ignite Choir":MAILTO:ignitechoirinc@gmail.com
GEO:-27.468239;153.023736
X-APPLE-STRUCTURED-LOCATION;VALUE=URI;X-ADDRESS=Brisbane City Hall King George Square Brisbane Queensland 4000 Australia;X-APPLE-RADIUS=500;X-TITLE=King George Square:geo:153.023736,-27.468239
END:VEVENT
END:VCALENDAR