BEGIN:VCALENDAR
VERSION:2.0
PRODID:-//Nicole Johnston - ECPv6.15.20//NONSGML v1.0//EN
CALSCALE:GREGORIAN
METHOD:PUBLISH
X-WR-CALNAME:Nicole Johnston
X-ORIGINAL-URL:https://nicolejohnston.com.au
X-WR-CALDESC:Events for Nicole Johnston
REFRESH-INTERVAL;VALUE=DURATION:PT1H
X-Robots-Tag:noindex
X-PUBLISHED-TTL:PT1H
BEGIN:VTIMEZONE
TZID:Australia/Brisbane
BEGIN:STANDARD
TZOFFSETFROM:+1000
TZOFFSETTO:+1000
TZNAME:AEST
DTSTART:20240101T000000
END:STANDARD
END:VTIMEZONE
BEGIN:VEVENT
DTSTART;TZID=Australia/Brisbane:20251115T140000
DTEND;TZID=Australia/Brisbane:20251115T200000
DTSTAMP:20260424T104538
CREATED:20250911T044447Z
LAST-MODIFIED:20250911T044448Z
UID:30998-1763215200-1763236800@nicolejohnston.com.au
SUMMARY:Sherwood | Sherwood Community Festival
DESCRIPTION:Come celebrate 4075 and join us at the 2025 30th Sherwood Community Festival on Saturday 15th November. This year promises to be the best one yet\, as we’ve listened to your feedback and added an extra 2 hours of excitement to the festival. Bring your family and enjoy:Free entry Free rides 2 stages with amazing free entertainment Free face-painting Free family games and activities50+ Market stalls Food trucks and sausage sizzle Art workshops Photography competition
URL:https://nicolejohnston.com.au/event/sherwood-sherwood-community-festival-4/
LOCATION:Sherwood Arboretum\, 57 Dewar Terrace\, Sherwood\, Queensland\, 4075\, Australia
CATEGORIES:Community Event
ATTACH;FMTTYPE=image/jpeg:https://nicolejohnston.com.au/wp-content/uploads/2025/09/Sherwood-Community-Festival-Banner.jpg
ORGANIZER;CN="Sherwood Community Festival":MAILTO:enquiries@sherwoodfestival.com
GEO:-27.532253;152.977305
X-APPLE-STRUCTURED-LOCATION;VALUE=URI;X-ADDRESS=Sherwood Arboretum 57 Dewar Terrace Sherwood Queensland 4075 Australia;X-APPLE-RADIUS=500;X-TITLE=57 Dewar Terrace:geo:152.977305,-27.532253
END:VEVENT
BEGIN:VEVENT
DTSTART;TZID=Australia/Brisbane:20251122T140000
DTEND;TZID=Australia/Brisbane:20251122T200000
DTSTAMP:20260424T104538
CREATED:20251016T011803Z
LAST-MODIFIED:20251016T011803Z
UID:31058-1763820000-1763841600@nicolejohnston.com.au
SUMMARY:Graceville | Graceville State School Christmas Market & Movie Night
DESCRIPTION:🕑 Market 2–6pm | 🎬 Movie at dusk \n🎟️ Movie Tickets: $15 per family – all funds go directly to support our incredible School Chaplaincy Program\, which provides vital care and connection for our students and families.
URL:https://nicolejohnston.com.au/event/graceville-graceville-state-school-christmas-market-movie-night/
LOCATION:Graceville State School\, 23 Acacia Avenue\, Graceville\, Queensland\, 4075\, Australia
CATEGORIES:Community Event
ATTACH;FMTTYPE=image/jpeg:https://nicolejohnston.com.au/wp-content/uploads/2025/10/Graceville-SS-Chaplaincy-Christmas-Market.jpg
GEO:-27.51779;152.979029
X-APPLE-STRUCTURED-LOCATION;VALUE=URI;X-ADDRESS=Graceville State School 23 Acacia Avenue Graceville Queensland 4075 Australia;X-APPLE-RADIUS=500;X-TITLE=23 Acacia Avenue:geo:152.979029,-27.51779
END:VEVENT
BEGIN:VEVENT
DTSTART;TZID=Australia/Brisbane:20251122T173000
DTEND;TZID=Australia/Brisbane:20251122T203000
DTSTAMP:20260424T104538
CREATED:20251110T061905Z
LAST-MODIFIED:20251110T061907Z
UID:31125-1763832600-1763843400@nicolejohnston.com.au
SUMMARY:Yeronga | Yeronga SS Movie in the Park: 'Casper'
DESCRIPTION:Enjoy a FREE screening of ‘Casper’ on the Yeronga State School oval. Bring along a picnic blanket or camping chairs and enjoy a family-friendly night out under the stars. \nFood will be available to purchase on the night from 5:30pm\, or BYO picnic. \nMovie screening starts at sundown. \nProudly supported by Cr Nicole Johnston\, Councillor for Tennyson Ward and the Lord Mayor’s Community Fund.
URL:https://nicolejohnston.com.au/event/yeronga-yeronga-ss-movie-in-the-park-casper/
LOCATION:Yeronga State School\, 122 Park Road\, Yeronga\, Queensland\, 4104\, Australia
CATEGORIES:Community Event
ATTACH;FMTTYPE=image/png:https://nicolejohnston.com.au/wp-content/uploads/2025/11/Yeronga-SS-MIP-2025.png
GEO:-27.491914;153.030343
X-APPLE-STRUCTURED-LOCATION;VALUE=URI;X-ADDRESS=Yeronga State School 122 Park Road Yeronga Queensland 4104 Australia;X-APPLE-RADIUS=500;X-TITLE=122 Park Road:geo:153.030343,-27.491914
END:VEVENT
BEGIN:VEVENT
DTSTART;TZID=Australia/Brisbane:20251122T180000
DTEND;TZID=Australia/Brisbane:20251122T200000
DTSTAMP:20260424T104538
CREATED:20251002T034432Z
LAST-MODIFIED:20251002T034432Z
UID:31042-1763834400-1763841600@nicolejohnston.com.au
SUMMARY:Tennyson | Bands in Parks: Sunset Jazz on the Court
DESCRIPTION:The Jindalee Jazz Orchestra lights up the court with jazz standards and popular hits for the final tennis centre concert of 2025. Don’t miss this electrifying ensemble with vocals as they bring their energy and polished professionalism to the centre court. \nThe café and bar will be trading\, so enjoy the concert with a meal and a glass of wine. Please note that there is no BYO food or drinks\, just bring your own picnic blankets and enjoy music under the stars. \nBookings required. To book\, visit Eventbrite.
URL:https://nicolejohnston.com.au/event/tennyson-bands-in-parks-sunset-jazz-on-the-court/
LOCATION:QLD Tennis Centre\, 190 King Arthur Tce\, Tennyson\, Queensland\, 4105\, Australia
CATEGORIES:Community Event
ATTACH;FMTTYPE=image/jpeg:https://nicolejohnston.com.au/wp-content/uploads/2021/09/NJ-at-Game-Set-Swing-Brisbane-Metropolitan-Bands-Feb-landscape.jpeg
END:VEVENT
END:VCALENDAR