BEGIN:VCALENDAR
VERSION:2.0
PRODID:-//Nicole Johnston - ECPv6.15.20//NONSGML v1.0//EN
CALSCALE:GREGORIAN
METHOD:PUBLISH
X-WR-CALNAME:Nicole Johnston
X-ORIGINAL-URL:https://nicolejohnston.com.au
X-WR-CALDESC:Events for Nicole Johnston
REFRESH-INTERVAL;VALUE=DURATION:PT1H
X-Robots-Tag:noindex
X-PUBLISHED-TTL:PT1H
BEGIN:VTIMEZONE
TZID:Australia/Brisbane
BEGIN:STANDARD
TZOFFSETFROM:+1000
TZOFFSETTO:+1000
TZNAME:AEST
DTSTART:20240101T000000
END:STANDARD
END:VTIMEZONE
BEGIN:VEVENT
DTSTART;TZID=Australia/Brisbane:20251206T150000
DTEND;TZID=Australia/Brisbane:20251206T190000
DTSTAMP:20260424T083528
CREATED:20251023T065538Z
LAST-MODIFIED:20251023T065540Z
UID:31072-1765033200-1765047600@nicolejohnston.com.au
SUMMARY:Fairfield | Fairfield Christian Family Church Christmas Market & Carols
DESCRIPTION:
URL:https://nicolejohnston.com.au/event/fairfield-fairfield-christian-family-church-christmas-market-carols/
LOCATION:Fairfield Christian Family Church\, 51 Cross St\, Fairfield\, Queensland\, 4103\, Australia
CATEGORIES:Community Event
END:VEVENT
BEGIN:VEVENT
DTSTART;TZID=Australia/Brisbane:20251206T171500
DTEND;TZID=Australia/Brisbane:20251206T190000
DTSTAMP:20260424T083528
CREATED:20251023T065931Z
LAST-MODIFIED:20251023T065931Z
UID:31078-1765041300-1765047600@nicolejohnston.com.au
SUMMARY:Chelmer | Riverside Church Christmas Carols
DESCRIPTION:
URL:https://nicolejohnston.com.au/event/chelmer-riverside-church-christmas-carols-2/2025-12-06/
LOCATION:Riverside Christian Church\, 26 Glenwood St\, Chelmer\, Qld\, 4075\, Australia
CATEGORIES:Community Event
ATTACH;FMTTYPE=image/jpeg:https://nicolejohnston.com.au/wp-content/uploads/2025/10/Riverside-Carols.jpg
GEO:-27.5122024;152.9768831
X-APPLE-STRUCTURED-LOCATION;VALUE=URI;X-ADDRESS=Riverside Christian Church 26 Glenwood St Chelmer Qld 4075 Australia;X-APPLE-RADIUS=500;X-TITLE=26 Glenwood St:geo:152.9768831,-27.5122024
END:VEVENT
BEGIN:VEVENT
DTSTART;TZID=Australia/Brisbane:20251207T163000
DTEND;TZID=Australia/Brisbane:20251207T190000
DTSTAMP:20260424T083528
CREATED:20251023T065931Z
LAST-MODIFIED:20251023T065931Z
UID:31080-1765125000-1765134000@nicolejohnston.com.au
SUMMARY:Chelmer | Riverside Church Christmas Carols
DESCRIPTION:
URL:https://nicolejohnston.com.au/event/chelmer-riverside-church-christmas-carols-2/2025-12-07/
LOCATION:Riverside Christian Church\, 26 Glenwood St\, Chelmer\, Qld\, 4075\, Australia
CATEGORIES:Community Event
ATTACH;FMTTYPE=image/jpeg:https://nicolejohnston.com.au/wp-content/uploads/2025/10/Riverside-Carols.jpg
GEO:-27.5122024;152.9768831
X-APPLE-STRUCTURED-LOCATION;VALUE=URI;X-ADDRESS=Riverside Christian Church 26 Glenwood St Chelmer Qld 4075 Australia;X-APPLE-RADIUS=500;X-TITLE=26 Glenwood St:geo:152.9768831,-27.5122024
END:VEVENT
BEGIN:VEVENT
DTSTART;TZID=Australia/Brisbane:20251213T170000
DTEND;TZID=Australia/Brisbane:20251213T210000
DTSTAMP:20260424T083528
CREATED:20250917T051549Z
LAST-MODIFIED:20251110T062054Z
UID:31002-1765645200-1765659600@nicolejohnston.com.au
SUMMARY:Sherwood | Movie in the Park: 'Wild Robot'
DESCRIPTION:Don’t miss a FREE outdoor screening of ‘The Wild Robot’ at the heritage-listed Sherwood Arboretum. Enjoy a fabulous\, low cost and family-friendly night out. BYO picnic or food available to purchase on the night.\n\n\n\n\n\n\n Refreshments to purchase on the night or BYO picnic.\n🎵 Live music from 5:30pm.\n Movie screening starts at sundown.\n\n\n\nI’m so proud to support wonderful community events in Tennyson Ward.
URL:https://nicolejohnston.com.au/event/sherwood-movie-in-the-park-wild-robot/
LOCATION:Sherwood Arboretum\, 57 Dewar Terrace\, Sherwood\, Queensland\, 4075\, Australia
CATEGORIES:Community Event
ATTACH;FMTTYPE=image/png:https://nicolejohnston.com.au/wp-content/uploads/2025/09/Sherwood-2025-MIP-A4.png
GEO:-27.532253;152.977305
X-APPLE-STRUCTURED-LOCATION;VALUE=URI;X-ADDRESS=Sherwood Arboretum 57 Dewar Terrace Sherwood Queensland 4075 Australia;X-APPLE-RADIUS=500;X-TITLE=57 Dewar Terrace:geo:152.977305,-27.532253
END:VEVENT
BEGIN:VEVENT
DTSTART;TZID=Australia/Brisbane:20251214T170000
DTEND;TZID=Australia/Brisbane:20251214T200000
DTSTAMP:20260424T083528
CREATED:20251023T065722Z
LAST-MODIFIED:20251023T065722Z
UID:31075-1765731600-1765742400@nicolejohnston.com.au
SUMMARY:Corinda | Oxley Uniting Church Carols Under the Stars
DESCRIPTION:
URL:https://nicolejohnston.com.au/event/corinda-oxley-uniting-church-carols-under-the-stars/
LOCATION:Corinda State High School\, 46 Pratten Street\, Corinda\, Queensland\, 4075\, Australia
CATEGORIES:Community Event
ATTACH;FMTTYPE=image/png:https://nicolejohnston.com.au/wp-content/uploads/2025/10/Carols-flyer-2025.png
GEO:-27.544445;152.986357
X-APPLE-STRUCTURED-LOCATION;VALUE=URI;X-ADDRESS=Corinda State High School 46 Pratten Street Corinda Queensland 4075 Australia;X-APPLE-RADIUS=500;X-TITLE=46 Pratten Street:geo:152.986357,-27.544445
END:VEVENT
BEGIN:VEVENT
DTSTART;TZID=Australia/Brisbane:20251214T173000
DTEND;TZID=Australia/Brisbane:20251214T200000
DTSTAMP:20260424T083528
CREATED:20251023T065130Z
LAST-MODIFIED:20251023T065130Z
UID:31066-1765733400-1765742400@nicolejohnston.com.au
SUMMARY:Chelmer | Graceville Presbyterian Carols in the Park
DESCRIPTION:
URL:https://nicolejohnston.com.au/event/chelmer-graceville-presbyterian-carols-in-the-park/
LOCATION:Sherwood AFL Club\, 42 Chelmer St East\, Chelmer\, Qld\, 4068\, Australia
CATEGORIES:Community Event
ATTACH;FMTTYPE=image/png:https://nicolejohnston.com.au/wp-content/uploads/2025/10/Graceville-Presbyterian-Carols-2025.png
GEO:-27.514755;152.974801
X-APPLE-STRUCTURED-LOCATION;VALUE=URI;X-ADDRESS=Sherwood AFL Club 42 Chelmer St East Chelmer Qld 4068 Australia;X-APPLE-RADIUS=500;X-TITLE=42 Chelmer St East:geo:152.974801,-27.514755
END:VEVENT
BEGIN:VEVENT
DTSTART;TZID=Australia/Brisbane:20251214T183000
DTEND;TZID=Australia/Brisbane:20251214T200000
DTSTAMP:20260424T083528
CREATED:20251023T065332Z
LAST-MODIFIED:20251023T065332Z
UID:31069-1765737000-1765742400@nicolejohnston.com.au
SUMMARY:Chelmer | St David's Anglican Church Christmas Carols
DESCRIPTION:
URL:https://nicolejohnston.com.au/event/chelmer-st-davids-anglican-church-christmas-carols/
LOCATION:St David’s Anglican Church\, 62 Chelmer St East\, Chelmer\, Queensland\, 4068\, Australia
CATEGORIES:Community Event
ATTACH;FMTTYPE=image/jpeg:https://nicolejohnston.com.au/wp-content/uploads/2025/10/St-Davids-Christmas-Carols-2025.jpg
GEO:-27.514588;152.973768
X-APPLE-STRUCTURED-LOCATION;VALUE=URI;X-ADDRESS=St David’s Anglican Church 62 Chelmer St East Chelmer Queensland 4068 Australia;X-APPLE-RADIUS=500;X-TITLE=62 Chelmer St East:geo:152.973768,-27.514588
END:VEVENT
END:VCALENDAR