BEGIN:VCALENDAR
VERSION:2.0
PRODID:-//Nicole Johnston - ECPv6.15.20//NONSGML v1.0//EN
CALSCALE:GREGORIAN
METHOD:PUBLISH
X-WR-CALNAME:Nicole Johnston
X-ORIGINAL-URL:https://nicolejohnston.com.au
X-WR-CALDESC:Events for Nicole Johnston
REFRESH-INTERVAL;VALUE=DURATION:PT1H
X-Robots-Tag:noindex
X-PUBLISHED-TTL:PT1H
BEGIN:VTIMEZONE
TZID:Australia/Brisbane
BEGIN:STANDARD
TZOFFSETFROM:+1000
TZOFFSETTO:+1000
TZNAME:AEST
DTSTART:20250101T000000
END:STANDARD
END:VTIMEZONE
BEGIN:VEVENT
DTSTART;TZID=Australia/Brisbane:20260425T051500
DTEND;TZID=Australia/Brisbane:20260425T070000
DTSTAMP:20260424T024839
CREATED:20260413T032851Z
LAST-MODIFIED:20260413T032851Z
UID:32596-1777094100-1777100400@nicolejohnston.com.au
SUMMARY:Corinda | Sherwood-Indooroopilly RSL Sub Branch ANZAC Day Dawn Service
DESCRIPTION:The Dawn Service will be held at 5.15 am. \nA Gunfire-style Breakfast will follow the service at Westside HQ.
URL:https://nicolejohnston.com.au/event/corinda-sherwood-indooroopilly-rsl-sub-branch-anzac-day-dawn-service/
LOCATION:Croll Memorial Precinct\, Cnr Browne & Clewley Sts\, Corinda\, Qld\, 4075\, Australia
CATEGORIES:Community Event
ATTACH;FMTTYPE=image/png:https://nicolejohnston.com.au/wp-content/uploads/2026/04/ANZAC-Day-2026.png
GEO:-27.5384488;152.9806087
X-APPLE-STRUCTURED-LOCATION;VALUE=URI;X-ADDRESS=Croll Memorial Precinct Cnr Browne & Clewley Sts Corinda Qld 4075 Australia;X-APPLE-RADIUS=500;X-TITLE=Cnr Browne & Clewley Sts:geo:152.9806087,-27.5384488
END:VEVENT
BEGIN:VEVENT
DTSTART;TZID=Australia/Brisbane:20260425T062000
DTEND;TZID=Australia/Brisbane:20260425T071500
DTSTAMP:20260424T024839
CREATED:20260413T033400Z
LAST-MODIFIED:20260413T033400Z
UID:32598-1777098000-1777101300@nicolejohnston.com.au
SUMMARY:Sherwood | Sherwood-Indooroopilly RSL Sub Branch ANZAC Day Service
DESCRIPTION:Please join us for the Sherwood ANZAC Day Service at the Sherwood Cemetery at 6.30am \nAll are welcome.
URL:https://nicolejohnston.com.au/event/sherwood-sherwood-indooroopilly-rsl-sub-branch-anzac-day-service-2/
LOCATION:Sherwood-Indooroopilly RSL\, 2 Clewley St\, Corinda\, Qld\, 4075\, Australia
CATEGORIES:Community Event
ATTACH;FMTTYPE=image/png:https://nicolejohnston.com.au/wp-content/uploads/2026/04/ANZAC-Day-2026.png
GEO:-27.5376407;152.9810731
X-APPLE-STRUCTURED-LOCATION;VALUE=URI;X-ADDRESS=Sherwood-Indooroopilly RSL 2 Clewley St Corinda Qld 4075 Australia;X-APPLE-RADIUS=500;X-TITLE=2 Clewley St:geo:152.9810731,-27.5376407
END:VEVENT
BEGIN:VEVENT
DTSTART;TZID=Australia/Brisbane:20260425T070000
DTEND;TZID=Australia/Brisbane:20260425T083000
DTSTAMP:20260424T024839
CREATED:20260413T033753Z
LAST-MODIFIED:20260413T033753Z
UID:32604-1777100400-1777105800@nicolejohnston.com.au
SUMMARY:Graceville | Sherwood-Indooroopilly RSL Sub Branch ANZAC Day March and Service
DESCRIPTION:7:00am – Meet at Graceville Train Station – Marching off to the Memorial Park.\n7.30am – ANZAC Day Commemorative Service – a simple\, very moving service. \nAll are welcome.
URL:https://nicolejohnston.com.au/event/graceville-sherwood-indooroopilly-rsl-sub-branch-anzac-day-march-and-service-2/
LOCATION:Graceville Memorial Park\, 173 Oxley Rd\, Graceville\, Qld\, 4075\, Australia
CATEGORIES:Community Event
ATTACH;FMTTYPE=image/png:https://nicolejohnston.com.au/wp-content/uploads/2026/04/ANZAC-Day-2026.png
GEO:-27.5176118;152.9764956
X-APPLE-STRUCTURED-LOCATION;VALUE=URI;X-ADDRESS=Graceville Memorial Park 173 Oxley Rd Graceville Qld 4075 Australia;X-APPLE-RADIUS=500;X-TITLE=173 Oxley Rd:geo:152.9764956,-27.5176118
END:VEVENT
BEGIN:VEVENT
DTSTART;TZID=Australia/Brisbane:20260425T073000
DTEND;TZID=Australia/Brisbane:20260425T083000
DTSTAMP:20260424T024839
CREATED:20260413T033554Z
LAST-MODIFIED:20260413T033555Z
UID:32601-1777102200-1777105800@nicolejohnston.com.au
SUMMARY:Yeronga | Stephens RSL Sub Branch 2025 ANZAC Day Service
DESCRIPTION:The Stephens RSL Sub Branch ANZAC Day Parade will step off at 7:00am from outside the Yeronga State School. The Parade will travel along Park Road\, turn right through the Yeronga Memorial Park gates into Honour Avenue and proceed to the WW1 Cenotaph. ANZAC Day Service to follow.
URL:https://nicolejohnston.com.au/event/yeronga-stephens-rsl-sub-branch-2025-anzac-day-service-2/
LOCATION:Yeronga Memorial Park\, School Road\, Yeronga\, Queensland\, 4104\, Australia
CATEGORIES:Community Event
ATTACH;FMTTYPE=image/png:https://nicolejohnston.com.au/wp-content/uploads/2026/04/ANZAC-Day-2026.png
GEO:-27.5212612;153.0201362
X-APPLE-STRUCTURED-LOCATION;VALUE=URI;X-ADDRESS=Yeronga Memorial Park School Road Yeronga Queensland 4104 Australia;X-APPLE-RADIUS=500;X-TITLE=School Road:geo:153.0201362,-27.5212612
END:VEVENT
BEGIN:VEVENT
DTSTART;TZID=Australia/Brisbane:20260425T083000
DTEND;TZID=Australia/Brisbane:20260425T093000
DTSTAMP:20260424T024839
CREATED:20260413T032427Z
LAST-MODIFIED:20260413T032427Z
UID:32593-1777105800-1777109400@nicolejohnston.com.au
SUMMARY:Tennyson | Pamphlett Tennyson Sea Scout Group ANZAC Day Service
DESCRIPTION:
URL:https://nicolejohnston.com.au/event/tennyson-pamphlett-tennyson-sea-scout-group-anzac-day-service-2/
LOCATION:Tennyson Memorial\, 54 Myla Tce\, Tennyson\, QLD\, 4105\, Australia
CATEGORIES:Community Event
ATTACH;FMTTYPE=image/png:https://nicolejohnston.com.au/wp-content/uploads/2026/04/ANZAC-Day-2026.png
END:VEVENT
BEGIN:VEVENT
DTSTART;TZID=Australia/Brisbane:20260425T093000
DTEND;TZID=Australia/Brisbane:20260425T101500
DTSTAMP:20260424T024839
CREATED:20260413T034152Z
LAST-MODIFIED:20260413T034152Z
UID:32606-1777109400-1777112100@nicolejohnston.com.au
SUMMARY:Oxley | Sherwood-Indooroopilly RSL Sub Branch ANZAC Day Service
DESCRIPTION:Please join us for the ANZAC Day Service commencing at 9.30 am Oxley Memorial Park \nAll are welcome.
URL:https://nicolejohnston.com.au/event/oxley-sherwood-indooroopilly-rsl-sub-branch-anzac-day-service-2/
LOCATION:Oxley Memorial Park\, 1218 Oxley Rd\, Oxley\, QLD\, 4075\, Australia
CATEGORIES:Community Event
ATTACH;FMTTYPE=image/png:https://nicolejohnston.com.au/wp-content/uploads/2026/04/ANZAC-Day-2026.png
END:VEVENT
BEGIN:VEVENT
DTSTART;TZID=Australia/Brisbane:20260503T093000
DTEND;TZID=Australia/Brisbane:20260503T150000
DTSTAMP:20260424T024839
CREATED:20260416T062935Z
LAST-MODIFIED:20260416T062936Z
UID:32615-1777800600-1777820400@nicolejohnston.com.au
SUMMARY:Annerley | Junction Park State School Carnival of Colour
DESCRIPTION:All welcome to join in a colourful celebration filled with games\, rides\, music\, entertainment\, food and market stalls\, face painting\, craft activities and best dressed prizes.
URL:https://nicolejohnston.com.au/event/annerley-junction-park-state-school-carnival-of-colour/
LOCATION:Junction Park State School\, 50 Waldheim St\, Annerley\, Qld\, 4103\, Australia
CATEGORIES:Community Event
ATTACH;FMTTYPE=image/png:https://nicolejohnston.com.au/wp-content/uploads/2026/04/JPSS-Carnival-of-Colour.png
GEO:-27.5099957;153.0353483
X-APPLE-STRUCTURED-LOCATION;VALUE=URI;X-ADDRESS=Junction Park State School 50 Waldheim St Annerley Qld 4103 Australia;X-APPLE-RADIUS=500;X-TITLE=50 Waldheim St:geo:153.0353483,-27.5099957
END:VEVENT
BEGIN:VEVENT
DTSTART;TZID=Australia/Brisbane:20260509T090000
DTEND;TZID=Australia/Brisbane:20260509T160000
DTSTAMP:20260424T024839
CREATED:20260413T031100Z
LAST-MODIFIED:20260413T031100Z
UID:32586-1778317200-1778342400@nicolejohnston.com.au
SUMMARY:Sherwood | Sherwood State School Fete
DESCRIPTION:Market day stalls\, rides\, food\, raffles\, entertainment and more.
URL:https://nicolejohnston.com.au/event/sherwood-sherwood-state-school-fete-4/
LOCATION:Sherwood State School\, 464 Oxley Rd\, Sherwood\, Qld\, 4075\, Australia
CATEGORIES:Community Event
ATTACH;FMTTYPE=image/png:https://nicolejohnston.com.au/wp-content/uploads/2026/04/Sherwod-SS-Fete.png
GEO:-27.5317202;152.9831449
X-APPLE-STRUCTURED-LOCATION;VALUE=URI;X-ADDRESS=Sherwood State School 464 Oxley Rd Sherwood Qld 4075 Australia;X-APPLE-RADIUS=500;X-TITLE=464 Oxley Rd:geo:152.9831449,-27.5317202
END:VEVENT
BEGIN:VEVENT
DTSTART;TZID=Australia/Brisbane:20260509T180000
DTEND;TZID=Australia/Brisbane:20260509T200000
DTSTAMP:20260424T024839
CREATED:20260318T043651Z
LAST-MODIFIED:20260318T043652Z
UID:32426-1778349600-1778356800@nicolejohnston.com.au
SUMMARY:Tennyson | Bands in Parks: Sunset on the Court
DESCRIPTION:Come along and join the fabulous Brass Roots Live\, with energetic rhythms and sublime vocals with a mix of traditional jazz standards and pop classics. Big band music adds a touch of nostalgia and excitement to the silver screen. \nWhether you are a fan of jazz\, swing\, or even pop music\, this concert promises to be a treat for all ages and all musical tastes. This sublime and energetic big band will set your feet tapping\, so enjoy your music with a glass of wine and a meal. \nBookings required. To book\, visit Eventbrite. \nPlease note: there is no BYO to this event.
URL:https://nicolejohnston.com.au/event/tennyson-bands-in-parks-sunset-on-the-court/
LOCATION:QLD Tennis Centre\, 190 King Arthur Tce\, Tennyson\, Queensland\, 4105\, Australia
CATEGORIES:Community Event
ATTACH;FMTTYPE=image/jpeg:https://nicolejohnston.com.au/wp-content/uploads/2021/09/NJ-at-Game-Set-Swing-Brisbane-Metropolitan-Bands-Feb-landscape.jpeg
END:VEVENT
BEGIN:VEVENT
DTSTART;TZID=Australia/Brisbane:20260516T130000
DTEND;TZID=Australia/Brisbane:20260516T190000
DTSTAMP:20260424T024839
CREATED:20260413T021334Z
LAST-MODIFIED:20260413T021335Z
UID:32580-1778936400-1778958000@nicolejohnston.com.au
SUMMARY:Sherwood | Sherwood Community Festival
DESCRIPTION:Entertainment\, rides\, stalls and more at the 30th annual Sherwood Community Festival.
URL:https://nicolejohnston.com.au/event/sherwood-sherwood-community-festival-5/
LOCATION:Sherwood Arboretum\, 57 Dewar Terrace\, Sherwood\, Queensland\, 4075\, Australia
CATEGORIES:Community Event
ATTACH;FMTTYPE=image/jpeg:https://nicolejohnston.com.au/wp-content/uploads/2026/04/Sherwood-Festival.jpg
ORGANIZER;CN="Sherwood Community Festival":MAILTO:enquiries@sherwoodfestival.com
GEO:-27.532253;152.977305
X-APPLE-STRUCTURED-LOCATION;VALUE=URI;X-ADDRESS=Sherwood Arboretum 57 Dewar Terrace Sherwood Queensland 4075 Australia;X-APPLE-RADIUS=500;X-TITLE=57 Dewar Terrace:geo:152.977305,-27.532253
END:VEVENT
BEGIN:VEVENT
DTSTART;TZID=Australia/Brisbane:20260613T130000
DTEND;TZID=Australia/Brisbane:20260613T200000
DTSTAMP:20260424T024839
CREATED:20260413T022735Z
LAST-MODIFIED:20260413T022735Z
UID:32583-1781355600-1781380800@nicolejohnston.com.au
SUMMARY:Oxley | Oxley Community Festival
DESCRIPTION:Free entry\, free rides\, fireworks\, live music\, food trucks and a whole lot of family fun at Club Oxley\, Brisbane.
URL:https://nicolejohnston.com.au/event/oxley-oxley-community-festival-6/
LOCATION:Oxley Bowls Club\, Englefield Road\, Oxley\, QLD\, 4075\, Australia
CATEGORIES:Community Event
ATTACH;FMTTYPE=image/png:https://nicolejohnston.com.au/wp-content/uploads/2026/04/Save-the-date-1920-x-1005-px.png
END:VEVENT
END:VCALENDAR