BEGIN:VCALENDAR
VERSION:2.0
PRODID:-//Nicole Johnston - ECPv6.15.20//NONSGML v1.0//EN
CALSCALE:GREGORIAN
METHOD:PUBLISH
X-ORIGINAL-URL:https://nicolejohnston.com.au
X-WR-CALDESC:Events for Nicole Johnston
REFRESH-INTERVAL;VALUE=DURATION:PT1H
X-Robots-Tag:noindex
X-PUBLISHED-TTL:PT1H
BEGIN:VTIMEZONE
TZID:Australia/Brisbane
BEGIN:STANDARD
TZOFFSETFROM:+1000
TZOFFSETTO:+1000
TZNAME:AEST
DTSTART:20240101T000000
END:STANDARD
END:VTIMEZONE
BEGIN:VEVENT
DTSTART;TZID=Australia/Brisbane:20250916T093000
DTEND;TZID=Australia/Brisbane:20250916T120000
DTSTAMP:20260424T181720
CREATED:20250908T064630Z
LAST-MODIFIED:20250908T064630Z
UID:30555-1758015000-1758024000@nicolejohnston.com.au
SUMMARY:Sherwood | Sherwood Indoor Bowls
DESCRIPTION:A fun\, social sport suitable for seniors. Meet at the Sherwood Uniting Church Hall (access off Thallon St).\nTea & biscuits provided. First game is free. Contact Ann for more information.
URL:https://nicolejohnston.com.au/event/sherwood-sherwood-indoor-bowls/2025-09-16/
LOCATION:Sherwood Uniting Church Hall\, Cnr Sherwood Rd & Thallon St\, Sherwood\, Qld\, 4075\, Australia
CATEGORIES:Recurring
GEO:-27.5320991;152.9806216
X-APPLE-STRUCTURED-LOCATION;VALUE=URI;X-ADDRESS=Sherwood Uniting Church Hall Cnr Sherwood Rd & Thallon St Sherwood Qld 4075 Australia;X-APPLE-RADIUS=500;X-TITLE=Cnr Sherwood Rd & Thallon St:geo:152.9806216,-27.5320991
END:VEVENT
BEGIN:VEVENT
DTSTART;TZID=Australia/Brisbane:20250909T093000
DTEND;TZID=Australia/Brisbane:20250909T120000
DTSTAMP:20260424T181720
CREATED:20250908T064630Z
LAST-MODIFIED:20250908T064630Z
UID:30553-1757410200-1757419200@nicolejohnston.com.au
SUMMARY:Sherwood | Sherwood Indoor Bowls
DESCRIPTION:A fun\, social sport suitable for seniors. Meet at the Sherwood Uniting Church Hall (access off Thallon St).\nTea & biscuits provided. First game is free. Contact Ann for more information.
URL:https://nicolejohnston.com.au/event/sherwood-sherwood-indoor-bowls/2025-09-09/
LOCATION:Sherwood Uniting Church Hall\, Cnr Sherwood Rd & Thallon St\, Sherwood\, Qld\, 4075\, Australia
CATEGORIES:Recurring
GEO:-27.5320991;152.9806216
X-APPLE-STRUCTURED-LOCATION;VALUE=URI;X-ADDRESS=Sherwood Uniting Church Hall Cnr Sherwood Rd & Thallon St Sherwood Qld 4075 Australia;X-APPLE-RADIUS=500;X-TITLE=Cnr Sherwood Rd & Thallon St:geo:152.9806216,-27.5320991
END:VEVENT
BEGIN:VEVENT
DTSTART;TZID=Australia/Brisbane:20250322T130000
DTEND;TZID=Australia/Brisbane:20250322T143000
DTSTAMP:20260424T181720
CREATED:20250227T031837Z
LAST-MODIFIED:20250313T053352Z
UID:29236-1742648400-1742653800@nicolejohnston.com.au
SUMMARY:FREE Self-defence workshop
DESCRIPTION:Come and join me for a FREE self-defence workshop with Kyl Reber from CMA – Chikara Martial Arts\, 660 Oxley Rd (cnr Nelson St)\, Corinda.\n\n\n\nSeniors\, Sat 1 March\, 1pm-2:30pm\nMum & Daughters\, Sat 15 March\, 1pm-2:30pm\nAll ages\, Sat 22 March\, 1pm-2:30pm\n\n\n\nPlaces are limited.\n\nRSVP to my office via E: tennyson.ward@bcc.qld.gov.au or PH: 07 3403 8605.
URL:https://nicolejohnston.com.au/event/free-self-defence-workshop/2025-03-22/
LOCATION:Chikara Martial Arts\, 660 Oxley Rd\, Corinda\, QLD\, 4075\, Australia
CATEGORIES:Community Event,Recurring
ATTACH;FMTTYPE=image/png:https://nicolejohnston.com.au/wp-content/uploads/2025/02/Self-Defence-Workshop-for-Socials-1.png
END:VEVENT
BEGIN:VEVENT
DTSTART;TZID=Australia/Brisbane:20250316T140000
DTEND;TZID=Australia/Brisbane:20250316T160000
DTSTAMP:20260424T181720
CREATED:20250219T054237Z
LAST-MODIFIED:20250219T054237Z
UID:29227-1742133600-1742140800@nicolejohnston.com.au
SUMMARY:Bushcare and Beer
DESCRIPTION:Oxley Creek Catchment Association (OCCA) have partnered with Helios Brewing to run a Bushcare group at Oxley Creek Common. The group meet on the third Sunday of every month from 2 to 4 pm to remove weeds from the riparian vegetation along Oxley Creek. As a thank you for your hard work\, participants will be rewarded with a free beer at Helios Brewing\, located at 15 Palomar Rd\, Yeerongpilly. \nOCCA will supply all equipment. Please wear enclosed shoes and bring a hat and water bottle. Please contact the OCCA Partnerships team at partnerships@oxleycreekcatchment.org.au if you would like more information.
URL:https://nicolejohnston.com.au/event/bushcare-and-beer/2025-03-16/
LOCATION:Oxley Creek Common\, 271 Sherwood Rd\, Rocklea\, Qld\, 4106\, Australia
CATEGORIES:Recurring
GEO:-27.535636;152.993047
X-APPLE-STRUCTURED-LOCATION;VALUE=URI;X-ADDRESS=Oxley Creek Common 271 Sherwood Rd Rocklea Qld 4106 Australia;X-APPLE-RADIUS=500;X-TITLE=271 Sherwood Rd:geo:152.993047,-27.535636
END:VEVENT
BEGIN:VEVENT
DTSTART;TZID=Australia/Brisbane:20250315T130000
DTEND;TZID=Australia/Brisbane:20250315T143000
DTSTAMP:20260424T181720
CREATED:20250227T031837Z
LAST-MODIFIED:20250313T053351Z
UID:29235-1742043600-1742049000@nicolejohnston.com.au
SUMMARY:FREE Self-defence workshop
DESCRIPTION:Come and join me for a FREE self-defence workshop with Kyl Reber from CMA – Chikara Martial Arts\, 660 Oxley Rd (cnr Nelson St)\, Corinda.\n\n\n\nSeniors\, Sat 1 March\, 1pm-2:30pm\nMum & Daughters\, Sat 15 March\, 1pm-2:30pm\nAll ages\, Sat 22 March\, 1pm-2:30pm\n\n\n\nPlaces are limited.\n\nRSVP to my office via E: tennyson.ward@bcc.qld.gov.au or PH: 07 3403 8605.
URL:https://nicolejohnston.com.au/event/free-self-defence-workshop/2025-03-15/
LOCATION:Chikara Martial Arts\, 660 Oxley Rd\, Corinda\, QLD\, 4075\, Australia
CATEGORIES:Community Event,Recurring
ATTACH;FMTTYPE=image/png:https://nicolejohnston.com.au/wp-content/uploads/2025/02/Self-Defence-Workshop-for-Socials-1.png
END:VEVENT
BEGIN:VEVENT
DTSTART;TZID=Australia/Brisbane:20250301T130000
DTEND;TZID=Australia/Brisbane:20250301T143000
DTSTAMP:20260424T181720
CREATED:20250227T031837Z
LAST-MODIFIED:20250313T053351Z
UID:29230-1740834000-1740839400@nicolejohnston.com.au
SUMMARY:FREE Self-defence workshop
DESCRIPTION:Come and join me for a FREE self-defence workshop with Kyl Reber from CMA – Chikara Martial Arts\, 660 Oxley Rd (cnr Nelson St)\, Corinda.\n\n\n\nSeniors\, Sat 1 March\, 1pm-2:30pm\nMum & Daughters\, Sat 15 March\, 1pm-2:30pm\nAll ages\, Sat 22 March\, 1pm-2:30pm\n\n\n\nPlaces are limited.\n\nRSVP to my office via E: tennyson.ward@bcc.qld.gov.au or PH: 07 3403 8605.
URL:https://nicolejohnston.com.au/event/free-self-defence-workshop/2025-03-01/
LOCATION:Chikara Martial Arts\, 660 Oxley Rd\, Corinda\, QLD\, 4075\, Australia
CATEGORIES:Community Event,Recurring
ATTACH;FMTTYPE=image/png:https://nicolejohnston.com.au/wp-content/uploads/2025/02/Self-Defence-Workshop-for-Socials-1.png
END:VEVENT
END:VCALENDAR