BEGIN:VCALENDAR
VERSION:2.0
PRODID:-//Nicole Johnston - ECPv6.15.20//NONSGML v1.0//EN
CALSCALE:GREGORIAN
METHOD:PUBLISH
X-WR-CALNAME:Nicole Johnston
X-ORIGINAL-URL:https://nicolejohnston.com.au
X-WR-CALDESC:Events for Nicole Johnston
REFRESH-INTERVAL;VALUE=DURATION:PT1H
X-Robots-Tag:noindex
X-PUBLISHED-TTL:PT1H
BEGIN:VTIMEZONE
TZID:Australia/Brisbane
BEGIN:STANDARD
TZOFFSETFROM:+1000
TZOFFSETTO:+1000
TZNAME:AEST
DTSTART:20160101T000000
END:STANDARD
END:VTIMEZONE
BEGIN:VEVENT
DTSTART;TZID=Australia/Brisbane:20171028T093000
DTEND;TZID=Australia/Brisbane:20171028T103000
DTSTAMP:20260426T091449
CREATED:20170921T062020Z
LAST-MODIFIED:20170921T062020Z
UID:14153-1509183000-1509186600@nicolejohnston.com.au
SUMMARY:Fairfield writers' group
DESCRIPTION:Please call Helga on 3848 1492 for more information.
URL:https://nicolejohnston.com.au/event/fairfield-writers-group/
LOCATION:Fairfield Library\, Fairfield Gardens\, 180 Fairfield Rd\, Fairfield\, Queensland\, 4103\, Australia
GEO:-27.508752;153.025501
X-APPLE-STRUCTURED-LOCATION;VALUE=URI;X-ADDRESS=Fairfield Library Fairfield Gardens 180 Fairfield Rd Fairfield Queensland 4103 Australia;X-APPLE-RADIUS=500;X-TITLE=Fairfield Gardens\, 180 Fairfield Rd:geo:153.025501,-27.508752
END:VEVENT
BEGIN:VEVENT
DTSTART;TZID=Australia/Brisbane:20171027T140000
DTEND;TZID=Australia/Brisbane:20171027T153000
DTSTAMP:20260426T091449
CREATED:20170921T061932Z
LAST-MODIFIED:20170921T061932Z
UID:14151-1509112800-1509118200@nicolejohnston.com.au
SUMMARY:Email skills one | Fairfield
DESCRIPTION:Connect with family\, friends and organisations using email. Learn how to create an email account\, send and reply to emails\, create contacts\, and sign in and out of your account. Basic computer and internet skills required. Bookings essential.\n\nA Brisbane Libraries Tech Connect workshop.
URL:https://nicolejohnston.com.au/event/email-skills-one-fairfield/
LOCATION:Fairfield Library\, Fairfield Gardens\, 180 Fairfield Rd\, Fairfield\, Queensland\, 4103\, Australia
GEO:-27.508752;153.025501
X-APPLE-STRUCTURED-LOCATION;VALUE=URI;X-ADDRESS=Fairfield Library Fairfield Gardens 180 Fairfield Rd Fairfield Queensland 4103 Australia;X-APPLE-RADIUS=500;X-TITLE=Fairfield Gardens\, 180 Fairfield Rd:geo:153.025501,-27.508752
END:VEVENT
BEGIN:VEVENT
DTSTART;TZID=Australia/Brisbane:20171025T130000
DTEND;TZID=Australia/Brisbane:20171025T140000
DTSTAMP:20260426T091449
CREATED:20170921T061745Z
LAST-MODIFIED:20170921T061745Z
UID:14147-1508936400-1508940000@nicolejohnston.com.au
SUMMARY:Book chat | Fairfield
DESCRIPTION:In October\, read and discuss The Muse by Jessie Burton. New members welcome.
URL:https://nicolejohnston.com.au/event/book-chat-fairfield/
LOCATION:Fairfield Library\, Fairfield Gardens\, 180 Fairfield Rd\, Fairfield\, Queensland\, 4103\, Australia
GEO:-27.508752;153.025501
X-APPLE-STRUCTURED-LOCATION;VALUE=URI;X-ADDRESS=Fairfield Library Fairfield Gardens 180 Fairfield Rd Fairfield Queensland 4103 Australia;X-APPLE-RADIUS=500;X-TITLE=Fairfield Gardens\, 180 Fairfield Rd:geo:153.025501,-27.508752
END:VEVENT
BEGIN:VEVENT
DTSTART;TZID=Australia/Brisbane:20171025T110000
DTEND;TZID=Australia/Brisbane:20171025T123000
DTSTAMP:20260426T091449
CREATED:20170921T063522Z
LAST-MODIFIED:20170921T063522Z
UID:14171-1508929200-1508934600@nicolejohnston.com.au
SUMMARY:iPad skills two | Corinda
DESCRIPTION:Ready to learn more about your iPad? Customise your iPad by organising your apps and adjusting basic settings. Discover how to find and download useful apps on the App Store. Bring your own iPad and Apple ID account details. Bookings essential.\n\nA Brisbane Libraries Tech Connect workshop.
URL:https://nicolejohnston.com.au/event/ipad-skills-two-corinda/
LOCATION:Corinda Library\, 641 Oxley Road\, Corinda\, Queensland\, 4075\, Australia
GEO:-27.538881;152.98142
X-APPLE-STRUCTURED-LOCATION;VALUE=URI;X-ADDRESS=Corinda Library 641 Oxley Road Corinda Queensland 4075 Australia;X-APPLE-RADIUS=500;X-TITLE=641 Oxley Road:geo:152.98142,-27.538881
END:VEVENT
BEGIN:VEVENT
DTSTART;TZID=Australia/Brisbane:20171024T103000
DTEND;TZID=Australia/Brisbane:20171024T113000
DTSTAMP:20260426T091449
CREATED:20170921T062833Z
LAST-MODIFIED:20170921T062833Z
UID:14169-1508841000-1508844600@nicolejohnston.com.au
SUMMARY:Literary trivia | Corinda
DESCRIPTION:Test your literary knowledge with trivia questions at a morning of fun at Corinda Library. Individuals and groups welcome. Bookings essential.
URL:https://nicolejohnston.com.au/event/literary-trivia-corinda/
LOCATION:Corinda Library\, 641 Oxley Road\, Corinda\, Queensland\, 4075\, Australia
GEO:-27.538881;152.98142
X-APPLE-STRUCTURED-LOCATION;VALUE=URI;X-ADDRESS=Corinda Library 641 Oxley Road Corinda Queensland 4075 Australia;X-APPLE-RADIUS=500;X-TITLE=641 Oxley Road:geo:152.98142,-27.538881
END:VEVENT
BEGIN:VEVENT
DTSTART;TZID=Australia/Brisbane:20171021T140000
DTEND;TZID=Australia/Brisbane:20171021T150000
DTSTAMP:20260426T091449
CREATED:20170921T062748Z
LAST-MODIFIED:20170921T062748Z
UID:14167-1508594400-1508598000@nicolejohnston.com.au
SUMMARY:Literary event: 25 years of Looking for Alibrandi | Corinda
DESCRIPTION:In 1992\, Australian author and teacher Melina Marchetta published her first book\, Looking for Alibrandi. The book became an instant success\, selling more than half a million copies in Australia and becoming a favourite book for generations of young adult readers. She went on to write the screenplay for the film which was a box office hit and opened the path for Marchetta to go on and write several bestselling novels.\n\nTo celebrate the 25th anniversary of the story of Josie\, Jacob\, John and many other much loved characters\, join us for a literary event to discuss this incredible novel. \nBookings essential.
URL:https://nicolejohnston.com.au/event/literary-event-25-years-of-looking-for-alibrandi-corinda/
LOCATION:Corinda Library\, 641 Oxley Road\, Corinda\, Queensland\, 4075\, Australia
GEO:-27.538881;152.98142
X-APPLE-STRUCTURED-LOCATION;VALUE=URI;X-ADDRESS=Corinda Library 641 Oxley Road Corinda Queensland 4075 Australia;X-APPLE-RADIUS=500;X-TITLE=641 Oxley Road:geo:152.98142,-27.538881
END:VEVENT
BEGIN:VEVENT
DTSTART;TZID=Australia/Brisbane:20171020T140000
DTEND;TZID=Australia/Brisbane:20171020T153000
DTSTAMP:20260426T091449
CREATED:20170921T061658Z
LAST-MODIFIED:20170921T061658Z
UID:14145-1508508000-1508513400@nicolejohnston.com.au
SUMMARY:Computer skills one | Fairfield
DESCRIPTION:Learn how to use the keyboard and mouse\, and find your way around a Windows computer. Perfect for the first time user. Bookings essential.\n\nA Brisbane Libraries Tech Connect workshop.
URL:https://nicolejohnston.com.au/event/computer-skills-one-fairfield/
LOCATION:Fairfield Library\, Fairfield Gardens\, 180 Fairfield Rd\, Fairfield\, Queensland\, 4103\, Australia
GEO:-27.508752;153.025501
X-APPLE-STRUCTURED-LOCATION;VALUE=URI;X-ADDRESS=Fairfield Library Fairfield Gardens 180 Fairfield Rd Fairfield Queensland 4103 Australia;X-APPLE-RADIUS=500;X-TITLE=Fairfield Gardens\, 180 Fairfield Rd:geo:153.025501,-27.508752
END:VEVENT
BEGIN:VEVENT
DTSTART;TZID=Australia/Brisbane:20171020T093000
DTEND;TZID=Australia/Brisbane:20171020T120000
DTSTAMP:20260426T091449
CREATED:20170228T022456Z
LAST-MODIFIED:20170228T022456Z
UID:11697-1508491800-1508500800@nicolejohnston.com.au
SUMMARY:Oxley Chelmer History Group Meeting
DESCRIPTION:
URL:https://nicolejohnston.com.au/event/oxley-chelmer-history-group-meeting-6/
LOCATION:Corinda RSL\, Clewley St\, Corinda\, Qld\, 4075\, Australia
GEO:-27.5383287;152.9839763
X-APPLE-STRUCTURED-LOCATION;VALUE=URI;X-ADDRESS=Corinda RSL Clewley St Corinda Qld 4075 Australia;X-APPLE-RADIUS=500;X-TITLE=Clewley St:geo:152.9839763,-27.5383287
END:VEVENT
BEGIN:VEVENT
DTSTART;TZID=Australia/Brisbane:20171019T100000
DTEND;TZID=Australia/Brisbane:20171019T110000
DTSTAMP:20260426T091449
CREATED:20170921T062645Z
LAST-MODIFIED:20170921T062645Z
UID:14165-1508407200-1508410800@nicolejohnston.com.au
SUMMARY:Drop in and meet NAO | Corinda
DESCRIPTION:NAO robot is visiting the library and looking forward to meeting you. See how this amazing humanoid robot can sense its environment and interact with people using surprisingly lifelike gestures and movement. Ideal for all ages. Drop in anytime between the listed times. Bookings essential.
URL:https://nicolejohnston.com.au/event/drop-in-and-meet-nao-corinda/
LOCATION:Corinda Library\, 641 Oxley Road\, Corinda\, Queensland\, 4075\, Australia
GEO:-27.538881;152.98142
X-APPLE-STRUCTURED-LOCATION;VALUE=URI;X-ADDRESS=Corinda Library 641 Oxley Road Corinda Queensland 4075 Australia;X-APPLE-RADIUS=500;X-TITLE=641 Oxley Road:geo:152.98142,-27.538881
END:VEVENT
BEGIN:VEVENT
DTSTART;TZID=Australia/Brisbane:20171018T110000
DTEND;TZID=Australia/Brisbane:20171018T123000
DTSTAMP:20260426T091449
CREATED:20170921T062601Z
LAST-MODIFIED:20170921T062601Z
UID:14163-1508324400-1508329800@nicolejohnston.com.au
SUMMARY:iPad skills one | Corinda
DESCRIPTION:Learn how to use the basic features of an iPad. Explore apps\, connect to Wi-Fi and search on the internet. Perfect for the first time user. Bring your own iPad. Bookings essential.\n\nA Brisbane Libraries Tech Connect workshop.
URL:https://nicolejohnston.com.au/event/ipad-skills-one-corinda/
LOCATION:Corinda Library\, 641 Oxley Road\, Corinda\, Queensland\, 4075\, Australia
GEO:-27.538881;152.98142
X-APPLE-STRUCTURED-LOCATION;VALUE=URI;X-ADDRESS=Corinda Library 641 Oxley Road Corinda Queensland 4075 Australia;X-APPLE-RADIUS=500;X-TITLE=641 Oxley Road:geo:152.98142,-27.538881
END:VEVENT
BEGIN:VEVENT
DTSTART;TZID=Australia/Brisbane:20171017T100000
DTEND;TZID=Australia/Brisbane:20171017T113000
DTSTAMP:20260426T091449
CREATED:20170921T054120Z
LAST-MODIFIED:20170921T054120Z
UID:14137-1508234400-1508239800@nicolejohnston.com.au
SUMMARY:Internet skills two | Annerley
DESCRIPTION:Build on your basic internet skills by learning search strategies\, information evaluation techniques and exploring a range of interesting and useful online resources. Basic computer and internet skills are required. Bookings essential.\n\nA Brisbane Libraries Tech Connect workshop.
URL:https://nicolejohnston.com.au/event/internet-skills-two-annerley/
LOCATION:Annerley Library\, 469 Ipswich Rd\, Annerley\, Queensland\, 4103\, Australia
GEO:-27.5115338;153.0317863
X-APPLE-STRUCTURED-LOCATION;VALUE=URI;X-ADDRESS=Annerley Library 469 Ipswich Rd Annerley Queensland 4103 Australia;X-APPLE-RADIUS=500;X-TITLE=469 Ipswich Rd:geo:153.0317863,-27.5115338
END:VEVENT
BEGIN:VEVENT
DTSTART;TZID=Australia/Brisbane:20171015T113000
DTEND;TZID=Australia/Brisbane:20171015T130000
DTSTAMP:20260426T091449
CREATED:20170703T230354Z
LAST-MODIFIED:20170703T230354Z
UID:12993-1508067000-1508072400@nicolejohnston.com.au
SUMMARY:Sherwood NHW1 Spring BBQ
DESCRIPTION:
URL:https://nicolejohnston.com.au/event/sherwood-nhw1-spring-bbq/
LOCATION:Strickland Tce Park\, 11 Strickland Tce\, Sherwood\, Qld\, 4075\, Australia
GEO:-27.5283393;152.9895341
X-APPLE-STRUCTURED-LOCATION;VALUE=URI;X-ADDRESS=Strickland Tce Park 11 Strickland Tce Sherwood Qld 4075 Australia;X-APPLE-RADIUS=500;X-TITLE=11 Strickland Tce:geo:152.9895341,-27.5283393
END:VEVENT
BEGIN:VEVENT
DTSTART;TZID=Australia/Brisbane:20171014T140000
DTEND;TZID=Australia/Brisbane:20171014T153000
DTSTAMP:20260426T091449
CREATED:20170921T054525Z
LAST-MODIFIED:20170921T054525Z
UID:14143-1507989600-1507995000@nicolejohnston.com.au
SUMMARY:Fairfield writers' group | Fairfield
DESCRIPTION:Please call Helga on 3848 1492 for more information.
URL:https://nicolejohnston.com.au/event/fairfield-writers-group-fairfield/
LOCATION:Fairfield Library\, Fairfield Gardens\, 180 Fairfield Rd\, Fairfield\, Queensland\, 4103\, Australia
GEO:-27.508752;153.025501
X-APPLE-STRUCTURED-LOCATION;VALUE=URI;X-ADDRESS=Fairfield Library Fairfield Gardens 180 Fairfield Rd Fairfield Queensland 4103 Australia;X-APPLE-RADIUS=500;X-TITLE=Fairfield Gardens\, 180 Fairfield Rd:geo:153.025501,-27.508752
END:VEVENT
BEGIN:VEVENT
DTSTART;TZID=Australia/Brisbane:20171014T140000
DTEND;TZID=Australia/Brisbane:20171014T150000
DTSTAMP:20260426T091449
CREATED:20170921T062505Z
LAST-MODIFIED:20170921T062505Z
UID:14161-1507989600-1507993200@nicolejohnston.com.au
SUMMARY:Second Saturday book club | Corinda
DESCRIPTION:Please contact the library for further information. Bookings essential.
URL:https://nicolejohnston.com.au/event/second-saturday-book-club-corinda/
LOCATION:Corinda Library\, 641 Oxley Road\, Corinda\, Queensland\, 4075\, Australia
GEO:-27.538881;152.98142
X-APPLE-STRUCTURED-LOCATION;VALUE=URI;X-ADDRESS=Corinda Library 641 Oxley Road Corinda Queensland 4075 Australia;X-APPLE-RADIUS=500;X-TITLE=641 Oxley Road:geo:152.98142,-27.538881
END:VEVENT
BEGIN:VEVENT
DTSTART;TZID=Australia/Brisbane:20171014T130000
DTEND;TZID=Australia/Brisbane:20171014T143000
DTSTAMP:20260426T091449
CREATED:20170921T062420Z
LAST-MODIFIED:20170921T062420Z
UID:14159-1507986000-1507991400@nicolejohnston.com.au
SUMMARY:Urban native gardening | Corinda
DESCRIPTION:Wondering which natives grow best in Brisbane? Join horticulturalist Claire Bickle as she shares a lifelong love of native gardens during this session for the Brisbane urban gardener. Bookings essential.
URL:https://nicolejohnston.com.au/event/urban-native-gardening-corinda/
LOCATION:Corinda Library\, 641 Oxley Road\, Corinda\, Queensland\, 4075\, Australia
GEO:-27.538881;152.98142
X-APPLE-STRUCTURED-LOCATION;VALUE=URI;X-ADDRESS=Corinda Library 641 Oxley Road Corinda Queensland 4075 Australia;X-APPLE-RADIUS=500;X-TITLE=641 Oxley Road:geo:152.98142,-27.538881
END:VEVENT
BEGIN:VEVENT
DTSTART;TZID=Australia/Brisbane:20171014T110000
DTEND;TZID=Australia/Brisbane:20171014T190000
DTSTAMP:20260426T091449
CREATED:20170703T231709Z
LAST-MODIFIED:20170703T231709Z
UID:13010-1507978800-1508007600@nicolejohnston.com.au
SUMMARY:St Sebastian's Primary School Fete
DESCRIPTION:
URL:https://nicolejohnston.com.au/event/st-sebastians-primary-school-fete/
LOCATION:St Sebastian’s School\, Kadumba Street\, Yeronga\, Queensland\, 4104\, Australia
GEO:-27.515171;153.0119597
X-APPLE-STRUCTURED-LOCATION;VALUE=URI;X-ADDRESS=St Sebastian’s School Kadumba Street Yeronga Queensland 4104 Australia;X-APPLE-RADIUS=500;X-TITLE=Kadumba Street:geo:153.0119597,-27.515171
END:VEVENT
BEGIN:VEVENT
DTSTART;TZID=Australia/Brisbane:20171013T140000
DTEND;TZID=Australia/Brisbane:20171013T153000
DTSTAMP:20260426T091449
CREATED:20170921T054418Z
LAST-MODIFIED:20170921T054418Z
UID:14141-1507903200-1507908600@nicolejohnston.com.au
SUMMARY:eBay and Gumtree basics | Fairfield
DESCRIPTION:Looking to de-clutter or to add to your home? Learn about buying and selling goods safely online through eBay and Gumtree. Basic computer and internet skills required. Bookings essential.\n\nA Brisbane Libraries Tech Connect workshop.
URL:https://nicolejohnston.com.au/event/ebay-and-gumtree-basics-fairfield/
LOCATION:Fairfield Library\, Fairfield Gardens\, 180 Fairfield Rd\, Fairfield\, Queensland\, 4103\, Australia
GEO:-27.508752;153.025501
X-APPLE-STRUCTURED-LOCATION;VALUE=URI;X-ADDRESS=Fairfield Library Fairfield Gardens 180 Fairfield Rd Fairfield Queensland 4103 Australia;X-APPLE-RADIUS=500;X-TITLE=Fairfield Gardens\, 180 Fairfield Rd:geo:153.025501,-27.508752
END:VEVENT
BEGIN:VEVENT
DTSTART;TZID=Australia/Brisbane:20171011T110000
DTEND;TZID=Australia/Brisbane:20171011T123000
DTSTAMP:20260426T091449
CREATED:20170921T062247Z
LAST-MODIFIED:20170921T062247Z
UID:14157-1507719600-1507725000@nicolejohnston.com.au
SUMMARY:Simple photo editing | Corinda
DESCRIPTION:Learn how to organise your photos\, make simple changes to digital photos before printing and create photobooks. Bring our own photos or use sample images provided. Basic computer and internet skills required. Bookings essential.\n\nA Brisbane Libraries Tech Connect workshop.
URL:https://nicolejohnston.com.au/event/simple-photo-editing-corinda/
LOCATION:Corinda Library\, 641 Oxley Road\, Corinda\, Queensland\, 4075\, Australia
GEO:-27.538881;152.98142
X-APPLE-STRUCTURED-LOCATION;VALUE=URI;X-ADDRESS=Corinda Library 641 Oxley Road Corinda Queensland 4075 Australia;X-APPLE-RADIUS=500;X-TITLE=641 Oxley Road:geo:152.98142,-27.538881
END:VEVENT
BEGIN:VEVENT
DTSTART;TZID=Australia/Brisbane:20171010T153000
DTEND;TZID=Australia/Brisbane:20171010T160000
DTSTAMP:20260426T091449
CREATED:20170921T054021Z
LAST-MODIFIED:20170921T054021Z
UID:14135-1507649400-1507651200@nicolejohnston.com.au
SUMMARY:Internet skills one | Annerley
DESCRIPTION:Learn how to find your way around the internet safely\, save your favourite websites\, search for information and use Google to help you find answers. Basic computer skills are required. Bookings essential.\n\nA Brisbane Libraries Tech Connect workshop.
URL:https://nicolejohnston.com.au/event/internet-skills-one-annerley/
LOCATION:Annerley Library\, 469 Ipswich Rd\, Annerley\, Queensland\, 4103\, Australia
GEO:-27.5115338;153.0317863
X-APPLE-STRUCTURED-LOCATION;VALUE=URI;X-ADDRESS=Annerley Library 469 Ipswich Rd Annerley Queensland 4103 Australia;X-APPLE-RADIUS=500;X-TITLE=469 Ipswich Rd:geo:153.0317863,-27.5115338
END:VEVENT
BEGIN:VEVENT
DTSTART;TZID=Australia/Brisbane:20171007T093000
DTEND;TZID=Australia/Brisbane:20171007T100000
DTSTAMP:20260426T091449
CREATED:20170921T053905Z
LAST-MODIFIED:20170921T053905Z
UID:14133-1507368600-1507370400@nicolejohnston.com.au
SUMMARY:BYOB (Bring your own baby) book club
DESCRIPTION:Do you care for a child under four years of age and love to read books? BYOB (bring your own baby) book club is a baby-friendly book club for parents and caregivers who are interested in joining a book club without having to organise a babysitter. Join in to discuss great books in good company. Call the library for more details. Bookings essential.
URL:https://nicolejohnston.com.au/event/byob-bring-your-own-baby-book-club-2/
LOCATION:Annerley Library\, 469 Ipswich Rd\, Annerley\, Queensland\, 4103\, Australia
GEO:-27.5115338;153.0317863
X-APPLE-STRUCTURED-LOCATION;VALUE=URI;X-ADDRESS=Annerley Library 469 Ipswich Rd Annerley Queensland 4103 Australia;X-APPLE-RADIUS=500;X-TITLE=469 Ipswich Rd:geo:153.0317863,-27.5115338
END:VEVENT
BEGIN:VEVENT
DTSTART;TZID=Australia/Brisbane:20171006T140000
DTEND;TZID=Australia/Brisbane:20171006T153000
DTSTAMP:20260426T091449
CREATED:20170921T054319Z
LAST-MODIFIED:20170921T054319Z
UID:14139-1507298400-1507303800@nicolejohnston.com.au
SUMMARY:Social media basics | Fairfield
DESCRIPTION:Learn about popular social media sites including Facebook\, Twitter\, Pinterest\, Tumblr and Instagram. Discover how these websites help you to connect with family\, friends and organisations online. Basic computer and internet skills required. Bookings essential.\n\nA Brisbane Libraries Tech Connect workshop.
URL:https://nicolejohnston.com.au/event/social-media-basics-fairfield/
LOCATION:Fairfield Library\, Fairfield Gardens\, 180 Fairfield Rd\, Fairfield\, Queensland\, 4103\, Australia
GEO:-27.508752;153.025501
X-APPLE-STRUCTURED-LOCATION;VALUE=URI;X-ADDRESS=Fairfield Library Fairfield Gardens 180 Fairfield Rd Fairfield Queensland 4103 Australia;X-APPLE-RADIUS=500;X-TITLE=Fairfield Gardens\, 180 Fairfield Rd:geo:153.025501,-27.508752
END:VEVENT
BEGIN:VEVENT
DTSTART;TZID=Australia/Brisbane:20171006T093000
DTEND;TZID=Australia/Brisbane:20171006T113000
DTSTAMP:20260426T091449
CREATED:20170921T053730Z
LAST-MODIFIED:20170921T053730Z
UID:14131-1507282200-1507289400@nicolejohnston.com.au
SUMMARY:Growing indoor plants successfully
DESCRIPTION:This workshop will examine why some plants make great indoor plants while others whither and die. Learn which plants will do well in different situations\, the best potting mixes and fertilisers and how to acclimatise new plants for a long and happy life indoors. Presented by horticulturalist\, Brian Sams.\n\nBookings essential.
URL:https://nicolejohnston.com.au/event/growing-indoor-plants-successfully/
LOCATION:Annerley Library\, 469 Ipswich Rd\, Annerley\, Queensland\, 4103\, Australia
GEO:-27.5115338;153.0317863
X-APPLE-STRUCTURED-LOCATION;VALUE=URI;X-ADDRESS=Annerley Library 469 Ipswich Rd Annerley Queensland 4103 Australia;X-APPLE-RADIUS=500;X-TITLE=469 Ipswich Rd:geo:153.0317863,-27.5115338
END:VEVENT
BEGIN:VEVENT
DTSTART;TZID=Australia/Brisbane:20171004T110000
DTEND;TZID=Australia/Brisbane:20171004T123000
DTSTAMP:20260426T091449
CREATED:20170921T062135Z
LAST-MODIFIED:20170921T062135Z
UID:14155-1507114800-1507120200@nicolejohnston.com.au
SUMMARY:Facebook basics | Corinda
DESCRIPTION:Learn how to create your own Facebook account to connect with family\, friends and your favourite organisations. Discover basic navigation skills and how to manage your privacy settings. Basic computer skills\, internet skills and an email account are required. Bookings essential.\n\nA Brisbane Libraries Tech Connect workshop.
URL:https://nicolejohnston.com.au/event/facebook-basics-corinda/
LOCATION:Corinda Library\, 641 Oxley Road\, Corinda\, Queensland\, 4075\, Australia
GEO:-27.538881;152.98142
X-APPLE-STRUCTURED-LOCATION;VALUE=URI;X-ADDRESS=Corinda Library 641 Oxley Road Corinda Queensland 4075 Australia;X-APPLE-RADIUS=500;X-TITLE=641 Oxley Road:geo:152.98142,-27.538881
END:VEVENT
BEGIN:VEVENT
DTSTART;TZID=Australia/Brisbane:20170929T143000
DTEND;TZID=Australia/Brisbane:20170929T153000
DTSTAMP:20260426T091449
CREATED:20170710T023536Z
LAST-MODIFIED:20170710T023536Z
UID:13091-1506695400-1506699000@nicolejohnston.com.au
SUMMARY:Fairfield | Red Rocket 3
DESCRIPTION:Join three-piece live children’s band\, Red Rocket 3 for a high-energy performance. Enjoy live music\, sing-a-longs\, interactive games and a whole lot of fun. Ideal for children aged 3-10 years. Bookings essential.
URL:https://nicolejohnston.com.au/event/fairfield-red-rocket-3/
LOCATION:Fairfield Library\, Fairfield Gardens\, 180 Fairfield Rd\, Fairfield\, Queensland\, 4103\, Australia
GEO:-27.508752;153.025501
X-APPLE-STRUCTURED-LOCATION;VALUE=URI;X-ADDRESS=Fairfield Library Fairfield Gardens 180 Fairfield Rd Fairfield Queensland 4103 Australia;X-APPLE-RADIUS=500;X-TITLE=Fairfield Gardens\, 180 Fairfield Rd:geo:153.025501,-27.508752
END:VEVENT
BEGIN:VEVENT
DTSTART;TZID=Australia/Brisbane:20170929T140000
DTEND;TZID=Australia/Brisbane:20170929T153000
DTSTAMP:20260426T091449
CREATED:20170710T023345Z
LAST-MODIFIED:20170710T023345Z
UID:13089-1506693600-1506699000@nicolejohnston.com.au
SUMMARY:Fairfield | Social media basics
DESCRIPTION:Learn about popular social media sites including Facebook\, Twitter\, Pinterest\, Tumblr and Instagram. Discover how these websites help you to connect with family\, friends and organisations online. Basic computer and internet skills required. Bookings essential.\n\nA Brisbane Libraries Tech Connect workshop.
URL:https://nicolejohnston.com.au/event/fairfield-social-media-basics-2/
LOCATION:Fairfield Library\, Fairfield Gardens\, 180 Fairfield Rd\, Fairfield\, Queensland\, 4103\, Australia
GEO:-27.508752;153.025501
X-APPLE-STRUCTURED-LOCATION;VALUE=URI;X-ADDRESS=Fairfield Library Fairfield Gardens 180 Fairfield Rd Fairfield Queensland 4103 Australia;X-APPLE-RADIUS=500;X-TITLE=Fairfield Gardens\, 180 Fairfield Rd:geo:153.025501,-27.508752
END:VEVENT
BEGIN:VEVENT
DTSTART;TZID=Australia/Brisbane:20170927T153000
DTEND;TZID=Australia/Brisbane:20170927T163000
DTSTAMP:20260426T091449
CREATED:20170710T023112Z
LAST-MODIFIED:20170710T023112Z
UID:13087-1506526200-1506529800@nicolejohnston.com.au
SUMMARY:Fairfield | FBI: Fairfield book investigators kid's club
DESCRIPTION:In September\, the club will read Marge in Charge by Isla Fisher. Ideal for children 6-11 years.
URL:https://nicolejohnston.com.au/event/fairfield-fbi-fairfield-book-investigators-kids-club-4/
LOCATION:Fairfield Library\, Fairfield Gardens\, 180 Fairfield Rd\, Fairfield\, Queensland\, 4103\, Australia
GEO:-27.508752;153.025501
X-APPLE-STRUCTURED-LOCATION;VALUE=URI;X-ADDRESS=Fairfield Library Fairfield Gardens 180 Fairfield Rd Fairfield Queensland 4103 Australia;X-APPLE-RADIUS=500;X-TITLE=Fairfield Gardens\, 180 Fairfield Rd:geo:153.025501,-27.508752
END:VEVENT
BEGIN:VEVENT
DTSTART;TZID=Australia/Brisbane:20170927T110000
DTEND;TZID=Australia/Brisbane:20170927T123000
DTSTAMP:20260426T091449
CREATED:20170710T031602Z
LAST-MODIFIED:20170710T031602Z
UID:13119-1506510000-1506515400@nicolejohnston.com.au
SUMMARY:Corinda | Library e-books for Androids and iPads
DESCRIPTION:Explore the wonderful world of Brisbane libraries’ free online e-books and e-audiobooks by learning how to set up your iPad or Android tablet ready to read or listen to your favourite online library content. Bring your own device\, Apple store or Google Play Store account details\, library card and email account details. Basic device skills required. Bookings essential.\n\nA Brisbane Libraries Tech Connect workshop.
URL:https://nicolejohnston.com.au/event/corinda-library-e-books-for-androids-and-ipads/
LOCATION:Corinda Library\, 641 Oxley Road\, Corinda\, Queensland\, 4075\, Australia
GEO:-27.538881;152.98142
X-APPLE-STRUCTURED-LOCATION;VALUE=URI;X-ADDRESS=Corinda Library 641 Oxley Road Corinda Queensland 4075 Australia;X-APPLE-RADIUS=500;X-TITLE=641 Oxley Road:geo:152.98142,-27.538881
END:VEVENT
BEGIN:VEVENT
DTSTART;TZID=Australia/Brisbane:20170927T093000
DTEND;TZID=Australia/Brisbane:20170927T110000
DTSTAMP:20260426T091449
CREATED:20170706T042158Z
LAST-MODIFIED:20170706T042158Z
UID:13048-1506504600-1506510000@nicolejohnston.com.au
SUMMARY:Annerley | Sphero robots in space
DESCRIPTION:Create your own solar system by programming Sphero to orbit the sun. Join a coding adventure that is out of this world. No prior programming experience required. Ideal for children aged 9-12 years. Bookings essential.
URL:https://nicolejohnston.com.au/event/annerley-sphero-robots-in-space/
LOCATION:Annerley Library\, 469 Ipswich Rd\, Annerley\, Queensland\, 4103\, Australia
GEO:-27.5115338;153.0317863
X-APPLE-STRUCTURED-LOCATION;VALUE=URI;X-ADDRESS=Annerley Library 469 Ipswich Rd Annerley Queensland 4103 Australia;X-APPLE-RADIUS=500;X-TITLE=469 Ipswich Rd:geo:153.0317863,-27.5115338
END:VEVENT
BEGIN:VEVENT
DTSTART;TZID=Australia/Brisbane:20170926T103000
DTEND;TZID=Australia/Brisbane:20170926T113000
DTSTAMP:20260426T091449
CREATED:20170710T031515Z
LAST-MODIFIED:20170710T031515Z
UID:13117-1506421800-1506425400@nicolejohnston.com.au
SUMMARY:Corinda | Meet Ruth Bonetti
DESCRIPTION:In the tradition of great family migration stories\, Midnight Sun to Southern Crosscontinues the saga of the Back brothers’ flight from Russian-occupied Finland to Australian as the nineteenth century turned into the twentieth. From frozen Finland to the lush rain forests of northern New South Wales\, to the dry and dusty sheep country of western Queensland\, you follow the highs and lows of their new life under the Southern Cross. It is an extraordinary tale of success\, failure\, hard work and dreaming.\n\nJoin Ruth Bonetti as she discusses her second instalment of the Back family saga\, contrasting her grandfather’s formative years in northern Europe and her own upbringing in outback Queensland and in St Lucia\, the iconic Brisbane suburb he would go on to develop. \nBookings essential.
URL:https://nicolejohnston.com.au/event/corinda-meet-ruth-bonetti/
LOCATION:Corinda Library\, 641 Oxley Road\, Corinda\, Queensland\, 4075\, Australia
GEO:-27.538881;152.98142
X-APPLE-STRUCTURED-LOCATION;VALUE=URI;X-ADDRESS=Corinda Library 641 Oxley Road Corinda Queensland 4075 Australia;X-APPLE-RADIUS=500;X-TITLE=641 Oxley Road:geo:152.98142,-27.538881
END:VEVENT
BEGIN:VEVENT
DTSTART;TZID=Australia/Brisbane:20170925T153000
DTEND;TZID=Australia/Brisbane:20170925T163000
DTSTAMP:20260426T091449
CREATED:20170921T061849Z
LAST-MODIFIED:20170921T061849Z
UID:14149-1506353400-1506357000@nicolejohnston.com.au
SUMMARY:FBI: Fairfield book investigators kid's club
DESCRIPTION:In October\, read Who Dunnit Detective Agency by Martin Widmark. Ideal for children aged 6-11 years.
URL:https://nicolejohnston.com.au/event/fbi-fairfield-book-investigators-kids-club-5/
LOCATION:Fairfield Library\, Fairfield Gardens\, 180 Fairfield Rd\, Fairfield\, Queensland\, 4103\, Australia
GEO:-27.508752;153.025501
X-APPLE-STRUCTURED-LOCATION;VALUE=URI;X-ADDRESS=Fairfield Library Fairfield Gardens 180 Fairfield Rd Fairfield Queensland 4103 Australia;X-APPLE-RADIUS=500;X-TITLE=Fairfield Gardens\, 180 Fairfield Rd:geo:153.025501,-27.508752
END:VEVENT
END:VCALENDAR