BEGIN:VCALENDAR
VERSION:2.0
PRODID:-//Nicole Johnston - ECPv6.15.20//NONSGML v1.0//EN
CALSCALE:GREGORIAN
METHOD:PUBLISH
X-WR-CALNAME:Nicole Johnston
X-ORIGINAL-URL:https://nicolejohnston.com.au
X-WR-CALDESC:Events for Nicole Johnston
REFRESH-INTERVAL;VALUE=DURATION:PT1H
X-Robots-Tag:noindex
X-PUBLISHED-TTL:PT1H
BEGIN:VTIMEZONE
TZID:Australia/Brisbane
BEGIN:STANDARD
TZOFFSETFROM:+1000
TZOFFSETTO:+1000
TZNAME:AEST
DTSTART:20240101T000000
END:STANDARD
END:VTIMEZONE
BEGIN:VEVENT
DTSTART;TZID=Australia/Brisbane:20250531T130000
DTEND;TZID=Australia/Brisbane:20250531T140000
DTSTAMP:20260425T004453
CREATED:20241212T005708Z
LAST-MODIFIED:20241212T005708Z
UID:29028-1748696400-1748700000@nicolejohnston.com.au
SUMMARY:Corinda | Deep Water Running
DESCRIPTION:This is an aquatic workout that uses all major muscle groups. Participants wear a buoyancy belt so there’s no need to worry about being in deep water however you do require basic swimming skills. Classes will be held in the outdoor 50m pool. \nFor more information phone or text Aqua English on 0406 063 737.
URL:https://nicolejohnston.com.au/event/corinda-deep-water-running-3/2025-05-31/
LOCATION:Dunlop Park Memorial Pool\, 794 Oxley Rd\, Corinda\, Qld\, 4075\, Australia
GEO:-27.5473096;152.9806407
X-APPLE-STRUCTURED-LOCATION;VALUE=URI;X-ADDRESS=Dunlop Park Memorial Pool 794 Oxley Rd Corinda Qld 4075 Australia;X-APPLE-RADIUS=500;X-TITLE=794 Oxley Rd:geo:152.9806407,-27.5473096
END:VEVENT
BEGIN:VEVENT
DTSTART;TZID=Australia/Brisbane:20250531T110000
DTEND;TZID=Australia/Brisbane:20250531T190000
DTSTAMP:20260425T004453
CREATED:20250424T032254Z
LAST-MODIFIED:20250424T032254Z
UID:29598-1748689200-1748718000@nicolejohnston.com.au
SUMMARY:Yeronga | St Sebastian's Primary School Fete
DESCRIPTION:A jam-packed day of family-friendly fun\, rides\, games\, stalls\, food and drinks at the 2025 St Sebastian’s Fete!
URL:https://nicolejohnston.com.au/event/yeronga-st-sebastians-primary-school-fete/
LOCATION:St Sebastian’s School\, Kadumba Street\, Yeronga\, Queensland\, 4104\, Australia
CATEGORIES:Community Event
ATTACH;FMTTYPE=image/jpeg:https://nicolejohnston.com.au/wp-content/uploads/2025/04/St-Sebastians-School-Fete-2025.jpg
GEO:-27.515171;153.0119597
X-APPLE-STRUCTURED-LOCATION;VALUE=URI;X-ADDRESS=St Sebastian’s School Kadumba Street Yeronga Queensland 4104 Australia;X-APPLE-RADIUS=500;X-TITLE=Kadumba Street:geo:153.0119597,-27.515171
END:VEVENT
BEGIN:VEVENT
DTSTART;TZID=Australia/Brisbane:20250531T110000
DTEND;TZID=Australia/Brisbane:20250531T120000
DTSTAMP:20260425T004453
CREATED:20250113T042246Z
LAST-MODIFIED:20250113T042246Z
UID:29180-1748689200-1748692800@nicolejohnston.com.au
SUMMARY:Yeronga | Deep Water Running
DESCRIPTION:This is an aquatic workout that uses all major muscle groups. Participants wear a buoyancy belt so there’s no need to worry about being in deep water however you do require basic swimming skills. Classes will be held in the outdoor 25m/50m pool. \nThis is an aquatic workout that uses all major muscle groups. Participants wear a buoyancy belt so there’s no need to worry about being in deep water however you do require basic swimming skills. Classes will be held in the outdoor 25m/50m pool. \nAll participants must bring their own buoyancy belt and towel.
URL:https://nicolejohnston.com.au/event/yeronga-deep-water-running-6/2025-05-31/
LOCATION:Yeronga Park Pool\, 81 School Rd\, Yeronga\, Qld\, 4104\, Australia
GEO:-27.5210935;153.019099
X-APPLE-STRUCTURED-LOCATION;VALUE=URI;X-ADDRESS=Yeronga Park Pool 81 School Rd Yeronga Qld 4104 Australia;X-APPLE-RADIUS=500;X-TITLE=81 School Rd:geo:153.019099,-27.5210935
END:VEVENT
BEGIN:VEVENT
DTSTART;TZID=Australia/Brisbane:20250531T070000
DTEND;TZID=Australia/Brisbane:20250531T080000
DTSTAMP:20260425T004453
CREATED:20241113T060545Z
LAST-MODIFIED:20241113T060545Z
UID:28996-1748674800-1748678400@nicolejohnston.com.au
SUMMARY:Annerley | Yoga
DESCRIPTION:Focus on a range of movements to relax the mind and body. Stretching\, breathing\, strength and balance exercises are included by incorporating standing poses and mat work into the session. \nFor more information phone Deanna from Yoga Mind Body Brisbane on 0401 247 328.
URL:https://nicolejohnston.com.au/event/annerley-yoga-9/2025-05-31/
LOCATION:Vallely St Park\, 51 Vallely Street\, Annerley\, QLD\, 4103\, Australia
END:VEVENT
BEGIN:VEVENT
DTSTART;TZID=Australia/Brisbane:20250530T163000
DTEND;TZID=Australia/Brisbane:20250530T173000
DTSTAMP:20260425T004453
CREATED:20250516T043429Z
LAST-MODIFIED:20250516T043429Z
UID:29784-1748622600-1748626200@nicolejohnston.com.au
SUMMARY:Graceville | Obstacle Training Circuit
DESCRIPTION:Join us for an exciting obstacle training circuit! Develop new skills and techniques on the obstacle course while building strength and improving your fitness. It’s a fun and energising session you won’t want to miss. \nNo bookings required.  For more information phone Emma from Centenary Playground on 0419 592 777.
URL:https://nicolejohnston.com.au/event/graceville-obstacle-training-circuit-4/
LOCATION:Graceville Riverside Parklands\, Graceville Avenue\, Graceville\, Queensland\, 4075\, Australia
GEO:-27.5228793;152.9875616
X-APPLE-STRUCTURED-LOCATION;VALUE=URI;X-ADDRESS=Graceville Riverside Parklands Graceville Avenue Graceville Queensland 4075 Australia;X-APPLE-RADIUS=500;X-TITLE=Graceville Avenue:geo:152.9875616,-27.5228793
END:VEVENT
BEGIN:VEVENT
DTSTART;TZID=Australia/Brisbane:20250530T143000
DTEND;TZID=Australia/Brisbane:20250530T160000
DTSTAMP:20260425T004453
CREATED:20250113T035246Z
LAST-MODIFIED:20250113T035246Z
UID:29079-1748615400-1748620800@nicolejohnston.com.au
SUMMARY:Graceville | Beginning Lawn Bowls
DESCRIPTION:An introduction to the sport of lawn bowls. A sport that helps to build leg and core strength\, stability and coordination in a friendly social environment. \nThis is a GOLD event suitable for seniors. \nFor bookings phone or text David on 0407 894 727 or email dschonfe@bigpond.net.au.
URL:https://nicolejohnston.com.au/event/graceville-beginning-lawn-bowls-2/2025-05-30/
LOCATION:Graceville Bowls Club\, 16 Wylie St\, Graceville\, Qld\, 4075\, Australia
END:VEVENT
BEGIN:VEVENT
DTSTART;TZID=Australia/Brisbane:20250530T091500
DTEND;TZID=Australia/Brisbane:20250530T094500
DTSTAMP:20260425T004453
CREATED:20250401T050035Z
LAST-MODIFIED:20250401T050035Z
UID:29536-1748596500-1748598300@nicolejohnston.com.au
SUMMARY:Annerley Library | First 5 Forever Babies\, Books and Rhymes
DESCRIPTION:Meet other parents and babies for a fun session of singing\, clapping and dancing. Learn songs and action rhymes to nurture your baby’s pre-literacy\, communication\, language and social skills. Ideal for babies aged up to one year.
URL:https://nicolejohnston.com.au/event/annerley-library-first-5-forever-babies-books-and-rhymes-32/
LOCATION:Annerley Library\, 469 Ipswich Rd\, Annerley\, Queensland\, 4103\, Australia
GEO:-27.5115338;153.0317863
X-APPLE-STRUCTURED-LOCATION;VALUE=URI;X-ADDRESS=Annerley Library 469 Ipswich Rd Annerley Queensland 4103 Australia;X-APPLE-RADIUS=500;X-TITLE=469 Ipswich Rd:geo:153.0317863,-27.5115338
END:VEVENT
BEGIN:VEVENT
DTSTART;TZID=Australia/Brisbane:20250530T091500
DTEND;TZID=Australia/Brisbane:20250530T094500
DTSTAMP:20260425T004453
CREATED:20250401T045928Z
LAST-MODIFIED:20250401T045928Z
UID:29534-1748596500-1748598300@nicolejohnston.com.au
SUMMARY:Corinda Library | First 5 Forever Babies\, Books and Rhymes
DESCRIPTION:Meet other parents and babies for a fun session of singing\, clapping and dancing. Learn songs and action rhymes to nurture your baby’s pre-literacy\, communication\, language and social skills. Ideal for babies aged up to one year.
URL:https://nicolejohnston.com.au/event/corinda-library-first-5-forever-babies-books-and-rhymes-33/
LOCATION:Corinda Library\, 641 Oxley Road\, Corinda\, Queensland\, 4075\, Australia
GEO:-27.538881;152.98142
X-APPLE-STRUCTURED-LOCATION;VALUE=URI;X-ADDRESS=Corinda Library 641 Oxley Road Corinda Queensland 4075 Australia;X-APPLE-RADIUS=500;X-TITLE=641 Oxley Road:geo:152.98142,-27.538881
END:VEVENT
BEGIN:VEVENT
DTSTART;TZID=Australia/Brisbane:20250529T130000
DTEND;TZID=Australia/Brisbane:20250529T140000
DTSTAMP:20260425T004453
CREATED:20241212T005526Z
LAST-MODIFIED:20241212T005526Z
UID:29011-1748523600-1748527200@nicolejohnston.com.au
SUMMARY:Corinda | Aqua Yoga
DESCRIPTION:This is a low impact form of exercise that supports the body while still providing function and movement. Many yoga poses that you do in a class can be adapted for the pool\, sometimes using the pool walls as if it were the studio floor. \nThis is a GOLD event suitable for seniors. \nFor more information phone Nichola on 0406 574 454.
URL:https://nicolejohnston.com.au/event/corinda-aqua-yoga-6/2025-05-29/
LOCATION:Dunlop Park Memorial Pool\, 794 Oxley Rd\, Corinda\, Qld\, 4075\, Australia
GEO:-27.5473096;152.9806407
X-APPLE-STRUCTURED-LOCATION;VALUE=URI;X-ADDRESS=Dunlop Park Memorial Pool 794 Oxley Rd Corinda Qld 4075 Australia;X-APPLE-RADIUS=500;X-TITLE=794 Oxley Rd:geo:152.9806407,-27.5473096
END:VEVENT
BEGIN:VEVENT
DTSTART;TZID=Australia/Brisbane:20250529T091500
DTEND;TZID=Australia/Brisbane:20250529T094500
DTSTAMP:20260425T004453
CREATED:20250401T045833Z
LAST-MODIFIED:20250401T045833Z
UID:29532-1748510100-1748511900@nicolejohnston.com.au
SUMMARY:Corinda Library | First 5 Forever Toddler Time
DESCRIPTION:Meet other parents and toddlers for a fun session of singing\, clapping and dancing. Learn action rhymes and songs which will help your child’s pre-literacy\, communication\, language and social skills. Ideal for babies and toddlers aged 1-2 years.
URL:https://nicolejohnston.com.au/event/corinda-library-first-5-forever-toddler-time-33/
LOCATION:Corinda Library\, 641 Oxley Road\, Corinda\, Queensland\, 4075\, Australia
GEO:-27.538881;152.98142
X-APPLE-STRUCTURED-LOCATION;VALUE=URI;X-ADDRESS=Corinda Library 641 Oxley Road Corinda Queensland 4075 Australia;X-APPLE-RADIUS=500;X-TITLE=641 Oxley Road:geo:152.98142,-27.538881
END:VEVENT
BEGIN:VEVENT
DTSTART;TZID=Australia/Brisbane:20250529T090000
DTEND;TZID=Australia/Brisbane:20250529T100000
DTSTAMP:20260425T004453
CREATED:20241212T010414Z
LAST-MODIFIED:20241212T010414Z
UID:29089-1748509200-1748512800@nicolejohnston.com.au
SUMMARY:Oxley | Mums and Bubs Yoga
DESCRIPTION:A mum and bubs yoga class to connect with yourself\, your baby and others. Designed to support you post-natally\, gentle stretching and strengthening practices\, breathing exercises\, meditation. \nFor more information phone Nichola on 0406 574 454.
URL:https://nicolejohnston.com.au/event/oxley-mums-and-bubs-yoga-6/2025-05-29/
LOCATION:Nixon Park\, 929 Oxley Road\, OXLEY\, QLD\, 4075\, Australia
GEO:-27.552171;152.9789711
X-APPLE-STRUCTURED-LOCATION;VALUE=URI;X-ADDRESS=Nixon Park 929 Oxley Road OXLEY QLD 4075 Australia;X-APPLE-RADIUS=500;X-TITLE=929 Oxley Road:geo:152.9789711,-27.552171
END:VEVENT
BEGIN:VEVENT
DTSTART;TZID=Australia/Brisbane:20250529T090000
DTEND;TZID=Australia/Brisbane:20250529T100000
DTSTAMP:20260425T004453
CREATED:20241113T053629Z
LAST-MODIFIED:20241113T053629Z
UID:29105-1748509200-1748512800@nicolejohnston.com.au
SUMMARY:Sherwood | Tai Chi Qigong
DESCRIPTION:This dynamic activity is invigorating and will help you feel relaxed\, refreshed and calm. Rejuvenate your body and learn to create a tranquil mind. Join any week. \nFor more information phone Julia from Minds Ease on 0412 362 338.
URL:https://nicolejohnston.com.au/event/sherwood-tai-chi-qigong-5/2025-05-29/
LOCATION:Sherwood Arboretum\, 57 Dewar Terrace\, Sherwood\, Queensland\, 4075\, Australia
GEO:-27.532253;152.977305
X-APPLE-STRUCTURED-LOCATION;VALUE=URI;X-ADDRESS=Sherwood Arboretum 57 Dewar Terrace Sherwood Queensland 4075 Australia;X-APPLE-RADIUS=500;X-TITLE=57 Dewar Terrace:geo:152.977305,-27.532253
END:VEVENT
BEGIN:VEVENT
DTSTART;TZID=Australia/Brisbane:20250528T140000
DTEND;TZID=Australia/Brisbane:20250528T150000
DTSTAMP:20260425T004453
CREATED:20241113T053527Z
LAST-MODIFIED:20241113T053527Z
UID:29136-1748440800-1748444400@nicolejohnston.com.au
SUMMARY:Sherwood | GOLD Belly Dance
DESCRIPTION:Bookings essential. Enjoy gentle dance focused on fitness\, co-ordination\, flexibility\, relaxation and fun. Belly dance provides physical\, emotional and psychological benefits. Suitable for all levels.  Bring a belly dance belt if you have one. \nThis is a GOLD event suitable for seniors. \nBookings essential. To book email Sherwood Neighbourhood Centre. For more information phone 3379 6963.
URL:https://nicolejohnston.com.au/event/sherwood-belly-dance-3/2025-05-28/
LOCATION:Sherwood Neighbourhood Centre\, 38 Thallon Street\, Sherwood\, Queensland\, 4075\, Australia
GEO:-27.53402;152.981098
X-APPLE-STRUCTURED-LOCATION;VALUE=URI;X-ADDRESS=Sherwood Neighbourhood Centre 38 Thallon Street Sherwood Queensland 4075 Australia;X-APPLE-RADIUS=500;X-TITLE=38 Thallon Street:geo:152.981098,-27.53402
END:VEVENT
BEGIN:VEVENT
DTSTART;TZID=Australia/Brisbane:20250528T130000
DTEND;TZID=Australia/Brisbane:20250528T140000
DTSTAMP:20260425T004453
CREATED:20250401T045741Z
LAST-MODIFIED:20250401T045741Z
UID:29530-1748437200-1748440800@nicolejohnston.com.au
SUMMARY:Fairfield Library | Book Chat
DESCRIPTION:In May\, read and discuss Belly Dancing for Beginners by Liz Byrski.
URL:https://nicolejohnston.com.au/event/fairfield-library-book-chat-10/
LOCATION:Fairfield Library\, Fairfield Gardens\, 180 Fairfield Rd\, Fairfield\, Queensland\, 4103\, Australia
GEO:-27.508752;153.025501
X-APPLE-STRUCTURED-LOCATION;VALUE=URI;X-ADDRESS=Fairfield Library Fairfield Gardens 180 Fairfield Rd Fairfield Queensland 4103 Australia;X-APPLE-RADIUS=500;X-TITLE=Fairfield Gardens\, 180 Fairfield Rd:geo:153.025501,-27.508752
END:VEVENT
BEGIN:VEVENT
DTSTART;TZID=Australia/Brisbane:20250528T103000
DTEND;TZID=Australia/Brisbane:20250528T110000
DTSTAMP:20260425T004453
CREATED:20250401T045649Z
LAST-MODIFIED:20250401T045649Z
UID:29528-1748428200-1748430000@nicolejohnston.com.au
SUMMARY:Fairfield Library |  First 5 Forever Toddler Time
DESCRIPTION:Meet other parents and toddlers for a fun session of singing\, clapping and dancing. Learn action rhymes and songs which will help your child’s pre-literacy\, communication\, language and social skills. Ideal for babies and toddlers aged 1-2 years.
URL:https://nicolejohnston.com.au/event/fairfield-library-first-5-forever-toddler-time-29/
LOCATION:Fairfield Library\, Fairfield Gardens\, 180 Fairfield Rd\, Fairfield\, Queensland\, 4103\, Australia
GEO:-27.508752;153.025501
X-APPLE-STRUCTURED-LOCATION;VALUE=URI;X-ADDRESS=Fairfield Library Fairfield Gardens 180 Fairfield Rd Fairfield Queensland 4103 Australia;X-APPLE-RADIUS=500;X-TITLE=Fairfield Gardens\, 180 Fairfield Rd:geo:153.025501,-27.508752
END:VEVENT
BEGIN:VEVENT
DTSTART;TZID=Australia/Brisbane:20250528T093000
DTEND;TZID=Australia/Brisbane:20250528T100000
DTSTAMP:20260425T004453
CREATED:20250401T045545Z
LAST-MODIFIED:20250401T045545Z
UID:29526-1748424600-1748426400@nicolejohnston.com.au
SUMMARY:Fairfield Library | First 5 Forever Babies\, Books and Rhymes
DESCRIPTION:Meet other parents and babies for a fun session of singing\, clapping and dancing. Learn songs and action rhymes to nurture your baby’s pre-literacy\, communication\, language and social skills. Ideal for babies aged up to one year.
URL:https://nicolejohnston.com.au/event/fairfield-library-first-5-forever-babies-books-and-rhymes-35/
LOCATION:Fairfield Library\, Fairfield Gardens\, 180 Fairfield Rd\, Fairfield\, Queensland\, 4103\, Australia
GEO:-27.508752;153.025501
X-APPLE-STRUCTURED-LOCATION;VALUE=URI;X-ADDRESS=Fairfield Library Fairfield Gardens 180 Fairfield Rd Fairfield Queensland 4103 Australia;X-APPLE-RADIUS=500;X-TITLE=Fairfield Gardens\, 180 Fairfield Rd:geo:153.025501,-27.508752
END:VEVENT
BEGIN:VEVENT
DTSTART;TZID=Australia/Brisbane:20250528T083000
DTEND;TZID=Australia/Brisbane:20250528T093000
DTSTAMP:20260425T004453
CREATED:20241113T051229Z
LAST-MODIFIED:20241113T051229Z
UID:29154-1748421000-1748424600@nicolejohnston.com.au
SUMMARY:Yeronga | Yoga for Mobility
DESCRIPTION:A gentle movement class blended with yoga to improve your strength\, balance and posture. No floor work included. Suitable for all fitness levels. \nFor more information phone Cassie from Foxinsox Yoga on 0431 594 388.
URL:https://nicolejohnston.com.au/event/yeronga-yoga-for-mobility/2025-05-28/
LOCATION:John Walker Place\, 323 Brisbane Corso\, Yeronga\, QLD\, 4104\, Australia
END:VEVENT
BEGIN:VEVENT
DTSTART;TZID=Australia/Brisbane:20250527T100000
DTEND;TZID=Australia/Brisbane:20250527T110000
DTSTAMP:20260425T004453
CREATED:20241113T051127Z
LAST-MODIFIED:20241113T051127Z
UID:29119-1748340000-1748343600@nicolejohnston.com.au
SUMMARY:Sherwood | Meditation and Relaxation
DESCRIPTION:Bookings essential. Learn techniques and skills to assist with relaxation and relieve stress in daily life. No prior experience is required. \n\n\nThis is a GOLD event suitable for seniors. \n\n\nTo book email Sherwood Neighbourhood Centre. For more information phone 3379 6963.
URL:https://nicolejohnston.com.au/event/sherwood-meditation-and-relaxation/2025-05-27/
LOCATION:Sherwood Neighbourhood Centre\, 38 Thallon Street\, Sherwood\, Queensland\, 4075\, Australia
GEO:-27.53402;152.981098
X-APPLE-STRUCTURED-LOCATION;VALUE=URI;X-ADDRESS=Sherwood Neighbourhood Centre 38 Thallon Street Sherwood Queensland 4075 Australia;X-APPLE-RADIUS=500;X-TITLE=38 Thallon Street:geo:152.981098,-27.53402
END:VEVENT
BEGIN:VEVENT
DTSTART;TZID=Australia/Brisbane:20250526T110000
DTEND;TZID=Australia/Brisbane:20250526T113000
DTSTAMP:20260425T004453
CREATED:20250401T045343Z
LAST-MODIFIED:20250401T045343Z
UID:29524-1748257200-1748259000@nicolejohnston.com.au
SUMMARY:Annerley Library | First 5 Forever Children's Storytime
DESCRIPTION:Experience the magic of storytime with your child at the library. This interactive session includes stories\, songs and mark making activities for young children. Ideal for children aged 2-5 years.
URL:https://nicolejohnston.com.au/event/annerley-library-first-5-forever-childrens-storytime-27/
LOCATION:Annerley Library\, 469 Ipswich Rd\, Annerley\, Queensland\, 4103\, Australia
GEO:-27.5115338;153.0317863
X-APPLE-STRUCTURED-LOCATION;VALUE=URI;X-ADDRESS=Annerley Library 469 Ipswich Rd Annerley Queensland 4103 Australia;X-APPLE-RADIUS=500;X-TITLE=469 Ipswich Rd:geo:153.0317863,-27.5115338
END:VEVENT
BEGIN:VEVENT
DTSTART;TZID=Australia/Brisbane:20250526T091500
DTEND;TZID=Australia/Brisbane:20250526T094500
DTSTAMP:20260425T004453
CREATED:20250401T045250Z
LAST-MODIFIED:20250401T045250Z
UID:29522-1748250900-1748252700@nicolejohnston.com.au
SUMMARY:Annerley Library |  First 5 Forever Toddler Time
DESCRIPTION:Meet other parents and toddlers for a fun session of singing\, clapping and dancing. Learn action rhymes and songs which will help your child’s pre-literacy\, communication\, language and social skills. Ideal for babies and toddlers aged 1-2 years.
URL:https://nicolejohnston.com.au/event/annerley-library-first-5-forever-toddler-time-32/
LOCATION:Annerley Library\, 469 Ipswich Rd\, Annerley\, Queensland\, 4103\, Australia
GEO:-27.5115338;153.0317863
X-APPLE-STRUCTURED-LOCATION;VALUE=URI;X-ADDRESS=Annerley Library 469 Ipswich Rd Annerley Queensland 4103 Australia;X-APPLE-RADIUS=500;X-TITLE=469 Ipswich Rd:geo:153.0317863,-27.5115338
END:VEVENT
BEGIN:VEVENT
DTSTART;TZID=Australia/Brisbane:20250525T080000
DTEND;TZID=Australia/Brisbane:20250525T090000
DTSTAMP:20260425T004453
CREATED:20250113T034335Z
LAST-MODIFIED:20250113T034335Z
UID:29060-1748160000-1748163600@nicolejohnston.com.au
SUMMARY:Fairfield | GOLD Tai Chi Qigong
DESCRIPTION:This dynamic activity is invigorating and will help you feel relaxed\, refreshed and calm. Rejuvenate your body and learn to create a tranquil mind. Join any week. \nThis is a GOLD event suitable for seniors. Meet near the playground\, off Sydney Street. \nFor more information phone Julian from Australian Academy of Tai Chi on 0439 073 860.
URL:https://nicolejohnston.com.au/event/fairfield-gold-tai-chi-qigong-2/2025-05-25/
LOCATION:Robinson Park\, 221 Fairfield Road\, Fairfield\, Queensland\, 4103\, Australia
GEO:-27.5099948;153.023042
X-APPLE-STRUCTURED-LOCATION;VALUE=URI;X-ADDRESS=Robinson Park 221 Fairfield Road Fairfield Queensland 4103 Australia;X-APPLE-RADIUS=500;X-TITLE=221 Fairfield Road:geo:153.023042,-27.5099948
END:VEVENT
BEGIN:VEVENT
DTSTART;TZID=Australia/Brisbane:20250524T130000
DTEND;TZID=Australia/Brisbane:20250524T140000
DTSTAMP:20260425T004453
CREATED:20241212T005708Z
LAST-MODIFIED:20241212T005708Z
UID:29027-1748091600-1748095200@nicolejohnston.com.au
SUMMARY:Corinda | Deep Water Running
DESCRIPTION:This is an aquatic workout that uses all major muscle groups. Participants wear a buoyancy belt so there’s no need to worry about being in deep water however you do require basic swimming skills. Classes will be held in the outdoor 50m pool. \nFor more information phone or text Aqua English on 0406 063 737.
URL:https://nicolejohnston.com.au/event/corinda-deep-water-running-3/2025-05-24/
LOCATION:Dunlop Park Memorial Pool\, 794 Oxley Rd\, Corinda\, Qld\, 4075\, Australia
GEO:-27.5473096;152.9806407
X-APPLE-STRUCTURED-LOCATION;VALUE=URI;X-ADDRESS=Dunlop Park Memorial Pool 794 Oxley Rd Corinda Qld 4075 Australia;X-APPLE-RADIUS=500;X-TITLE=794 Oxley Rd:geo:152.9806407,-27.5473096
END:VEVENT
BEGIN:VEVENT
DTSTART;TZID=Australia/Brisbane:20250524T110000
DTEND;TZID=Australia/Brisbane:20250524T120000
DTSTAMP:20260425T004453
CREATED:20250113T042246Z
LAST-MODIFIED:20250113T042246Z
UID:29179-1748084400-1748088000@nicolejohnston.com.au
SUMMARY:Yeronga | Deep Water Running
DESCRIPTION:This is an aquatic workout that uses all major muscle groups. Participants wear a buoyancy belt so there’s no need to worry about being in deep water however you do require basic swimming skills. Classes will be held in the outdoor 25m/50m pool. \nThis is an aquatic workout that uses all major muscle groups. Participants wear a buoyancy belt so there’s no need to worry about being in deep water however you do require basic swimming skills. Classes will be held in the outdoor 25m/50m pool. \nAll participants must bring their own buoyancy belt and towel.
URL:https://nicolejohnston.com.au/event/yeronga-deep-water-running-6/2025-05-24/
LOCATION:Yeronga Park Pool\, 81 School Rd\, Yeronga\, Qld\, 4104\, Australia
GEO:-27.5210935;153.019099
X-APPLE-STRUCTURED-LOCATION;VALUE=URI;X-ADDRESS=Yeronga Park Pool 81 School Rd Yeronga Qld 4104 Australia;X-APPLE-RADIUS=500;X-TITLE=81 School Rd:geo:153.019099,-27.5210935
END:VEVENT
BEGIN:VEVENT
DTSTART;TZID=Australia/Brisbane:20250524T090000
DTEND;TZID=Australia/Brisbane:20250524T100000
DTSTAMP:20260425T004453
CREATED:20250516T045928Z
LAST-MODIFIED:20250516T045928Z
UID:29795-1748077200-1748080800@nicolejohnston.com.au
SUMMARY:Chelmer | Staverton Kindergarten Open Day
DESCRIPTION:
URL:https://nicolejohnston.com.au/event/chelmer-staverton-kindergarten-open-day-2/
LOCATION:Staverton Kindergarten\, 43 Twickenham St\, Chelmer\, Queensland\, 4068\, Australia
CATEGORIES:Community Event
ATTACH;FMTTYPE=image/jpeg:https://nicolejohnston.com.au/wp-content/uploads/2025/05/Staverton-Open-Day-2025-Facebook-post.jpg
GEO:-27.516108;152.971398
X-APPLE-STRUCTURED-LOCATION;VALUE=URI;X-ADDRESS=Staverton Kindergarten 43 Twickenham St Chelmer Queensland 4068 Australia;X-APPLE-RADIUS=500;X-TITLE=43 Twickenham St:geo:152.971398,-27.516108
END:VEVENT
BEGIN:VEVENT
DTSTART;TZID=Australia/Brisbane:20250524T070000
DTEND;TZID=Australia/Brisbane:20250524T080000
DTSTAMP:20260425T004453
CREATED:20241113T060545Z
LAST-MODIFIED:20241113T060545Z
UID:28995-1748070000-1748073600@nicolejohnston.com.au
SUMMARY:Annerley | Yoga
DESCRIPTION:Focus on a range of movements to relax the mind and body. Stretching\, breathing\, strength and balance exercises are included by incorporating standing poses and mat work into the session. \nFor more information phone Deanna from Yoga Mind Body Brisbane on 0401 247 328.
URL:https://nicolejohnston.com.au/event/annerley-yoga-9/2025-05-24/
LOCATION:Vallely St Park\, 51 Vallely Street\, Annerley\, QLD\, 4103\, Australia
END:VEVENT
BEGIN:VEVENT
DTSTART;TZID=Australia/Brisbane:20250523T163000
DTEND;TZID=Australia/Brisbane:20250523T173000
DTSTAMP:20260425T004453
CREATED:20250516T043204Z
LAST-MODIFIED:20250516T043204Z
UID:29782-1748017800-1748021400@nicolejohnston.com.au
SUMMARY:Graceville | Obstacle Training Circuit
DESCRIPTION:Join us for an exciting obstacle training circuit! Develop new skills and techniques on the obstacle course while building strength and improving your fitness. It’s a fun and energising session you won’t want to miss. \nNo bookings required.  For more information phone Emma from Centenary Playground on 0419 592 777.
URL:https://nicolejohnston.com.au/event/graceville-obstacle-training-circuit-3/
LOCATION:Graceville Riverside Parklands\, Graceville Avenue\, Graceville\, Queensland\, 4075\, Australia
GEO:-27.5228793;152.9875616
X-APPLE-STRUCTURED-LOCATION;VALUE=URI;X-ADDRESS=Graceville Riverside Parklands Graceville Avenue Graceville Queensland 4075 Australia;X-APPLE-RADIUS=500;X-TITLE=Graceville Avenue:geo:152.9875616,-27.5228793
END:VEVENT
BEGIN:VEVENT
DTSTART;TZID=Australia/Brisbane:20250523T143000
DTEND;TZID=Australia/Brisbane:20250523T160000
DTSTAMP:20260425T004453
CREATED:20250113T035246Z
LAST-MODIFIED:20250113T035246Z
UID:29078-1748010600-1748016000@nicolejohnston.com.au
SUMMARY:Graceville | Beginning Lawn Bowls
DESCRIPTION:An introduction to the sport of lawn bowls. A sport that helps to build leg and core strength\, stability and coordination in a friendly social environment. \nThis is a GOLD event suitable for seniors. \nFor bookings phone or text David on 0407 894 727 or email dschonfe@bigpond.net.au.
URL:https://nicolejohnston.com.au/event/graceville-beginning-lawn-bowls-2/2025-05-23/
LOCATION:Graceville Bowls Club\, 16 Wylie St\, Graceville\, Qld\, 4075\, Australia
END:VEVENT
BEGIN:VEVENT
DTSTART;TZID=Australia/Brisbane:20250523T140000
DTEND;TZID=Australia/Brisbane:20250523T150000
DTSTAMP:20260425T004453
CREATED:20250401T045142Z
LAST-MODIFIED:20250401T045142Z
UID:29520-1748008800-1748012400@nicolejohnston.com.au
SUMMARY:Fairfield Library |  One-On-One Tech Help
DESCRIPTION:Contact Fairfield library to enquire about one-on-one tech assistance to troubleshoot technical issues\, develop digital skills and improve online confidence.
URL:https://nicolejohnston.com.au/event/fairfield-library-one-on-one-tech-help-12/
LOCATION:Fairfield Library\, Fairfield Gardens\, 180 Fairfield Rd\, Fairfield\, Queensland\, 4103\, Australia
GEO:-27.508752;153.025501
X-APPLE-STRUCTURED-LOCATION;VALUE=URI;X-ADDRESS=Fairfield Library Fairfield Gardens 180 Fairfield Rd Fairfield Queensland 4103 Australia;X-APPLE-RADIUS=500;X-TITLE=Fairfield Gardens\, 180 Fairfield Rd:geo:153.025501,-27.508752
END:VEVENT
BEGIN:VEVENT
DTSTART;TZID=Australia/Brisbane:20250523T091500
DTEND;TZID=Australia/Brisbane:20250523T094500
DTSTAMP:20260425T004453
CREATED:20250401T045022Z
LAST-MODIFIED:20250401T045022Z
UID:29518-1747991700-1747993500@nicolejohnston.com.au
SUMMARY:Corinda Library | First 5 Forever Babies\, Books and Rhymes
DESCRIPTION:Meet other parents and babies for a fun session of singing\, clapping and dancing. Learn songs and action rhymes to nurture your baby’s pre-literacy\, communication\, language and social skills. Ideal for babies aged up to one year.
URL:https://nicolejohnston.com.au/event/corinda-library-first-5-forever-babies-books-and-rhymes-32/
LOCATION:Annerley Library\, 469 Ipswich Rd\, Annerley\, Queensland\, 4103\, Australia
GEO:-27.5115338;153.0317863
X-APPLE-STRUCTURED-LOCATION;VALUE=URI;X-ADDRESS=Annerley Library 469 Ipswich Rd Annerley Queensland 4103 Australia;X-APPLE-RADIUS=500;X-TITLE=469 Ipswich Rd:geo:153.0317863,-27.5115338
END:VEVENT
BEGIN:VEVENT
DTSTART;TZID=Australia/Brisbane:20250523T091500
DTEND;TZID=Australia/Brisbane:20250523T094500
DTSTAMP:20260425T004453
CREATED:20250401T044927Z
LAST-MODIFIED:20250401T044927Z
UID:29516-1747991700-1747993500@nicolejohnston.com.au
SUMMARY:Corinda Library | First 5 Forever Babies\, Books and Rhymes
DESCRIPTION:Meet other parents and babies for a fun session of singing\, clapping and dancing. Learn songs and action rhymes to nurture your baby’s pre-literacy\, communication\, language and social skills. Ideal for babies aged up to one year.
URL:https://nicolejohnston.com.au/event/corinda-library-first-5-forever-babies-books-and-rhymes-31/
LOCATION:Corinda Library\, 641 Oxley Road\, Corinda\, Queensland\, 4075\, Australia
GEO:-27.538881;152.98142
X-APPLE-STRUCTURED-LOCATION;VALUE=URI;X-ADDRESS=Corinda Library 641 Oxley Road Corinda Queensland 4075 Australia;X-APPLE-RADIUS=500;X-TITLE=641 Oxley Road:geo:152.98142,-27.538881
END:VEVENT
END:VCALENDAR