BEGIN:VCALENDAR
VERSION:2.0
PRODID:-//Nicole Johnston - ECPv6.15.20//NONSGML v1.0//EN
CALSCALE:GREGORIAN
METHOD:PUBLISH
X-WR-CALNAME:Nicole Johnston
X-ORIGINAL-URL:https://nicolejohnston.com.au
X-WR-CALDESC:Events for Nicole Johnston
REFRESH-INTERVAL;VALUE=DURATION:PT1H
X-Robots-Tag:noindex
X-PUBLISHED-TTL:PT1H
BEGIN:VTIMEZONE
TZID:Australia/Brisbane
BEGIN:STANDARD
TZOFFSETFROM:+1000
TZOFFSETTO:+1000
TZNAME:AEST
DTSTART:20240101T000000
END:STANDARD
END:VTIMEZONE
BEGIN:VEVENT
DTSTART;TZID=Australia/Brisbane:20250801T091500
DTEND;TZID=Australia/Brisbane:20250801T094500
DTSTAMP:20260424T190753
CREATED:20250723T011947Z
LAST-MODIFIED:20250723T011947Z
UID:30287-1754039700-1754041500@nicolejohnston.com.au
SUMMARY:Corinda Library | First 5 Forever Babies\, Books and Rhymes
DESCRIPTION:Meet other parents and babies for a fun session of singing\, clapping and dancing. Learn songs and action rhymes to nurture your baby’s pre-literacy\, communication\, language and social skills. Ideal for babies aged up to one year.
URL:https://nicolejohnston.com.au/event/corinda-library-first-5-forever-babies-books-and-rhymes-42/
LOCATION:Corinda Library\, 641 Oxley Road\, Corinda\, Queensland\, 4075\, Australia
GEO:-27.538881;152.98142
X-APPLE-STRUCTURED-LOCATION;VALUE=URI;X-ADDRESS=Corinda Library 641 Oxley Road Corinda Queensland 4075 Australia;X-APPLE-RADIUS=500;X-TITLE=641 Oxley Road:geo:152.98142,-27.538881
END:VEVENT
BEGIN:VEVENT
DTSTART;TZID=Australia/Brisbane:20250801T091500
DTEND;TZID=Australia/Brisbane:20250801T094500
DTSTAMP:20260424T190753
CREATED:20250724T010844Z
LAST-MODIFIED:20250724T010844Z
UID:30405-1754039700-1754041500@nicolejohnston.com.au
SUMMARY:Annerley Library | First 5 Forever Babies\, Books and Rhymes
DESCRIPTION:Meet other parents and babies for a fun session of singing\, clapping and dancing. Learn songs and action rhymes to nurture your baby’s pre-literacy\, communication\, language and social skills. Ideal for babies aged up to one year.
URL:https://nicolejohnston.com.au/event/annerley-library-first-5-forever-babies-books-and-rhymes-41/
LOCATION:Annerley Library\, 469 Ipswich Rd\, Annerley\, Queensland\, 4103\, Australia
GEO:-27.5115338;153.0317863
X-APPLE-STRUCTURED-LOCATION;VALUE=URI;X-ADDRESS=Annerley Library 469 Ipswich Rd Annerley Queensland 4103 Australia;X-APPLE-RADIUS=500;X-TITLE=469 Ipswich Rd:geo:153.0317863,-27.5115338
END:VEVENT
BEGIN:VEVENT
DTSTART;TZID=Australia/Brisbane:20250801T100000
DTEND;TZID=Australia/Brisbane:20250801T103000
DTSTAMP:20260424T190753
CREATED:20250605T020033Z
LAST-MODIFIED:20250605T020033Z
UID:29965-1754042400-1754044200@nicolejohnston.com.au
SUMMARY:Sherwood | Billy Buddies Ball Sports
DESCRIPTION:This program is designed for kids aged 2-7 and serves as the home of Non-Contact Rugby League for children. At Billy Buddies\, they celebrate all sports not just Rugby League! Their programs focus on fun\, helping kids build social skills while learning the fundamentals of Rugby League and ball sports in general. \nBookings essential. To book visit Billy’s Buddies. For more information email office@billysbuddies.com.au. \nOn the oval\, next to the playground.
URL:https://nicolejohnston.com.au/event/sherwood-billy-buddies-ball-sports-3/
LOCATION:Sherwood Arboretum\, 57 Dewar Terrace\, Sherwood\, Queensland\, 4075\, Australia
GEO:-27.532253;152.977305
X-APPLE-STRUCTURED-LOCATION;VALUE=URI;X-ADDRESS=Sherwood Arboretum 57 Dewar Terrace Sherwood Queensland 4075 Australia;X-APPLE-RADIUS=500;X-TITLE=57 Dewar Terrace:geo:152.977305,-27.532253
END:VEVENT
BEGIN:VEVENT
DTSTART;TZID=Australia/Brisbane:20250801T153000
DTEND;TZID=Australia/Brisbane:20250801T163000
DTSTAMP:20260424T190753
CREATED:20250723T234649Z
LAST-MODIFIED:20250723T234649Z
UID:30335-1754062200-1754065800@nicolejohnston.com.au
SUMMARY:Fairfield Library | Tween STEAM
DESCRIPTION:Join us for an afternoon of games and activities exploring science\, technology\, reading and art. Challenge your thinking and discover your creativity in a fun environment. Ideal for children aged 8-12 years. \nBookings required. Phone Fairfield Library on 07 3403 8615 to reserve your place.
URL:https://nicolejohnston.com.au/event/fairfield-library-tween-steam-5/
LOCATION:Fairfield Library\, Fairfield Gardens\, 180 Fairfield Rd\, Fairfield\, Queensland\, 4103\, Australia
GEO:-27.508752;153.025501
X-APPLE-STRUCTURED-LOCATION;VALUE=URI;X-ADDRESS=Fairfield Library Fairfield Gardens 180 Fairfield Rd Fairfield Queensland 4103 Australia;X-APPLE-RADIUS=500;X-TITLE=Fairfield Gardens\, 180 Fairfield Rd:geo:153.025501,-27.508752
END:VEVENT
BEGIN:VEVENT
DTSTART;TZID=Australia/Brisbane:20250801T163000
DTEND;TZID=Australia/Brisbane:20250801T173000
DTSTAMP:20260424T190753
CREATED:20250605T021149Z
LAST-MODIFIED:20250605T021149Z
UID:29969-1754065800-1754069400@nicolejohnston.com.au
SUMMARY:Graceville | Obstacle Training Circuit
DESCRIPTION:Join us for an exciting obstacle training circuit! Develop new skills and techniques on the obstacle course while building strength and improving your fitness. It’s a fun and energising session you won’t want to miss! Meet at the obstacle course at Simpsons Playground. For ages 12+. \nNo bookings required. For more information phone Emma from Centenary Playground on 0419 592 777.
URL:https://nicolejohnston.com.au/event/graceville-obstacle-training-circuit-8/
LOCATION:Graceville Riverside Parklands\, Graceville Avenue\, Graceville\, Queensland\, 4075\, Australia
GEO:-27.5228793;152.9875616
X-APPLE-STRUCTURED-LOCATION;VALUE=URI;X-ADDRESS=Graceville Riverside Parklands Graceville Avenue Graceville Queensland 4075 Australia;X-APPLE-RADIUS=500;X-TITLE=Graceville Avenue:geo:152.9875616,-27.5228793
END:VEVENT
BEGIN:VEVENT
DTSTART;TZID=Australia/Brisbane:20250802T070000
DTEND;TZID=Australia/Brisbane:20250802T080000
DTSTAMP:20260424T190753
CREATED:20250605T021315Z
LAST-MODIFIED:20250605T021315Z
UID:29971-1754118000-1754121600@nicolejohnston.com.au
SUMMARY:Annerley | Yoga
DESCRIPTION:Focus on a range of movements to relax the mind and body. Stretching\, breathing\, strength and balance exercises are included by incorporating standing poses and mat work into the session. \nNo bookings required. For more information phone Yoga Mind Body Brisbane on 0401 247 328. \nBYO exercise mat\, towel\, two blocks and a yoga strap if you have them.
URL:https://nicolejohnston.com.au/event/annerley-yoga-12/
LOCATION:Vallely St Park\, 51 Vallely Street\, Annerley\, QLD\, 4103\, Australia
END:VEVENT
BEGIN:VEVENT
DTSTART;TZID=Australia/Brisbane:20250802T093000
DTEND;TZID=Australia/Brisbane:20250802T101500
DTSTAMP:20260424T190753
CREATED:20250605T021633Z
LAST-MODIFIED:20250605T021633Z
UID:29973-1754127000-1754129700@nicolejohnston.com.au
SUMMARY:Corinda | Deep Water Running
DESCRIPTION:This is an aquatic workout that uses all major muscle groups. Participants wear a buoyancy belt so there’s no need to worry about being in deep water however you do require basic swimming skills. Classes will be held in the outdoor 50m pool. You must bring your own bouyancy belt for this class. \nNo bookings required. For more information text or phone Marise on 0408 515 128.
URL:https://nicolejohnston.com.au/event/corinda-deep-water-running-6/
LOCATION:Dunlop Park Memorial Pool\, 794 Oxley Rd\, Corinda\, Qld\, 4075\, Australia
GEO:-27.5473096;152.9806407
X-APPLE-STRUCTURED-LOCATION;VALUE=URI;X-ADDRESS=Dunlop Park Memorial Pool 794 Oxley Rd Corinda Qld 4075 Australia;X-APPLE-RADIUS=500;X-TITLE=794 Oxley Rd:geo:152.9806407,-27.5473096
END:VEVENT
BEGIN:VEVENT
DTSTART;TZID=Australia/Brisbane:20250802T104500
DTEND;TZID=Australia/Brisbane:20250802T113000
DTSTAMP:20260424T190753
CREATED:20250605T021759Z
LAST-MODIFIED:20250605T021759Z
UID:29975-1754131500-1754134200@nicolejohnston.com.au
SUMMARY:Yeronga | Deep Water Running
DESCRIPTION:This is an aquatic workout that uses all major muscle groups. Participants wear a buoyancy belt so there’s no need to worry about being in deep water however you do require basic swimming skills. Classes will be held in the outdoor 50m pool. You must bring your own bouyancy belt for this class. \nNo bookings required. For more information text or phone Marise on 0408 515 128.
URL:https://nicolejohnston.com.au/event/yeronga-deep-water-running-9/
LOCATION:Yeronga Park Pool\, 81 School Rd\, Yeronga\, Qld\, 4104\, Australia
GEO:-27.5210935;153.019099
X-APPLE-STRUCTURED-LOCATION;VALUE=URI;X-ADDRESS=Yeronga Park Pool 81 School Rd Yeronga Qld 4104 Australia;X-APPLE-RADIUS=500;X-TITLE=81 School Rd:geo:153.019099,-27.5210935
END:VEVENT
BEGIN:VEVENT
DTSTART;TZID=Australia/Brisbane:20250802T110000
DTEND;TZID=Australia/Brisbane:20250802T113000
DTSTAMP:20260424T190753
CREATED:20250724T010947Z
LAST-MODIFIED:20250724T010947Z
UID:30407-1754132400-1754134200@nicolejohnston.com.au
SUMMARY:Annerley Library | Family STEAM
DESCRIPTION:Join us for a morning of games and activities exploring science\, technology\, reading and art. Ideal for children of all ages and their families. \nBookings required. Phone Annerley Library on 07 3403 1735 to reserve your place.
URL:https://nicolejohnston.com.au/event/annerley-library-family-steam-7/
LOCATION:Annerley Library\, 469 Ipswich Rd\, Annerley\, Queensland\, 4103\, Australia
GEO:-27.5115338;153.0317863
X-APPLE-STRUCTURED-LOCATION;VALUE=URI;X-ADDRESS=Annerley Library 469 Ipswich Rd Annerley Queensland 4103 Australia;X-APPLE-RADIUS=500;X-TITLE=469 Ipswich Rd:geo:153.0317863,-27.5115338
END:VEVENT
BEGIN:VEVENT
DTSTART;TZID=Australia/Brisbane:20250802T110000
DTEND;TZID=Australia/Brisbane:20250802T183000
DTSTAMP:20260424T190753
CREATED:20250604T054431Z
LAST-MODIFIED:20250721T012342Z
UID:29884-1754132400-1754159400@nicolejohnston.com.au
SUMMARY:Graceville | Graceville State School Fair
DESCRIPTION:Bazaar + Cakes 11AM | Food 11.30AM | Rides 12PM – 6PM Fireworks 6.30PM
URL:https://nicolejohnston.com.au/event/graceville-graceville-state-school-fair-2/
LOCATION:Graceville State School\, 23 Acacia Avenue\, Graceville\, Queensland\, 4075\, Australia
CATEGORIES:Community Event
ATTACH;FMTTYPE=image/jpeg:https://nicolejohnston.com.au/wp-content/uploads/2025/06/GSS-Fair-Promo.jpg
GEO:-27.51779;152.979029
X-APPLE-STRUCTURED-LOCATION;VALUE=URI;X-ADDRESS=Graceville State School 23 Acacia Avenue Graceville Queensland 4075 Australia;X-APPLE-RADIUS=500;X-TITLE=23 Acacia Avenue:geo:152.979029,-27.51779
END:VEVENT
BEGIN:VEVENT
DTSTART;TZID=Australia/Brisbane:20250802T163000
DTEND;TZID=Australia/Brisbane:20250802T174000
DTSTAMP:20260424T190753
CREATED:20250721T013057Z
LAST-MODIFIED:20250721T013057Z
UID:30279-1754152200-1754156400@nicolejohnston.com.au
SUMMARY:Woolloongabba | Muses Trio - 10 Years (Anywhere Festival)
DESCRIPTION:
URL:https://nicolejohnston.com.au/event/woolloongabba-muses-trio-10-years-anywhere-festival/2025-08-02/
LOCATION:Brisbane Latvian Hall\, 24 Church Ave\, Woolloongabba\, Queensland\, 4102\, Australia
ATTACH;FMTTYPE=image/png:https://nicolejohnston.com.au/wp-content/uploads/2025/07/Anywhere-festival-Muses-Trio.png
END:VEVENT
BEGIN:VEVENT
DTSTART;TZID=Australia/Brisbane:20250803T080000
DTEND;TZID=Australia/Brisbane:20250803T090000
DTSTAMP:20260424T190753
CREATED:20250605T021921Z
LAST-MODIFIED:20250605T021921Z
UID:29977-1754208000-1754211600@nicolejohnston.com.au
SUMMARY:Fairfield | GOLD Tai Chi Qigong
DESCRIPTION:This dynamic activity is invigorating and will help you feel relaxed\, refreshed and calm. Rejuvenate your body and learn to create a tranquil mind. Join any week. This is a GOLD event suitable for seniors. \nNo bookings required. For more information phone Rod from Australian Academy of Tai Chi on 0400 335 645. \nMeet near the playground\, off Sydney Street.
URL:https://nicolejohnston.com.au/event/fairfield-gold-tai-chi-qigong-5/
LOCATION:Robinson Park\, 221 Fairfield Road\, Fairfield\, Queensland\, 4103\, Australia
GEO:-27.5099948;153.023042
X-APPLE-STRUCTURED-LOCATION;VALUE=URI;X-ADDRESS=Robinson Park 221 Fairfield Road Fairfield Queensland 4103 Australia;X-APPLE-RADIUS=500;X-TITLE=221 Fairfield Road:geo:153.023042,-27.5099948
END:VEVENT
BEGIN:VEVENT
DTSTART;TZID=Australia/Brisbane:20250803T113000
DTEND;TZID=Australia/Brisbane:20250803T133000
DTSTAMP:20260424T190753
CREATED:20250709T235222Z
LAST-MODIFIED:20250714T001339Z
UID:30253-1754220600-1754227800@nicolejohnston.com.au
SUMMARY:Sherwood | Sherwood Neighbourhood Watch Community BBQ
DESCRIPTION:Catch up with your neighbours and local representatives. All welcome to enjoy a sausage sizzle\, lawn games and entertainment. \nThis a free event. A gold coin donation is appreciated.
URL:https://nicolejohnston.com.au/event/sherwood-sherwood-neighbourhood-watch-community-bbq/
LOCATION:Erna Brazier Park\, Cnr Thomas St and Egmont St\, Sherwood\, Queensland\, 4075\, Australia
CATEGORIES:Community Event
ATTACH;FMTTYPE=image/jpeg:https://nicolejohnston.com.au/wp-content/uploads/2025/07/Sherwood-NHW-Newsletter-e1752451904732.jpg
END:VEVENT
BEGIN:VEVENT
DTSTART;TZID=Australia/Brisbane:20250803T150000
DTEND;TZID=Australia/Brisbane:20250803T163000
DTSTAMP:20260424T190753
CREATED:20250605T022104Z
LAST-MODIFIED:20250605T022104Z
UID:29979-1754233200-1754238600@nicolejohnston.com.au
SUMMARY:Graceville | Beginning Lawn Bowls
DESCRIPTION:Try lawn bowls\, a sport that helps to build leg and core strength\, stability and coordination in a friendly social environment. This is a GOLD event suitable for seniors. \nBookings essential. To book phone or text David on 0407 894 727 or email dschonfe@bigpond.net.au.
URL:https://nicolejohnston.com.au/event/graceville-beginning-lawn-bowls-4/
LOCATION:Graceville Bowls Club\, 16 Wylie St\, Graceville\, Qld\, 4075\, Australia
ORGANIZER;CN="Graceville Bowls Club":MAILTO:dschonfe@bigpond.net.au
END:VEVENT
BEGIN:VEVENT
DTSTART;TZID=Australia/Brisbane:20250804T091500
DTEND;TZID=Australia/Brisbane:20250804T094500
DTSTAMP:20260424T190753
CREATED:20250724T011046Z
LAST-MODIFIED:20250724T011046Z
UID:30409-1754298900-1754300700@nicolejohnston.com.au
SUMMARY:Annerley Library | First 5 Forever Toddler Time
DESCRIPTION:Meet other parents and toddlers for a fun session of singing\, clapping and dancing. Learn action rhymes and songs which will help your child’s pre-literacy\, communication\, language and social skills. Ideal for babies and toddlers aged 1-2 years.
URL:https://nicolejohnston.com.au/event/annerley-library-first-5-forever-toddler-time-41/
LOCATION:Annerley Library\, 469 Ipswich Rd\, Annerley\, Queensland\, 4103\, Australia
GEO:-27.5115338;153.0317863
X-APPLE-STRUCTURED-LOCATION;VALUE=URI;X-ADDRESS=Annerley Library 469 Ipswich Rd Annerley Queensland 4103 Australia;X-APPLE-RADIUS=500;X-TITLE=469 Ipswich Rd:geo:153.0317863,-27.5115338
END:VEVENT
BEGIN:VEVENT
DTSTART;TZID=Australia/Brisbane:20250804T100000
DTEND;TZID=Australia/Brisbane:20250804T110000
DTSTAMP:20260424T190753
CREATED:20250605T022325Z
LAST-MODIFIED:20250605T022325Z
UID:29981-1754301600-1754305200@nicolejohnston.com.au
SUMMARY:Sherwood | GOLD Bollywood Fitness
DESCRIPTION:Bollywood inspired dance fitness class suitable for all abilities\, where we laugh\, move and have fun with simple\, enjoyable dance steps together. \nThis is a GOLD event suitable for seniors. \nBookings essential. To book email Sherwood Neighbourhood Centre. For more information phone 07 3369 6963.
URL:https://nicolejohnston.com.au/event/sherwood-gold-bollywood-fitness-4/
LOCATION:Sherwood Neighbourhood Centre\, 38 Thallon Street\, Sherwood\, Queensland\, 4075\, Australia
GEO:-27.53402;152.981098
X-APPLE-STRUCTURED-LOCATION;VALUE=URI;X-ADDRESS=Sherwood Neighbourhood Centre 38 Thallon Street Sherwood Queensland 4075 Australia;X-APPLE-RADIUS=500;X-TITLE=38 Thallon Street:geo:152.981098,-27.53402
END:VEVENT
BEGIN:VEVENT
DTSTART;TZID=Australia/Brisbane:20250804T110000
DTEND;TZID=Australia/Brisbane:20250804T113000
DTSTAMP:20260424T190753
CREATED:20250724T011158Z
LAST-MODIFIED:20250724T011158Z
UID:30411-1754305200-1754307000@nicolejohnston.com.au
SUMMARY:Annerley Library | Aboriginal and Torres Strait Islander Children's Day Storytime
DESCRIPTION:Celebrate Aboriginal and Torres Strait Islander Children’s Day with a First 5 Forever children’s storytime\, as we share stories\, songs\, rhymes and interactive play activities. Ideal for children aged 2–5 years.
URL:https://nicolejohnston.com.au/event/annerley-library-aboriginal-and-torres-strait-islander-childrens-day-storytime/
LOCATION:Annerley Library\, 469 Ipswich Rd\, Annerley\, Queensland\, 4103\, Australia
GEO:-27.5115338;153.0317863
X-APPLE-STRUCTURED-LOCATION;VALUE=URI;X-ADDRESS=Annerley Library 469 Ipswich Rd Annerley Queensland 4103 Australia;X-APPLE-RADIUS=500;X-TITLE=469 Ipswich Rd:geo:153.0317863,-27.5115338
END:VEVENT
BEGIN:VEVENT
DTSTART;TZID=Australia/Brisbane:20250804T111500
DTEND;TZID=Australia/Brisbane:20250804T111500
DTSTAMP:20260424T190753
CREATED:20250605T030704Z
LAST-MODIFIED:20250605T030704Z
UID:29983-1754306100-1754306100@nicolejohnston.com.au
SUMMARY:Sherwood | GOLD Yoga
DESCRIPTION:A supportive class designed to promote active\, healthy aging while calming the mind and body. Enjoy a mix of stretching\, breathing\, strength\, and balance exercises\, incorporating both standing poses and mat work. This gentle session is tailored to meet participants needs\, with no prior experience required. \nThis is a GOLD event suitable for seniors. \nBookings essential. To book email Sherwood Neighbourhood Centre. For more information phone 07 3369 6963.
URL:https://nicolejohnston.com.au/event/sherwood-gold-yoga-4/
LOCATION:Sherwood Neighbourhood Centre\, 38 Thallon Street\, Sherwood\, Queensland\, 4075\, Australia
GEO:-27.53402;152.981098
X-APPLE-STRUCTURED-LOCATION;VALUE=URI;X-ADDRESS=Sherwood Neighbourhood Centre 38 Thallon Street Sherwood Queensland 4075 Australia;X-APPLE-RADIUS=500;X-TITLE=38 Thallon Street:geo:152.981098,-27.53402
END:VEVENT
BEGIN:VEVENT
DTSTART;TZID=Australia/Brisbane:20250805T130000
DTEND;TZID=Australia/Brisbane:20250805T150000
DTSTAMP:20260424T190753
CREATED:20250723T234814Z
LAST-MODIFIED:20250723T234814Z
UID:30337-1754398800-1754406000@nicolejohnston.com.au
SUMMARY:Fairfield Library | Southside Community Craft Circle
DESCRIPTION:This is a craft group that makes items to support the disadvantaged in the community. Please call Elinor on 0481 754 999 for more information.
URL:https://nicolejohnston.com.au/event/fairfield-library-southside-community-craft-circle-11/
LOCATION:Fairfield Library\, Fairfield Gardens\, 180 Fairfield Rd\, Fairfield\, Queensland\, 4103\, Australia
GEO:-27.508752;153.025501
X-APPLE-STRUCTURED-LOCATION;VALUE=URI;X-ADDRESS=Fairfield Library Fairfield Gardens 180 Fairfield Rd Fairfield Queensland 4103 Australia;X-APPLE-RADIUS=500;X-TITLE=Fairfield Gardens\, 180 Fairfield Rd:geo:153.025501,-27.508752
END:VEVENT
BEGIN:VEVENT
DTSTART;TZID=Australia/Brisbane:20250806T083000
DTEND;TZID=Australia/Brisbane:20250806T093000
DTSTAMP:20260424T190753
CREATED:20250605T030846Z
LAST-MODIFIED:20250605T030846Z
UID:29985-1754469000-1754472600@nicolejohnston.com.au
SUMMARY:Yeronga | GOLD Yoga for Mobility
DESCRIPTION:A gentle movement class blended with yoga to improve your strength\, balance and posture. No floor work included. Suitable for all fitness levels. An exercise band is required. \nThis is a GOLD event suitable for seniors. \nNo bookings required. For more information phone Cassie from Foxinsox Yoga on 0431 594 388. \nMeet under the large shady trees opposite Cansdale Street and right of the playground.
URL:https://nicolejohnston.com.au/event/yeronga-gold-yoga-for-mobility-5/
LOCATION:John Walker Place\, 323 Brisbane Corso\, Yeronga\, QLD\, 4104\, Australia
END:VEVENT
BEGIN:VEVENT
DTSTART;TZID=Australia/Brisbane:20250806T093000
DTEND;TZID=Australia/Brisbane:20250806T100000
DTSTAMP:20260424T190753
CREATED:20250723T234907Z
LAST-MODIFIED:20250723T234907Z
UID:30339-1754472600-1754474400@nicolejohnston.com.au
SUMMARY:Fairfield Library | First 5 Forever Babies\, Books\, and Rhymes
DESCRIPTION:Meet other parents and babies for a fun session of singing\, clapping and dancing. Learn songs and action rhymes to nurture your baby’s pre-literacy\, communication\, language and social skills. Ideal for babies aged up to one year.
URL:https://nicolejohnston.com.au/event/fairfield-library-first-5-forever-babies-books-and-rhymes-45/
LOCATION:Fairfield Library\, Fairfield Gardens\, 180 Fairfield Rd\, Fairfield\, Queensland\, 4103\, Australia
GEO:-27.508752;153.025501
X-APPLE-STRUCTURED-LOCATION;VALUE=URI;X-ADDRESS=Fairfield Library Fairfield Gardens 180 Fairfield Rd Fairfield Queensland 4103 Australia;X-APPLE-RADIUS=500;X-TITLE=Fairfield Gardens\, 180 Fairfield Rd:geo:153.025501,-27.508752
END:VEVENT
BEGIN:VEVENT
DTSTART;TZID=Australia/Brisbane:20250806T103000
DTEND;TZID=Australia/Brisbane:20250806T110000
DTSTAMP:20260424T190753
CREATED:20250723T235000Z
LAST-MODIFIED:20250723T235000Z
UID:30341-1754476200-1754478000@nicolejohnston.com.au
SUMMARY:Fairfield Library | First 5 Forever Toddler Time
DESCRIPTION:Meet other parents and toddlers for a fun session of singing\, clapping and dancing. Learn action rhymes and songs which will help your child’s pre-literacy\, communication\, language and social skills. Ideal for babies and toddlers aged 1-2 years.
URL:https://nicolejohnston.com.au/event/fairfield-library-first-5-forever-toddler-time-39/
LOCATION:Fairfield Library\, Fairfield Gardens\, 180 Fairfield Rd\, Fairfield\, Queensland\, 4103\, Australia
GEO:-27.508752;153.025501
X-APPLE-STRUCTURED-LOCATION;VALUE=URI;X-ADDRESS=Fairfield Library Fairfield Gardens 180 Fairfield Rd Fairfield Queensland 4103 Australia;X-APPLE-RADIUS=500;X-TITLE=Fairfield Gardens\, 180 Fairfield Rd:geo:153.025501,-27.508752
END:VEVENT
BEGIN:VEVENT
DTSTART;TZID=Australia/Brisbane:20250806T140000
DTEND;TZID=Australia/Brisbane:20250806T150000
DTSTAMP:20260424T190753
CREATED:20250605T031017Z
LAST-MODIFIED:20250605T031017Z
UID:29987-1754488800-1754492400@nicolejohnston.com.au
SUMMARY:Sherwood | GOLD Belly Dance
DESCRIPTION:Enjoy gentle dance focused on fitness\, coordination\, flexibility\, relaxation and fun. Belly dance provides physical\, emotional and psychological benefits. Suitable for all levels. Bring a belly dance belt if you have one. \nThis is a GOLD event suitable for seniors. \nBookings essential. To book email Sherwood Neighbourhood Centre. For more information phone 07 3369 6963.
URL:https://nicolejohnston.com.au/event/sherwood-gold-belly-dance-4/
LOCATION:Sherwood Neighbourhood Centre\, 38 Thallon Street\, Sherwood\, Queensland\, 4075\, Australia
GEO:-27.53402;152.981098
X-APPLE-STRUCTURED-LOCATION;VALUE=URI;X-ADDRESS=Sherwood Neighbourhood Centre 38 Thallon Street Sherwood Queensland 4075 Australia;X-APPLE-RADIUS=500;X-TITLE=38 Thallon Street:geo:152.981098,-27.53402
END:VEVENT
BEGIN:VEVENT
DTSTART;TZID=Australia/Brisbane:20250807T090000
DTEND;TZID=Australia/Brisbane:20250807T100000
DTSTAMP:20260424T190753
CREATED:20250605T031149Z
LAST-MODIFIED:20250605T031149Z
UID:29989-1754557200-1754560800@nicolejohnston.com.au
SUMMARY:Oxley | Mums and Bubs Yoga
DESCRIPTION:A mum and bubs yoga class to connect with yourself\, your baby and others. Designed to support you post-natally with gentle stretching and strengthening practices and breathing exercises. \nNo bookings required. For more information phone Nichola on 0406 574 454. \nBYO exercise mat.
URL:https://nicolejohnston.com.au/event/oxley-mums-and-bubs-yoga-10/
LOCATION:Nixon Park\, 929 Oxley Road\, OXLEY\, QLD\, 4075\, Australia
GEO:-27.552171;152.9789711
X-APPLE-STRUCTURED-LOCATION;VALUE=URI;X-ADDRESS=Nixon Park 929 Oxley Road OXLEY QLD 4075 Australia;X-APPLE-RADIUS=500;X-TITLE=929 Oxley Road:geo:152.9789711,-27.552171
END:VEVENT
BEGIN:VEVENT
DTSTART;TZID=Australia/Brisbane:20250807T090000
DTEND;TZID=Australia/Brisbane:20250807T100000
DTSTAMP:20260424T190753
CREATED:20250605T031406Z
LAST-MODIFIED:20250605T031406Z
UID:29991-1754557200-1754560800@nicolejohnston.com.au
SUMMARY:Sherwood | Tai Chi Qigong
DESCRIPTION:This dynamic activity is invigorating and will help you feel relaxed\, refreshed and calm. Rejuvenate your body and learn to create a tranquil mind. Join any week. \nNo bookings required. For more information phone Julia from Minds Ease on 0412 362 338. \nMeet at the picnic tables overlooking the river.
URL:https://nicolejohnston.com.au/event/sherwood-tai-chi-qigong-9/
LOCATION:Sherwood Arboretum\, 57 Dewar Terrace\, Sherwood\, Queensland\, 4075\, Australia
GEO:-27.532253;152.977305
X-APPLE-STRUCTURED-LOCATION;VALUE=URI;X-ADDRESS=Sherwood Arboretum 57 Dewar Terrace Sherwood Queensland 4075 Australia;X-APPLE-RADIUS=500;X-TITLE=57 Dewar Terrace:geo:152.977305,-27.532253
END:VEVENT
BEGIN:VEVENT
DTSTART;TZID=Australia/Brisbane:20250807T091500
DTEND;TZID=Australia/Brisbane:20250807T094500
DTSTAMP:20260424T190753
CREATED:20250723T012128Z
LAST-MODIFIED:20250723T012128Z
UID:30289-1754558100-1754559900@nicolejohnston.com.au
SUMMARY:Corinda Library | First 5 Forever Toddler Time
DESCRIPTION:Meet other parents and toddlers for a fun session of singing\, clapping and dancing. Learn action rhymes and songs which will help your child’s pre-literacy\, communication\, language and social skills. Ideal for babies and toddlers aged 1-2 years.
URL:https://nicolejohnston.com.au/event/corinda-library-first-5-forever-toddler-time-43/
LOCATION:Corinda Library\, 641 Oxley Road\, Corinda\, Queensland\, 4075\, Australia
GEO:-27.538881;152.98142
X-APPLE-STRUCTURED-LOCATION;VALUE=URI;X-ADDRESS=Corinda Library 641 Oxley Road Corinda Queensland 4075 Australia;X-APPLE-RADIUS=500;X-TITLE=641 Oxley Road:geo:152.98142,-27.538881
END:VEVENT
BEGIN:VEVENT
DTSTART;TZID=Australia/Brisbane:20250807T130000
DTEND;TZID=Australia/Brisbane:20250807T140000
DTSTAMP:20260424T190753
CREATED:20250605T031538Z
LAST-MODIFIED:20250605T031538Z
UID:29993-1754571600-1754575200@nicolejohnston.com.au
SUMMARY:Corinda | GOLD Aqua Yoga
DESCRIPTION:This is a low impact form of exercise that supports the body while still providing function and movement. Many yoga poses that you do in a class can be adapted for the pool\, sometimes using the pool walls as if it were the studio floor. \nThis is a GOLD event suitable for seniors. \nNo bookings required. For more information phone Nichola on 0406 574 454.
URL:https://nicolejohnston.com.au/event/corinda-gold-aqua-yoga-6/
LOCATION:Dunlop Park Memorial Pool\, 794 Oxley Rd\, Corinda\, Qld\, 4075\, Australia
GEO:-27.5473096;152.9806407
X-APPLE-STRUCTURED-LOCATION;VALUE=URI;X-ADDRESS=Dunlop Park Memorial Pool 794 Oxley Rd Corinda Qld 4075 Australia;X-APPLE-RADIUS=500;X-TITLE=794 Oxley Rd:geo:152.9806407,-27.5473096
END:VEVENT
BEGIN:VEVENT
DTSTART;TZID=Australia/Brisbane:20250807T170000
DTEND;TZID=Australia/Brisbane:20250807T180000
DTSTAMP:20260424T190753
CREATED:20250723T235108Z
LAST-MODIFIED:20250723T235108Z
UID:30343-1754586000-1754589600@nicolejohnston.com.au
SUMMARY:Fairfield Library | Chess Club
DESCRIPTION:Play chess in a fun and friendly atmosphere. Practise against others of similar ages or seek tougher challenges if desired\, focusing on improving skills by having fun. Ideal for those aged 6–15 years.
URL:https://nicolejohnston.com.au/event/fairfield-library-chess-club-5/
LOCATION:Fairfield Library\, Fairfield Gardens\, 180 Fairfield Rd\, Fairfield\, Queensland\, 4103\, Australia
GEO:-27.508752;153.025501
X-APPLE-STRUCTURED-LOCATION;VALUE=URI;X-ADDRESS=Fairfield Library Fairfield Gardens 180 Fairfield Rd Fairfield Queensland 4103 Australia;X-APPLE-RADIUS=500;X-TITLE=Fairfield Gardens\, 180 Fairfield Rd:geo:153.025501,-27.508752
END:VEVENT
BEGIN:VEVENT
DTSTART;TZID=Australia/Brisbane:20250808T091500
DTEND;TZID=Australia/Brisbane:20250808T094500
DTSTAMP:20260424T190753
CREATED:20250723T012443Z
LAST-MODIFIED:20250723T012443Z
UID:30291-1754644500-1754646300@nicolejohnston.com.au
SUMMARY:Corinda Library | First 5 Forever Babies\, Books and Rhymes
DESCRIPTION:Meet other parents and babies for a fun session of singing\, clapping and dancing. Learn songs and action rhymes to nurture your baby’s pre-literacy\, communication\, language and social skills. Ideal for babies aged up to one year.
URL:https://nicolejohnston.com.au/event/corinda-library-first-5-forever-babies-books-and-rhymes-43/
LOCATION:Corinda Library\, 641 Oxley Road\, Corinda\, Queensland\, 4075\, Australia
GEO:-27.538881;152.98142
X-APPLE-STRUCTURED-LOCATION;VALUE=URI;X-ADDRESS=Corinda Library 641 Oxley Road Corinda Queensland 4075 Australia;X-APPLE-RADIUS=500;X-TITLE=641 Oxley Road:geo:152.98142,-27.538881
END:VEVENT
BEGIN:VEVENT
DTSTART;TZID=Australia/Brisbane:20250808T091500
DTEND;TZID=Australia/Brisbane:20250808T094500
DTSTAMP:20260424T190753
CREATED:20250724T011259Z
LAST-MODIFIED:20250724T011259Z
UID:30413-1754644500-1754646300@nicolejohnston.com.au
SUMMARY:Annerley Library | First 5 Forever Babies\, Books and Rhymes
DESCRIPTION:Meet other parents and babies for a fun session of singing\, clapping and dancing. Learn songs and action rhymes to nurture your baby’s pre-literacy\, communication\, language and social skills. Ideal for babies aged up to one year.
URL:https://nicolejohnston.com.au/event/annerley-library-first-5-forever-babies-books-and-rhymes-42/
LOCATION:Annerley Library\, 469 Ipswich Rd\, Annerley\, Queensland\, 4103\, Australia
GEO:-27.5115338;153.0317863
X-APPLE-STRUCTURED-LOCATION;VALUE=URI;X-ADDRESS=Annerley Library 469 Ipswich Rd Annerley Queensland 4103 Australia;X-APPLE-RADIUS=500;X-TITLE=469 Ipswich Rd:geo:153.0317863,-27.5115338
END:VEVENT
END:VCALENDAR