BEGIN:VCALENDAR
VERSION:2.0
PRODID:-//Nicole Johnston - ECPv6.15.20//NONSGML v1.0//EN
CALSCALE:GREGORIAN
METHOD:PUBLISH
X-ORIGINAL-URL:https://nicolejohnston.com.au
X-WR-CALDESC:Events for Nicole Johnston
REFRESH-INTERVAL;VALUE=DURATION:PT1H
X-Robots-Tag:noindex
X-PUBLISHED-TTL:PT1H
BEGIN:VTIMEZONE
TZID:Australia/Brisbane
BEGIN:STANDARD
TZOFFSETFROM:+1000
TZOFFSETTO:+1000
TZNAME:AEST
DTSTART:20230101T000000
END:STANDARD
END:VTIMEZONE
BEGIN:VEVENT
DTSTART;TZID=Australia/Brisbane:20241201T080000
DTEND;TZID=Australia/Brisbane:20241201T090000
DTSTAMP:20260425T104249
CREATED:20240619T064723Z
LAST-MODIFIED:20240619T064723Z
UID:27454-1733040000-1733043600@nicolejohnston.com.au
SUMMARY:Fairfield | GOLD Tai Chi Qigong
DESCRIPTION:This dynamic activity is invigorating and will help you feel relaxed\, refreshed and calm. Rejuvenate your body and learn to create a tranquil mind. Join any week. \nThis is a GOLD event suitable for seniors. For more information phone Julian from Australian Academy of Tai Chi on 0439 073 860.
URL:https://nicolejohnston.com.au/event/fairfield-gold-tai-chi-qigong/2024-12-01/
LOCATION:Robinson Park\, 221 Fairfield Road\, Fairfield\, Queensland\, 4103\, Australia
GEO:-27.5099948;153.023042
X-APPLE-STRUCTURED-LOCATION;VALUE=URI;X-ADDRESS=Robinson Park 221 Fairfield Road Fairfield Queensland 4103 Australia;X-APPLE-RADIUS=500;X-TITLE=221 Fairfield Road:geo:153.023042,-27.5099948
END:VEVENT
BEGIN:VEVENT
DTSTART;TZID=Australia/Brisbane:20241202T090000
DTEND;TZID=Australia/Brisbane:20241202T123000
DTSTAMP:20260425T104249
CREATED:20240820T022027Z
LAST-MODIFIED:20240820T022027Z
UID:27984-1733130000-1733142600@nicolejohnston.com.au
SUMMARY:Sherwood | Art by Exercising and Inspiration
DESCRIPTION:Join us for stretch routines and walks in the nearby park to stimulate creativity and invigorate your senses. Afterwards create art with acrylic on canvas alongside a qualified artist. \nThis is a GOLD event suitable for seniors. \nBookings essential. To book email Sherwood Neighbourhood Centre. For more information phone 07 3379 6963.
URL:https://nicolejohnston.com.au/event/sherwood-art-by-exercising-and-inspiration/
LOCATION:Sherwood Neighbourhood Centre\, 38 Thallon Street\, Sherwood\, Queensland\, 4075\, Australia
GEO:-27.53402;152.981098
X-APPLE-STRUCTURED-LOCATION;VALUE=URI;X-ADDRESS=Sherwood Neighbourhood Centre 38 Thallon Street Sherwood Queensland 4075 Australia;X-APPLE-RADIUS=500;X-TITLE=38 Thallon Street:geo:152.981098,-27.53402
END:VEVENT
BEGIN:VEVENT
DTSTART;TZID=Australia/Brisbane:20241202T090000
DTEND;TZID=Australia/Brisbane:20241202T123000
DTSTAMP:20260425T104249
CREATED:20241113T010714Z
LAST-MODIFIED:20241113T010714Z
UID:28415-1733130000-1733142600@nicolejohnston.com.au
SUMMARY:Sherwood | Art by Exercising and Inspiration
DESCRIPTION:Bookings essential. Join us for stretch routines and walks in the nearby park to stimulate creativity and invigorate your senses. Afterwards create art with acrylic on canvas alongside a qualified artist. \nThis is a GOLD event suitable for seniors. \nBookings essential. To book email Sherwood Neighbourhood Centre. For more information phone 07 3379 6963.
URL:https://nicolejohnston.com.au/event/sherwood-art-by-exercising-and-inspiration-2/
LOCATION:Sherwood Neighbourhood Centre\, 38 Thallon Street\, Sherwood\, Queensland\, 4075\, Australia
GEO:-27.53402;152.981098
X-APPLE-STRUCTURED-LOCATION;VALUE=URI;X-ADDRESS=Sherwood Neighbourhood Centre 38 Thallon Street Sherwood Queensland 4075 Australia;X-APPLE-RADIUS=500;X-TITLE=38 Thallon Street:geo:152.981098,-27.53402
END:VEVENT
BEGIN:VEVENT
DTSTART;TZID=Australia/Brisbane:20241202T091500
DTEND;TZID=Australia/Brisbane:20241202T094500
DTSTAMP:20260425T104249
CREATED:20241113T011936Z
LAST-MODIFIED:20241113T011936Z
UID:28434-1733130900-1733132700@nicolejohnston.com.au
SUMMARY:Annerley Library |  First 5 Forever Toddler Time
DESCRIPTION:Meet other parents and toddlers for a fun session of singing\, clapping and dancing. Learn action rhymes and songs which will help your child’s pre-literacy\, communication\, language and social skills. Ideal for babies and toddlers aged 1-2 years.
URL:https://nicolejohnston.com.au/event/annerley-library-first-5-forever-toddler-time-10/
LOCATION:Annerley Library\, 469 Ipswich Rd\, Annerley\, Queensland\, 4103\, Australia
GEO:-27.5115338;153.0317863
X-APPLE-STRUCTURED-LOCATION;VALUE=URI;X-ADDRESS=Annerley Library 469 Ipswich Rd Annerley Queensland 4103 Australia;X-APPLE-RADIUS=500;X-TITLE=469 Ipswich Rd:geo:153.0317863,-27.5115338
END:VEVENT
BEGIN:VEVENT
DTSTART;TZID=Australia/Brisbane:20241202T110000
DTEND;TZID=Australia/Brisbane:20241202T113000
DTSTAMP:20260425T104249
CREATED:20241113T012042Z
LAST-MODIFIED:20241113T012042Z
UID:28436-1733137200-1733139000@nicolejohnston.com.au
SUMMARY:Annerley Library | First 5 Forever Children's Storytime
DESCRIPTION:Experience the magic of storytime with your child at the library. This interactive session includes stories\, songs and mark making activities for young children. Ideal for children aged 2-5 years.
URL:https://nicolejohnston.com.au/event/annerley-library-first-5-forever-childrens-storytime-8/
LOCATION:Annerley Library\, 469 Ipswich Rd\, Annerley\, Queensland\, 4103\, Australia
GEO:-27.5115338;153.0317863
X-APPLE-STRUCTURED-LOCATION;VALUE=URI;X-ADDRESS=Annerley Library 469 Ipswich Rd Annerley Queensland 4103 Australia;X-APPLE-RADIUS=500;X-TITLE=469 Ipswich Rd:geo:153.0317863,-27.5115338
END:VEVENT
BEGIN:VEVENT
DTSTART;TZID=Australia/Brisbane:20241203T100000
DTEND;TZID=Australia/Brisbane:20241203T110000
DTSTAMP:20260425T104249
CREATED:20240820T020956Z
LAST-MODIFIED:20240820T020956Z
UID:27964-1733220000-1733223600@nicolejohnston.com.au
SUMMARY:Sherwood | GOLD Meditation and Relaxation
DESCRIPTION:Learn techniques and skills to assist with relaxation and relieve stress in daily life. No prior experience is required. \nThis is a GOLD event suitable for seniors. Bring an exercise mat and pillow. \nBookings essential. To book email Sherwood Neighbourhood Centre. For more information phone 3379 6963.
URL:https://nicolejohnston.com.au/event/sherwood-gold-meditation-and-relaxation/2024-12-03/
LOCATION:Sherwood Neighbourhood Centre\, 38 Thallon Street\, Sherwood\, Queensland\, 4075\, Australia
GEO:-27.53402;152.981098
X-APPLE-STRUCTURED-LOCATION;VALUE=URI;X-ADDRESS=Sherwood Neighbourhood Centre 38 Thallon Street Sherwood Queensland 4075 Australia;X-APPLE-RADIUS=500;X-TITLE=38 Thallon Street:geo:152.981098,-27.53402
END:VEVENT
BEGIN:VEVENT
DTSTART;TZID=Australia/Brisbane:20241204T083000
DTEND;TZID=Australia/Brisbane:20241204T093000
DTSTAMP:20260425T104249
CREATED:20240624T031622Z
LAST-MODIFIED:20240624T031622Z
UID:27495-1733301000-1733304600@nicolejohnston.com.au
SUMMARY:Yeronga | GOLD Yoga for Mobility
DESCRIPTION:A gentle movement class blended with yoga to improve your strength\, balance and posture. No floor work included. Suitable for all fitness levels. Bring an exercise band. \nNo bookings required. For more information phone Cassie from Foxinsox Yoga on 0431 594 388.
URL:https://nicolejohnston.com.au/event/yeronga-gold-yoga-for-mobility/2024-12-04/
LOCATION:John Walker Place\, 323 Brisbane Corso\, Yeronga\, QLD\, 4104\, Australia
END:VEVENT
BEGIN:VEVENT
DTSTART;TZID=Australia/Brisbane:20241204T091500
DTEND;TZID=Australia/Brisbane:20241204T094500
DTSTAMP:20260425T104249
CREATED:20240909T064807Z
LAST-MODIFIED:20240909T064807Z
UID:28187-1733303700-1733305500@nicolejohnston.com.au
SUMMARY:Corinda Library | First 5 Forever Toddler Time
DESCRIPTION:Meet other parents and toddlers for a fun session of singing\, clapping and dancing. Learn action rhymes and songs which will help your child’s pre-literacy\, communication\, language and social skills. Ideal for babies and toddlers aged 1-2 years.
URL:https://nicolejohnston.com.au/event/corinda-library-first-5-forever-toddler-time-8/
LOCATION:Corinda Library\, 641 Oxley Road\, Corinda\, Queensland\, 4075\, Australia
GEO:-27.538881;152.98142
X-APPLE-STRUCTURED-LOCATION;VALUE=URI;X-ADDRESS=Corinda Library 641 Oxley Road Corinda Queensland 4075 Australia;X-APPLE-RADIUS=500;X-TITLE=641 Oxley Road:geo:152.98142,-27.538881
END:VEVENT
BEGIN:VEVENT
DTSTART;TZID=Australia/Brisbane:20241204T093000
DTEND;TZID=Australia/Brisbane:20241204T100000
DTSTAMP:20260425T104249
CREATED:20241113T012146Z
LAST-MODIFIED:20241113T012146Z
UID:28438-1733304600-1733306400@nicolejohnston.com.au
SUMMARY:Fairfield Library | First 5 Forever Babies\, Books and Rhymes
DESCRIPTION:Meet other parents and babies for a fun session of singing\, clapping and dancing. Learn songs and action rhymes to nurture your baby’s pre-literacy\, communication\, language and social skills. Ideal for babies aged up to one year.
URL:https://nicolejohnston.com.au/event/fairfield-library-first-5-forever-babies-books-and-rhymes-13/
LOCATION:Fairfield Library\, Fairfield Gardens\, 180 Fairfield Rd\, Fairfield\, Queensland\, 4103\, Australia
GEO:-27.508752;153.025501
X-APPLE-STRUCTURED-LOCATION;VALUE=URI;X-ADDRESS=Fairfield Library Fairfield Gardens 180 Fairfield Rd Fairfield Queensland 4103 Australia;X-APPLE-RADIUS=500;X-TITLE=Fairfield Gardens\, 180 Fairfield Rd:geo:153.025501,-27.508752
END:VEVENT
BEGIN:VEVENT
DTSTART;TZID=Australia/Brisbane:20241204T103000
DTEND;TZID=Australia/Brisbane:20241204T110000
DTSTAMP:20260425T104249
CREATED:20241113T012251Z
LAST-MODIFIED:20241113T012251Z
UID:28440-1733308200-1733310000@nicolejohnston.com.au
SUMMARY:Fairfield Library |  First 5 Forever Toddler Time
DESCRIPTION:Meet other parents and toddlers for a fun session of singing\, clapping and dancing. Learn action rhymes and songs which will help your child’s pre-literacy\, communication\, language and social skills. Ideal for babies and toddlers aged 1-2 years.
URL:https://nicolejohnston.com.au/event/fairfield-library-first-5-forever-toddler-time-7/
LOCATION:Fairfield Library\, Fairfield Gardens\, 180 Fairfield Rd\, Fairfield\, Queensland\, 4103\, Australia
GEO:-27.508752;153.025501
X-APPLE-STRUCTURED-LOCATION;VALUE=URI;X-ADDRESS=Fairfield Library Fairfield Gardens 180 Fairfield Rd Fairfield Queensland 4103 Australia;X-APPLE-RADIUS=500;X-TITLE=Fairfield Gardens\, 180 Fairfield Rd:geo:153.025501,-27.508752
END:VEVENT
BEGIN:VEVENT
DTSTART;TZID=Australia/Brisbane:20241204T140000
DTEND;TZID=Australia/Brisbane:20241204T150000
DTSTAMP:20260425T104249
CREATED:20240820T020533Z
LAST-MODIFIED:20240820T021108Z
UID:27950-1733320800-1733324400@nicolejohnston.com.au
SUMMARY:Sherwood | GOLD Belly Dance
DESCRIPTION:Enjoy gentle dance focused on fitness\, co-ordination\, flexibility\, relaxation and fun. Belly dance provides physical\, emotional and psychological benefits. Suitable for all levels.  Bring a belly dance belt if you have one. \nThis is a GOLD event suitable for seniors. \nBookings essential. To book email Sherwood Neighbourhood Centre. For more information phone 3379 6963.
URL:https://nicolejohnston.com.au/event/sherwood-belly-dance-2/2024-12-04/
LOCATION:Sherwood Neighbourhood Centre\, 38 Thallon Street\, Sherwood\, Queensland\, 4075\, Australia
GEO:-27.53402;152.981098
X-APPLE-STRUCTURED-LOCATION;VALUE=URI;X-ADDRESS=Sherwood Neighbourhood Centre 38 Thallon Street Sherwood Queensland 4075 Australia;X-APPLE-RADIUS=500;X-TITLE=38 Thallon Street:geo:152.981098,-27.53402
END:VEVENT
BEGIN:VEVENT
DTSTART;TZID=Australia/Brisbane:20241205T090000
DTEND;TZID=Australia/Brisbane:20241205T100000
DTSTAMP:20260425T104249
CREATED:20241113T012400Z
LAST-MODIFIED:20241113T012400Z
UID:28442-1733389200-1733392800@nicolejohnston.com.au
SUMMARY:Sherwood | Tai Chi Qigong
DESCRIPTION:This dynamic activity is invigorating and will help you feel relaxed\, refreshed and calm. Rejuvenate your body and learn to create a tranquil mind. Join any week. \nFor more information phone Julia from Minds Ease on 0412 362 338.
URL:https://nicolejohnston.com.au/event/sherwood-tai-chi-qigong-4/
LOCATION:Sherwood Arboretum\, 57 Dewar Terrace\, Sherwood\, Queensland\, 4075\, Australia
GEO:-27.532253;152.977305
X-APPLE-STRUCTURED-LOCATION;VALUE=URI;X-ADDRESS=Sherwood Arboretum 57 Dewar Terrace Sherwood Queensland 4075 Australia;X-APPLE-RADIUS=500;X-TITLE=57 Dewar Terrace:geo:152.977305,-27.532253
END:VEVENT
BEGIN:VEVENT
DTSTART;TZID=Australia/Brisbane:20241205T090000
DTEND;TZID=Australia/Brisbane:20241205T100000
DTSTAMP:20260425T104249
CREATED:20241113T012503Z
LAST-MODIFIED:20241113T012503Z
UID:28444-1733389200-1733392800@nicolejohnston.com.au
SUMMARY:Oxley | Mums and Bubs Yoga
DESCRIPTION:A mum and bubs yoga class to connect with yourself\, your baby and others. Designed to support you post-natally\, gentle stretching and strengthening practices\, breathing exercises\, meditation. \nFor more information phone Nichola on 0406 574 454.
URL:https://nicolejohnston.com.au/event/oxley-mums-and-bubs-yoga-4/
LOCATION:Nixon Park\, 929 Oxley Road\, OXLEY\, QLD\, 4075\, Australia
GEO:-27.552171;152.9789711
X-APPLE-STRUCTURED-LOCATION;VALUE=URI;X-ADDRESS=Nixon Park 929 Oxley Road OXLEY QLD 4075 Australia;X-APPLE-RADIUS=500;X-TITLE=929 Oxley Road:geo:152.9789711,-27.552171
END:VEVENT
BEGIN:VEVENT
DTSTART;TZID=Australia/Brisbane:20241205T091500
DTEND;TZID=Australia/Brisbane:20241205T094500
DTSTAMP:20260425T104249
CREATED:20241113T012612Z
LAST-MODIFIED:20241113T012612Z
UID:28446-1733390100-1733391900@nicolejohnston.com.au
SUMMARY:Corinda Library |  First 5 Forever Toddler Time
DESCRIPTION:Meet other parents and toddlers for a fun session of singing\, clapping and dancing. Learn action rhymes and songs which will help your child’s pre-literacy\, communication\, language and social skills. Ideal for babies and toddlers aged 1-2 years.
URL:https://nicolejohnston.com.au/event/corinda-library-first-5-forever-toddler-time-9/
LOCATION:Corinda Library\, 641 Oxley Road\, Corinda\, Queensland\, 4075\, Australia
GEO:-27.538881;152.98142
X-APPLE-STRUCTURED-LOCATION;VALUE=URI;X-ADDRESS=Corinda Library 641 Oxley Road Corinda Queensland 4075 Australia;X-APPLE-RADIUS=500;X-TITLE=641 Oxley Road:geo:152.98142,-27.538881
END:VEVENT
BEGIN:VEVENT
DTSTART;TZID=Australia/Brisbane:20241205T130000
DTEND;TZID=Australia/Brisbane:20241205T140000
DTSTAMP:20260425T104249
CREATED:20241113T013138Z
LAST-MODIFIED:20241113T013138Z
UID:28448-1733403600-1733407200@nicolejohnston.com.au
SUMMARY:Corinda | GOLD Aqua Yoga
DESCRIPTION:This is a low impact form of exercise that supports the body while still providing function and movement. Many yoga poses that you do in a class can be adapted for the pool\, sometimes using the pool walls as if it were the studio floor. \nThis is a GOLD event suitable for seniors. \nFor more information phone Nichola on 0406 574 454.
URL:https://nicolejohnston.com.au/event/corinda-gold-aqua-yoga-2/
LOCATION:Dunlop Park Memorial Pool\, 794 Oxley Rd\, Corinda\, Qld\, 4075\, Australia
GEO:-27.5473096;152.9806407
X-APPLE-STRUCTURED-LOCATION;VALUE=URI;X-ADDRESS=Dunlop Park Memorial Pool 794 Oxley Rd Corinda Qld 4075 Australia;X-APPLE-RADIUS=500;X-TITLE=794 Oxley Rd:geo:152.9806407,-27.5473096
END:VEVENT
BEGIN:VEVENT
DTSTART;TZID=Australia/Brisbane:20241205T153000
DTEND;TZID=Australia/Brisbane:20241205T163000
DTSTAMP:20260425T104249
CREATED:20241113T005148Z
LAST-MODIFIED:20241113T005148Z
UID:28404-1733412600-1733416200@nicolejohnston.com.au
SUMMARY:Corinda Library | Family STEAM
DESCRIPTION:Join us for an afternoon of games and activities exploring science\, technology\, reading and art. Each month there will be different activities to challenge your thinking and bring out your creative side in a fun environment. Ideal for children aged 7-12 years. \nBookings required. Phone Corinda Library on 07 3407 7701 to reserve your place.
URL:https://nicolejohnston.com.au/event/corinda-library-family-steam/
LOCATION:Corinda Library\, 641 Oxley Road\, Corinda\, Queensland\, 4075\, Australia
GEO:-27.538881;152.98142
X-APPLE-STRUCTURED-LOCATION;VALUE=URI;X-ADDRESS=Corinda Library 641 Oxley Road Corinda Queensland 4075 Australia;X-APPLE-RADIUS=500;X-TITLE=641 Oxley Road:geo:152.98142,-27.538881
END:VEVENT
BEGIN:VEVENT
DTSTART;TZID=Australia/Brisbane:20241205T153000
DTEND;TZID=Australia/Brisbane:20241205T163000
DTSTAMP:20260425T104249
CREATED:20241113T013503Z
LAST-MODIFIED:20241113T013503Z
UID:28450-1733412600-1733416200@nicolejohnston.com.au
SUMMARY:Corinda Library | Family STEAM
DESCRIPTION:Join us for an afternoon of games and activities exploring science\, technology\, reading and art. Each month there will be different activities to challenge your thinking and bring out your creative side in a fun environment. Ideal for children aged 7-12 years. \nPhone Corinda Library on 07 3407 7701 to reserve your place.
URL:https://nicolejohnston.com.au/event/corinda-library-family-steam-2/
LOCATION:Corinda Library\, 641 Oxley Road\, Corinda\, Queensland\, 4075\, Australia
GEO:-27.538881;152.98142
X-APPLE-STRUCTURED-LOCATION;VALUE=URI;X-ADDRESS=Corinda Library 641 Oxley Road Corinda Queensland 4075 Australia;X-APPLE-RADIUS=500;X-TITLE=641 Oxley Road:geo:152.98142,-27.538881
END:VEVENT
BEGIN:VEVENT
DTSTART;TZID=Australia/Brisbane:20241205T190000
DTEND;TZID=Australia/Brisbane:20241205T210000
DTSTAMP:20260425T104249
CREATED:20241205T053945Z
LAST-MODIFIED:20241205T053946Z
UID:28628-1733425200-1733432400@nicolejohnston.com.au
SUMMARY:Graceville | Community Christmas Light Display
DESCRIPTION:
URL:https://nicolejohnston.com.au/event/graceville-community-christmas-light-display/2024-12-05/
LOCATION:Graceville Uniting Church\, 215 Oxley Rd\, Graceville\, Qld\, 4075\, Australia
CATEGORIES:Community Event
ATTACH;FMTTYPE=image/jpeg:https://nicolejohnston.com.au/wp-content/uploads/2024/12/Graceville-Uniting-Church-Christmas-Lights-Display.jpg
ORGANIZER;CN="Graceville Central Uniting Church":MAILTO:GracevilleCentralUC@gmail.com
GEO:-27.5206728;152.9790538
X-APPLE-STRUCTURED-LOCATION;VALUE=URI;X-ADDRESS=Graceville Uniting Church 215 Oxley Rd Graceville Qld 4075 Australia;X-APPLE-RADIUS=500;X-TITLE=215 Oxley Rd:geo:152.9790538,-27.5206728
END:VEVENT
BEGIN:VEVENT
DTSTART;TZID=Australia/Brisbane:20241206T091500
DTEND;TZID=Australia/Brisbane:20241206T094500
DTSTAMP:20260425T104249
CREATED:20240909T065024Z
LAST-MODIFIED:20240909T065024Z
UID:28189-1733476500-1733478300@nicolejohnston.com.au
SUMMARY:Corinda Library | First 5 Forever Babies\, Books and Rhymes
DESCRIPTION:Meet other parents and babies for a fun session of singing\, clapping and dancing. Learn songs and action rhymes to nurture your baby’s pre-literacy\, communication\, language and social skills. Ideal for babies aged up to one year.
URL:https://nicolejohnston.com.au/event/corinda-library-first-5-forever-babies-books-and-rhymes-9/
LOCATION:Corinda Library\, 641 Oxley Road\, Corinda\, Queensland\, 4075\, Australia
GEO:-27.538881;152.98142
X-APPLE-STRUCTURED-LOCATION;VALUE=URI;X-ADDRESS=Corinda Library 641 Oxley Road Corinda Queensland 4075 Australia;X-APPLE-RADIUS=500;X-TITLE=641 Oxley Road:geo:152.98142,-27.538881
END:VEVENT
BEGIN:VEVENT
DTSTART;TZID=Australia/Brisbane:20241206T091500
DTEND;TZID=Australia/Brisbane:20241206T094500
DTSTAMP:20260425T104249
CREATED:20241113T013616Z
LAST-MODIFIED:20241113T013616Z
UID:28452-1733476500-1733478300@nicolejohnston.com.au
SUMMARY:Annerley Library | First 5 Forever Babies\, Books and Rhymes
DESCRIPTION:Meet other parents and babies for a fun session of singing\, clapping and dancing. Learn songs and action rhymes to nurture your baby’s pre-literacy\, communication\, language and social skills. Ideal for babies aged up to one year.
URL:https://nicolejohnston.com.au/event/annerley-library-first-5-forever-babies-books-and-rhymes-11/
LOCATION:Annerley Library\, 469 Ipswich Rd\, Annerley\, Queensland\, 4103\, Australia
GEO:-27.5115338;153.0317863
X-APPLE-STRUCTURED-LOCATION;VALUE=URI;X-ADDRESS=Annerley Library 469 Ipswich Rd Annerley Queensland 4103 Australia;X-APPLE-RADIUS=500;X-TITLE=469 Ipswich Rd:geo:153.0317863,-27.5115338
END:VEVENT
BEGIN:VEVENT
DTSTART;TZID=Australia/Brisbane:20241206T163000
DTEND;TZID=Australia/Brisbane:20241206T210000
DTSTAMP:20260425T104249
CREATED:20241028T033636Z
LAST-MODIFIED:20241205T044539Z
UID:28377-1733502600-1733518800@nicolejohnston.com.au
SUMMARY:Sherwood | St Matthew's Christmas Twilight Market
DESCRIPTION:
URL:https://nicolejohnston.com.au/event/sherwood-st-matthews-christmas-twilight-market/
LOCATION:St Matthew’s Anglican Church Sherwood\, 648-650 Sherwood Rd\, Sherwood\, Qld\, 4075\, Australia
CATEGORIES:Community Event
ATTACH;FMTTYPE=image/png:https://nicolejohnston.com.au/wp-content/uploads/2024/10/St-Matthews-Sherwood-Christmas-Market.png
END:VEVENT
BEGIN:VEVENT
DTSTART;TZID=Australia/Brisbane:20241206T190000
DTEND;TZID=Australia/Brisbane:20241206T210000
DTSTAMP:20260425T104249
CREATED:20241205T053945Z
LAST-MODIFIED:20241205T053945Z
UID:28632-1733511600-1733518800@nicolejohnston.com.au
SUMMARY:Graceville | Community Christmas Light Display
DESCRIPTION:
URL:https://nicolejohnston.com.au/event/graceville-community-christmas-light-display/2024-12-06/
LOCATION:Graceville Uniting Church\, 215 Oxley Rd\, Graceville\, Qld\, 4075\, Australia
CATEGORIES:Community Event
ATTACH;FMTTYPE=image/jpeg:https://nicolejohnston.com.au/wp-content/uploads/2024/12/Graceville-Uniting-Church-Christmas-Lights-Display.jpg
ORGANIZER;CN="Graceville Central Uniting Church":MAILTO:GracevilleCentralUC@gmail.com
GEO:-27.5206728;152.9790538
X-APPLE-STRUCTURED-LOCATION;VALUE=URI;X-ADDRESS=Graceville Uniting Church 215 Oxley Rd Graceville Qld 4075 Australia;X-APPLE-RADIUS=500;X-TITLE=215 Oxley Rd:geo:152.9790538,-27.5206728
END:VEVENT
BEGIN:VEVENT
DTSTART;TZID=Australia/Brisbane:20241207T070000
DTEND;TZID=Australia/Brisbane:20241207T080000
DTSTAMP:20260425T104249
CREATED:20241113T013731Z
LAST-MODIFIED:20241113T013731Z
UID:28454-1733554800-1733558400@nicolejohnston.com.au
SUMMARY:Annerley | Yoga
DESCRIPTION:Focus on a range of movements to relax the mind and body. Stretching\, breathing\, strength and balance exercises are included by incorporating standing poses and mat work into the session. \nFor more information phone Deanna from Yoga Mind Body Brisbane on 0401 247 328.
URL:https://nicolejohnston.com.au/event/annerley-yoga-8/
LOCATION:Vallely St Park\, 51 Vallely Street\, Annerley\, QLD\, 4103\, Australia
END:VEVENT
BEGIN:VEVENT
DTSTART;TZID=Australia/Brisbane:20241207T104500
DTEND;TZID=Australia/Brisbane:20241207T113000
DTSTAMP:20260425T104249
CREATED:20240820T014540Z
LAST-MODIFIED:20240820T014540Z
UID:27913-1733568300-1733571000@nicolejohnston.com.au
SUMMARY:Yeronga | Aqua Aerobics
DESCRIPTION:Experience an excellent\, low-impact cross-training workout in the water. Feel the benefits of exercise without the pain. Using minimum impact movements\, participants will develop strength\, mobility and movement in a fun environment. This class will be conducted in the outdoor 25m/50m pool.
URL:https://nicolejohnston.com.au/event/yeronga-aqua-aerobics-3/2024-12-07/
LOCATION:Yeronga Park Pool\, 81 School Rd\, Yeronga\, Qld\, 4104\, Australia
ORGANIZER;CN="Aqua English":MAILTO:info@aquaenglish.com.au
GEO:-27.5210935;153.019099
X-APPLE-STRUCTURED-LOCATION;VALUE=URI;X-ADDRESS=Yeronga Park Pool 81 School Rd Yeronga Qld 4104 Australia;X-APPLE-RADIUS=500;X-TITLE=81 School Rd:geo:153.019099,-27.5210935
END:VEVENT
BEGIN:VEVENT
DTSTART;TZID=Australia/Brisbane:20241207T110000
DTEND;TZID=Australia/Brisbane:20241207T113000
DTSTAMP:20260425T104249
CREATED:20241113T005244Z
LAST-MODIFIED:20241113T005244Z
UID:28406-1733569200-1733571000@nicolejohnston.com.au
SUMMARY:Annerley Library | Family STEAM Morning
DESCRIPTION:Join us for a morning of games and activities exploring science\, technology\, reading and art. Enjoy different activities to challenge your thinking and bring out your creative side in a fun environment. Ideal for all ages. \nBookings required. Phone Annerley Library on 07 3403 1735 to reserve your place.
URL:https://nicolejohnston.com.au/event/annerley-library-family-steam-morning-2/
LOCATION:Annerley Library\, 469 Ipswich Rd\, Annerley\, Queensland\, 4103\, Australia
GEO:-27.5115338;153.0317863
X-APPLE-STRUCTURED-LOCATION;VALUE=URI;X-ADDRESS=Annerley Library 469 Ipswich Rd Annerley Queensland 4103 Australia;X-APPLE-RADIUS=500;X-TITLE=469 Ipswich Rd:geo:153.0317863,-27.5115338
END:VEVENT
BEGIN:VEVENT
DTSTART;TZID=Australia/Brisbane:20241207T110000
DTEND;TZID=Australia/Brisbane:20241207T113000
DTSTAMP:20260425T104249
CREATED:20241113T014110Z
LAST-MODIFIED:20241113T014110Z
UID:28456-1733569200-1733571000@nicolejohnston.com.au
SUMMARY:Annerley Library | Family STEAM Morning
DESCRIPTION:Join us for a morning of games and activities exploring science\, technology\, reading and art. Enjoy different activities to challenge your thinking and bring out your creative side in a fun environment. Ideal for all ages. \nBookings required. Phone Annerley Library on 07 3403 1735 to reserve your place.
URL:https://nicolejohnston.com.au/event/annerley-library-family-steam-morning-3/
LOCATION:Annerley Library\, 469 Ipswich Rd\, Annerley\, Queensland\, 4103\, Australia
GEO:-27.5115338;153.0317863
X-APPLE-STRUCTURED-LOCATION;VALUE=URI;X-ADDRESS=Annerley Library 469 Ipswich Rd Annerley Queensland 4103 Australia;X-APPLE-RADIUS=500;X-TITLE=469 Ipswich Rd:geo:153.0317863,-27.5115338
END:VEVENT
BEGIN:VEVENT
DTSTART;TZID=Australia/Brisbane:20241207T120000
DTEND;TZID=Australia/Brisbane:20241207T124500
DTSTAMP:20260425T104249
CREATED:20240820T015347Z
LAST-MODIFIED:20240820T015347Z
UID:27935-1733572800-1733575500@nicolejohnston.com.au
SUMMARY:Corinda | Aqua Aerobics
DESCRIPTION:Experience an excellent\, low-impact cross-training workout in the water. Feel the benefits of exercise without the pain. Using minimum impact movements\, participants will develop strength\, mobility and movement in a fun environment. This class will be conducted in the outdoor 25m/50m pool.
URL:https://nicolejohnston.com.au/event/corinda-aqua-aerobics/2024-12-07/
LOCATION:Dunlop Park Memorial Pool\, 794 Oxley Rd\, Corinda\, Qld\, 4075\, Australia
ORGANIZER;CN="Aqua English":MAILTO:info@aquaenglish.com.au
GEO:-27.5473096;152.9806407
X-APPLE-STRUCTURED-LOCATION;VALUE=URI;X-ADDRESS=Dunlop Park Memorial Pool 794 Oxley Rd Corinda Qld 4075 Australia;X-APPLE-RADIUS=500;X-TITLE=794 Oxley Rd:geo:152.9806407,-27.5473096
END:VEVENT
BEGIN:VEVENT
DTSTART;TZID=Australia/Brisbane:20241207T130000
DTEND;TZID=Australia/Brisbane:20241207T140000
DTSTAMP:20260425T104249
CREATED:20240820T014859Z
LAST-MODIFIED:20240820T014859Z
UID:27924-1733576400-1733580000@nicolejohnston.com.au
SUMMARY:Corinda | Deep Water Running
DESCRIPTION:This is an aquatic workout that uses all major muscle groups. Participants wear a buoyancy belt so there’s no need to worry about being in deep water however you do require basic swimming skills. Classes will be held in the outdoor 50m pool. \nBring a buoyancy belt and towel.
URL:https://nicolejohnston.com.au/event/corinda-deep-water-running-2/2024-12-07/
LOCATION:Dunlop Park Memorial Pool\, 794 Oxley Rd\, Corinda\, Qld\, 4075\, Australia
ORGANIZER;CN="Aqua English":MAILTO:info@aquaenglish.com.au
GEO:-27.5473096;152.9806407
X-APPLE-STRUCTURED-LOCATION;VALUE=URI;X-ADDRESS=Dunlop Park Memorial Pool 794 Oxley Rd Corinda Qld 4075 Australia;X-APPLE-RADIUS=500;X-TITLE=794 Oxley Rd:geo:152.9806407,-27.5473096
END:VEVENT
BEGIN:VEVENT
DTSTART;TZID=Australia/Brisbane:20241207T143000
DTEND;TZID=Australia/Brisbane:20241207T153000
DTSTAMP:20260425T104249
CREATED:20240820T014223Z
LAST-MODIFIED:20240820T014223Z
UID:27902-1733581800-1733585400@nicolejohnston.com.au
SUMMARY:Yeronga | Deep Water Running
DESCRIPTION:This is an aquatic workout that uses all major muscle groups. Participants wear a buoyancy belt so there’s no need to worry about being in deep water however you do require basic swimming skills. Classes will be held in the outdoor 25m/50m pool. \nAll participants must bring their own buoyancy belt and towel.
URL:https://nicolejohnston.com.au/event/yeronga-deep-water-running-4/2024-12-07/
LOCATION:Yeronga Park Pool\, 81 School Rd\, Yeronga\, Qld\, 4104\, Australia
ORGANIZER;CN="Aqua English":MAILTO:info@aquaenglish.com.au
GEO:-27.5210935;153.019099
X-APPLE-STRUCTURED-LOCATION;VALUE=URI;X-ADDRESS=Yeronga Park Pool 81 School Rd Yeronga Qld 4104 Australia;X-APPLE-RADIUS=500;X-TITLE=81 School Rd:geo:153.019099,-27.5210935
END:VEVENT
BEGIN:VEVENT
DTSTART;TZID=Australia/Brisbane:20241207T190000
DTEND;TZID=Australia/Brisbane:20241207T210000
DTSTAMP:20260425T104249
CREATED:20241205T053945Z
LAST-MODIFIED:20241205T053945Z
UID:28633-1733598000-1733605200@nicolejohnston.com.au
SUMMARY:Graceville | Community Christmas Light Display
DESCRIPTION:
URL:https://nicolejohnston.com.au/event/graceville-community-christmas-light-display/2024-12-07/
LOCATION:Graceville Uniting Church\, 215 Oxley Rd\, Graceville\, Qld\, 4075\, Australia
CATEGORIES:Community Event
ATTACH;FMTTYPE=image/jpeg:https://nicolejohnston.com.au/wp-content/uploads/2024/12/Graceville-Uniting-Church-Christmas-Lights-Display.jpg
ORGANIZER;CN="Graceville Central Uniting Church":MAILTO:GracevilleCentralUC@gmail.com
GEO:-27.5206728;152.9790538
X-APPLE-STRUCTURED-LOCATION;VALUE=URI;X-ADDRESS=Graceville Uniting Church 215 Oxley Rd Graceville Qld 4075 Australia;X-APPLE-RADIUS=500;X-TITLE=215 Oxley Rd:geo:152.9790538,-27.5206728
END:VEVENT
END:VCALENDAR