BEGIN:VCALENDAR
VERSION:2.0
PRODID:-//Nicole Johnston - ECPv6.15.20//NONSGML v1.0//EN
CALSCALE:GREGORIAN
METHOD:PUBLISH
X-WR-CALNAME:Nicole Johnston
X-ORIGINAL-URL:https://nicolejohnston.com.au
X-WR-CALDESC:Events for Nicole Johnston
REFRESH-INTERVAL;VALUE=DURATION:PT1H
X-Robots-Tag:noindex
X-PUBLISHED-TTL:PT1H
BEGIN:VTIMEZONE
TZID:Australia/Brisbane
BEGIN:STANDARD
TZOFFSETFROM:+1000
TZOFFSETTO:+1000
TZNAME:AEST
DTSTART:20230101T000000
END:STANDARD
END:VTIMEZONE
BEGIN:VEVENT
DTSTART;TZID=Australia/Brisbane:20241005T120000
DTEND;TZID=Australia/Brisbane:20241005T124500
DTSTAMP:20260426T112618
CREATED:20240820T015347Z
LAST-MODIFIED:20240820T015348Z
UID:27925-1728129600-1728132300@nicolejohnston.com.au
SUMMARY:Corinda | Aqua Aerobics
DESCRIPTION:Experience an excellent\, low-impact cross-training workout in the water. Feel the benefits of exercise without the pain. Using minimum impact movements\, participants will develop strength\, mobility and movement in a fun environment. This class will be conducted in the outdoor 25m/50m pool.
URL:https://nicolejohnston.com.au/event/corinda-aqua-aerobics/2024-10-05/
LOCATION:Dunlop Park Memorial Pool\, 794 Oxley Rd\, Corinda\, Qld\, 4075\, Australia
ORGANIZER;CN="Aqua English":MAILTO:info@aquaenglish.com.au
GEO:-27.5473096;152.9806407
X-APPLE-STRUCTURED-LOCATION;VALUE=URI;X-ADDRESS=Dunlop Park Memorial Pool 794 Oxley Rd Corinda Qld 4075 Australia;X-APPLE-RADIUS=500;X-TITLE=794 Oxley Rd:geo:152.9806407,-27.5473096
END:VEVENT
BEGIN:VEVENT
DTSTART;TZID=Australia/Brisbane:20241005T130000
DTEND;TZID=Australia/Brisbane:20241005T140000
DTSTAMP:20260426T112618
CREATED:20240820T014859Z
LAST-MODIFIED:20240820T014900Z
UID:27914-1728133200-1728136800@nicolejohnston.com.au
SUMMARY:Corinda | Deep Water Running
DESCRIPTION:This is an aquatic workout that uses all major muscle groups. Participants wear a buoyancy belt so there’s no need to worry about being in deep water however you do require basic swimming skills. Classes will be held in the outdoor 50m pool. \nBring a buoyancy belt and towel.
URL:https://nicolejohnston.com.au/event/corinda-deep-water-running-2/2024-10-05/
LOCATION:Dunlop Park Memorial Pool\, 794 Oxley Rd\, Corinda\, Qld\, 4075\, Australia
ORGANIZER;CN="Aqua English":MAILTO:info@aquaenglish.com.au
GEO:-27.5473096;152.9806407
X-APPLE-STRUCTURED-LOCATION;VALUE=URI;X-ADDRESS=Dunlop Park Memorial Pool 794 Oxley Rd Corinda Qld 4075 Australia;X-APPLE-RADIUS=500;X-TITLE=794 Oxley Rd:geo:152.9806407,-27.5473096
END:VEVENT
BEGIN:VEVENT
DTSTART;TZID=Australia/Brisbane:20241005T143000
DTEND;TZID=Australia/Brisbane:20241005T153000
DTSTAMP:20260426T112618
CREATED:20240820T014223Z
LAST-MODIFIED:20240820T014224Z
UID:27889-1728138600-1728142200@nicolejohnston.com.au
SUMMARY:Yeronga | Deep Water Running
DESCRIPTION:This is an aquatic workout that uses all major muscle groups. Participants wear a buoyancy belt so there’s no need to worry about being in deep water however you do require basic swimming skills. Classes will be held in the outdoor 25m/50m pool. \nAll participants must bring their own buoyancy belt and towel.
URL:https://nicolejohnston.com.au/event/yeronga-deep-water-running-4/2024-10-05/
LOCATION:Yeronga Park Pool\, 81 School Rd\, Yeronga\, Qld\, 4104\, Australia
ORGANIZER;CN="Aqua English":MAILTO:info@aquaenglish.com.au
GEO:-27.5210935;153.019099
X-APPLE-STRUCTURED-LOCATION;VALUE=URI;X-ADDRESS=Yeronga Park Pool 81 School Rd Yeronga Qld 4104 Australia;X-APPLE-RADIUS=500;X-TITLE=81 School Rd:geo:153.019099,-27.5210935
END:VEVENT
BEGIN:VEVENT
DTSTART;TZID=Australia/Brisbane:20241006T080000
DTEND;TZID=Australia/Brisbane:20241006T090000
DTSTAMP:20260426T112618
CREATED:20240619T064723Z
LAST-MODIFIED:20240619T064723Z
UID:27445-1728201600-1728205200@nicolejohnston.com.au
SUMMARY:Fairfield | GOLD Tai Chi Qigong
DESCRIPTION:This dynamic activity is invigorating and will help you feel relaxed\, refreshed and calm. Rejuvenate your body and learn to create a tranquil mind. Join any week. \nThis is a GOLD event suitable for seniors. For more information phone Julian from Australian Academy of Tai Chi on 0439 073 860.
URL:https://nicolejohnston.com.au/event/fairfield-gold-tai-chi-qigong/2024-10-06/
LOCATION:Robinson Park\, 221 Fairfield Road\, Fairfield\, Queensland\, 4103\, Australia
GEO:-27.5099948;153.023042
X-APPLE-STRUCTURED-LOCATION;VALUE=URI;X-ADDRESS=Robinson Park 221 Fairfield Road Fairfield Queensland 4103 Australia;X-APPLE-RADIUS=500;X-TITLE=221 Fairfield Road:geo:153.023042,-27.5099948
END:VEVENT
BEGIN:VEVENT
DTSTART;TZID=Australia/Brisbane:20241008T100000
DTEND;TZID=Australia/Brisbane:20241008T110000
DTSTAMP:20260426T112618
CREATED:20240820T020956Z
LAST-MODIFIED:20240820T020956Z
UID:27956-1728381600-1728385200@nicolejohnston.com.au
SUMMARY:Sherwood | GOLD Meditation and Relaxation
DESCRIPTION:Learn techniques and skills to assist with relaxation and relieve stress in daily life. No prior experience is required. \nThis is a GOLD event suitable for seniors. Bring an exercise mat and pillow. \nBookings essential. To book email Sherwood Neighbourhood Centre. For more information phone 3379 6963.
URL:https://nicolejohnston.com.au/event/sherwood-gold-meditation-and-relaxation/2024-10-08/
LOCATION:Sherwood Neighbourhood Centre\, 38 Thallon Street\, Sherwood\, Queensland\, 4075\, Australia
GEO:-27.53402;152.981098
X-APPLE-STRUCTURED-LOCATION;VALUE=URI;X-ADDRESS=Sherwood Neighbourhood Centre 38 Thallon Street Sherwood Queensland 4075 Australia;X-APPLE-RADIUS=500;X-TITLE=38 Thallon Street:geo:152.981098,-27.53402
END:VEVENT
BEGIN:VEVENT
DTSTART;TZID=Australia/Brisbane:20241008T110000
DTEND;TZID=Australia/Brisbane:20241008T120000
DTSTAMP:20260426T112618
CREATED:20240909T043351Z
LAST-MODIFIED:20240909T044151Z
UID:28092-1728385200-1728388800@nicolejohnston.com.au
SUMMARY:Annerley Library | Mental Health Week: Mindfulness Colouring for Adults
DESCRIPTION:Setting aside time to do mindful colouring can unveil a whole new way for adults to relax and focus while boosting wellbeing and reducing stress and anxiety. Come and join us for a relaxing morning of colouring. Ideal for adults. \nBookings required. Phone Annerley Library on 07 3403 1735 to reserve your place.
URL:https://nicolejohnston.com.au/event/annerley-mental-health-week-mindfulness-colouring-for-adults/
LOCATION:Annerley Library\, 469 Ipswich Rd\, Annerley\, Queensland\, 4103\, Australia
GEO:-27.5115338;153.0317863
X-APPLE-STRUCTURED-LOCATION;VALUE=URI;X-ADDRESS=Annerley Library 469 Ipswich Rd Annerley Queensland 4103 Australia;X-APPLE-RADIUS=500;X-TITLE=469 Ipswich Rd:geo:153.0317863,-27.5115338
END:VEVENT
BEGIN:VEVENT
DTSTART;TZID=Australia/Brisbane:20241009T083000
DTEND;TZID=Australia/Brisbane:20241009T093000
DTSTAMP:20260426T112618
CREATED:20240624T031622Z
LAST-MODIFIED:20240624T031622Z
UID:27486-1728462600-1728466200@nicolejohnston.com.au
SUMMARY:Yeronga | GOLD Yoga for Mobility
DESCRIPTION:A gentle movement class blended with yoga to improve your strength\, balance and posture. No floor work included. Suitable for all fitness levels. Bring an exercise band. \nNo bookings required. For more information phone Cassie from Foxinsox Yoga on 0431 594 388.
URL:https://nicolejohnston.com.au/event/yeronga-gold-yoga-for-mobility/2024-10-09/
LOCATION:John Walker Place\, 323 Brisbane Corso\, Yeronga\, QLD\, 4104\, Australia
END:VEVENT
BEGIN:VEVENT
DTSTART;TZID=Australia/Brisbane:20241009T091500
DTEND;TZID=Australia/Brisbane:20241009T094500
DTSTAMP:20260426T112618
CREATED:20240909T043606Z
LAST-MODIFIED:20240909T043959Z
UID:28094-1728465300-1728467100@nicolejohnston.com.au
SUMMARY:Corinda Library | Toddler Time
DESCRIPTION:Meet other parents and toddlers for a fun session of singing\, clapping and dancing. Learn action rhymes and songs which will help your child’s pre-literacy\, communication\, language and social skills. Ideal for babies and toddlers aged 1-2 years.
URL:https://nicolejohnston.com.au/event/corinda-toddler-time-4/
LOCATION:Corinda Library\, 641 Oxley Road\, Corinda\, Queensland\, 4075\, Australia
GEO:-27.538881;152.98142
X-APPLE-STRUCTURED-LOCATION;VALUE=URI;X-ADDRESS=Corinda Library 641 Oxley Road Corinda Queensland 4075 Australia;X-APPLE-RADIUS=500;X-TITLE=641 Oxley Road:geo:152.98142,-27.538881
END:VEVENT
BEGIN:VEVENT
DTSTART;TZID=Australia/Brisbane:20241009T140000
DTEND;TZID=Australia/Brisbane:20241009T150000
DTSTAMP:20260426T112618
CREATED:20240820T020533Z
LAST-MODIFIED:20240820T021040Z
UID:27942-1728482400-1728486000@nicolejohnston.com.au
SUMMARY:Sherwood | GOLD Belly Dance
DESCRIPTION:Enjoy gentle dance focused on fitness\, co-ordination\, flexibility\, relaxation and fun. Belly dance provides physical\, emotional and psychological benefits. Suitable for all levels.  Bring a belly dance belt if you have one. \nThis is a GOLD event suitable for seniors. \nBookings essential. To book email Sherwood Neighbourhood Centre. For more information phone 3379 6963.
URL:https://nicolejohnston.com.au/event/sherwood-belly-dance-2/2024-10-09/
LOCATION:Sherwood Neighbourhood Centre\, 38 Thallon Street\, Sherwood\, Queensland\, 4075\, Australia
GEO:-27.53402;152.981098
X-APPLE-STRUCTURED-LOCATION;VALUE=URI;X-ADDRESS=Sherwood Neighbourhood Centre 38 Thallon Street Sherwood Queensland 4075 Australia;X-APPLE-RADIUS=500;X-TITLE=38 Thallon Street:geo:152.981098,-27.53402
END:VEVENT
BEGIN:VEVENT
DTSTART;TZID=Australia/Brisbane:20241010T090000
DTEND;TZID=Australia/Brisbane:20241010T100000
DTSTAMP:20260426T112618
CREATED:20240619T064304Z
LAST-MODIFIED:20240619T064304Z
UID:27430-1728550800-1728554400@nicolejohnston.com.au
SUMMARY:Sherwood | Tai Chi Qigong
DESCRIPTION:This dynamic activity is invigorating and will help you feel relaxed\, refreshed and calm. Rejuvenate your body and learn to create a tranquil mind. Join any week. \nFor more information phone Julia from Minds Ease on 0412 362 338.
URL:https://nicolejohnston.com.au/event/sherwood-tai-chi-qigong-2/2024-10-10/
LOCATION:Sherwood Arboretum\, 57 Dewar Terrace\, Sherwood\, Queensland\, 4075\, Australia
GEO:-27.532253;152.977305
X-APPLE-STRUCTURED-LOCATION;VALUE=URI;X-ADDRESS=Sherwood Arboretum 57 Dewar Terrace Sherwood Queensland 4075 Australia;X-APPLE-RADIUS=500;X-TITLE=57 Dewar Terrace:geo:152.977305,-27.532253
END:VEVENT
BEGIN:VEVENT
DTSTART;TZID=Australia/Brisbane:20241010T090000
DTEND;TZID=Australia/Brisbane:20241010T100000
DTSTAMP:20260426T112618
CREATED:20240624T030353Z
LAST-MODIFIED:20240624T030353Z
UID:27468-1728550800-1728554400@nicolejohnston.com.au
SUMMARY:Oxley | Mums and Bubs Yoga
DESCRIPTION:A mum and bubs yoga class to connect with yourself\, your baby and others. Designed to support you post-natally\, gentle stretching and strengthening practices\, breathing exercises\, meditation.
URL:https://nicolejohnston.com.au/event/oxley-mums-and-bubs-yoga-2/2024-10-10/
LOCATION:Nixon Park\, 929 Oxley Road\, OXLEY\, QLD\, 4075\, Australia
GEO:-27.552171;152.9789711
X-APPLE-STRUCTURED-LOCATION;VALUE=URI;X-ADDRESS=Nixon Park 929 Oxley Road OXLEY QLD 4075 Australia;X-APPLE-RADIUS=500;X-TITLE=929 Oxley Road:geo:152.9789711,-27.552171
END:VEVENT
BEGIN:VEVENT
DTSTART;TZID=Australia/Brisbane:20241010T103000
DTEND;TZID=Australia/Brisbane:20241010T113000
DTSTAMP:20260426T112618
CREATED:20240909T043732Z
LAST-MODIFIED:20240909T044116Z
UID:28096-1728556200-1728559800@nicolejohnston.com.au
SUMMARY:Corinda Library | Mental Health Week: Disconnect to Connect
DESCRIPTION:Screen-free activities can be one way of boosting your mental wellbeing. Get together with other locals for some unplugged time in the library at this cosy colouring and origami event for adults. \nBookings required. Phone Corinda Library on 07 3407 7701 to reserve your place.
URL:https://nicolejohnston.com.au/event/corinda-mental-health-week-disconnect-to-connect/
LOCATION:Corinda Library\, 641 Oxley Road\, Corinda\, Queensland\, 4075\, Australia
GEO:-27.538881;152.98142
X-APPLE-STRUCTURED-LOCATION;VALUE=URI;X-ADDRESS=Corinda Library 641 Oxley Road Corinda Queensland 4075 Australia;X-APPLE-RADIUS=500;X-TITLE=641 Oxley Road:geo:152.98142,-27.538881
END:VEVENT
BEGIN:VEVENT
DTSTART;TZID=Australia/Brisbane:20241010T130000
DTEND;TZID=Australia/Brisbane:20241010T140000
DTSTAMP:20260426T112618
CREATED:20240624T044757Z
LAST-MODIFIED:20240624T044757Z
UID:27519-1728565200-1728568800@nicolejohnston.com.au
SUMMARY:Corinda | Aqua Yoga
DESCRIPTION:This is a low impact form of exercise that supports the body while still providing function and movement. Many yoga poses that you do in a class can be adapted for the pool\, sometimes using the pool walls as if it were the studio floor. \nNo bookings required. For more information phone Nichola on 0406 574 454.
URL:https://nicolejohnston.com.au/event/corinda-aqua-yoga-4/2024-10-10/
LOCATION:Dunlop Park Memorial Pool\, 794 Oxley Rd\, Corinda\, Qld\, 4075\, Australia
GEO:-27.5473096;152.9806407
X-APPLE-STRUCTURED-LOCATION;VALUE=URI;X-ADDRESS=Dunlop Park Memorial Pool 794 Oxley Rd Corinda Qld 4075 Australia;X-APPLE-RADIUS=500;X-TITLE=794 Oxley Rd:geo:152.9806407,-27.5473096
END:VEVENT
BEGIN:VEVENT
DTSTART;TZID=Australia/Brisbane:20241011T091500
DTEND;TZID=Australia/Brisbane:20241011T094500
DTSTAMP:20260426T112618
CREATED:20240909T044345Z
LAST-MODIFIED:20240909T044345Z
UID:28105-1728638100-1728639900@nicolejohnston.com.au
SUMMARY:Annerley Library |  First 5 Forever Babies\, Books and Rhymes
DESCRIPTION:Meet other parents and babies for a fun session of singing\, clapping and dancing. Learn songs and action rhymes to nurture your baby’s pre-literacy\, communication\, language and social skills. Ideal for babies aged up to one year. First 5 Forever is an initiative of the Queensland Government\, coordinated by State Library of Queensland and delivered in partnership with local government
URL:https://nicolejohnston.com.au/event/annerley-library-first-5-forever-babies-books-and-rhymes-3/
LOCATION:Annerley Library\, 469 Ipswich Rd\, Annerley\, Queensland\, 4103\, Australia
GEO:-27.5115338;153.0317863
X-APPLE-STRUCTURED-LOCATION;VALUE=URI;X-ADDRESS=Annerley Library 469 Ipswich Rd Annerley Queensland 4103 Australia;X-APPLE-RADIUS=500;X-TITLE=469 Ipswich Rd:geo:153.0317863,-27.5115338
END:VEVENT
BEGIN:VEVENT
DTSTART;TZID=Australia/Brisbane:20241011T091500
DTEND;TZID=Australia/Brisbane:20241011T094500
DTSTAMP:20260426T112618
CREATED:20240909T044735Z
LAST-MODIFIED:20240909T044735Z
UID:28107-1728638100-1728639900@nicolejohnston.com.au
SUMMARY:Corinda Library | First 5 Forever Babies\, Books and Rhymes
DESCRIPTION:Meet other parents and babies for a fun session of singing\, clapping and dancing. Learn songs and action rhymes to nurture your baby’s pre-literacy\, communication\, language and social skills. Ideal for babies aged up to one year. First 5 Forever is an initiative of the Queensland Government\, coordinated by State Library of Queensland and delivered in partnership with local government.
URL:https://nicolejohnston.com.au/event/corinda-library-first-5-forever-babies-books-and-rhymes-3/
LOCATION:Corinda Library\, 641 Oxley Road\, Corinda\, Queensland\, 4075\, Australia
GEO:-27.538881;152.98142
X-APPLE-STRUCTURED-LOCATION;VALUE=URI;X-ADDRESS=Corinda Library 641 Oxley Road Corinda Queensland 4075 Australia;X-APPLE-RADIUS=500;X-TITLE=641 Oxley Road:geo:152.98142,-27.538881
END:VEVENT
BEGIN:VEVENT
DTSTART;TZID=Australia/Brisbane:20241012T070000
DTEND;TZID=Australia/Brisbane:20241012T080000
DTSTAMP:20260426T112618
CREATED:20240619T063747Z
LAST-MODIFIED:20240619T063747Z
UID:27411-1728716400-1728720000@nicolejohnston.com.au
SUMMARY:Annerley | Yoga
DESCRIPTION:Focus on a range of movements to relax the mind and body. Stretching\, breathing\, strength and balance exercises are included by incorporating standing poses and mat work into the session. \nFor more information phone Deanna from Yoga Mind Body Brisbane on 0401 247 328. \nBring an exercise mat\, towel\, two blocks and a yoga strap if you have them.
URL:https://nicolejohnston.com.au/event/annerley-yoga-6/2024-10-12/
LOCATION:Vallely St Park\, 51 Vallely Street\, Annerley\, QLD\, 4103\, Australia
END:VEVENT
BEGIN:VEVENT
DTSTART;TZID=Australia/Brisbane:20241012T100000
DTEND;TZID=Australia/Brisbane:20241012T140000
DTSTAMP:20260426T112618
CREATED:20241002T233509Z
LAST-MODIFIED:20241002T233513Z
UID:28238-1728727200-1728741600@nicolejohnston.com.au
SUMMARY:Sherwood | Half Dozen Group of Artists Folio Exhibition and Open Day
DESCRIPTION:
URL:https://nicolejohnston.com.au/event/sherwood-half-dozen-group-of-artists-folio-exhibition-and-open-day/
LOCATION:Half Dozen Group of Artists Art Studio\, 37 Quarry Rd\, Sherwood\, Qld\, 4075\, Australia
CATEGORIES:Community Event
ATTACH;FMTTYPE=image/png:https://nicolejohnston.com.au/wp-content/uploads/2024/10/HDG-Artists-Folio-Day.png
GEO:-27.5354658;152.9803733
X-APPLE-STRUCTURED-LOCATION;VALUE=URI;X-ADDRESS=Half Dozen Group of Artists Art Studio 37 Quarry Rd Sherwood Qld 4075 Australia;X-APPLE-RADIUS=500;X-TITLE=37 Quarry Rd:geo:152.9803733,-27.5354658
END:VEVENT
BEGIN:VEVENT
DTSTART;TZID=Australia/Brisbane:20241012T100000
DTEND;TZID=Australia/Brisbane:20241012T150000
DTSTAMP:20260426T112618
CREATED:20240906T035150Z
LAST-MODIFIED:20240906T035155Z
UID:28078-1728727200-1728745200@nicolejohnston.com.au
SUMMARY:Annerley | Junction Fest 'Fiesta'
DESCRIPTION:
URL:https://nicolejohnston.com.au/event/annerley-junction-fest-fiesta/
LOCATION:Annerley Junction\, Crn Ipswich & Annerley Rd\, Annerley\, Qld\, 4103\, Australia
CATEGORIES:Community Event
ATTACH;FMTTYPE=image/png:https://nicolejohnston.com.au/wp-content/uploads/2024/09/Annerley-Junction-Fest.png
GEO:-27.509933;153.0327917
X-APPLE-STRUCTURED-LOCATION;VALUE=URI;X-ADDRESS=Annerley Junction Crn Ipswich & Annerley Rd Annerley Qld 4103 Australia;X-APPLE-RADIUS=500;X-TITLE=Crn Ipswich & Annerley Rd:geo:153.0327917,-27.509933
END:VEVENT
BEGIN:VEVENT
DTSTART;TZID=Australia/Brisbane:20241012T104500
DTEND;TZID=Australia/Brisbane:20241012T113000
DTSTAMP:20260426T112618
CREATED:20240820T014540Z
LAST-MODIFIED:20240820T014540Z
UID:27905-1728729900-1728732600@nicolejohnston.com.au
SUMMARY:Yeronga | Aqua Aerobics
DESCRIPTION:Experience an excellent\, low-impact cross-training workout in the water. Feel the benefits of exercise without the pain. Using minimum impact movements\, participants will develop strength\, mobility and movement in a fun environment. This class will be conducted in the outdoor 25m/50m pool.
URL:https://nicolejohnston.com.au/event/yeronga-aqua-aerobics-3/2024-10-12/
LOCATION:Yeronga Park Pool\, 81 School Rd\, Yeronga\, Qld\, 4104\, Australia
ORGANIZER;CN="Aqua English":MAILTO:info@aquaenglish.com.au
GEO:-27.5210935;153.019099
X-APPLE-STRUCTURED-LOCATION;VALUE=URI;X-ADDRESS=Yeronga Park Pool 81 School Rd Yeronga Qld 4104 Australia;X-APPLE-RADIUS=500;X-TITLE=81 School Rd:geo:153.019099,-27.5210935
END:VEVENT
BEGIN:VEVENT
DTSTART;TZID=Australia/Brisbane:20241012T120000
DTEND;TZID=Australia/Brisbane:20241012T124500
DTSTAMP:20260426T112618
CREATED:20240820T015347Z
LAST-MODIFIED:20240820T015347Z
UID:27927-1728734400-1728737100@nicolejohnston.com.au
SUMMARY:Corinda | Aqua Aerobics
DESCRIPTION:Experience an excellent\, low-impact cross-training workout in the water. Feel the benefits of exercise without the pain. Using minimum impact movements\, participants will develop strength\, mobility and movement in a fun environment. This class will be conducted in the outdoor 25m/50m pool.
URL:https://nicolejohnston.com.au/event/corinda-aqua-aerobics/2024-10-12/
LOCATION:Dunlop Park Memorial Pool\, 794 Oxley Rd\, Corinda\, Qld\, 4075\, Australia
ORGANIZER;CN="Aqua English":MAILTO:info@aquaenglish.com.au
GEO:-27.5473096;152.9806407
X-APPLE-STRUCTURED-LOCATION;VALUE=URI;X-ADDRESS=Dunlop Park Memorial Pool 794 Oxley Rd Corinda Qld 4075 Australia;X-APPLE-RADIUS=500;X-TITLE=794 Oxley Rd:geo:152.9806407,-27.5473096
END:VEVENT
BEGIN:VEVENT
DTSTART;TZID=Australia/Brisbane:20241012T130000
DTEND;TZID=Australia/Brisbane:20241012T140000
DTSTAMP:20260426T112618
CREATED:20240820T014859Z
LAST-MODIFIED:20240820T014859Z
UID:27916-1728738000-1728741600@nicolejohnston.com.au
SUMMARY:Corinda | Deep Water Running
DESCRIPTION:This is an aquatic workout that uses all major muscle groups. Participants wear a buoyancy belt so there’s no need to worry about being in deep water however you do require basic swimming skills. Classes will be held in the outdoor 50m pool. \nBring a buoyancy belt and towel.
URL:https://nicolejohnston.com.au/event/corinda-deep-water-running-2/2024-10-12/
LOCATION:Dunlop Park Memorial Pool\, 794 Oxley Rd\, Corinda\, Qld\, 4075\, Australia
ORGANIZER;CN="Aqua English":MAILTO:info@aquaenglish.com.au
GEO:-27.5473096;152.9806407
X-APPLE-STRUCTURED-LOCATION;VALUE=URI;X-ADDRESS=Dunlop Park Memorial Pool 794 Oxley Rd Corinda Qld 4075 Australia;X-APPLE-RADIUS=500;X-TITLE=794 Oxley Rd:geo:152.9806407,-27.5473096
END:VEVENT
BEGIN:VEVENT
DTSTART;TZID=Australia/Brisbane:20241012T143000
DTEND;TZID=Australia/Brisbane:20241012T153000
DTSTAMP:20260426T112618
CREATED:20240820T014223Z
LAST-MODIFIED:20240820T014223Z
UID:27894-1728743400-1728747000@nicolejohnston.com.au
SUMMARY:Yeronga | Deep Water Running
DESCRIPTION:This is an aquatic workout that uses all major muscle groups. Participants wear a buoyancy belt so there’s no need to worry about being in deep water however you do require basic swimming skills. Classes will be held in the outdoor 25m/50m pool. \nAll participants must bring their own buoyancy belt and towel.
URL:https://nicolejohnston.com.au/event/yeronga-deep-water-running-4/2024-10-12/
LOCATION:Yeronga Park Pool\, 81 School Rd\, Yeronga\, Qld\, 4104\, Australia
ORGANIZER;CN="Aqua English":MAILTO:info@aquaenglish.com.au
GEO:-27.5210935;153.019099
X-APPLE-STRUCTURED-LOCATION;VALUE=URI;X-ADDRESS=Yeronga Park Pool 81 School Rd Yeronga Qld 4104 Australia;X-APPLE-RADIUS=500;X-TITLE=81 School Rd:geo:153.019099,-27.5210935
END:VEVENT
BEGIN:VEVENT
DTSTART;TZID=Australia/Brisbane:20241013T080000
DTEND;TZID=Australia/Brisbane:20241013T090000
DTSTAMP:20260426T112618
CREATED:20240619T064723Z
LAST-MODIFIED:20240619T064723Z
UID:27446-1728806400-1728810000@nicolejohnston.com.au
SUMMARY:Fairfield | GOLD Tai Chi Qigong
DESCRIPTION:This dynamic activity is invigorating and will help you feel relaxed\, refreshed and calm. Rejuvenate your body and learn to create a tranquil mind. Join any week. \nThis is a GOLD event suitable for seniors. For more information phone Julian from Australian Academy of Tai Chi on 0439 073 860.
URL:https://nicolejohnston.com.au/event/fairfield-gold-tai-chi-qigong/2024-10-13/
LOCATION:Robinson Park\, 221 Fairfield Road\, Fairfield\, Queensland\, 4103\, Australia
GEO:-27.5099948;153.023042
X-APPLE-STRUCTURED-LOCATION;VALUE=URI;X-ADDRESS=Robinson Park 221 Fairfield Road Fairfield Queensland 4103 Australia;X-APPLE-RADIUS=500;X-TITLE=221 Fairfield Road:geo:153.023042,-27.5099948
END:VEVENT
BEGIN:VEVENT
DTSTART;TZID=Australia/Brisbane:20241014T091500
DTEND;TZID=Australia/Brisbane:20241014T094500
DTSTAMP:20260426T112618
CREATED:20240910T021737Z
LAST-MODIFIED:20240910T021737Z
UID:28193-1728897300-1728899100@nicolejohnston.com.au
SUMMARY:Annerley Library | First 5 Forever Toddler Time
DESCRIPTION:Meet other parents and toddlers for a fun session of singing\, clapping and dancing. Learn action rhymes and songs which will help your child’s pre-literacy\, communication\, language and social skills. Ideal for babies and toddlers aged 1-2 years.
URL:https://nicolejohnston.com.au/event/annerley-library-first-5-forever-toddler-time-8/
LOCATION:Annerley Library\, 469 Ipswich Rd\, Annerley\, Queensland\, 4103\, Australia
GEO:-27.5115338;153.0317863
X-APPLE-STRUCTURED-LOCATION;VALUE=URI;X-ADDRESS=Annerley Library 469 Ipswich Rd Annerley Queensland 4103 Australia;X-APPLE-RADIUS=500;X-TITLE=469 Ipswich Rd:geo:153.0317863,-27.5115338
END:VEVENT
BEGIN:VEVENT
DTSTART;TZID=Australia/Brisbane:20241014T093000
DTEND;TZID=Australia/Brisbane:20241014T100000
DTSTAMP:20260426T112618
CREATED:20240815T050821Z
LAST-MODIFIED:20240815T050824Z
UID:27826-1728898200-1728900000@nicolejohnston.com.au
SUMMARY:Chelmer | Fun Soccer for Kids 2-3 Years
DESCRIPTION:Bookings essential. This program offers fun soccer classes specifically designed for children between the ages of 2 and 3 years old. This is a fantastic way to introduce children to the sport of soccer while also promoting physical activity\, coordination\, teamwork\, and confidence. \nBookings essential. To book visit Ginger Sport. For more information email us at info@gingersport.com.au.
URL:https://nicolejohnston.com.au/event/chelmer-fun-soccer-for-kids-2-3-years/
LOCATION:Gordon Thomson Park\, 90 Wharf St\, Chelmer\, QLD\, 4068\, Australia
END:VEVENT
BEGIN:VEVENT
DTSTART;TZID=Australia/Brisbane:20241014T100500
DTEND;TZID=Australia/Brisbane:20241014T103500
DTSTAMP:20260426T112618
CREATED:20240815T050944Z
LAST-MODIFIED:20240815T050945Z
UID:27828-1728900300-1728902100@nicolejohnston.com.au
SUMMARY:Chelmer | Fun Soccer for Kids 4-5 Years
DESCRIPTION:Bookings essential. This program offers fun soccer classes specifically designed for children between the ages of 4 and 5 years old. This is a fantastic way to introduce children to the sport of soccer while also promoting physical activity\, coordination\, teamwork\, and confidence. \nBookings essential. To book visit Ginger Sport. For more information email us at info@gingersport.com.au.
URL:https://nicolejohnston.com.au/event/chelmer-fun-soccer-for-kids-4-5-years/
LOCATION:Gordon Thomson Park\, 90 Wharf St\, Chelmer\, QLD\, 4068\, Australia
END:VEVENT
BEGIN:VEVENT
DTSTART;TZID=Australia/Brisbane:20241014T110000
DTEND;TZID=Australia/Brisbane:20241014T113000
DTSTAMP:20260426T112618
CREATED:20240909T045218Z
LAST-MODIFIED:20240909T045218Z
UID:28109-1728903600-1728905400@nicolejohnston.com.au
SUMMARY:Annerley Library | Nature Book Week: First 5 Forever Children’s Storytime
DESCRIPTION:Celebrate Nature Book Week by creating your own collage using natural materials such as leaves\, bark\, flowers and foliage inspired by a nature-based story and picture books. Ideal for children aged 2-5 years.
URL:https://nicolejohnston.com.au/event/annerley-library-nature-book-week-first-5-forever-childrens-storytime/
LOCATION:Annerley Library\, 469 Ipswich Rd\, Annerley\, Queensland\, 4103\, Australia
GEO:-27.5115338;153.0317863
X-APPLE-STRUCTURED-LOCATION;VALUE=URI;X-ADDRESS=Annerley Library 469 Ipswich Rd Annerley Queensland 4103 Australia;X-APPLE-RADIUS=500;X-TITLE=469 Ipswich Rd:geo:153.0317863,-27.5115338
END:VEVENT
BEGIN:VEVENT
DTSTART;TZID=Australia/Brisbane:20241015T100000
DTEND;TZID=Australia/Brisbane:20241015T110000
DTSTAMP:20260426T112618
CREATED:20240820T020956Z
LAST-MODIFIED:20240820T020956Z
UID:27957-1728986400-1728990000@nicolejohnston.com.au
SUMMARY:Sherwood | GOLD Meditation and Relaxation
DESCRIPTION:Learn techniques and skills to assist with relaxation and relieve stress in daily life. No prior experience is required. \nThis is a GOLD event suitable for seniors. Bring an exercise mat and pillow. \nBookings essential. To book email Sherwood Neighbourhood Centre. For more information phone 3379 6963.
URL:https://nicolejohnston.com.au/event/sherwood-gold-meditation-and-relaxation/2024-10-15/
LOCATION:Sherwood Neighbourhood Centre\, 38 Thallon Street\, Sherwood\, Queensland\, 4075\, Australia
GEO:-27.53402;152.981098
X-APPLE-STRUCTURED-LOCATION;VALUE=URI;X-ADDRESS=Sherwood Neighbourhood Centre 38 Thallon Street Sherwood Queensland 4075 Australia;X-APPLE-RADIUS=500;X-TITLE=38 Thallon Street:geo:152.981098,-27.53402
END:VEVENT
BEGIN:VEVENT
DTSTART;TZID=Australia/Brisbane:20241015T110000
DTEND;TZID=Australia/Brisbane:20241015T120000
DTSTAMP:20260426T112618
CREATED:20240909T045835Z
LAST-MODIFIED:20240909T045835Z
UID:28111-1728990000-1728993600@nicolejohnston.com.au
SUMMARY:Annerley Library | Get Online Week: Library E-books and Downloads
DESCRIPTION:Discover the wonderful range of free online resources available through Brisbane libraries. This session includes tips on how to read\, listen to or watch your favourite online library content including e-books\, magazines\, newspaper\, and music. Bring your own device\, library card and email account details. Ideal for adults. \nBookings required. Phone Annerley Library on 07 3403 1735 to reserve your place.
URL:https://nicolejohnston.com.au/event/annerley-library-get-online-week-library-e-books-and-downloads/
LOCATION:Annerley Library\, 469 Ipswich Rd\, Annerley\, Queensland\, 4103\, Australia
GEO:-27.5115338;153.0317863
X-APPLE-STRUCTURED-LOCATION;VALUE=URI;X-ADDRESS=Annerley Library 469 Ipswich Rd Annerley Queensland 4103 Australia;X-APPLE-RADIUS=500;X-TITLE=469 Ipswich Rd:geo:153.0317863,-27.5115338
END:VEVENT
BEGIN:VEVENT
DTSTART;TZID=Australia/Brisbane:20241016T083000
DTEND;TZID=Australia/Brisbane:20241016T093000
DTSTAMP:20260426T112618
CREATED:20240624T031622Z
LAST-MODIFIED:20240624T031622Z
UID:27488-1729067400-1729071000@nicolejohnston.com.au
SUMMARY:Yeronga | GOLD Yoga for Mobility
DESCRIPTION:A gentle movement class blended with yoga to improve your strength\, balance and posture. No floor work included. Suitable for all fitness levels. Bring an exercise band. \nNo bookings required. For more information phone Cassie from Foxinsox Yoga on 0431 594 388.
URL:https://nicolejohnston.com.au/event/yeronga-gold-yoga-for-mobility/2024-10-16/
LOCATION:John Walker Place\, 323 Brisbane Corso\, Yeronga\, QLD\, 4104\, Australia
END:VEVENT
END:VCALENDAR