BEGIN:VCALENDAR
VERSION:2.0
PRODID:-//Nicole Johnston - ECPv6.15.20//NONSGML v1.0//EN
CALSCALE:GREGORIAN
METHOD:PUBLISH
X-WR-CALNAME:Nicole Johnston
X-ORIGINAL-URL:https://nicolejohnston.com.au
X-WR-CALDESC:Events for Nicole Johnston
REFRESH-INTERVAL;VALUE=DURATION:PT1H
X-Robots-Tag:noindex
X-PUBLISHED-TTL:PT1H
BEGIN:VTIMEZONE
TZID:Australia/Brisbane
BEGIN:STANDARD
TZOFFSETFROM:+1000
TZOFFSETTO:+1000
TZNAME:AEST
DTSTART:20240101T000000
END:STANDARD
END:VTIMEZONE
BEGIN:VEVENT
DTSTART;TZID=Australia/Brisbane:20250320T090000
DTEND;TZID=Australia/Brisbane:20250320T100000
DTSTAMP:20260426T130225
CREATED:20241113T053629Z
LAST-MODIFIED:20250113T035830Z
UID:28793-1742461200-1742464800@nicolejohnston.com.au
SUMMARY:Sherwood | Tai Chi Qigong
DESCRIPTION:This dynamic activity is invigorating and will help you feel relaxed\, refreshed and calm. Rejuvenate your body and learn to create a tranquil mind. Join any week. \nFor more information phone Julia from Minds Ease on 0412 362 338.
URL:https://nicolejohnston.com.au/event/sherwood-tai-chi-qigong-5/2025-03-20/
LOCATION:Sherwood Arboretum\, 57 Dewar Terrace\, Sherwood\, Queensland\, 4075\, Australia
GEO:-27.532253;152.977305
X-APPLE-STRUCTURED-LOCATION;VALUE=URI;X-ADDRESS=Sherwood Arboretum 57 Dewar Terrace Sherwood Queensland 4075 Australia;X-APPLE-RADIUS=500;X-TITLE=57 Dewar Terrace:geo:152.977305,-27.532253
END:VEVENT
BEGIN:VEVENT
DTSTART;TZID=Australia/Brisbane:20250320T090000
DTEND;TZID=Australia/Brisbane:20250320T100000
DTSTAMP:20260426T130225
CREATED:20241212T010414Z
LAST-MODIFIED:20250113T035716Z
UID:28784-1742461200-1742464800@nicolejohnston.com.au
SUMMARY:Oxley | Mums and Bubs Yoga
DESCRIPTION:A mum and bubs yoga class to connect with yourself\, your baby and others. Designed to support you post-natally\, gentle stretching and strengthening practices\, breathing exercises\, meditation. \nFor more information phone Nichola on 0406 574 454.
URL:https://nicolejohnston.com.au/event/oxley-mums-and-bubs-yoga-6/2025-03-20/
LOCATION:Nixon Park\, 929 Oxley Road\, OXLEY\, QLD\, 4075\, Australia
GEO:-27.552171;152.9789711
X-APPLE-STRUCTURED-LOCATION;VALUE=URI;X-ADDRESS=Nixon Park 929 Oxley Road OXLEY QLD 4075 Australia;X-APPLE-RADIUS=500;X-TITLE=929 Oxley Road:geo:152.9789711,-27.552171
END:VEVENT
BEGIN:VEVENT
DTSTART;TZID=Australia/Brisbane:20250320T091500
DTEND;TZID=Australia/Brisbane:20250320T094500
DTSTAMP:20260426T130225
CREATED:20250108T014731Z
LAST-MODIFIED:20250108T014731Z
UID:28936-1742462100-1742463900@nicolejohnston.com.au
SUMMARY:Corinda Library | First 5 Forever Toddler Time
DESCRIPTION:Meet other parents and toddlers for a fun session of singing\, clapping and dancing. Learn action rhymes and songs which will help your child’s pre-literacy\, communication\, language and social skills. Ideal for babies and toddlers aged 1-2 years.
URL:https://nicolejohnston.com.au/event/corinda-library-first-5-forever-toddler-time-23/
LOCATION:Corinda Library\, 641 Oxley Road\, Corinda\, Queensland\, 4075\, Australia
GEO:-27.538881;152.98142
X-APPLE-STRUCTURED-LOCATION;VALUE=URI;X-ADDRESS=Corinda Library 641 Oxley Road Corinda Queensland 4075 Australia;X-APPLE-RADIUS=500;X-TITLE=641 Oxley Road:geo:152.98142,-27.538881
END:VEVENT
BEGIN:VEVENT
DTSTART;TZID=Australia/Brisbane:20250320T130000
DTEND;TZID=Australia/Brisbane:20250320T140000
DTSTAMP:20260426T130225
CREATED:20241212T005526Z
LAST-MODIFIED:20250113T033543Z
UID:28747-1742475600-1742479200@nicolejohnston.com.au
SUMMARY:Corinda | Aqua Yoga
DESCRIPTION:This is a low impact form of exercise that supports the body while still providing function and movement. Many yoga poses that you do in a class can be adapted for the pool\, sometimes using the pool walls as if it were the studio floor. \nThis is a GOLD event suitable for seniors. \nFor more information phone Nichola on 0406 574 454.
URL:https://nicolejohnston.com.au/event/corinda-aqua-yoga-6/2025-03-20/
LOCATION:Dunlop Park Memorial Pool\, 794 Oxley Rd\, Corinda\, Qld\, 4075\, Australia
GEO:-27.5473096;152.9806407
X-APPLE-STRUCTURED-LOCATION;VALUE=URI;X-ADDRESS=Dunlop Park Memorial Pool 794 Oxley Rd Corinda Qld 4075 Australia;X-APPLE-RADIUS=500;X-TITLE=794 Oxley Rd:geo:152.9806407,-27.5473096
END:VEVENT
BEGIN:VEVENT
DTSTART;TZID=Australia/Brisbane:20250320T153000
DTEND;TZID=Australia/Brisbane:20250320T163000
DTSTAMP:20260426T130225
CREATED:20250317T055351Z
LAST-MODIFIED:20250317T055351Z
UID:29310-1742484600-1742488200@nicolejohnston.com.au
SUMMARY:Corinda Library | Rainbow Poetry
DESCRIPTION:Join us as we celebrate world poetry day by creating simple poems and artworks that are inspired by the colours of Australia. Ideal for children aged 8–12 years. \nBookings required. Phone Corinda Library on 07 3407 7701 to reserve your place.
URL:https://nicolejohnston.com.au/event/corinda-library-rainbow-poetry/
LOCATION:Corinda Library\, 641 Oxley Road\, Corinda\, Queensland\, 4075\, Australia
GEO:-27.538881;152.98142
X-APPLE-STRUCTURED-LOCATION;VALUE=URI;X-ADDRESS=Corinda Library 641 Oxley Road Corinda Queensland 4075 Australia;X-APPLE-RADIUS=500;X-TITLE=641 Oxley Road:geo:152.98142,-27.538881
END:VEVENT
BEGIN:VEVENT
DTSTART;TZID=Australia/Brisbane:20250320T180000
DTEND;TZID=Australia/Brisbane:20250320T190000
DTSTAMP:20260426T130225
CREATED:20250108T033228Z
LAST-MODIFIED:20250108T033228Z
UID:28978-1742493600-1742497200@nicolejohnston.com.au
SUMMARY:Fairfield Library | Evening Book Club
DESCRIPTION:In March\, read and discuss Rebecca by Daphne Du Maurier.
URL:https://nicolejohnston.com.au/event/fairfield-library-evening-book-club-5/
LOCATION:Fairfield Library\, Fairfield Gardens\, 180 Fairfield Rd\, Fairfield\, Queensland\, 4103\, Australia
GEO:-27.508752;153.025501
X-APPLE-STRUCTURED-LOCATION;VALUE=URI;X-ADDRESS=Fairfield Library Fairfield Gardens 180 Fairfield Rd Fairfield Queensland 4103 Australia;X-APPLE-RADIUS=500;X-TITLE=Fairfield Gardens\, 180 Fairfield Rd:geo:153.025501,-27.508752
END:VEVENT
BEGIN:VEVENT
DTSTART;TZID=Australia/Brisbane:20250321T091500
DTEND;TZID=Australia/Brisbane:20250321T094500
DTSTAMP:20260426T130225
CREATED:20250108T012116Z
LAST-MODIFIED:20250108T012116Z
UID:28898-1742548500-1742550300@nicolejohnston.com.au
SUMMARY:Annerley Library | First 5 Forever Babies\, Books and Rhymes
DESCRIPTION:Meet other parents and babies for a fun session of singing\, clapping and dancing. Learn songs and action rhymes to nurture your baby’s pre-literacy\, communication\, language and social skills. Ideal for babies aged up to one year.
URL:https://nicolejohnston.com.au/event/annerley-library-first-5-forever-babies-books-and-rhymes-25/
LOCATION:Annerley Library\, 469 Ipswich Rd\, Annerley\, Queensland\, 4103\, Australia
GEO:-27.5115338;153.0317863
X-APPLE-STRUCTURED-LOCATION;VALUE=URI;X-ADDRESS=Annerley Library 469 Ipswich Rd Annerley Queensland 4103 Australia;X-APPLE-RADIUS=500;X-TITLE=469 Ipswich Rd:geo:153.0317863,-27.5115338
END:VEVENT
BEGIN:VEVENT
DTSTART;TZID=Australia/Brisbane:20250321T091500
DTEND;TZID=Australia/Brisbane:20250321T094500
DTSTAMP:20260426T130225
CREATED:20250108T014836Z
LAST-MODIFIED:20250108T014836Z
UID:28938-1742548500-1742550300@nicolejohnston.com.au
SUMMARY:Corinda Library | First 5 Forever Babies\, Books and Rhymes
DESCRIPTION:Meet other parents and babies for a fun session of singing\, clapping and dancing. Learn songs and action rhymes to nurture your baby’s pre-literacy\, communication\, language and social skills. Ideal for babies aged up to one year.
URL:https://nicolejohnston.com.au/event/corinda-library-first-5-forever-babies-books-and-rhymes-25/
LOCATION:Corinda Library\, 641 Oxley Road\, Corinda\, Queensland\, 4075\, Australia
GEO:-27.538881;152.98142
X-APPLE-STRUCTURED-LOCATION;VALUE=URI;X-ADDRESS=Corinda Library 641 Oxley Road Corinda Queensland 4075 Australia;X-APPLE-RADIUS=500;X-TITLE=641 Oxley Road:geo:152.98142,-27.538881
END:VEVENT
BEGIN:VEVENT
DTSTART;TZID=Australia/Brisbane:20250321T140000
DTEND;TZID=Australia/Brisbane:20250321T153000
DTSTAMP:20260426T130225
CREATED:20250108T033400Z
LAST-MODIFIED:20250108T033400Z
UID:28980-1742565600-1742571000@nicolejohnston.com.au
SUMMARY:Fairfield Library | One-On-One Tech Help
DESCRIPTION:Contact Fairfield library to enquire about one-on-one tech assistance to troubleshoot technical issues\, develop digital skills and improve online confidence. \nA Brisbane Libraries Tech Connect workshop. \nBookings required. Phone Fairfield Library on 07 3403 8615 to reserve your place.
URL:https://nicolejohnston.com.au/event/fairfield-library-one-on-one-tech-help-9/
LOCATION:Fairfield Library\, Fairfield Gardens\, 180 Fairfield Rd\, Fairfield\, Queensland\, 4103\, Australia
GEO:-27.508752;153.025501
X-APPLE-STRUCTURED-LOCATION;VALUE=URI;X-ADDRESS=Fairfield Library Fairfield Gardens 180 Fairfield Rd Fairfield Queensland 4103 Australia;X-APPLE-RADIUS=500;X-TITLE=Fairfield Gardens\, 180 Fairfield Rd:geo:153.025501,-27.508752
END:VEVENT
BEGIN:VEVENT
DTSTART;TZID=Australia/Brisbane:20250321T151500
DTEND;TZID=Australia/Brisbane:20250321T164500
DTSTAMP:20260426T130225
CREATED:20250317T055507Z
LAST-MODIFIED:20250317T055507Z
UID:29312-1742570100-1742575500@nicolejohnston.com.au
SUMMARY:Fairfield Library | Brick Builders Code Club
DESCRIPTION:Join us for fun\, hands-on STEAM challenges where you help story characters solve a problem through coding\, engineering\, science and communication. Ideal for children aged 8-12 years. \nBookings required. Phone Fairfield Library on 07 3403 8615 to reserve your place.
URL:https://nicolejohnston.com.au/event/fairfield-library-brick-builders-code-club/
LOCATION:Fairfield Library\, Fairfield Gardens\, 180 Fairfield Rd\, Fairfield\, Queensland\, 4103\, Australia
GEO:-27.508752;153.025501
X-APPLE-STRUCTURED-LOCATION;VALUE=URI;X-ADDRESS=Fairfield Library Fairfield Gardens 180 Fairfield Rd Fairfield Queensland 4103 Australia;X-APPLE-RADIUS=500;X-TITLE=Fairfield Gardens\, 180 Fairfield Rd:geo:153.025501,-27.508752
END:VEVENT
BEGIN:VEVENT
DTSTART;TZID=Australia/Brisbane:20250321T173000
DTEND;TZID=Australia/Brisbane:20250321T183000
DTSTAMP:20260426T130225
CREATED:20241212T003735Z
LAST-MODIFIED:20250113T034841Z
UID:28712-1742578200-1742581800@nicolejohnston.com.au
SUMMARY:Graceville | Obstacle Training Circuit
DESCRIPTION:Bookings essential. Join us for an exciting obstacle training circuit! Develop new skills and techniques on the obstacle course while building strength and improving your fitness. It’s a fun and energising session you won’t want to miss. All welcome! \nBookings essential.  To book visit Centenary Playground .  For more information phone Emma on 0419 592 777.
URL:https://nicolejohnston.com.au/event/graceville-obstacle-training-circuit/2025-03-21/
LOCATION:Graceville Riverside Parklands\, Graceville Avenue\, Graceville\, Queensland\, 4075\, Australia
GEO:-27.5228793;152.9875616
X-APPLE-STRUCTURED-LOCATION;VALUE=URI;X-ADDRESS=Graceville Riverside Parklands Graceville Avenue Graceville Queensland 4075 Australia;X-APPLE-RADIUS=500;X-TITLE=Graceville Avenue:geo:152.9875616,-27.5228793
END:VEVENT
BEGIN:VEVENT
DTSTART;TZID=Australia/Brisbane:20250322T070000
DTEND;TZID=Australia/Brisbane:20250322T080000
DTSTAMP:20260426T130225
CREATED:20241113T060545Z
LAST-MODIFIED:20250113T033301Z
UID:28829-1742626800-1742630400@nicolejohnston.com.au
SUMMARY:Annerley | Yoga
DESCRIPTION:Focus on a range of movements to relax the mind and body. Stretching\, breathing\, strength and balance exercises are included by incorporating standing poses and mat work into the session. \nFor more information phone Deanna from Yoga Mind Body Brisbane on 0401 247 328.
URL:https://nicolejohnston.com.au/event/annerley-yoga-9/2025-03-22/
LOCATION:Vallely St Park\, 51 Vallely Street\, Annerley\, QLD\, 4103\, Australia
END:VEVENT
BEGIN:VEVENT
DTSTART;TZID=Australia/Brisbane:20250322T104500
DTEND;TZID=Australia/Brisbane:20250322T113000
DTSTAMP:20260426T130225
CREATED:20241212T004414Z
LAST-MODIFIED:20250113T041429Z
UID:28722-1742640300-1742643000@nicolejohnston.com.au
SUMMARY:Yeronga | Aqua Aerobics
DESCRIPTION:Experience an excellent\, low-impact cross-training workout in the water. Feel the benefits of exercise without the pain. Using minimum impact movements\, participants will develop strength\, mobility and movement in a fun environment. This class will be conducted in the outdoor 25m/50m pool. \nFor more information phone or text Aqua English on 0406 063 737.
URL:https://nicolejohnston.com.au/event/yeronga-aqua-aerobics-4/2025-03-22/
LOCATION:Yeronga Park Pool\, 81 School Rd\, Yeronga\, Qld\, 4104\, Australia
GEO:-27.5210935;153.019099
X-APPLE-STRUCTURED-LOCATION;VALUE=URI;X-ADDRESS=Yeronga Park Pool 81 School Rd Yeronga Qld 4104 Australia;X-APPLE-RADIUS=500;X-TITLE=81 School Rd:geo:153.019099,-27.5210935
END:VEVENT
BEGIN:VEVENT
DTSTART;TZID=Australia/Brisbane:20250322T120000
DTEND;TZID=Australia/Brisbane:20250322T124500
DTSTAMP:20260426T130225
CREATED:20241212T005229Z
LAST-MODIFIED:20250113T034100Z
UID:28731-1742644800-1742647500@nicolejohnston.com.au
SUMMARY:Corinda | Aqua Aerobics
DESCRIPTION:Experience an excellent\, low-impact cross-training workout in the water. Feel the benefits of exercise without the pain. Using minimum impact movements\, participants will develop strength\, mobility and movement in a fun environment. This class will be conducted in the outdoor 25m/50m pool. \nFor more information phone or text Aqua English on 0406 063 737.
URL:https://nicolejohnston.com.au/event/corinda-aqua-aerobics-2/2025-03-22/
LOCATION:Dunlop Park Memorial Pool\, 794 Oxley Rd\, Corinda\, Qld\, 4075\, Australia
GEO:-27.5473096;152.9806407
X-APPLE-STRUCTURED-LOCATION;VALUE=URI;X-ADDRESS=Dunlop Park Memorial Pool 794 Oxley Rd Corinda Qld 4075 Australia;X-APPLE-RADIUS=500;X-TITLE=794 Oxley Rd:geo:152.9806407,-27.5473096
END:VEVENT
BEGIN:VEVENT
DTSTART;TZID=Australia/Brisbane:20250322T130000
DTEND;TZID=Australia/Brisbane:20250322T140000
DTSTAMP:20260426T130225
CREATED:20241212T005708Z
LAST-MODIFIED:20250113T033742Z
UID:28757-1742648400-1742652000@nicolejohnston.com.au
SUMMARY:Corinda | Deep Water Running
DESCRIPTION:This is an aquatic workout that uses all major muscle groups. Participants wear a buoyancy belt so there’s no need to worry about being in deep water however you do require basic swimming skills. Classes will be held in the outdoor 50m pool. \nFor more information phone or text Aqua English on 0406 063 737.
URL:https://nicolejohnston.com.au/event/corinda-deep-water-running-3/2025-03-22/
LOCATION:Dunlop Park Memorial Pool\, 794 Oxley Rd\, Corinda\, Qld\, 4075\, Australia
GEO:-27.5473096;152.9806407
X-APPLE-STRUCTURED-LOCATION;VALUE=URI;X-ADDRESS=Dunlop Park Memorial Pool 794 Oxley Rd Corinda Qld 4075 Australia;X-APPLE-RADIUS=500;X-TITLE=794 Oxley Rd:geo:152.9806407,-27.5473096
END:VEVENT
BEGIN:VEVENT
DTSTART;TZID=Australia/Brisbane:20250322T130000
DTEND;TZID=Australia/Brisbane:20250322T143000
DTSTAMP:20260426T130225
CREATED:20250227T031837Z
LAST-MODIFIED:20250313T053352Z
UID:29236-1742648400-1742653800@nicolejohnston.com.au
SUMMARY:FREE Self-defence workshop
DESCRIPTION:Come and join me for a FREE self-defence workshop with Kyl Reber from CMA – Chikara Martial Arts\, 660 Oxley Rd (cnr Nelson St)\, Corinda.\n\n\n\nSeniors\, Sat 1 March\, 1pm-2:30pm\nMum & Daughters\, Sat 15 March\, 1pm-2:30pm\nAll ages\, Sat 22 March\, 1pm-2:30pm\n\n\n\nPlaces are limited.\n\nRSVP to my office via E: tennyson.ward@bcc.qld.gov.au or PH: 07 3403 8605.
URL:https://nicolejohnston.com.au/event/free-self-defence-workshop/2025-03-22/
LOCATION:Chikara Martial Arts\, 660 Oxley Rd\, Corinda\, QLD\, 4075\, Australia
CATEGORIES:Community Event,Recurring
ATTACH;FMTTYPE=image/png:https://nicolejohnston.com.au/wp-content/uploads/2025/02/Self-Defence-Workshop-for-Socials-1.png
END:VEVENT
BEGIN:VEVENT
DTSTART;TZID=Australia/Brisbane:20250322T131500
DTEND;TZID=Australia/Brisbane:20250322T141500
DTSTAMP:20260426T130225
CREATED:20241212T010029Z
LAST-MODIFIED:20250113T042023Z
UID:28766-1742649300-1742652900@nicolejohnston.com.au
SUMMARY:Yeronga | Deep Water Running
DESCRIPTION:This is an aquatic workout that uses all major muscle groups. Participants wear a buoyancy belt so there’s no need to worry about being in deep water however you do require basic swimming skills. Classes will be held in the outdoor 25m/50m pool. \nFor more information phone or text Aqua English on 0406 063 737.
URL:https://nicolejohnston.com.au/event/yeronga-deep-water-running-5/2025-03-22/
LOCATION:Yeronga Park Pool\, 81 School Rd\, Yeronga\, Qld\, 4104\, Australia
GEO:-27.5210935;153.019099
X-APPLE-STRUCTURED-LOCATION;VALUE=URI;X-ADDRESS=Yeronga Park Pool 81 School Rd Yeronga Qld 4104 Australia;X-APPLE-RADIUS=500;X-TITLE=81 School Rd:geo:153.019099,-27.5210935
END:VEVENT
BEGIN:VEVENT
DTSTART;TZID=Australia/Brisbane:20250323T080000
DTEND;TZID=Australia/Brisbane:20250323T090000
DTSTAMP:20260426T130225
CREATED:20250113T034335Z
LAST-MODIFIED:20250113T034335Z
UID:29053-1742716800-1742720400@nicolejohnston.com.au
SUMMARY:Fairfield | GOLD Tai Chi Qigong
DESCRIPTION:This dynamic activity is invigorating and will help you feel relaxed\, refreshed and calm. Rejuvenate your body and learn to create a tranquil mind. Join any week. \nThis is a GOLD event suitable for seniors. Meet near the playground\, off Sydney Street. \nFor more information phone Julian from Australian Academy of Tai Chi on 0439 073 860.
URL:https://nicolejohnston.com.au/event/fairfield-gold-tai-chi-qigong-2/2025-03-23/
LOCATION:Robinson Park\, 221 Fairfield Road\, Fairfield\, Queensland\, 4103\, Australia
GEO:-27.5099948;153.023042
X-APPLE-STRUCTURED-LOCATION;VALUE=URI;X-ADDRESS=Robinson Park 221 Fairfield Road Fairfield Queensland 4103 Australia;X-APPLE-RADIUS=500;X-TITLE=221 Fairfield Road:geo:153.023042,-27.5099948
END:VEVENT
BEGIN:VEVENT
DTSTART;TZID=Australia/Brisbane:20250323T140000
DTEND;TZID=Australia/Brisbane:20250323T170000
DTSTAMP:20260426T130225
CREATED:20250317T002439Z
LAST-MODIFIED:20250317T002439Z
UID:29300-1742738400-1742749200@nicolejohnston.com.au
SUMMARY:Sherwood | Sherwood Arboretum Centenary Picnic
DESCRIPTION:Join us to celebrate the 100-year anniversary of Sherwood Arboretum – Brisbane’s only Arboretum and one of Brisbane’s 3 botanic gardens. The festivities will commence at 2pm. \nBring a picnic and enjoy the entertainment\, play giant lawn games\, try your hand at archery and get up close with native wildlife and giant bug displays. Enjoy lots of activities for the kids\, learn about the history of the Arboretum\, check out vintage cars and join guided walks. There will be live music and entertainment from 2:00pm. So come and join the fun. \nWe encourage you to bring a picnic\, a rug and recommend that you wear comfortable clothing and footwear\, sunscreen (even on cloudy days)\, a hat\, and bring a refillable water bottle. Please take public transport or active travel\, if possible\, as there is no vehicle parking on site.
URL:https://nicolejohnston.com.au/event/sherwood-sherwood-arboretum-centenary-picnic/
LOCATION:Sherwood Arboretum\, 57 Dewar Terrace\, Sherwood\, Queensland\, 4075\, Australia
CATEGORIES:Community Event
ATTACH;FMTTYPE=image/png:https://nicolejohnston.com.au/wp-content/uploads/2025/03/Sherwood-Arboretum-Centenary-Picnic-Flyer.png
GEO:-27.532253;152.977305
X-APPLE-STRUCTURED-LOCATION;VALUE=URI;X-ADDRESS=Sherwood Arboretum 57 Dewar Terrace Sherwood Queensland 4075 Australia;X-APPLE-RADIUS=500;X-TITLE=57 Dewar Terrace:geo:152.977305,-27.532253
END:VEVENT
BEGIN:VEVENT
DTSTART;TZID=Australia/Brisbane:20250324T091500
DTEND;TZID=Australia/Brisbane:20250324T094500
DTSTAMP:20260426T130225
CREATED:20250108T012210Z
LAST-MODIFIED:20250108T012210Z
UID:28900-1742807700-1742809500@nicolejohnston.com.au
SUMMARY:Annerley Library | First 5 Forever Toddler Time
DESCRIPTION:Meet other parents and toddlers for a fun session of singing\, clapping and dancing. Learn action rhymes and songs which will help your child’s pre-literacy\, communication\, language and social skills. Ideal for babies and toddlers aged 1-2 years.
URL:https://nicolejohnston.com.au/event/annerley-library-first-5-forever-toddler-time-25/
LOCATION:Annerley Library\, 469 Ipswich Rd\, Annerley\, Queensland\, 4103\, Australia
GEO:-27.5115338;153.0317863
X-APPLE-STRUCTURED-LOCATION;VALUE=URI;X-ADDRESS=Annerley Library 469 Ipswich Rd Annerley Queensland 4103 Australia;X-APPLE-RADIUS=500;X-TITLE=469 Ipswich Rd:geo:153.0317863,-27.5115338
END:VEVENT
BEGIN:VEVENT
DTSTART;TZID=Australia/Brisbane:20250324T110000
DTEND;TZID=Australia/Brisbane:20250324T113000
DTSTAMP:20260426T130225
CREATED:20250108T012306Z
LAST-MODIFIED:20250108T012306Z
UID:28902-1742814000-1742815800@nicolejohnston.com.au
SUMMARY:Annerley Library |  First 5 Forever Children's Storytime
DESCRIPTION:Experience the magic of storytime with your child at the library. This interactive session includes stories\, songs and mark making activities for young children. Ideal for children aged 2-5 years.
URL:https://nicolejohnston.com.au/event/annerley-library-first-5-forever-childrens-storytime-20/
LOCATION:Annerley Library\, 469 Ipswich Rd\, Annerley\, Queensland\, 4103\, Australia
GEO:-27.5115338;153.0317863
X-APPLE-STRUCTURED-LOCATION;VALUE=URI;X-ADDRESS=Annerley Library 469 Ipswich Rd Annerley Queensland 4103 Australia;X-APPLE-RADIUS=500;X-TITLE=469 Ipswich Rd:geo:153.0317863,-27.5115338
END:VEVENT
BEGIN:VEVENT
DTSTART;TZID=Australia/Brisbane:20250325T100000
DTEND;TZID=Australia/Brisbane:20250325T110000
DTSTAMP:20260426T130225
CREATED:20241113T051127Z
LAST-MODIFIED:20250113T035933Z
UID:28802-1742896800-1742900400@nicolejohnston.com.au
SUMMARY:Sherwood | Meditation and Relaxation
DESCRIPTION:Bookings essential. Learn techniques and skills to assist with relaxation and relieve stress in daily life. No prior experience is required. \n\n\nThis is a GOLD event suitable for seniors. \n\n\nTo book email Sherwood Neighbourhood Centre. For more information phone 3379 6963.
URL:https://nicolejohnston.com.au/event/sherwood-meditation-and-relaxation/2025-03-25/
LOCATION:Sherwood Neighbourhood Centre\, 38 Thallon Street\, Sherwood\, Queensland\, 4075\, Australia
GEO:-27.53402;152.981098
X-APPLE-STRUCTURED-LOCATION;VALUE=URI;X-ADDRESS=Sherwood Neighbourhood Centre 38 Thallon Street Sherwood Queensland 4075 Australia;X-APPLE-RADIUS=500;X-TITLE=38 Thallon Street:geo:152.981098,-27.53402
END:VEVENT
BEGIN:VEVENT
DTSTART;TZID=Australia/Brisbane:20250326T083000
DTEND;TZID=Australia/Brisbane:20250326T093000
DTSTAMP:20260426T130225
CREATED:20241113T051229Z
LAST-MODIFIED:20250113T041343Z
UID:28775-1742977800-1742981400@nicolejohnston.com.au
SUMMARY:Yeronga | Yoga for Mobility
DESCRIPTION:A gentle movement class blended with yoga to improve your strength\, balance and posture. No floor work included. Suitable for all fitness levels. \nFor more information phone Cassie from Foxinsox Yoga on 0431 594 388.
URL:https://nicolejohnston.com.au/event/yeronga-yoga-for-mobility/2025-03-26/
LOCATION:John Walker Place\, 323 Brisbane Corso\, Yeronga\, QLD\, 4104\, Australia
END:VEVENT
BEGIN:VEVENT
DTSTART;TZID=Australia/Brisbane:20250326T090000
DTEND;TZID=Australia/Brisbane:20250326T110000
DTSTAMP:20260426T130225
CREATED:20250325T041245Z
LAST-MODIFIED:20250325T041245Z
UID:29370-1742979600-1742986800@nicolejohnston.com.au
SUMMARY:Sherwood | Sherwood Kindy Community Tree Planting Event
DESCRIPTION:
URL:https://nicolejohnston.com.au/event/sherwood-sherwood-kindy-community-tree-planting-event/
LOCATION:Hives Park\, 37 Quarry Rd\, Sherwood\, Qld\, 4075\, Australia
CATEGORIES:Community Event
ATTACH;FMTTYPE=image/png:https://nicolejohnston.com.au/wp-content/uploads/2025/03/Sherwood-Kindy-Tree-Planting-Event.png
END:VEVENT
BEGIN:VEVENT
DTSTART;TZID=Australia/Brisbane:20250326T093000
DTEND;TZID=Australia/Brisbane:20250326T100000
DTSTAMP:20260426T130225
CREATED:20250108T033758Z
LAST-MODIFIED:20250108T033758Z
UID:28982-1742981400-1742983200@nicolejohnston.com.au
SUMMARY:Fairfield Library | First 5 Forever Babies\, Books and Rhymes
DESCRIPTION:Meet other parents and babies for a fun session of singing\, clapping and dancing. Learn songs and action rhymes to nurture your baby’s pre-literacy\, communication\, language and social skills. Ideal for babies aged up to one year.
URL:https://nicolejohnston.com.au/event/fairfield-library-first-5-forever-babies-books-and-rhymes-27/
LOCATION:Fairfield Library\, Fairfield Gardens\, 180 Fairfield Rd\, Fairfield\, Queensland\, 4103\, Australia
GEO:-27.508752;153.025501
X-APPLE-STRUCTURED-LOCATION;VALUE=URI;X-ADDRESS=Fairfield Library Fairfield Gardens 180 Fairfield Rd Fairfield Queensland 4103 Australia;X-APPLE-RADIUS=500;X-TITLE=Fairfield Gardens\, 180 Fairfield Rd:geo:153.025501,-27.508752
END:VEVENT
BEGIN:VEVENT
DTSTART;TZID=Australia/Brisbane:20250326T103000
DTEND;TZID=Australia/Brisbane:20250326T110000
DTSTAMP:20260426T130225
CREATED:20250108T033916Z
LAST-MODIFIED:20250108T033916Z
UID:28984-1742985000-1742986800@nicolejohnston.com.au
SUMMARY:Fairfield Library | First 5 Forever Toddler Time
DESCRIPTION:Meet other parents and toddlers for a fun session of singing\, clapping and dancing. Learn action rhymes and songs which will help your child’s pre-literacy\, communication\, language and social skills. Ideal for babies and toddlers aged 1-2 years.
URL:https://nicolejohnston.com.au/event/fairfield-library-first-5-forever-toddler-time-20/
LOCATION:Fairfield Library\, Fairfield Gardens\, 180 Fairfield Rd\, Fairfield\, Queensland\, 4103\, Australia
GEO:-27.508752;153.025501
X-APPLE-STRUCTURED-LOCATION;VALUE=URI;X-ADDRESS=Fairfield Library Fairfield Gardens 180 Fairfield Rd Fairfield Queensland 4103 Australia;X-APPLE-RADIUS=500;X-TITLE=Fairfield Gardens\, 180 Fairfield Rd:geo:153.025501,-27.508752
END:VEVENT
BEGIN:VEVENT
DTSTART;TZID=Australia/Brisbane:20250326T130000
DTEND;TZID=Australia/Brisbane:20250326T140000
DTSTAMP:20260426T130225
CREATED:20250108T034012Z
LAST-MODIFIED:20250108T034012Z
UID:28986-1742994000-1742997600@nicolejohnston.com.au
SUMMARY:Fairfield Library | Book Chat
DESCRIPTION:In March\, read and discuss The Maid by Nita Prose.
URL:https://nicolejohnston.com.au/event/fairfield-library-book-chat-8/
LOCATION:Fairfield Library\, Fairfield Gardens\, 180 Fairfield Rd\, Fairfield\, Queensland\, 4103\, Australia
GEO:-27.508752;153.025501
X-APPLE-STRUCTURED-LOCATION;VALUE=URI;X-ADDRESS=Fairfield Library Fairfield Gardens 180 Fairfield Rd Fairfield Queensland 4103 Australia;X-APPLE-RADIUS=500;X-TITLE=Fairfield Gardens\, 180 Fairfield Rd:geo:153.025501,-27.508752
END:VEVENT
BEGIN:VEVENT
DTSTART;TZID=Australia/Brisbane:20250326T140000
DTEND;TZID=Australia/Brisbane:20250326T150000
DTSTAMP:20260426T130225
CREATED:20241113T053527Z
LAST-MODIFIED:20250113T040107Z
UID:28812-1742997600-1743001200@nicolejohnston.com.au
SUMMARY:Sherwood | GOLD Belly Dance
DESCRIPTION:Bookings essential. Enjoy gentle dance focused on fitness\, co-ordination\, flexibility\, relaxation and fun. Belly dance provides physical\, emotional and psychological benefits. Suitable for all levels.  Bring a belly dance belt if you have one. \nThis is a GOLD event suitable for seniors. \nBookings essential. To book email Sherwood Neighbourhood Centre. For more information phone 3379 6963.
URL:https://nicolejohnston.com.au/event/sherwood-belly-dance-3/2025-03-26/
LOCATION:Sherwood Neighbourhood Centre\, 38 Thallon Street\, Sherwood\, Queensland\, 4075\, Australia
GEO:-27.53402;152.981098
X-APPLE-STRUCTURED-LOCATION;VALUE=URI;X-ADDRESS=Sherwood Neighbourhood Centre 38 Thallon Street Sherwood Queensland 4075 Australia;X-APPLE-RADIUS=500;X-TITLE=38 Thallon Street:geo:152.981098,-27.53402
END:VEVENT
BEGIN:VEVENT
DTSTART;TZID=Australia/Brisbane:20250327T090000
DTEND;TZID=Australia/Brisbane:20250327T100000
DTSTAMP:20260426T130225
CREATED:20241113T053629Z
LAST-MODIFIED:20241113T053629Z
UID:29098-1743066000-1743069600@nicolejohnston.com.au
SUMMARY:Sherwood | Tai Chi Qigong
DESCRIPTION:This dynamic activity is invigorating and will help you feel relaxed\, refreshed and calm. Rejuvenate your body and learn to create a tranquil mind. Join any week. \nFor more information phone Julia from Minds Ease on 0412 362 338.
URL:https://nicolejohnston.com.au/event/sherwood-tai-chi-qigong-5/2025-03-27/
LOCATION:Sherwood Arboretum\, 57 Dewar Terrace\, Sherwood\, Queensland\, 4075\, Australia
GEO:-27.532253;152.977305
X-APPLE-STRUCTURED-LOCATION;VALUE=URI;X-ADDRESS=Sherwood Arboretum 57 Dewar Terrace Sherwood Queensland 4075 Australia;X-APPLE-RADIUS=500;X-TITLE=57 Dewar Terrace:geo:152.977305,-27.532253
END:VEVENT
BEGIN:VEVENT
DTSTART;TZID=Australia/Brisbane:20250327T090000
DTEND;TZID=Australia/Brisbane:20250327T100000
DTSTAMP:20260426T130225
CREATED:20241212T010414Z
LAST-MODIFIED:20241212T010414Z
UID:29082-1743066000-1743069600@nicolejohnston.com.au
SUMMARY:Oxley | Mums and Bubs Yoga
DESCRIPTION:A mum and bubs yoga class to connect with yourself\, your baby and others. Designed to support you post-natally\, gentle stretching and strengthening practices\, breathing exercises\, meditation. \nFor more information phone Nichola on 0406 574 454.
URL:https://nicolejohnston.com.au/event/oxley-mums-and-bubs-yoga-6/2025-03-27/
LOCATION:Nixon Park\, 929 Oxley Road\, OXLEY\, QLD\, 4075\, Australia
GEO:-27.552171;152.9789711
X-APPLE-STRUCTURED-LOCATION;VALUE=URI;X-ADDRESS=Nixon Park 929 Oxley Road OXLEY QLD 4075 Australia;X-APPLE-RADIUS=500;X-TITLE=929 Oxley Road:geo:152.9789711,-27.552171
END:VEVENT
END:VCALENDAR