BEGIN:VCALENDAR
VERSION:2.0
PRODID:-//Nicole Johnston - ECPv6.15.20//NONSGML v1.0//EN
CALSCALE:GREGORIAN
METHOD:PUBLISH
X-ORIGINAL-URL:https://nicolejohnston.com.au
X-WR-CALDESC:Events for Nicole Johnston
REFRESH-INTERVAL;VALUE=DURATION:PT1H
X-Robots-Tag:noindex
X-PUBLISHED-TTL:PT1H
BEGIN:VTIMEZONE
TZID:Australia/Brisbane
BEGIN:STANDARD
TZOFFSETFROM:+1000
TZOFFSETTO:+1000
TZNAME:AEST
DTSTART:20250101T000000
END:STANDARD
END:VTIMEZONE
BEGIN:VEVENT
DTSTART;TZID=Australia/Brisbane:20260421T070000
DTEND;TZID=Australia/Brisbane:20260421T090000
DTSTAMP:20260424T075234
CREATED:20260119T012619Z
LAST-MODIFIED:20260119T012619Z
UID:31724-1776754800-1776762000@nicolejohnston.com.au
SUMMARY:Rocklea | Oxley Creek Tuesday Common Carers
DESCRIPTION:Weeding and planting to improve habitat.  Tools provided. Contact Mary Lou on 0429 911 555.
URL:https://nicolejohnston.com.au/event/rocklea-oxley-creek-tuesday-common-carers/2026-04-21/
LOCATION:Oxley Creek Common\, 271 Sherwood Rd\, Rocklea\, Qld\, 4106\, Australia
ORGANIZER;CN="Friends of Oxley Creek Common":MAILTO:friendsofoxleycreekcommon@gmail.com
GEO:-27.535636;152.993047
X-APPLE-STRUCTURED-LOCATION;VALUE=URI;X-ADDRESS=Oxley Creek Common 271 Sherwood Rd Rocklea Qld 4106 Australia;X-APPLE-RADIUS=500;X-TITLE=271 Sherwood Rd:geo:152.993047,-27.535636
END:VEVENT
BEGIN:VEVENT
DTSTART;TZID=Australia/Brisbane:20260420T160000
DTEND;TZID=Australia/Brisbane:20260420T170000
DTSTAMP:20260424T075234
CREATED:20260302T041539Z
LAST-MODIFIED:20260302T041539Z
UID:32170-1776700800-1776704400@nicolejohnston.com.au
SUMMARY:Yeronga | Kids Sports
DESCRIPTION:Fun park games for the whole family to enjoy. \nNo bookings required. For more information phone Anthony from Kids Sports on 0414 872 299. \nMeet on the grassed area near the Yeronga Girl Guides building. Best parking is Villa Street or Frederick Street.
URL:https://nicolejohnston.com.au/event/yeronga-kids-sports-9/
LOCATION:Yeronga Memorial Park\, School Road\, Yeronga\, Queensland\, 4104\, Australia
GEO:-27.5212612;153.0201362
X-APPLE-STRUCTURED-LOCATION;VALUE=URI;X-ADDRESS=Yeronga Memorial Park School Road Yeronga Queensland 4104 Australia;X-APPLE-RADIUS=500;X-TITLE=School Road:geo:153.0201362,-27.5212612
END:VEVENT
BEGIN:VEVENT
DTSTART;TZID=Australia/Brisbane:20260420T111500
DTEND;TZID=Australia/Brisbane:20260420T121500
DTSTAMP:20260424T075234
CREATED:20260302T041440Z
LAST-MODIFIED:20260302T041440Z
UID:32168-1776683700-1776687300@nicolejohnston.com.au
SUMMARY:Sherwood | GOLD Yoga
DESCRIPTION:A supportive class designed to promote active\, healthy aging while calming the mind and body. Enjoy a mix of stretching\, breathing\, strength\, and balance exercises\, incorporating both standing poses and mat work. This gentle session is tailored to meet participants needs\, with no prior experience required. \nThis is a GOLD event suitable for seniors \nBookings essential. To book email Sherwood Neighbourhood Centre. For more information phone 07 3379 6963.
URL:https://nicolejohnston.com.au/event/sherwood-gold-yoga-30/
LOCATION:Sherwood Neighbourhood Centre\, 38 Thallon Street\, Sherwood\, Queensland\, 4075\, Australia
GEO:-27.53402;152.981098
X-APPLE-STRUCTURED-LOCATION;VALUE=URI;X-ADDRESS=Sherwood Neighbourhood Centre 38 Thallon Street Sherwood Queensland 4075 Australia;X-APPLE-RADIUS=500;X-TITLE=38 Thallon Street:geo:152.981098,-27.53402
END:VEVENT
BEGIN:VEVENT
DTSTART;TZID=Australia/Brisbane:20260420T110000
DTEND;TZID=Australia/Brisbane:20260420T113000
DTSTAMP:20260424T075234
CREATED:20260318T015810Z
LAST-MODIFIED:20260318T015810Z
UID:32306-1776682800-1776684600@nicolejohnston.com.au
SUMMARY:Annerley Library | First 5 Forever Children's Storytime
DESCRIPTION:Experience the magic of storytime with your child at the library. This interactive session includes stories\, songs and mark making activities for young children. Ideal for children aged 2-5 years.
URL:https://nicolejohnston.com.au/event/annerley-library-first-5-forever-childrens-storytime-57/
LOCATION:Annerley Library\, 469 Ipswich Rd\, Annerley\, Queensland\, 4103\, Australia
GEO:-27.5115338;153.0317863
X-APPLE-STRUCTURED-LOCATION;VALUE=URI;X-ADDRESS=Annerley Library 469 Ipswich Rd Annerley Queensland 4103 Australia;X-APPLE-RADIUS=500;X-TITLE=469 Ipswich Rd:geo:153.0317863,-27.5115338
END:VEVENT
BEGIN:VEVENT
DTSTART;TZID=Australia/Brisbane:20260420T091500
DTEND;TZID=Australia/Brisbane:20260420T094500
DTSTAMP:20260424T075234
CREATED:20260318T015712Z
LAST-MODIFIED:20260318T015712Z
UID:32304-1776676500-1776678300@nicolejohnston.com.au
SUMMARY:Annerley Library | First 5 Forever Toddler Time
DESCRIPTION:Meet other parents and toddlers for a fun session of singing\, clapping and dancing. Learn action rhymes and songs which will help your child’s pre-literacy\, communication\, language and social skills. Ideal for babies and toddlers aged 1-2 years.
URL:https://nicolejohnston.com.au/event/annerley-library-first-5-forever-toddler-time-67/
LOCATION:Annerley Library\, 469 Ipswich Rd\, Annerley\, Queensland\, 4103\, Australia
GEO:-27.5115338;153.0317863
X-APPLE-STRUCTURED-LOCATION;VALUE=URI;X-ADDRESS=Annerley Library 469 Ipswich Rd Annerley Queensland 4103 Australia;X-APPLE-RADIUS=500;X-TITLE=469 Ipswich Rd:geo:153.0317863,-27.5115338
END:VEVENT
BEGIN:VEVENT
DTSTART;TZID=Australia/Brisbane:20260420T090000
DTEND;TZID=Australia/Brisbane:20260420T093000
DTSTAMP:20260424T075234
CREATED:20260302T041333Z
LAST-MODIFIED:20260302T041333Z
UID:32166-1776675600-1776677400@nicolejohnston.com.au
SUMMARY:Yeronga | Billy Buddies Ball Sports
DESCRIPTION:This program is designed for kids aged 2-7 and serves as the home of Non-Contact Rugby League for children. At Billy Buddies\, they celebrate all sports not just Rugby League! Their programs focus on fun\, helping kids build social skills while learning the fundamentals of Rugby League and ball sports in general. \nMeet on the oval\, next to the playground. \nBookings essential. To book visit Billy’s Buddies. For more information email office@billysbuddies.com.au.
URL:https://nicolejohnston.com.au/event/yeronga-billy-buddies-ball-sports-2/
LOCATION:Hyde Rd Park\, Yeronga\, 331 Fairfield Rd\, Yeronga\, QLD\, 4104\, Australia
END:VEVENT
BEGIN:VEVENT
DTSTART;TZID=Australia/Brisbane:20260420T083000
DTEND;TZID=Australia/Brisbane:20260420T090000
DTSTAMP:20260424T075234
CREATED:20260302T041120Z
LAST-MODIFIED:20260302T041120Z
UID:32164-1776673800-1776675600@nicolejohnston.com.au
SUMMARY:Yeronga | Billy Buddies Ball Sports
DESCRIPTION:This program is designed for kids aged 2-7 and serves as the home of Non-Contact Rugby League for children. At Billy Buddies\, they celebrate all sports not just Rugby League! Their programs focus on fun\, helping kids build social skills while learning the fundamentals of Rugby League and ball sports in general. \nMeet on the oval\, next to the playground \nBookings essential. To book visit Billy’s Buddies. For more information email office@billysbuddies.com.au.
URL:https://nicolejohnston.com.au/event/yeronga-billy-buddies-ball-sports/
LOCATION:Hyde Rd Park\, Yeronga\, 331 Fairfield Rd\, Yeronga\, QLD\, 4104\, Australia
END:VEVENT
BEGIN:VEVENT
DTSTART;TZID=Australia/Brisbane:20260419T140000
DTEND;TZID=Australia/Brisbane:20260419T160000
DTSTAMP:20260424T075234
CREATED:20260119T012316Z
LAST-MODIFIED:20260119T012316Z
UID:31711-1776607200-1776614400@nicolejohnston.com.au
SUMMARY:Rocklea | OCCA Bushcare and Beer
DESCRIPTION:Bush care at the Oxley Creek Common followed by a free drink at Helios Brewing\, Palomar Road\, Yeerongpilly.
URL:https://nicolejohnston.com.au/event/rocklea-occa-bushcare-and-beer/2026-04-19/
LOCATION:Oxley Creek Common\, 271 Sherwood Rd\, Rocklea\, Qld\, 4106\, Australia
GEO:-27.535636;152.993047
X-APPLE-STRUCTURED-LOCATION;VALUE=URI;X-ADDRESS=Oxley Creek Common 271 Sherwood Rd Rocklea Qld 4106 Australia;X-APPLE-RADIUS=500;X-TITLE=271 Sherwood Rd:geo:152.993047,-27.535636
END:VEVENT
BEGIN:VEVENT
DTSTART;TZID=Australia/Brisbane:20260419T100000
DTEND;TZID=Australia/Brisbane:20260419T160000
DTSTAMP:20260424T075234
CREATED:20260413T031932Z
LAST-MODIFIED:20260413T031932Z
UID:32592-1776592800-1776614400@nicolejohnston.com.au
SUMMARY:Sherwood | HDG Artists Exhibition: '3 Hearts 3 Souls'
DESCRIPTION:
URL:https://nicolejohnston.com.au/event/sherwood-hdg-artists-exhibition-3-hearts-3-souls/2026-04-19/
LOCATION:Half Dozen Group of Artists Art Studio\, 37 Quarry Rd\, Sherwood\, Qld\, 4075\, Australia
CATEGORIES:Community Event
ATTACH;FMTTYPE=image/png:https://nicolejohnston.com.au/wp-content/uploads/2026/04/HDG-Artists-Exhibition-Flyer.png
GEO:-27.5354658;152.9803733
X-APPLE-STRUCTURED-LOCATION;VALUE=URI;X-ADDRESS=Half Dozen Group of Artists Art Studio 37 Quarry Rd Sherwood Qld 4075 Australia;X-APPLE-RADIUS=500;X-TITLE=37 Quarry Rd:geo:152.9803733,-27.5354658
END:VEVENT
BEGIN:VEVENT
DTSTART;TZID=Australia/Brisbane:20260419T100000
DTEND;TZID=Australia/Brisbane:20260419T160000
DTSTAMP:20260424T075234
CREATED:20260302T014904Z
LAST-MODIFIED:20260302T014904Z
UID:32149-1776592800-1776614400@nicolejohnston.com.au
SUMMARY:Sherwood | HDG Artists Exhibition 'Three Artists - Three Souls'
DESCRIPTION:Works by Robby Elder\, Pat Hunter and Joan Macnaught. All welcome.
URL:https://nicolejohnston.com.au/event/sherwood-hdg-artists-exhibition-three-artists-three-souls/2026-04-19/
LOCATION:Half Dozen Group of Artists Art Studio\, 37 Quarry Rd\, Sherwood\, Qld\, 4075\, Australia
GEO:-27.5354658;152.9803733
X-APPLE-STRUCTURED-LOCATION;VALUE=URI;X-ADDRESS=Half Dozen Group of Artists Art Studio 37 Quarry Rd Sherwood Qld 4075 Australia;X-APPLE-RADIUS=500;X-TITLE=37 Quarry Rd:geo:152.9803733,-27.5354658
END:VEVENT
BEGIN:VEVENT
DTSTART;TZID=Australia/Brisbane:20260418T100000
DTEND;TZID=Australia/Brisbane:20260418T160000
DTSTAMP:20260424T075234
CREATED:20260413T031932Z
LAST-MODIFIED:20260413T031933Z
UID:32589-1776506400-1776528000@nicolejohnston.com.au
SUMMARY:Sherwood | HDG Artists Exhibition: '3 Hearts 3 Souls'
DESCRIPTION:
URL:https://nicolejohnston.com.au/event/sherwood-hdg-artists-exhibition-3-hearts-3-souls/2026-04-18/
LOCATION:Half Dozen Group of Artists Art Studio\, 37 Quarry Rd\, Sherwood\, Qld\, 4075\, Australia
CATEGORIES:Community Event
ATTACH;FMTTYPE=image/png:https://nicolejohnston.com.au/wp-content/uploads/2026/04/HDG-Artists-Exhibition-Flyer.png
GEO:-27.5354658;152.9803733
X-APPLE-STRUCTURED-LOCATION;VALUE=URI;X-ADDRESS=Half Dozen Group of Artists Art Studio 37 Quarry Rd Sherwood Qld 4075 Australia;X-APPLE-RADIUS=500;X-TITLE=37 Quarry Rd:geo:152.9803733,-27.5354658
END:VEVENT
BEGIN:VEVENT
DTSTART;TZID=Australia/Brisbane:20260418T100000
DTEND;TZID=Australia/Brisbane:20260418T160000
DTSTAMP:20260424T075234
CREATED:20260302T014904Z
LAST-MODIFIED:20260302T014904Z
UID:32148-1776506400-1776528000@nicolejohnston.com.au
SUMMARY:Sherwood | HDG Artists Exhibition 'Three Artists - Three Souls'
DESCRIPTION:Works by Robby Elder\, Pat Hunter and Joan Macnaught. All welcome.
URL:https://nicolejohnston.com.au/event/sherwood-hdg-artists-exhibition-three-artists-three-souls/2026-04-18/
LOCATION:Half Dozen Group of Artists Art Studio\, 37 Quarry Rd\, Sherwood\, Qld\, 4075\, Australia
GEO:-27.5354658;152.9803733
X-APPLE-STRUCTURED-LOCATION;VALUE=URI;X-ADDRESS=Half Dozen Group of Artists Art Studio 37 Quarry Rd Sherwood Qld 4075 Australia;X-APPLE-RADIUS=500;X-TITLE=37 Quarry Rd:geo:152.9803733,-27.5354658
END:VEVENT
BEGIN:VEVENT
DTSTART;TZID=Australia/Brisbane:20260417T143000
DTEND;TZID=Australia/Brisbane:20260417T154500
DTSTAMP:20260424T075234
CREATED:20260318T015453Z
LAST-MODIFIED:20260318T015453Z
UID:32301-1776436200-1776440700@nicolejohnston.com.au
SUMMARY:Annerley Library | Brick Builders Code Club
DESCRIPTION:Join in the school holiday fun at your local library! Bring your friends and family for fun games and activities exploring emerging technologies\, robotics\, coding\, science\, communication and art. Ideal for children aged 8–12. \nBookings required. Phone Annerley Library on 07 3403 1735 to reserve your place.
URL:https://nicolejohnston.com.au/event/annerley-library-brick-builders-code-club/
LOCATION:Annerley Library\, 469 Ipswich Rd\, Annerley\, Queensland\, 4103\, Australia
GEO:-27.5115338;153.0317863
X-APPLE-STRUCTURED-LOCATION;VALUE=URI;X-ADDRESS=Annerley Library 469 Ipswich Rd Annerley Queensland 4103 Australia;X-APPLE-RADIUS=500;X-TITLE=469 Ipswich Rd:geo:153.0317863,-27.5115338
END:VEVENT
BEGIN:VEVENT
DTSTART;TZID=Australia/Brisbane:20260417T091500
DTEND;TZID=Australia/Brisbane:20260417T094500
DTSTAMP:20260424T075234
CREATED:20260318T015225Z
LAST-MODIFIED:20260318T015225Z
UID:32299-1776417300-1776419100@nicolejohnston.com.au
SUMMARY:Annerley Library | First 5 Forever Babies\, Books and Rhymes
DESCRIPTION:Meet other parents and babies for a fun rhyme time session of singing\, clapping and dancing. Learn songs and action rhymes to nurture your baby’s pre-literacy\, communication\, language and social skills. Ideal for babies aged up to one year.
URL:https://nicolejohnston.com.au/event/annerley-library-first-5-forever-babies-books-and-rhymes-67/
LOCATION:Annerley Library\, 469 Ipswich Rd\, Annerley\, Queensland\, 4103\, Australia
GEO:-27.5115338;153.0317863
X-APPLE-STRUCTURED-LOCATION;VALUE=URI;X-ADDRESS=Annerley Library 469 Ipswich Rd Annerley Queensland 4103 Australia;X-APPLE-RADIUS=500;X-TITLE=469 Ipswich Rd:geo:153.0317863,-27.5115338
END:VEVENT
BEGIN:VEVENT
DTSTART;TZID=Australia/Brisbane:20260417T091500
DTEND;TZID=Australia/Brisbane:20260417T094500
DTSTAMP:20260424T075234
CREATED:20260318T015122Z
LAST-MODIFIED:20260318T015122Z
UID:32297-1776417300-1776419100@nicolejohnston.com.au
SUMMARY:Corinda Library | First 5 Forever Babies\, Books and Rhymes
DESCRIPTION:Meet other parents and babies for a fun rhyme time session of singing\, clapping and dancing. Learn songs and action rhymes to nurture your baby’s pre-literacy\, communication\, language and social skills. Ideal for babies aged up to one year.
URL:https://nicolejohnston.com.au/event/corinda-library-first-5-forever-babies-books-and-rhymes-68/
LOCATION:Corinda Library\, 641 Oxley Road\, Corinda\, Queensland\, 4075\, Australia
GEO:-27.538881;152.98142
X-APPLE-STRUCTURED-LOCATION;VALUE=URI;X-ADDRESS=Corinda Library 641 Oxley Road Corinda Queensland 4075 Australia;X-APPLE-RADIUS=500;X-TITLE=641 Oxley Road:geo:152.98142,-27.538881
END:VEVENT
BEGIN:VEVENT
DTSTART;TZID=Australia/Brisbane:20260416T180000
DTEND;TZID=Australia/Brisbane:20260416T190000
DTSTAMP:20260424T075234
CREATED:20260318T015013Z
LAST-MODIFIED:20260318T015013Z
UID:32295-1776362400-1776366000@nicolejohnston.com.au
SUMMARY:Fairfield Library | Evening Book Club
DESCRIPTION:In April\, read and discuss Limberlost by Robbie Arnott. In May\, read and discuss A Minute to Midnight by David Baldacci.
URL:https://nicolejohnston.com.au/event/fairfield-library-evening-book-club-16/
LOCATION:Fairfield Library\, Fairfield Gardens\, 180 Fairfield Rd\, Fairfield\, Queensland\, 4103\, Australia
GEO:-27.508752;153.025501
X-APPLE-STRUCTURED-LOCATION;VALUE=URI;X-ADDRESS=Fairfield Library Fairfield Gardens 180 Fairfield Rd Fairfield Queensland 4103 Australia;X-APPLE-RADIUS=500;X-TITLE=Fairfield Gardens\, 180 Fairfield Rd:geo:153.025501,-27.508752
END:VEVENT
BEGIN:VEVENT
DTSTART;TZID=Australia/Brisbane:20260416T140000
DTEND;TZID=Australia/Brisbane:20260416T150000
DTSTAMP:20260424T075234
CREATED:20260318T014754Z
LAST-MODIFIED:20260318T014754Z
UID:32293-1776348000-1776351600@nicolejohnston.com.au
SUMMARY:Corinda Library | Tea and Trivia
DESCRIPTION:Enjoy an afternoon of fun by making friends and testing your knowledge with trivia questions. Individuals and groups welcome. \nBookings required. Phone Corinda Library on 07 3407 7701 to reserve your place.
URL:https://nicolejohnston.com.au/event/corinda-library-tea-and-trivia-8/
LOCATION:Corinda Library\, 641 Oxley Road\, Corinda\, Queensland\, 4075\, Australia
GEO:-27.538881;152.98142
X-APPLE-STRUCTURED-LOCATION;VALUE=URI;X-ADDRESS=Corinda Library 641 Oxley Road Corinda Queensland 4075 Australia;X-APPLE-RADIUS=500;X-TITLE=641 Oxley Road:geo:152.98142,-27.538881
END:VEVENT
BEGIN:VEVENT
DTSTART;TZID=Australia/Brisbane:20260416T110000
DTEND;TZID=Australia/Brisbane:20260416T120000
DTSTAMP:20260424T075234
CREATED:20260318T014703Z
LAST-MODIFIED:20260318T014703Z
UID:32291-1776337200-1776340800@nicolejohnston.com.au
SUMMARY:Fairfield Library | Intelino STEAM Train Adventure
DESCRIPTION:Join in the school holiday fun at your local library! Jump onboard Intelino\, our innovative smart train! Enjoy this interactive event where you can program Intelino to  navigate fun coding challenges. Ideal for children aged 5–8 years.  A BNEtechkids workshop. \nBookings required. Phone Fairfield Library on 07 3403 8615 to reserve your place.
URL:https://nicolejohnston.com.au/event/fairfield-library-intelino-steam-train-adventure/
LOCATION:Fairfield Library\, Fairfield Gardens\, 180 Fairfield Rd\, Fairfield\, Queensland\, 4103\, Australia
GEO:-27.508752;153.025501
X-APPLE-STRUCTURED-LOCATION;VALUE=URI;X-ADDRESS=Fairfield Library Fairfield Gardens 180 Fairfield Rd Fairfield Queensland 4103 Australia;X-APPLE-RADIUS=500;X-TITLE=Fairfield Gardens\, 180 Fairfield Rd:geo:153.025501,-27.508752
END:VEVENT
BEGIN:VEVENT
DTSTART;TZID=Australia/Brisbane:20260416T091500
DTEND;TZID=Australia/Brisbane:20260416T094500
DTSTAMP:20260424T075234
CREATED:20260318T014509Z
LAST-MODIFIED:20260318T014509Z
UID:32289-1776330900-1776332700@nicolejohnston.com.au
SUMMARY:Corinda Library | First 5 Forever Toddler Time
DESCRIPTION:Meet other parents and toddlers for a fun session of singing\, clapping and dancing. Learn action rhymes and songs which will help your child’s pre-literacy\, communication\, language and social skills. Ideal for babies and toddlers aged 1-2 years.
URL:https://nicolejohnston.com.au/event/corinda-library-first-5-forever-toddler-time-69/
LOCATION:Corinda Library\, 641 Oxley Road\, Corinda\, Queensland\, 4075\, Australia
GEO:-27.538881;152.98142
X-APPLE-STRUCTURED-LOCATION;VALUE=URI;X-ADDRESS=Corinda Library 641 Oxley Road Corinda Queensland 4075 Australia;X-APPLE-RADIUS=500;X-TITLE=641 Oxley Road:geo:152.98142,-27.538881
END:VEVENT
BEGIN:VEVENT
DTSTART;TZID=Australia/Brisbane:20260416T070000
DTEND;TZID=Australia/Brisbane:20260416T090000
DTSTAMP:20260424T075234
CREATED:20260119T014857Z
LAST-MODIFIED:20260119T020253Z
UID:31773-1776322800-1776330000@nicolejohnston.com.au
SUMMARY:Corinda | Creekcare: Blackheath Rd Park
DESCRIPTION:OCCA’s CreekCare Team is a roving group of volunteers that assists both OCCA Bushcare and Habitat Brisbane groups in Oxley Creek Catchment. The group meets at different regeneration sites each Thursday morning from 7 am to 9 am. \nCome along and enjoy the company of this hard working group of volunteers\, contribute to the maintenance of some significant sites in the catchment and share in morning tea. \nIf you are interested in being involved\, please contact the coordinator: Trevor Armstrong on 0414 691 264 or trevor.r.armstrong@gmail.com to confirm details of the next group.
URL:https://nicolejohnston.com.au/event/corinda-creekcare-blackheath-rd-park/2026-04-16/
LOCATION:Blackheath Road Park\, Corinda\, 154 Blackheath Rd\, Corinda\, Queensland\, 4075\, Australia
ORGANIZER;CN="Blackheath Road Park Bushcare Group":MAILTO:davojk22@gmail.com
END:VEVENT
BEGIN:VEVENT
DTSTART;TZID=Australia/Brisbane:20260415T130000
DTEND;TZID=Australia/Brisbane:20260415T150000
DTSTAMP:20260424T075234
CREATED:20260318T014247Z
LAST-MODIFIED:20260318T014247Z
UID:32287-1776258000-1776265200@nicolejohnston.com.au
SUMMARY:Corinda Library | Exploring Ancestry.com
DESCRIPTION:Learn how to search the genealogical records and use family history tools available in Ancestry.com\, the world’s  largest online family history resource. Presented by the Genealogical Society of Queensland. \nBookings required. Phone Corinda Library on 07 3407 7701 to reserve your place.
URL:https://nicolejohnston.com.au/event/corinda-library-exploring-ancestry-com/
LOCATION:Corinda Library\, 641 Oxley Road\, Corinda\, Queensland\, 4075\, Australia
GEO:-27.538881;152.98142
X-APPLE-STRUCTURED-LOCATION;VALUE=URI;X-ADDRESS=Corinda Library 641 Oxley Road Corinda Queensland 4075 Australia;X-APPLE-RADIUS=500;X-TITLE=641 Oxley Road:geo:152.98142,-27.538881
END:VEVENT
BEGIN:VEVENT
DTSTART;TZID=Australia/Brisbane:20260415T103000
DTEND;TZID=Australia/Brisbane:20260415T110000
DTSTAMP:20260424T075234
CREATED:20260318T014147Z
LAST-MODIFIED:20260318T014147Z
UID:32285-1776249000-1776250800@nicolejohnston.com.au
SUMMARY:Fairfield Library | First 5 Forever Toddler Time
DESCRIPTION:Meet other parents and toddlers for a fun session of singing\, clapping and dancing. Learn action rhymes and songs which will help your child’s pre-literacy\, communication\, language and social skills. Ideal for babies and toddlers aged 1-2 years.
URL:https://nicolejohnston.com.au/event/fairfield-library-first-5-forever-toddler-time-66/
LOCATION:Fairfield Library\, Fairfield Gardens\, 180 Fairfield Rd\, Fairfield\, Queensland\, 4103\, Australia
GEO:-27.508752;153.025501
X-APPLE-STRUCTURED-LOCATION;VALUE=URI;X-ADDRESS=Fairfield Library Fairfield Gardens 180 Fairfield Rd Fairfield Queensland 4103 Australia;X-APPLE-RADIUS=500;X-TITLE=Fairfield Gardens\, 180 Fairfield Rd:geo:153.025501,-27.508752
END:VEVENT
BEGIN:VEVENT
DTSTART;TZID=Australia/Brisbane:20260415T093000
DTEND;TZID=Australia/Brisbane:20260415T110000
DTSTAMP:20260424T075234
CREATED:20260129T022107Z
LAST-MODIFIED:20260129T022107Z
UID:32076-1776245400-1776250800@nicolejohnston.com.au
SUMMARY:Graceville | GOLD'n'Kids Lawn Bowls for the Young and Young at Heart
DESCRIPTION:Bookings essential. Learn to play lawn bowlswith your grandchild in a fun environment. You must wear flat soled shoes or be barefoot. This is a GOLD’n’Kids event suitable for seniors and young people 6 years and over. \nTo book Phone or text David on 0407 894 727 or email dschonfe@bigpond.net.au
URL:https://nicolejohnston.com.au/event/graceville-goldnkids-lawn-bowls-for-the-young-and-young-at-heart/
LOCATION:Graceville Bowls Club\, 16 Wylie St\, Graceville\, Qld\, 4075\, Australia
END:VEVENT
BEGIN:VEVENT
DTSTART;TZID=Australia/Brisbane:20260415T093000
DTEND;TZID=Australia/Brisbane:20260415T100000
DTSTAMP:20260424T075234
CREATED:20260318T014050Z
LAST-MODIFIED:20260318T014050Z
UID:32283-1776245400-1776247200@nicolejohnston.com.au
SUMMARY:Fairfield Library | First 5 Forever Babies\, Books and Rhymes
DESCRIPTION:Meet other parents and babies for a fun rhyme time session of singing\, clapping and dancing. Learn songs and action rhymes to nurture your baby’s pre-literacy\, communication\, language and social skills. Ideal for babies aged up to one year.
URL:https://nicolejohnston.com.au/event/fairfield-library-first-5-forever-babies-books-and-rhymes-72/
LOCATION:Fairfield Library\, Fairfield Gardens\, 180 Fairfield Rd\, Fairfield\, Queensland\, 4103\, Australia
GEO:-27.508752;153.025501
X-APPLE-STRUCTURED-LOCATION;VALUE=URI;X-ADDRESS=Fairfield Library Fairfield Gardens 180 Fairfield Rd Fairfield Queensland 4103 Australia;X-APPLE-RADIUS=500;X-TITLE=Fairfield Gardens\, 180 Fairfield Rd:geo:153.025501,-27.508752
END:VEVENT
BEGIN:VEVENT
DTSTART;TZID=Australia/Brisbane:20260414T070000
DTEND;TZID=Australia/Brisbane:20260414T090000
DTSTAMP:20260424T075234
CREATED:20260119T012619Z
LAST-MODIFIED:20260119T012619Z
UID:31722-1776150000-1776157200@nicolejohnston.com.au
SUMMARY:Rocklea | Oxley Creek Tuesday Common Carers
DESCRIPTION:Weeding and planting to improve habitat.  Tools provided. Contact Mary Lou on 0429 911 555.
URL:https://nicolejohnston.com.au/event/rocklea-oxley-creek-tuesday-common-carers/2026-04-14/
LOCATION:Oxley Creek Common\, 271 Sherwood Rd\, Rocklea\, Qld\, 4106\, Australia
ORGANIZER;CN="Friends of Oxley Creek Common":MAILTO:friendsofoxleycreekcommon@gmail.com
GEO:-27.535636;152.993047
X-APPLE-STRUCTURED-LOCATION;VALUE=URI;X-ADDRESS=Oxley Creek Common 271 Sherwood Rd Rocklea Qld 4106 Australia;X-APPLE-RADIUS=500;X-TITLE=271 Sherwood Rd:geo:152.993047,-27.535636
END:VEVENT
BEGIN:VEVENT
DTSTART;TZID=Australia/Brisbane:20260413T154000
DTEND;TZID=Australia/Brisbane:20260413T162500
DTSTAMP:20260424T075234
CREATED:20260129T021944Z
LAST-MODIFIED:20260129T021944Z
UID:32074-1776094800-1776097500@nicolejohnston.com.au
SUMMARY:Oxley | Fun Soccer for 9-12 Years
DESCRIPTION:Bookings essential. This program offers an engaging and fun introduction to soccer. It’s designed to develop fundamental soccer skills such as dribbling\, passing\, shooting\, and teamwork\, while also emphasising the importance of sportsmanship and fair play. This is a Chillout event suitable for young people 9-12 years. \nTo book visit Quest Football Academy. For more information email us at info@questfa.com.au.
URL:https://nicolejohnston.com.au/event/oxley-fun-soccer-for-9-12-years-3/
LOCATION:Nixon Park\, 929 Oxley Road\, OXLEY\, QLD\, 4075\, Australia
GEO:-27.552171;152.9789711
X-APPLE-STRUCTURED-LOCATION;VALUE=URI;X-ADDRESS=Nixon Park 929 Oxley Road OXLEY QLD 4075 Australia;X-APPLE-RADIUS=500;X-TITLE=929 Oxley Road:geo:152.9789711,-27.552171
END:VEVENT
BEGIN:VEVENT
DTSTART;TZID=Australia/Brisbane:20260413T150500
DTEND;TZID=Australia/Brisbane:20260413T153500
DTSTAMP:20260424T075234
CREATED:20260129T021846Z
LAST-MODIFIED:20260129T021846Z
UID:32072-1776092700-1776094500@nicolejohnston.com.au
SUMMARY:Oxley | Fun Soccer for 7-8 Years
DESCRIPTION:Bookings essential. This program offers an engaging and fun introduction to soccer. It’s designed to develop fundamental soccer skills such as dribbling\, passing\, shooting\, and teamwork\, while also emphasising the importance of sportsmanship and fair play. This is a Chillout event suitable for young people 7-8 years. \nTo book visit Quest Football Academy. For more information email us at info@questfa.com.au.
URL:https://nicolejohnston.com.au/event/oxley-fun-soccer-for-7-8-years-2/
LOCATION:Nixon Park\, 929 Oxley Road\, OXLEY\, QLD\, 4075\, Australia
GEO:-27.552171;152.9789711
X-APPLE-STRUCTURED-LOCATION;VALUE=URI;X-ADDRESS=Nixon Park 929 Oxley Road OXLEY QLD 4075 Australia;X-APPLE-RADIUS=500;X-TITLE=929 Oxley Road:geo:152.9789711,-27.552171
END:VEVENT
BEGIN:VEVENT
DTSTART;TZID=Australia/Brisbane:20260413T143000
DTEND;TZID=Australia/Brisbane:20260413T150000
DTSTAMP:20260424T075234
CREATED:20260129T021743Z
LAST-MODIFIED:20260129T021743Z
UID:32070-1776090600-1776092400@nicolejohnston.com.au
SUMMARY:Oxley | Fun Soccer for 5-6 Years
DESCRIPTION:Bookings essential. This program offers an engaging and fun introduction to soccer. It’s designed to develop fundamental soccer skills such as dribbling\, passing\, shooting\, and teamwork\, while also emphasising the importance of sportsmanship and fair play. This is a Chillout event suitable for young people 5-6 years. \nTo book visit Quest Football Academy. For more information email us at info@questfa.com.au. \nOn the grassed area near the playground.
URL:https://nicolejohnston.com.au/event/oxley-fun-soccer-for-5-6-years-2/
LOCATION:Nixon Park\, 929 Oxley Road\, OXLEY\, QLD\, 4075\, Australia
GEO:-27.552171;152.9789711
X-APPLE-STRUCTURED-LOCATION;VALUE=URI;X-ADDRESS=Nixon Park 929 Oxley Road OXLEY QLD 4075 Australia;X-APPLE-RADIUS=500;X-TITLE=929 Oxley Road:geo:152.9789711,-27.552171
END:VEVENT
BEGIN:VEVENT
DTSTART;TZID=Australia/Brisbane:20260413T110000
DTEND;TZID=Australia/Brisbane:20260413T113000
DTSTAMP:20260424T075234
CREATED:20260318T013946Z
LAST-MODIFIED:20260318T013946Z
UID:32281-1776078000-1776079800@nicolejohnston.com.au
SUMMARY:Annerley Library | First 5 Forever Children's Storytime
DESCRIPTION:Experience the magic of storytime with your child at the library. This interactive session includes stories\, songs and mark making activities for young children. Ideal for children aged 2-5 years.
URL:https://nicolejohnston.com.au/event/annerley-library-first-5-forever-childrens-storytime-56/
LOCATION:Annerley Library\, 469 Ipswich Rd\, Annerley\, Queensland\, 4103\, Australia
GEO:-27.5115338;153.0317863
X-APPLE-STRUCTURED-LOCATION;VALUE=URI;X-ADDRESS=Annerley Library 469 Ipswich Rd Annerley Queensland 4103 Australia;X-APPLE-RADIUS=500;X-TITLE=469 Ipswich Rd:geo:153.0317863,-27.5115338
END:VEVENT
BEGIN:VEVENT
DTSTART;TZID=Australia/Brisbane:20260413T091500
DTEND;TZID=Australia/Brisbane:20260413T094500
DTSTAMP:20260424T075234
CREATED:20260318T013753Z
LAST-MODIFIED:20260318T013753Z
UID:32279-1776071700-1776073500@nicolejohnston.com.au
SUMMARY:Annerley Library | First 5 Forever Toddler Time
DESCRIPTION:Meet other parents and toddlers for a fun session of singing\, clapping and dancing. Learn action rhymes and songs which will help your child’s pre-literacy\, communication\, language and social skills. Ideal for babies and toddlers aged 1-2 years.
URL:https://nicolejohnston.com.au/event/annerley-library-first-5-forever-toddler-time-66/
LOCATION:Annerley Library\, 469 Ipswich Rd\, Annerley\, Queensland\, 4103\, Australia
GEO:-27.5115338;153.0317863
X-APPLE-STRUCTURED-LOCATION;VALUE=URI;X-ADDRESS=Annerley Library 469 Ipswich Rd Annerley Queensland 4103 Australia;X-APPLE-RADIUS=500;X-TITLE=469 Ipswich Rd:geo:153.0317863,-27.5115338
END:VEVENT
END:VCALENDAR