BEGIN:VCALENDAR
VERSION:2.0
PRODID:-//Nicole Johnston - ECPv6.15.20//NONSGML v1.0//EN
CALSCALE:GREGORIAN
METHOD:PUBLISH
X-WR-CALNAME:Nicole Johnston
X-ORIGINAL-URL:https://nicolejohnston.com.au
X-WR-CALDESC:Events for Nicole Johnston
REFRESH-INTERVAL;VALUE=DURATION:PT1H
X-Robots-Tag:noindex
X-PUBLISHED-TTL:PT1H
BEGIN:VTIMEZONE
TZID:Australia/Brisbane
BEGIN:STANDARD
TZOFFSETFROM:+1000
TZOFFSETTO:+1000
TZNAME:AEST
DTSTART:20170101T000000
END:STANDARD
END:VTIMEZONE
BEGIN:VEVENT
DTSTART;TZID=Australia/Brisbane:20180510T100000
DTEND;TZID=Australia/Brisbane:20180510T103000
DTSTAMP:20260425T222103
CREATED:20180504T013049Z
LAST-MODIFIED:20180504T013049Z
UID:16304-1525946400-1525948200@nicolejohnston.com.au
SUMMARY:Guided Meditation | Yeronga Community Centre
DESCRIPTION:This is a volunteer-led meditation group to help bring you some calm.
URL:https://nicolejohnston.com.au/event/guided-meditation-yeronga-community-centre-2/2018-05-10/
LOCATION:Yeronga Community Centre\, 62 Park Rd\, Yeronga\, Queensland\, 4103\, Australia
GEO:-27.5178214;153.0308084
X-APPLE-STRUCTURED-LOCATION;VALUE=URI;X-ADDRESS=Yeronga Community Centre 62 Park Rd Yeronga Queensland 4103 Australia;X-APPLE-RADIUS=500;X-TITLE=62 Park Rd:geo:153.0308084,-27.5178214
END:VEVENT
BEGIN:VEVENT
DTSTART;TZID=Australia/Brisbane:20180510T103000
DTEND;TZID=Australia/Brisbane:20180510T123000
DTSTAMP:20260425T222103
CREATED:20180504T014819Z
LAST-MODIFIED:20180504T014819Z
UID:16508-1525948200-1525955400@nicolejohnston.com.au
SUMMARY:Art Group | Yeronga Community Centre
DESCRIPTION:Painting class with an experienced art teacher.
URL:https://nicolejohnston.com.au/event/art-group-yeronga-community-centre/2018-05-10/
LOCATION:Yeronga Community Centre\, 62 Park Rd\, Yeronga\, Queensland\, 4103\, Australia
GEO:-27.5178214;153.0308084
X-APPLE-STRUCTURED-LOCATION;VALUE=URI;X-ADDRESS=Yeronga Community Centre 62 Park Rd Yeronga Queensland 4103 Australia;X-APPLE-RADIUS=500;X-TITLE=62 Park Rd:geo:153.0308084,-27.5178214
END:VEVENT
BEGIN:VEVENT
DTSTART;TZID=Australia/Brisbane:20180510T130000
DTEND;TZID=Australia/Brisbane:20180510T150000
DTSTAMP:20260425T222103
CREATED:20180424T061448Z
LAST-MODIFIED:20180424T061448Z
UID:15391-1525957200-1525964400@nicolejohnston.com.au
SUMMARY:Corinda | Internet skills one for seniors
DESCRIPTION:Learn how to find your way around the internet safely\, save your favourite websites\, search for information and use Google to help you find answers. Basic computer skills are required. Bookings essential.
URL:https://nicolejohnston.com.au/event/corinda-internet-skills-one-for-seniors/
LOCATION:Corinda Library\, 641 Oxley Road\, Corinda\, Queensland\, 4075\, Australia
GEO:-27.538881;152.98142
X-APPLE-STRUCTURED-LOCATION;VALUE=URI;X-ADDRESS=Corinda Library 641 Oxley Road Corinda Queensland 4075 Australia;X-APPLE-RADIUS=500;X-TITLE=641 Oxley Road:geo:152.98142,-27.538881
END:VEVENT
BEGIN:VEVENT
DTSTART;TZID=Australia/Brisbane:20180511T130000
DTEND;TZID=Australia/Brisbane:20180511T150000
DTSTAMP:20260425T222103
CREATED:20180424T061525Z
LAST-MODIFIED:20180424T061525Z
UID:15393-1526043600-1526050800@nicolejohnston.com.au
SUMMARY:Corinda | Internet skills two for seniors
DESCRIPTION:Build on your basic internet skills by learning search strategies\, information evaluation techniques and exploring a range of interesting and useful online resources. Basic computer and internet skills are required. Bookings essential.
URL:https://nicolejohnston.com.au/event/corinda-internet-skills-two-for-seniors/
LOCATION:Corinda Library\, 641 Oxley Road\, Corinda\, Queensland\, 4075\, Australia
GEO:-27.538881;152.98142
X-APPLE-STRUCTURED-LOCATION;VALUE=URI;X-ADDRESS=Corinda Library 641 Oxley Road Corinda Queensland 4075 Australia;X-APPLE-RADIUS=500;X-TITLE=641 Oxley Road:geo:152.98142,-27.538881
END:VEVENT
BEGIN:VEVENT
DTSTART;TZID=Australia/Brisbane:20180511T140000
DTEND;TZID=Australia/Brisbane:20180511T153000
DTSTAMP:20260425T222103
CREATED:20180504T003225Z
LAST-MODIFIED:20180504T003225Z
UID:16068-1526047200-1526052600@nicolejohnston.com.au
SUMMARY:Fairfield | Internet skills one
DESCRIPTION:Learn how to find your way around the internet safely\, save your favourite websites\, search for information and use Google to help you find answers. Basic computer skills are required. Bookings essential.
URL:https://nicolejohnston.com.au/event/fairfield-internet-skills-one-5/
LOCATION:Fairfield Library\, Fairfield Gardens\, 180 Fairfield Rd\, Fairfield\, Queensland\, 4103\, Australia
GEO:-27.508752;153.025501
X-APPLE-STRUCTURED-LOCATION;VALUE=URI;X-ADDRESS=Fairfield Library Fairfield Gardens 180 Fairfield Rd Fairfield Queensland 4103 Australia;X-APPLE-RADIUS=500;X-TITLE=Fairfield Gardens\, 180 Fairfield Rd:geo:153.025501,-27.508752
END:VEVENT
BEGIN:VEVENT
DTSTART;TZID=Australia/Brisbane:20180512T083000
DTEND;TZID=Australia/Brisbane:20180512T160000
DTSTAMP:20260425T222103
CREATED:20180503T041806Z
LAST-MODIFIED:20180503T041815Z
UID:16066-1526113800-1526140800@nicolejohnston.com.au
SUMMARY:Sherwood State School Fete
DESCRIPTION:The Sherwood State School Fete is on again on Saturday 12 May from 8.30am – 4pm. For more information on fete details or how you can contribute\, please contact Sherwood State School on 3716 2111.
URL:https://nicolejohnston.com.au/event/sherwood-state-school-fete/
LOCATION:Sherwood State School\, 464 Oxley Rd\, Sherwood\, Qld\, 4075\, Australia
GEO:-27.5317202;152.9831449
X-APPLE-STRUCTURED-LOCATION;VALUE=URI;X-ADDRESS=Sherwood State School 464 Oxley Rd Sherwood Qld 4075 Australia;X-APPLE-RADIUS=500;X-TITLE=464 Oxley Rd:geo:152.9831449,-27.5317202
END:VEVENT
BEGIN:VEVENT
DTSTART;TZID=Australia/Brisbane:20180512T140000
DTEND;TZID=Australia/Brisbane:20180512T150000
DTSTAMP:20260425T222103
CREATED:20180424T061603Z
LAST-MODIFIED:20180424T061603Z
UID:15395-1526133600-1526137200@nicolejohnston.com.au
SUMMARY:Corinda | Second Saturday book club
DESCRIPTION:For May\, discuss The Avenue of Mysteries by John Irving. Please contact the library for further information. Bookings essential.
URL:https://nicolejohnston.com.au/event/corinda-second-saturday-book-club-5/
LOCATION:Corinda Library\, 641 Oxley Road\, Corinda\, Queensland\, 4075\, Australia
GEO:-27.538881;152.98142
X-APPLE-STRUCTURED-LOCATION;VALUE=URI;X-ADDRESS=Corinda Library 641 Oxley Road Corinda Queensland 4075 Australia;X-APPLE-RADIUS=500;X-TITLE=641 Oxley Road:geo:152.98142,-27.538881
END:VEVENT
BEGIN:VEVENT
DTSTART;TZID=Australia/Brisbane:20180512T140000
DTEND;TZID=Australia/Brisbane:20180512T160000
DTSTAMP:20260425T222103
CREATED:20180504T015552Z
LAST-MODIFIED:20180504T015552Z
UID:16637-1526133600-1526140800@nicolejohnston.com.au
SUMMARY:Yeronga | Building a No-Dig Garden
DESCRIPTION:Come to this workshop on Saturday\, May 12 from 2:00pm – 4:00pm at the Yeronga Community Gardens\, cnr Taunton and Oakwood Streets\, Yeronga. \n  \nCelebrate International Compost Awareness Week at this interactive workshop. Contribute to making a no-dig garden out of recycled timber and compost from the Community Compost Hub.  Learn some skills to make your own raised garden bed at home. \nPlease wear a hat\, a long sleeve shirt and closed in shoes. The workshop is facilitated by Tim Davies from All You Can Eat Gardens. Bookings are required. Phone Brisbane City Council on 3403 8888.
URL:https://nicolejohnston.com.au/event/yeronga-building-a-no-dig-garden/
LOCATION:Yeronga State High School\, 159 Villa St\, Yeronga\, Qld\, 4104\, Australia
ORGANIZER;CN="Yeronga Community Gardens":MAILTO:yerongacommunitygardens@outlook.com
GEO:-27.5175391;153.0210749
X-APPLE-STRUCTURED-LOCATION;VALUE=URI;X-ADDRESS=Yeronga State High School 159 Villa St Yeronga Qld 4104 Australia;X-APPLE-RADIUS=500;X-TITLE=159 Villa St:geo:153.0210749,-27.5175391
END:VEVENT
BEGIN:VEVENT
DTSTART;TZID=Australia/Brisbane:20180514T091500
DTEND;TZID=Australia/Brisbane:20180514T100000
DTSTAMP:20260425T222103
CREATED:20180504T004719Z
LAST-MODIFIED:20180504T004719Z
UID:16084-1526289300-1526292000@nicolejohnston.com.au
SUMMARY:Annerley | BYOB (Bring your own baby) book club
DESCRIPTION:Do you care for a child under four years of age and love to read books? BYOB (bring your own baby) book club is a baby-friendly book club for parents and caregivers who are interested in joining a book club without having to organise a babysitter. Join in to discuss great books in good company. Call the library for more details. Bookings essential.
URL:https://nicolejohnston.com.au/event/annerley-byob-bring-your-own-baby-book-club-5/
LOCATION:Fairfield Library\, Fairfield Gardens\, 180 Fairfield Rd\, Fairfield\, Queensland\, 4103\, Australia
GEO:-27.508752;153.025501
X-APPLE-STRUCTURED-LOCATION;VALUE=URI;X-ADDRESS=Fairfield Library Fairfield Gardens 180 Fairfield Rd Fairfield Queensland 4103 Australia;X-APPLE-RADIUS=500;X-TITLE=Fairfield Gardens\, 180 Fairfield Rd:geo:153.025501,-27.508752
END:VEVENT
BEGIN:VEVENT
DTSTART;TZID=Australia/Brisbane:20180515T100000
DTEND;TZID=Australia/Brisbane:20180515T120000
DTSTAMP:20260425T222103
CREATED:20180502T050755Z
LAST-MODIFIED:20180502T051046Z
UID:16058-1526378400-1526385600@nicolejohnston.com.au
SUMMARY:Sherwood | Neighbourhood House Week Belonging
DESCRIPTION:The Sherwood Neighbourhood Centre is celebrating Neighbourhhood Houses and community centres day by holding a special event which shows their appreciation to all in the community who volunteer in whatever way it may be\, helping a neighbour\, attending an organisation etc.  Everyone is welcome. \n  \nGuest presenters are local  Acupuncturist Chris Fehres and Physiotherapist Angela Melit.  Relax\, meet new people and enjoy a lovely lunch. \n  \nPlease book for catering purposes.
URL:https://nicolejohnston.com.au/event/16058/
LOCATION:Sherwood Neighbourhood Centre\, 38 Thallon Street\, Sherwood\, Queensland\, 4075\, Australia
GEO:-27.53402;152.981098
X-APPLE-STRUCTURED-LOCATION;VALUE=URI;X-ADDRESS=Sherwood Neighbourhood Centre 38 Thallon Street Sherwood Queensland 4075 Australia;X-APPLE-RADIUS=500;X-TITLE=38 Thallon Street:geo:152.981098,-27.53402
END:VEVENT
BEGIN:VEVENT
DTSTART;TZID=Australia/Brisbane:20180516T073000
DTEND;TZID=Australia/Brisbane:20180516T090000
DTSTAMP:20260425T222103
CREATED:20180504T015128Z
LAST-MODIFIED:20180504T015128Z
UID:16607-1526455800-1526461200@nicolejohnston.com.au
SUMMARY:Yeronga | G'day May Breakfast
DESCRIPTION:Join the Yeronga Community Centre at the Kurilpa Scouts Hall cnr Park Rd and Villa St\, Yeronga for a community breakfast. All are welcome.
URL:https://nicolejohnston.com.au/event/yeronga-gday-may-breakfast/
LOCATION:Kurilpa Scout Den\, cnr Villa St and Park Rd\, Yeronga\, Qld\, 4104\, Australia
ORGANIZER;CN="Yeronga Community Centre":MAILTO:yeronga@communityplus.org.au
GEO:-27.5173602;153.0198951
X-APPLE-STRUCTURED-LOCATION;VALUE=URI;X-ADDRESS=Kurilpa Scout Den cnr Villa St and Park Rd Yeronga Qld 4104 Australia;X-APPLE-RADIUS=500;X-TITLE=cnr Villa St and Park Rd:geo:153.0198951,-27.5173602
END:VEVENT
BEGIN:VEVENT
DTSTART;TZID=Australia/Brisbane:20180517T130000
DTEND;TZID=Australia/Brisbane:20180517T150000
DTSTAMP:20260425T222103
CREATED:20180424T061649Z
LAST-MODIFIED:20180424T061649Z
UID:15397-1526562000-1526569200@nicolejohnston.com.au
SUMMARY:Corinda | Email skills one for seniors
DESCRIPTION:Connect with family\, friends and organisations using email. Learn how to create an email account\, send and reply to emails\, create contacts\, and sign in and out of your account.  Basic computer and internet skills required. Bookings essential.
URL:https://nicolejohnston.com.au/event/corinda-email-skills-one-for-seniors/
LOCATION:Corinda Library\, 641 Oxley Road\, Corinda\, Queensland\, 4075\, Australia
GEO:-27.538881;152.98142
X-APPLE-STRUCTURED-LOCATION;VALUE=URI;X-ADDRESS=Corinda Library 641 Oxley Road Corinda Queensland 4075 Australia;X-APPLE-RADIUS=500;X-TITLE=641 Oxley Road:geo:152.98142,-27.538881
END:VEVENT
BEGIN:VEVENT
DTSTART;TZID=Australia/Brisbane:20180517T180000
DTEND;TZID=Australia/Brisbane:20180517T190000
DTSTAMP:20260425T222103
CREATED:20180504T003337Z
LAST-MODIFIED:20180504T003337Z
UID:16070-1526580000-1526583600@nicolejohnston.com.au
SUMMARY:Fairfield | Evening book club
DESCRIPTION:In May\, read and discuss The Midnight Watch by David Dyer. New members welcome.
URL:https://nicolejohnston.com.au/event/fairfield-evening-book-club-4/
LOCATION:Fairfield Library\, Fairfield Gardens\, 180 Fairfield Rd\, Fairfield\, Queensland\, 4103\, Australia
GEO:-27.508752;153.025501
X-APPLE-STRUCTURED-LOCATION;VALUE=URI;X-ADDRESS=Fairfield Library Fairfield Gardens 180 Fairfield Rd Fairfield Queensland 4103 Australia;X-APPLE-RADIUS=500;X-TITLE=Fairfield Gardens\, 180 Fairfield Rd:geo:153.025501,-27.508752
END:VEVENT
BEGIN:VEVENT
DTSTART;TZID=Australia/Brisbane:20180518T130000
DTEND;TZID=Australia/Brisbane:20180518T150000
DTSTAMP:20260425T222103
CREATED:20180424T062441Z
LAST-MODIFIED:20180424T062441Z
UID:15399-1526648400-1526655600@nicolejohnston.com.au
SUMMARY:Corinda | Email skills two for seniors
DESCRIPTION:Learn how to manage your email more effectively\, by organising your inbox\, creating folders\, managing attachments and using filter options. Basic computer skills and an email account required. Bookings essential.
URL:https://nicolejohnston.com.au/event/corinda-email-skills-two-for-seniors/
LOCATION:Corinda Library\, 641 Oxley Road\, Corinda\, Queensland\, 4075\, Australia
GEO:-27.538881;152.98142
X-APPLE-STRUCTURED-LOCATION;VALUE=URI;X-ADDRESS=Corinda Library 641 Oxley Road Corinda Queensland 4075 Australia;X-APPLE-RADIUS=500;X-TITLE=641 Oxley Road:geo:152.98142,-27.538881
END:VEVENT
BEGIN:VEVENT
DTSTART;TZID=Australia/Brisbane:20180518T140000
DTEND;TZID=Australia/Brisbane:20180518T153000
DTSTAMP:20260425T222103
CREATED:20180504T003434Z
LAST-MODIFIED:20180504T003434Z
UID:16072-1526652000-1526657400@nicolejohnston.com.au
SUMMARY:Fairfield | Library e-books for Androids and iPads
DESCRIPTION:Explore the wonderful world of Brisbane libraries’ free online e-books and e-audiobooks by learning how to setup your iPad or Android tablet to read or listen to your favourite online library content. Bring your own device\, Apple or Google Play Store account details\, library card and email account details. Basic device skills required. Bookings essential.
URL:https://nicolejohnston.com.au/event/fairfield-library-e-books-for-androids-and-ipads-6/
LOCATION:Fairfield Library\, Fairfield Gardens\, 180 Fairfield Rd\, Fairfield\, Queensland\, 4103\, Australia
GEO:-27.508752;153.025501
X-APPLE-STRUCTURED-LOCATION;VALUE=URI;X-ADDRESS=Fairfield Library Fairfield Gardens 180 Fairfield Rd Fairfield Queensland 4103 Australia;X-APPLE-RADIUS=500;X-TITLE=Fairfield Gardens\, 180 Fairfield Rd:geo:153.025501,-27.508752
END:VEVENT
BEGIN:VEVENT
DTSTART;TZID=Australia/Brisbane:20180519T100000
DTEND;TZID=Australia/Brisbane:20180519T130000
DTSTAMP:20260425T222103
CREATED:20180424T055050Z
LAST-MODIFIED:20180424T055050Z
UID:15374-1526724000-1526734800@nicolejohnston.com.au
SUMMARY:Annerley | Our Ladies College Open Day
DESCRIPTION:
URL:https://nicolejohnston.com.au/event/annerley-our-ladies-college-open-day/
LOCATION:Our Lady’s College\, 15 Chester Rd\, Annerley\, Qld\, 4103\, Australia
GEO:-27.5166033;153.0308312
X-APPLE-STRUCTURED-LOCATION;VALUE=URI;X-ADDRESS=Our Lady’s College 15 Chester Rd Annerley Qld 4103 Australia;X-APPLE-RADIUS=500;X-TITLE=15 Chester Rd:geo:153.0308312,-27.5166033
END:VEVENT
BEGIN:VEVENT
DTSTART;TZID=Australia/Brisbane:20180519T103000
DTEND;TZID=Australia/Brisbane:20180519T120000
DTSTAMP:20260425T222103
CREATED:20180424T055830Z
LAST-MODIFIED:20180424T055830Z
UID:15382-1526725800-1526731200@nicolejohnston.com.au
SUMMARY:Fairfield | Book Launch - Eve and Adam by Helga Parl
DESCRIPTION:Free admission — all welcome — light refreshments served
URL:https://nicolejohnston.com.au/event/fairfield-book-launch-eve-and-adam-by-helga-parl/
LOCATION:Fairfield Library\, Fairfield Gardens\, 180 Fairfield Rd\, Fairfield\, Queensland\, 4103\, Australia
GEO:-27.508752;153.025501
X-APPLE-STRUCTURED-LOCATION;VALUE=URI;X-ADDRESS=Fairfield Library Fairfield Gardens 180 Fairfield Rd Fairfield Queensland 4103 Australia;X-APPLE-RADIUS=500;X-TITLE=Fairfield Gardens\, 180 Fairfield Rd:geo:153.025501,-27.508752
END:VEVENT
BEGIN:VEVENT
DTSTART;TZID=Australia/Brisbane:20180519T130000
DTEND;TZID=Australia/Brisbane:20180519T143000
DTSTAMP:20260425T222103
CREATED:20180424T062526Z
LAST-MODIFIED:20180424T062526Z
UID:15401-1526734800-1526740200@nicolejohnston.com.au
SUMMARY:Corinda | Perfect plants for easy care gardens
DESCRIPTION:The perfect seminar for people with limited time\, yet still want attractive gardens. Horticulturalist Noel Burdette will share tips to help you select the right plant for the right location and grow a garden that suits your lifestyle with minimum fuss. Bookings essential.
URL:https://nicolejohnston.com.au/event/corinda-perfect-plants-for-easy-care-gardens/
LOCATION:Corinda Library\, 641 Oxley Road\, Corinda\, Queensland\, 4075\, Australia
GEO:-27.538881;152.98142
X-APPLE-STRUCTURED-LOCATION;VALUE=URI;X-ADDRESS=Corinda Library 641 Oxley Road Corinda Queensland 4075 Australia;X-APPLE-RADIUS=500;X-TITLE=641 Oxley Road:geo:152.98142,-27.538881
END:VEVENT
BEGIN:VEVENT
DTSTART;TZID=Australia/Brisbane:20180520T120000
DTEND;TZID=Australia/Brisbane:20180520T170000
DTSTAMP:20260425T222103
CREATED:20180502T045605Z
LAST-MODIFIED:20180502T045605Z
UID:16055-1526817600-1526835600@nicolejohnston.com.au
SUMMARY:St Sebastian's Mother's Day High tea
DESCRIPTION:
URL:https://nicolejohnston.com.au/event/st-sebastians-mothers-day-high-tea/
LOCATION:St Sebastian’s School\, Kadumba Street\, Yeronga\, Queensland\, 4104\, Australia
GEO:-27.515171;153.0119597
X-APPLE-STRUCTURED-LOCATION;VALUE=URI;X-ADDRESS=St Sebastian’s School Kadumba Street Yeronga Queensland 4104 Australia;X-APPLE-RADIUS=500;X-TITLE=Kadumba Street:geo:153.0119597,-27.515171
END:VEVENT
BEGIN:VEVENT
DTSTART;TZID=Australia/Brisbane:20180521T153000
DTEND;TZID=Australia/Brisbane:20180521T163000
DTSTAMP:20260425T222103
CREATED:20180504T004814Z
LAST-MODIFIED:20180504T004814Z
UID:16086-1526916600-1526920200@nicolejohnston.com.au
SUMMARY:Annerley | Under 8’s Week: Meet Renata Jayne
DESCRIPTION:Renata Jayne is a popular Brisbane musician and storyteller. Labelled ‘The Queen of Fun’\, come and watch as she turns her audience into characters\n\nfor her instrumental storytelling show. Ideal for children aged five years and younger. Bookings essential.
URL:https://nicolejohnston.com.au/event/annerley-under-8s-week-meet-renata-jayne/
LOCATION:Annerley Library\, 469 Ipswich Rd\, Annerley\, Queensland\, 4103\, Australia
GEO:-27.5115338;153.0317863
X-APPLE-STRUCTURED-LOCATION;VALUE=URI;X-ADDRESS=Annerley Library 469 Ipswich Rd Annerley Queensland 4103 Australia;X-APPLE-RADIUS=500;X-TITLE=469 Ipswich Rd:geo:153.0317863,-27.5115338
END:VEVENT
BEGIN:VEVENT
DTSTART;TZID=Australia/Brisbane:20180522T100000
DTEND;TZID=Australia/Brisbane:20180522T113000
DTSTAMP:20260425T222103
CREATED:20180504T004958Z
LAST-MODIFIED:20180504T004958Z
UID:16088-1526983200-1526988600@nicolejohnston.com.au
SUMMARY:Annerley | Navigating the news
DESCRIPTION:In a world saturated with information\, how do you tell real from fake\, and find the information you need? This session will help you manage information overload and develop your own toolkit to manage information in a way that works for you. Bookings essential.
URL:https://nicolejohnston.com.au/event/annerley-navigating-the-news/
LOCATION:Annerley Library\, 469 Ipswich Rd\, Annerley\, Queensland\, 4103\, Australia
GEO:-27.5115338;153.0317863
X-APPLE-STRUCTURED-LOCATION;VALUE=URI;X-ADDRESS=Annerley Library 469 Ipswich Rd Annerley Queensland 4103 Australia;X-APPLE-RADIUS=500;X-TITLE=469 Ipswich Rd:geo:153.0317863,-27.5115338
END:VEVENT
BEGIN:VEVENT
DTSTART;TZID=Australia/Brisbane:20180522T103000
DTEND;TZID=Australia/Brisbane:20180522T113000
DTSTAMP:20260425T222103
CREATED:20180424T062614Z
LAST-MODIFIED:20180424T062614Z
UID:15403-1526985000-1526988600@nicolejohnston.com.au
SUMMARY:Corinda | Literary event: Celebrating 50 years of 2001: A Space Odyssey
DESCRIPTION:It has been 50 years since Arthur C. Clarke’s 2001: A Space Odyssey first hit bookshelves. Released alongside Stanley Kubrick’s film of the same name\, this epic story of space adventure quickly became a science fiction sensation and remains a cult classic to this day. Enjoy a discussion of your favourite science fiction classics. Bookings essential.
URL:https://nicolejohnston.com.au/event/corinda-literary-event-celebrating-50-years-of-2001-a-space-odyssey/
LOCATION:Corinda Library\, 641 Oxley Road\, Corinda\, Queensland\, 4075\, Australia
GEO:-27.538881;152.98142
X-APPLE-STRUCTURED-LOCATION;VALUE=URI;X-ADDRESS=Corinda Library 641 Oxley Road Corinda Queensland 4075 Australia;X-APPLE-RADIUS=500;X-TITLE=641 Oxley Road:geo:152.98142,-27.538881
END:VEVENT
BEGIN:VEVENT
DTSTART;TZID=Australia/Brisbane:20180523T110000
DTEND;TZID=Australia/Brisbane:20180523T113000
DTSTAMP:20260425T222103
CREATED:20180424T062749Z
LAST-MODIFIED:20180424T062749Z
UID:15405-1527073200-1527075000@nicolejohnston.com.au
SUMMARY:Corinda | National Simultaneous Storytime
DESCRIPTION:Celebrate Library and Information Week by joining a National Simultaneous Storytime event at your local library. At 11am on Wednesday 23 May\, children from all over Australia will sit down for a special storytelling of Hickory Dickory Dash by Tony Wilson and Laura Wood.
URL:https://nicolejohnston.com.au/event/corinda-national-simultaneous-storytime/
LOCATION:Corinda Library\, 641 Oxley Road\, Corinda\, Queensland\, 4075\, Australia
GEO:-27.538881;152.98142
X-APPLE-STRUCTURED-LOCATION;VALUE=URI;X-ADDRESS=Corinda Library 641 Oxley Road Corinda Queensland 4075 Australia;X-APPLE-RADIUS=500;X-TITLE=641 Oxley Road:geo:152.98142,-27.538881
END:VEVENT
BEGIN:VEVENT
DTSTART;TZID=Australia/Brisbane:20180523T130000
DTEND;TZID=Australia/Brisbane:20180523T140000
DTSTAMP:20260425T222103
CREATED:20180504T003537Z
LAST-MODIFIED:20180504T003537Z
UID:16074-1527080400-1527084000@nicolejohnston.com.au
SUMMARY:Fairfield | Book chat
DESCRIPTION:Read\, discuss and debate a fine selection of books with a friendly group. New members welcome.
URL:https://nicolejohnston.com.au/event/fairfield-book-chat-5/
LOCATION:Fairfield Library\, Fairfield Gardens\, 180 Fairfield Rd\, Fairfield\, Queensland\, 4103\, Australia
GEO:-27.508752;153.025501
X-APPLE-STRUCTURED-LOCATION;VALUE=URI;X-ADDRESS=Fairfield Library Fairfield Gardens 180 Fairfield Rd Fairfield Queensland 4103 Australia;X-APPLE-RADIUS=500;X-TITLE=Fairfield Gardens\, 180 Fairfield Rd:geo:153.025501,-27.508752
END:VEVENT
BEGIN:VEVENT
DTSTART;TZID=Australia/Brisbane:20180523T153000
DTEND;TZID=Australia/Brisbane:20180523T163000
DTSTAMP:20260425T222103
CREATED:20180504T003712Z
LAST-MODIFIED:20180504T003712Z
UID:16076-1527089400-1527093000@nicolejohnston.com.au
SUMMARY:Fairfield | FBI: Fairfield book investigators kid's club
DESCRIPTION:Meet other enthusiastic readers and explore a new series of books. In May\, the club will read Adventures of Alfie Onion by Jackie French. Ideal for children aged 6-11 years.
URL:https://nicolejohnston.com.au/event/fairfield-fbi-fairfield-book-investigators-kids-club-8/
LOCATION:Fairfield Library\, Fairfield Gardens\, 180 Fairfield Rd\, Fairfield\, Queensland\, 4103\, Australia
GEO:-27.508752;153.025501
X-APPLE-STRUCTURED-LOCATION;VALUE=URI;X-ADDRESS=Fairfield Library Fairfield Gardens 180 Fairfield Rd Fairfield Queensland 4103 Australia;X-APPLE-RADIUS=500;X-TITLE=Fairfield Gardens\, 180 Fairfield Rd:geo:153.025501,-27.508752
END:VEVENT
BEGIN:VEVENT
DTSTART;TZID=Australia/Brisbane:20180524T153000
DTEND;TZID=Australia/Brisbane:20180524T163000
DTSTAMP:20260425T222103
CREATED:20180504T003759Z
LAST-MODIFIED:20180504T003759Z
UID:16078-1527175800-1527179400@nicolejohnston.com.au
SUMMARY:Fairfield | Under 8’s Week: Meet Gregg Dreise
DESCRIPTION:Join award winning author and illustrator Gregg Dreise on a journey of memorable and meaningful stories of Australia. Using didgeridoos\, guitars\, songs\, dance\, poems and daggy jokes; your family can be involved in a wonderful insight into his Aboriginal culture. His engaging presentation style allows audiences to interact with Australia’s beautiful – yet endangered history.
URL:https://nicolejohnston.com.au/event/fairfield-under-8s-week-meet-gregg-dreise/
LOCATION:Fairfield Library\, Fairfield Gardens\, 180 Fairfield Rd\, Fairfield\, Queensland\, 4103\, Australia
GEO:-27.508752;153.025501
X-APPLE-STRUCTURED-LOCATION;VALUE=URI;X-ADDRESS=Fairfield Library Fairfield Gardens 180 Fairfield Rd Fairfield Queensland 4103 Australia;X-APPLE-RADIUS=500;X-TITLE=Fairfield Gardens\, 180 Fairfield Rd:geo:153.025501,-27.508752
END:VEVENT
BEGIN:VEVENT
DTSTART;TZID=Australia/Brisbane:20180524T180000
DTEND;TZID=Australia/Brisbane:20180524T190000
DTSTAMP:20260425T222103
CREATED:20180504T003839Z
LAST-MODIFIED:20180504T003839Z
UID:16080-1527184800-1527188400@nicolejohnston.com.au
SUMMARY:Fairfield | Meet Erwin Cabucos
DESCRIPTION:Erwin Cabucos’ short stories have been published in Australia\, Singapore\, the United States and the Philippines\, in publications such as Salu-Salo: Anthology of Philippine-Australian Writings\, Quarterly Literary Review (Singapore)\, and Growing Up Filipino: Stories for Young Adults (USA).\n\nErwin’s latest collection of short stories\, Does it Matter What the Dead Think? (2016)\, explores themes of growing up\, migration and family. \nJoin Erwin as he discusses his work\, his experiences as an author and what is means to grow up Filipino in Australia. \nBooks will be available for purchase on the day\, or bring your copy from home for Erwin to sign. \nBookings essential. To reserve your place\, visit Eventbrite or phone the library.
URL:https://nicolejohnston.com.au/event/fairfield-meet-erwin-cabucos/
LOCATION:Fairfield Library\, Fairfield Gardens\, 180 Fairfield Rd\, Fairfield\, Queensland\, 4103\, Australia
GEO:-27.508752;153.025501
X-APPLE-STRUCTURED-LOCATION;VALUE=URI;X-ADDRESS=Fairfield Library Fairfield Gardens 180 Fairfield Rd Fairfield Queensland 4103 Australia;X-APPLE-RADIUS=500;X-TITLE=Fairfield Gardens\, 180 Fairfield Rd:geo:153.025501,-27.508752
END:VEVENT
BEGIN:VEVENT
DTSTART;TZID=Australia/Brisbane:20180525T093000
DTEND;TZID=Australia/Brisbane:20180525T100000
DTSTAMP:20260425T222103
CREATED:20180424T062833Z
LAST-MODIFIED:20180424T062833Z
UID:15407-1527240600-1527242400@nicolejohnston.com.au
SUMMARY:Corinda | Under 8’s Week: Making music with Karen Richmond
DESCRIPTION:Enjoy an engaging session of making music with your child\, which has been proven to increase the development of cognition\, literacy and speech skills\, and parent-child bonding. Ideal for children aged five years and younger.
URL:https://nicolejohnston.com.au/event/corinda-under-8s-week-making-music-with-karen-richmond/
LOCATION:QLD
END:VEVENT
BEGIN:VEVENT
DTSTART;TZID=Australia/Brisbane:20180525T140000
DTEND;TZID=Australia/Brisbane:20180525T153000
DTSTAMP:20260425T222103
CREATED:20180504T003925Z
LAST-MODIFIED:20180504T003925Z
UID:16082-1527256800-1527262200@nicolejohnston.com.au
SUMMARY:Fairfield | Facebook basics
DESCRIPTION:Learn how to create your own Facebook account to connect with family\, friends and your favourite organisations. Discover basic navigation skills and how to manage your privacy settings. Basic computer skills\, internet skills and an email account are required. Bookings essential.
URL:https://nicolejohnston.com.au/event/fairfield-facebook-basics-8/
LOCATION:Fairfield Library\, Fairfield Gardens\, 180 Fairfield Rd\, Fairfield\, Queensland\, 4103\, Australia
GEO:-27.508752;153.025501
X-APPLE-STRUCTURED-LOCATION;VALUE=URI;X-ADDRESS=Fairfield Library Fairfield Gardens 180 Fairfield Rd Fairfield Queensland 4103 Australia;X-APPLE-RADIUS=500;X-TITLE=Fairfield Gardens\, 180 Fairfield Rd:geo:153.025501,-27.508752
END:VEVENT
BEGIN:VEVENT
DTSTART;TZID=Australia/Brisbane:20180526T140000
DTEND;TZID=Australia/Brisbane:20180526T160000
DTSTAMP:20260425T222103
CREATED:20180424T060153Z
LAST-MODIFIED:20180424T060236Z
UID:15384-1527343200-1527350400@nicolejohnston.com.au
SUMMARY:Sherwood | Portofino Fashion Parade
DESCRIPTION:Admission includes afternoon tea and entry into a lucky door prize to win a $50 Portofino gift voucher. \nFunds raised towards Sherwood Uniting Church. \nPhone 0403 966 020 or email info@portofinofashion.com.au to book.
URL:https://nicolejohnston.com.au/event/sherwood-portofino-fashion-parade/
LOCATION:Sherwood Uniting Church Hall\, Cnr Sherwood Rd & Thallon St\, Sherwood\, Qld\, 4075\, Australia
GEO:-27.5320991;152.9806216
X-APPLE-STRUCTURED-LOCATION;VALUE=URI;X-ADDRESS=Sherwood Uniting Church Hall Cnr Sherwood Rd & Thallon St Sherwood Qld 4075 Australia;X-APPLE-RADIUS=500;X-TITLE=Cnr Sherwood Rd & Thallon St:geo:152.9806216,-27.5320991
END:VEVENT
END:VCALENDAR