BEGIN:VCALENDAR
VERSION:2.0
PRODID:-//Nicole Johnston - ECPv6.15.20//NONSGML v1.0//EN
CALSCALE:GREGORIAN
METHOD:PUBLISH
X-WR-CALNAME:Nicole Johnston
X-ORIGINAL-URL:https://nicolejohnston.com.au
X-WR-CALDESC:Events for Nicole Johnston
REFRESH-INTERVAL;VALUE=DURATION:PT1H
X-Robots-Tag:noindex
X-PUBLISHED-TTL:PT1H
BEGIN:VTIMEZONE
TZID:Australia/Brisbane
BEGIN:STANDARD
TZOFFSETFROM:+1000
TZOFFSETTO:+1000
TZNAME:AEST
DTSTART:20190101T000000
END:STANDARD
END:VTIMEZONE
BEGIN:VEVENT
DTSTART;TZID=Australia/Brisbane:20200714T093000
DTEND;TZID=Australia/Brisbane:20200714T120000
DTSTAMP:20260426T083518
CREATED:20200629T040909Z
LAST-MODIFIED:20200629T040909Z
UID:22000-1594719000-1594728000@nicolejohnston.com.au
SUMMARY:Sherwood | Kingfisher - Bright Acrylic Paints
DESCRIPTION:Create a stunning piece on canvas using different paint strokes. \nThis is a GOLD event suitable for seniors. \nBookings essential. To book phone Sherwood Neighbourhood Centre on 07 3379 6963. \nBring an apron.
URL:https://nicolejohnston.com.au/event/sherwood-kingfisher-bright-acrylic-paints/
LOCATION:Sherwood Neighbourhood Centre\, 38 Thallon Street\, Sherwood\, Queensland\, 4075\, Australia
GEO:-27.53402;152.981098
X-APPLE-STRUCTURED-LOCATION;VALUE=URI;X-ADDRESS=Sherwood Neighbourhood Centre 38 Thallon Street Sherwood Queensland 4075 Australia;X-APPLE-RADIUS=500;X-TITLE=38 Thallon Street:geo:152.981098,-27.53402
END:VEVENT
BEGIN:VEVENT
DTSTART;TZID=Australia/Brisbane:20200715T083000
DTEND;TZID=Australia/Brisbane:20200715T093000
DTSTAMP:20260426T083518
CREATED:20200629T041200Z
LAST-MODIFIED:20200629T041200Z
UID:22002-1594801800-1594805400@nicolejohnston.com.au
SUMMARY:Yeronga | Tai Chi for Health
DESCRIPTION:Gentle exercise for complete fitness. This is a safe and easy-to-learn program proven to:\n– relieve pain and reduce stiffness\n– improve balance and reduce falls\n– improve muscular strength\n– increase joint flexibility\n– integrate the body\, mind and spirit\n– improve flow of Qi (life energy). \nThis is a GOLD event suitable for seniors. \nFor more information phone Chunmei on 0438 802 018. \nMeet near the Somerville House Sports and Aquatic Centre (corner of Cansdale Street).
URL:https://nicolejohnston.com.au/event/yeronga-tai-chi-for-health/2020-07-15/
LOCATION:Brisbane Corso Park\, 323 Brisbane Corso\, Yeronga\, QLD\, 4104\, Australia
END:VEVENT
BEGIN:VEVENT
DTSTART;TZID=Australia/Brisbane:20200715T090000
DTEND;TZID=Australia/Brisbane:20200715T094500
DTSTAMP:20260426T083518
CREATED:20200629T041437Z
LAST-MODIFIED:20200629T041437Z
UID:22018-1594803600-1594806300@nicolejohnston.com.au
SUMMARY:Graceville | Gentle Exercise for Seniors
DESCRIPTION:A gentle\, low impact workout incorporating strength\, balance and stretching for seniors. \nThis is a GOLD event suitable for seniors. \nFor more information phone Clare on 0432 168 667. \nMeet near the playground in the shade of the trees.
URL:https://nicolejohnston.com.au/event/graceville-gentle-exercise-for-seniors/2020-07-15/
LOCATION:Simpsons Playground\, cnr Graceville Ave and Nadine St\,  Graceville\, Qld\, 4075\, Australia
GEO:-27.5235837;152.9920697
X-APPLE-STRUCTURED-LOCATION;VALUE=URI;X-ADDRESS=Simpsons Playground cnr Graceville Ave and Nadine St  Graceville Qld 4075 Australia;X-APPLE-RADIUS=500;X-TITLE=cnr Graceville Ave and Nadine St:geo:152.9920697,-27.5235837
END:VEVENT
BEGIN:VEVENT
DTSTART;TZID=Australia/Brisbane:20200715T093000
DTEND;TZID=Australia/Brisbane:20200715T113000
DTSTAMP:20260426T083518
CREATED:20200708T055259Z
LAST-MODIFIED:20200708T055259Z
UID:23176-1594805400-1594812600@nicolejohnston.com.au
SUMMARY:Sherwood | English Classes for All Levels
DESCRIPTION:Beginners to advanced — all welcome. \nTo book call 3379 6963 or email admin@sherwoodnc.org
URL:https://nicolejohnston.com.au/event/sherwood-english-classes-for-all-levels/2020-07-15/
LOCATION:Sherwood Neighbourhood Centre\, 38 Thallon Street\, Sherwood\, Queensland\, 4075\, Australia
GEO:-27.53402;152.981098
X-APPLE-STRUCTURED-LOCATION;VALUE=URI;X-ADDRESS=Sherwood Neighbourhood Centre 38 Thallon Street Sherwood Queensland 4075 Australia;X-APPLE-RADIUS=500;X-TITLE=38 Thallon Street:geo:152.981098,-27.53402
END:VEVENT
BEGIN:VEVENT
DTSTART;TZID=Australia/Brisbane:20200715T130000
DTEND;TZID=Australia/Brisbane:20200715T140000
DTSTAMP:20260426T083518
CREATED:20200629T043028Z
LAST-MODIFIED:20200629T043028Z
UID:22033-1594818000-1594821600@nicolejohnston.com.au
SUMMARY:Sherwood | Mindfulness Meditation
DESCRIPTION:Learn how to relieve tension in your daily life. The health benefits of Meditation are\, it lowers stress levels\, enhances self awareness\, improves mental health & relives loneliness and Depression\, helps you sleep better and supported weight loss to name a few. \nThis is a GOLD event suitable for seniors. \nBookings essential. To book phone Sherwood Neighbourhood Centre on 07 3379 6963.
URL:https://nicolejohnston.com.au/event/sherwood-mindfulness-meditation/
LOCATION:Sherwood Neighbourhood Centre\, 38 Thallon Street\, Sherwood\, Queensland\, 4075\, Australia
GEO:-27.53402;152.981098
X-APPLE-STRUCTURED-LOCATION;VALUE=URI;X-ADDRESS=Sherwood Neighbourhood Centre 38 Thallon Street Sherwood Queensland 4075 Australia;X-APPLE-RADIUS=500;X-TITLE=38 Thallon Street:geo:152.981098,-27.53402
END:VEVENT
BEGIN:VEVENT
DTSTART;TZID=Australia/Brisbane:20200715T153000
DTEND;TZID=Australia/Brisbane:20200715T170000
DTSTAMP:20260426T083518
CREATED:20200629T043339Z
LAST-MODIFIED:20200629T043339Z
UID:22035-1594827000-1594832400@nicolejohnston.com.au
SUMMARY:Fairfield | Revolutions Skateboarding Workshop
DESCRIPTION:Gain confidence\, get comfortable with your balance and learn a whole new set of skateboarding skills with excellent coaching. Bring your family members and friends and we’ll help you get up and skate on your own. \nThis is a Chillout event suitable for young people 3-17 years. \nBookings essential. To book visit ASCI. For more information email office@australianskateboarding.com \nBring a skateboard\, helmet\, safety gear and water.
URL:https://nicolejohnston.com.au/event/fairfield-revolutions-skateboarding-workshop-2/
LOCATION:J.F. O’Grady Memorial Park\, Brougham St\, Fairfield\, Qld\, 4103\, Australia
GEO:-27.507678;153.0226066
X-APPLE-STRUCTURED-LOCATION;VALUE=URI;X-ADDRESS=J.F. O’Grady Memorial Park Brougham St Fairfield Qld 4103 Australia;X-APPLE-RADIUS=500;X-TITLE=Brougham St:geo:153.0226066,-27.507678
END:VEVENT
BEGIN:VEVENT
DTSTART;TZID=Australia/Brisbane:20200717T093000
DTEND;TZID=Australia/Brisbane:20200717T103000
DTSTAMP:20260426T083518
CREATED:20200629T043918Z
LAST-MODIFIED:20200629T043918Z
UID:22037-1594978200-1594981800@nicolejohnston.com.au
SUMMARY:Oxley | U-Jam
DESCRIPTION:U-Jam fitness is the combination of urban dance to hip-hop music and fitness. It is a high energy cardio workout using the hottest beats of the moment. Feel like you’re at a dance party every time! Suitable for all ages. \nNo bookings required. For more information phone Lelani on 0405 569 094. \nMeet at the gym equipment.
URL:https://nicolejohnston.com.au/event/oxley-u-jam/2020-07-17/
LOCATION:Nixon Park\, 929 Oxley Road\, OXLEY\, QLD\, 4075\, Australia
GEO:-27.552171;152.9789711
X-APPLE-STRUCTURED-LOCATION;VALUE=URI;X-ADDRESS=Nixon Park 929 Oxley Road OXLEY QLD 4075 Australia;X-APPLE-RADIUS=500;X-TITLE=929 Oxley Road:geo:152.9789711,-27.552171
END:VEVENT
BEGIN:VEVENT
DTSTART;TZID=Australia/Brisbane:20200718T073000
DTEND;TZID=Australia/Brisbane:20200718T083000
DTSTAMP:20260426T083518
CREATED:20200708T000050Z
LAST-MODIFIED:20200708T000050Z
UID:22074-1595057400-1595061000@nicolejohnston.com.au
SUMMARY:Annerley | Yoga
DESCRIPTION:Yoga for fitness: tone\, stretch and strengthen your body into shape and feel great. Suitable for all levels. \nFor more information phone Deanna from Yoga Mind Body Brisbane on 0401 247 328.
URL:https://nicolejohnston.com.au/event/annerley-yoga/2020-07-18/
LOCATION:Vallely St Park\, 51 Vallely Street\, Annerley\, QLD\, 4103\, Australia
END:VEVENT
BEGIN:VEVENT
DTSTART;TZID=Australia/Brisbane:20200718T110000
DTEND;TZID=Australia/Brisbane:20200718T120000
DTSTAMP:20260426T083518
CREATED:20200708T000819Z
LAST-MODIFIED:20200708T000819Z
UID:22113-1595070000-1595073600@nicolejohnston.com.au
SUMMARY:Yeronga | Winter Deep Water Running
DESCRIPTION:Deep Water Running is an all over body workout suitable for those looking to add to their current fitness routine\, or those who are pregnant\, post or pre operative. The health benefits of the water are amazing. Come and enjoy great music and people in a wonderful heated pool. \nBookings essential. To book SMS or phone Aqua English on 0406 063 737. Bring a hat\, swimwear\, swimming cap\, googles\, sunscreen\, water and a towel.
URL:https://nicolejohnston.com.au/event/yeronga-winter-deep-water-running/2020-07-18/
LOCATION:Yeronga Park Pool\, 81 School Rd\, Yeronga\, Qld\, 4104\, Australia
GEO:-27.5210935;153.019099
X-APPLE-STRUCTURED-LOCATION;VALUE=URI;X-ADDRESS=Yeronga Park Pool 81 School Rd Yeronga Qld 4104 Australia;X-APPLE-RADIUS=500;X-TITLE=81 School Rd:geo:153.019099,-27.5210935
END:VEVENT
BEGIN:VEVENT
DTSTART;TZID=Australia/Brisbane:20200719T080000
DTEND;TZID=Australia/Brisbane:20200719T170000
DTSTAMP:20260426T083518
CREATED:20200708T001609Z
LAST-MODIFIED:20200708T001609Z
UID:22122-1595145600-1595178000@nicolejohnston.com.au
SUMMARY:Fairfield | Tai Chi Qigong in the Park
DESCRIPTION:This dynamic activity is invigorating\, works with both your body AND your mind\, and will help you feel relaxed\, refreshed and calm. Tai Chi is becoming recognised as the world’s most beneficial health system. Rejuvenate your body and learn to create a tranquil mind. Join any week – all welcome! \nNo bookings required. For more information visit Australian Academy of Tai Chi or phone Julian on 0439 073 860. \nMeet near the playground\, off Sydney Street.
URL:https://nicolejohnston.com.au/event/fairfield-tai-chi-qigong-in-the-park/2020-07-19/
LOCATION:Robinson Park\, 221 Fairfield Road\, Fairfield\, Queensland\, 4103\, Australia
GEO:-27.5099948;153.023042
X-APPLE-STRUCTURED-LOCATION;VALUE=URI;X-ADDRESS=Robinson Park 221 Fairfield Road Fairfield Queensland 4103 Australia;X-APPLE-RADIUS=500;X-TITLE=221 Fairfield Road:geo:153.023042,-27.5099948
END:VEVENT
BEGIN:VEVENT
DTSTART;TZID=Australia/Brisbane:20200719T100000
DTEND;TZID=Australia/Brisbane:20200719T120000
DTSTAMP:20260426T083518
CREATED:20200708T001857Z
LAST-MODIFIED:20200708T001857Z
UID:22138-1595152800-1595160000@nicolejohnston.com.au
SUMMARY:Graceville | Survivor Challenge
DESCRIPTION:This is the best team games going around. Teams compete in fun but challenging activities for clues or rewards to the next challenge. With team work\, strategy and a little luck can your team survive the challenge. \nBookings essential. To book email Life Be in it FunWorks.  For more information phone Glenn on 0403 221 676. \nSuitable for children ages 8-15.
URL:https://nicolejohnston.com.au/event/graceville-survivor-challenge/
LOCATION:Simpsons Playground\, cnr Graceville Ave and Nadine St\,  Graceville\, Qld\, 4075\, Australia
GEO:-27.5235837;152.9920697
X-APPLE-STRUCTURED-LOCATION;VALUE=URI;X-ADDRESS=Simpsons Playground cnr Graceville Ave and Nadine St  Graceville Qld 4075 Australia;X-APPLE-RADIUS=500;X-TITLE=cnr Graceville Ave and Nadine St:geo:152.9920697,-27.5235837
END:VEVENT
BEGIN:VEVENT
DTSTART;TZID=Australia/Brisbane:20200721T093000
DTEND;TZID=Australia/Brisbane:20200721T101500
DTSTAMP:20260426T083518
CREATED:20200708T005327Z
LAST-MODIFIED:20200708T005327Z
UID:22140-1595323800-1595326500@nicolejohnston.com.au
SUMMARY:Oxley | Boxfit
DESCRIPTION:High Intensity boxing and bodyweight circuit class. Ideal to increase cardiovascular fitness\, build endurance and strength. A great stress-busting and endorphin-producing workout. \nBookings essential. To book phone Clare on 0432 168 667. \nMeet at the basketball court.
URL:https://nicolejohnston.com.au/event/oxley-boxfit/2020-07-21/
LOCATION:Nixon Park\, 929 Oxley Road\, OXLEY\, QLD\, 4075\, Australia
GEO:-27.552171;152.9789711
X-APPLE-STRUCTURED-LOCATION;VALUE=URI;X-ADDRESS=Nixon Park 929 Oxley Road OXLEY QLD 4075 Australia;X-APPLE-RADIUS=500;X-TITLE=929 Oxley Road:geo:152.9789711,-27.552171
END:VEVENT
BEGIN:VEVENT
DTSTART;TZID=Australia/Brisbane:20200721T153000
DTEND;TZID=Australia/Brisbane:20200721T163000
DTSTAMP:20260426T083518
CREATED:20200708T015950Z
LAST-MODIFIED:20200708T045848Z
UID:22142-1595345400-1595349000@nicolejohnston.com.au
SUMMARY:Sherwood | ACTivate children's club for 3-4 years
DESCRIPTION:Come and play ball games. Brave the obstacle courses and relays\, enjoy sack and egg and spoon races\, participate in drama based interactive games and much more! These sessions will ACTivate participants and have a strong focus on creativity and fun in a safe\, relaxed and energetic environment. \nBookings essential. To book visit Bazil Grumble. For more information phone 0411 246 487.
URL:https://nicolejohnston.com.au/event/sherwood-activate-childrens-club-for-3-4-years/2020-07-21/
LOCATION:Sherwood Arboretum\, 57 Dewar Terrace\, Sherwood\, Queensland\, 4075\, Australia
GEO:-27.532253;152.977305
X-APPLE-STRUCTURED-LOCATION;VALUE=URI;X-ADDRESS=Sherwood Arboretum 57 Dewar Terrace Sherwood Queensland 4075 Australia;X-APPLE-RADIUS=500;X-TITLE=57 Dewar Terrace:geo:152.977305,-27.532253
END:VEVENT
BEGIN:VEVENT
DTSTART;TZID=Australia/Brisbane:20200721T153000
DTEND;TZID=Australia/Brisbane:20200721T163000
DTSTAMP:20260426T083518
CREATED:20200708T020152Z
LAST-MODIFIED:20200708T050115Z
UID:22144-1595345400-1595349000@nicolejohnston.com.au
SUMMARY:Sherwood | ACTivate children's club for 5-10 years
DESCRIPTION:Come and play ball games. Brave the obstacle courses and relays\, enjoy sack and egg and spoon races\, participate in drama based interactive games and much more! These sessions will ACTivate participants and have a strong focus on creativity and fun in a safe\, relaxed and energetic environment. \nBookings essential. To book visit Bazil Grumble. For more information phone 0411 246 487.
URL:https://nicolejohnston.com.au/event/sherwood-activate-childrens-club-for-5-10-years/2020-07-21/
LOCATION:Sherwood Arboretum\, 57 Dewar Terrace\, Sherwood\, Queensland\, 4075\, Australia
GEO:-27.532253;152.977305
X-APPLE-STRUCTURED-LOCATION;VALUE=URI;X-ADDRESS=Sherwood Arboretum 57 Dewar Terrace Sherwood Queensland 4075 Australia;X-APPLE-RADIUS=500;X-TITLE=57 Dewar Terrace:geo:152.977305,-27.532253
END:VEVENT
BEGIN:VEVENT
DTSTART;TZID=Australia/Brisbane:20200722T153000
DTEND;TZID=Australia/Brisbane:20200722T170000
DTSTAMP:20260426T083518
CREATED:20200708T025217Z
LAST-MODIFIED:20200708T025217Z
UID:22146-1595431800-1595437200@nicolejohnston.com.au
SUMMARY:Fairfield | Revolutions Skateboarding Workshop
DESCRIPTION:Gain confidence\, get comfortable with your balance and learn a whole new set of skateboarding skills with excellent coaching. Bring your family members and friends and we’ll help you get up and skate on your own. \nThis is a Chillout event suitable for young people 3-17 years. \nBookings essential. To book visit ASCI. For more information email office@australianskateboarding.com \nSkateboard\, helmet\, safety gear and water.
URL:https://nicolejohnston.com.au/event/fairfield-revolutions-skateboarding-workshop-3/2020-07-22/
LOCATION:J.F. O’Grady Memorial Park\, Brougham St\, Fairfield\, Qld\, 4103\, Australia
GEO:-27.507678;153.0226066
X-APPLE-STRUCTURED-LOCATION;VALUE=URI;X-ADDRESS=J.F. O’Grady Memorial Park Brougham St Fairfield Qld 4103 Australia;X-APPLE-RADIUS=500;X-TITLE=Brougham St:geo:153.0226066,-27.507678
END:VEVENT
BEGIN:VEVENT
DTSTART;TZID=Australia/Brisbane:20200724T093000
DTEND;TZID=Australia/Brisbane:20200724T100000
DTSTAMP:20260426T083518
CREATED:20200708T035327Z
LAST-MODIFIED:20200708T035327Z
UID:22150-1595583000-1595584800@nicolejohnston.com.au
SUMMARY:Chelmer | Fun Soccer
DESCRIPTION:Fun soccer activities for 2-4 year old’s. Exciting and fun soccer activities with enthusiastic and energetic coaches! A safe and relaxed environment for children to get active\, play soccer and have fun! \nBookings essential. To book visit Ginger Sport. For more information phone 07 3890 3338. \nMeet on the open grassed area to the opposite of the playground.
URL:https://nicolejohnston.com.au/event/chelmer-fun-soccer/2020-07-24/
LOCATION:Gordon Thomson Park\, 90 Wharf St\, Chelmer\, QLD\, 4068\, Australia
END:VEVENT
BEGIN:VEVENT
DTSTART;TZID=Australia/Brisbane:20200724T100000
DTEND;TZID=Australia/Brisbane:20200724T103000
DTSTAMP:20260426T083518
CREATED:20200708T044910Z
LAST-MODIFIED:20200708T044910Z
UID:22156-1595584800-1595586600@nicolejohnston.com.au
SUMMARY:Chelmer | Fun Soccer
DESCRIPTION:Fun soccer activities for 2-4 year old’s. Exciting and fun soccer activities with enthusiastic and energetic coaches! A safe and relaxed environment for children to get active\, play soccer and have fun! \nBookings essential. To book visit Ginger Sport. For more information phone 07 3890 3338. \nMeet on the open grassed area to the opposite of the playground.
URL:https://nicolejohnston.com.au/event/chelmer-fun-soccer-2/2020-07-24/
LOCATION:Gordon Thomson Park\, 90 Wharf St\, Chelmer\, QLD\, 4068\, Australia
END:VEVENT
BEGIN:VEVENT
DTSTART;TZID=Australia/Brisbane:20200724T160000
DTEND;TZID=Australia/Brisbane:20200724T170000
DTSTAMP:20260426T083518
CREATED:20200708T045313Z
LAST-MODIFIED:20200708T045313Z
UID:22162-1595606400-1595610000@nicolejohnston.com.au
SUMMARY:Yeronga | Fun Soccer
DESCRIPTION:Exciting and fun soccer activities for 5-7 year old’s with enthusiastic and energetic coaches! A safe and relaxed environment for children to get active\, play soccer and have fun! \nBookings essential. To book visit Ginger Sport. For more information phone 07 3890 3338. \nMeet in the grassed area near the Girl Guides building.
URL:https://nicolejohnston.com.au/event/yeronga-fun-soccer/2020-07-24/
LOCATION:Yeronga Memorial Park\, School Road\, Yeronga\, Queensland\, 4104\, Australia
GEO:-27.5212612;153.0201362
X-APPLE-STRUCTURED-LOCATION;VALUE=URI;X-ADDRESS=Yeronga Memorial Park School Road Yeronga Queensland 4104 Australia;X-APPLE-RADIUS=500;X-TITLE=School Road:geo:153.0201362,-27.5212612
END:VEVENT
BEGIN:VEVENT
DTSTART;VALUE=DATE:20200802
DTEND;VALUE=DATE:20200803
DTSTAMP:20260426T083518
CREATED:20200708T060439Z
LAST-MODIFIED:20200708T060439Z
UID:23202-1596326400-1596412799@nicolejohnston.com.au
SUMMARY:Corinda | Homemade Craft Market
DESCRIPTION:All goods are home crafted\, homemade or home grown. For bookings or more information contact Irene 0419 670 255.
URL:https://nicolejohnston.com.au/event/corinda-homemade-craft-market/2020-08-02/
LOCATION:Corinda Library\, 641 Oxley Road\, Corinda\, Queensland\, 4075\, Australia
GEO:-27.538881;152.98142
X-APPLE-STRUCTURED-LOCATION;VALUE=URI;X-ADDRESS=Corinda Library 641 Oxley Road Corinda Queensland 4075 Australia;X-APPLE-RADIUS=500;X-TITLE=641 Oxley Road:geo:152.98142,-27.538881
END:VEVENT
BEGIN:VEVENT
DTSTART;TZID=Australia/Brisbane:20200819T143000
DTEND;TZID=Australia/Brisbane:20200819T153000
DTSTAMP:20260426T083518
CREATED:20200805T013513Z
LAST-MODIFIED:20200805T013513Z
UID:23237-1597847400-1597851000@nicolejohnston.com.au
SUMMARY:Sherwood | Belly dancing for Seniors
DESCRIPTION:Developing Balance\, Flexibility\, coordination\, Strength and brain health through the gentle art of belly dance. \nThis is a GOLD event suitable for seniors. \nBookings essential. To book phone Sherwood Neighbourhood Centre on 07 3379 6963.
URL:https://nicolejohnston.com.au/event/sherwood-belly-dancing-for-seniors-2/2020-08-19/
LOCATION:Sherwood Neighbourhood Centre\, 38 Thallon Street\, Sherwood\, Queensland\, 4075\, Australia
GEO:-27.53402;152.981098
X-APPLE-STRUCTURED-LOCATION;VALUE=URI;X-ADDRESS=Sherwood Neighbourhood Centre 38 Thallon Street Sherwood Queensland 4075 Australia;X-APPLE-RADIUS=500;X-TITLE=38 Thallon Street:geo:152.981098,-27.53402
END:VEVENT
BEGIN:VEVENT
DTSTART;TZID=Australia/Brisbane:20200914T093000
DTEND;TZID=Australia/Brisbane:20200914T120000
DTSTAMP:20260426T083518
CREATED:20200805T013904Z
LAST-MODIFIED:20200805T013904Z
UID:23245-1600075800-1600084800@nicolejohnston.com.au
SUMMARY:Sherwood | Art Therapy - Sculpting
DESCRIPTION:Bookings essential. You don’t Need to be good at art to attend. Art Therapy is a way to explore self expression sculpturing. Mould the first session & paint and decorate the second. \nBring an apron. \nThis is a GOLD event suitable for seniors.
URL:https://nicolejohnston.com.au/event/sherwood-art-therapy-sculpting/2020-09-14/
LOCATION:Sherwood Neighbourhood Centre\, 38 Thallon Street\, Sherwood\, Queensland\, 4075\, Australia
GEO:-27.53402;152.981098
X-APPLE-STRUCTURED-LOCATION;VALUE=URI;X-ADDRESS=Sherwood Neighbourhood Centre 38 Thallon Street Sherwood Queensland 4075 Australia;X-APPLE-RADIUS=500;X-TITLE=38 Thallon Street:geo:152.981098,-27.53402
END:VEVENT
BEGIN:VEVENT
DTSTART;TZID=Australia/Brisbane:20210820T091500
DTEND;TZID=Australia/Brisbane:20210820T094500
DTSTAMP:20260426T083518
CREATED:20210819T061300Z
LAST-MODIFIED:20210927T064146Z
UID:24633-1629450900-1629452700@nicolejohnston.com.au
SUMMARY:Annerley | Babies\, Books and Rhymes
DESCRIPTION:Bookings essential. To reserve your place\, visit Eventbrite. Please note: Tickets to this session will be available from midday five days prior to the session date. \nMeet other parents and babies for a fun session of singing\, clapping and dancing. Learn songs and action rhymes to nurture your baby’s pre-literacy\, communication\, language and social skills. Ideal for babies aged up to one year. The First 5 Forever initiative is funded by the Queensland Government.
URL:https://nicolejohnston.com.au/event/annerley-babies-books-and-rhymes/2021-08-20/
LOCATION:Annerley Library\, 469 Ipswich Rd\, Annerley\, Queensland\, 4103\, Australia
GEO:-27.5115338;153.0317863
X-APPLE-STRUCTURED-LOCATION;VALUE=URI;X-ADDRESS=Annerley Library 469 Ipswich Rd Annerley Queensland 4103 Australia;X-APPLE-RADIUS=500;X-TITLE=469 Ipswich Rd:geo:153.0317863,-27.5115338
END:VEVENT
BEGIN:VEVENT
DTSTART;TZID=Australia/Brisbane:20210821T180000
DTEND;TZID=Australia/Brisbane:20210821T200000
DTSTAMP:20260426T083518
CREATED:20210819T062931Z
LAST-MODIFIED:20210819T064237Z
UID:24672-1629568800-1629576000@nicolejohnston.com.au
SUMMARY:Tennyson | Bands in Parks Swing Out
DESCRIPTION:Brass Roots Live returns to the Tennis Centre with all your favourites from the 1960’s through to the 1980’s. Sing and dance along to Peter Vance and Rachael Pearse as they warm up your winter evening with a mix of feel-good tunes from across the decades. Bring your dance card but not your high heels. \nThe Baseline café and bar will be open so enjoy the entertainment with a glass of wine and a meal. Food and drink from outside vendors are not allowed for this event. \nThere is a grass section in front of the band to bring a picnic blanket or there will be limited seating on the paved area behind the grass. Seating will be first come first served so head in early to guarantee your spot.
URL:https://nicolejohnston.com.au/event/tennyson-bands-in-parks-swing-out/
LOCATION:QLD Tennis Centre\, 190 King Arthur Tce\, Tennyson\, Queensland\, 4105\, Australia
CATEGORIES:Community Event
ATTACH;FMTTYPE=image/jpeg:https://nicolejohnston.com.au/wp-content/uploads/2021/08/NJ-at-Game-Set-Swing-Brisbane-Metropolitan-Bands-Feb-landscape.jpeg
END:VEVENT
BEGIN:VEVENT
DTSTART;TZID=Australia/Brisbane:20210823T091500
DTEND;TZID=Australia/Brisbane:20210823T094500
DTSTAMP:20260426T083518
CREATED:20210819T061751Z
LAST-MODIFIED:20210927T062356Z
UID:24653-1629710100-1629711900@nicolejohnston.com.au
SUMMARY:Annerley | Toddler Time
DESCRIPTION:Bookings essential. To reserve your place\, visit Eventbrite. Please note: Tickets to this session will be available from midday five days prior to the session date. \nMeet other parents and toddlers for a fun session of singing\, clapping and dancing. Learn action rhymes and songs which will help your child’s pre-literacy\, communication\, language and social skills. Ideal for babies and toddlers aged 1-2 years. The First 5 Forever initiative is funded by the Queensland Government.
URL:https://nicolejohnston.com.au/event/annerley-toddler-time-2/2021-08-23/
LOCATION:Annerley Library\, 469 Ipswich Rd\, Annerley\, Queensland\, 4103\, Australia
GEO:-27.5115338;153.0317863
X-APPLE-STRUCTURED-LOCATION;VALUE=URI;X-ADDRESS=Annerley Library 469 Ipswich Rd Annerley Queensland 4103 Australia;X-APPLE-RADIUS=500;X-TITLE=469 Ipswich Rd:geo:153.0317863,-27.5115338
END:VEVENT
BEGIN:VEVENT
DTSTART;TZID=Australia/Brisbane:20210910T183000
DTEND;TZID=Australia/Brisbane:20210910T190000
DTSTAMP:20260426T083518
CREATED:20210906T031121Z
LAST-MODIFIED:20210906T031121Z
UID:24825-1631298600-1631300400@nicolejohnston.com.au
SUMMARY:Brisbane Festival Street Serenades | Forrest Run
DESCRIPTION:
URL:https://nicolejohnston.com.au/event/brisbane-festival-street-serenades-forrest-run/
LOCATION:Simpsons Playground\, cnr Graceville Ave and Nadine St\,  Graceville\, Qld\, 4075\, Australia
CATEGORIES:Community Event
ATTACH;FMTTYPE=image/png:https://nicolejohnston.com.au/wp-content/uploads/2021/09/Street-Serenades-Square.png
ORGANIZER;CN="Brisbane Festival":MAILTO:brisbane@brisbanefestival.com.au
GEO:-27.5235837;152.9920697
X-APPLE-STRUCTURED-LOCATION;VALUE=URI;X-ADDRESS=Simpsons Playground cnr Graceville Ave and Nadine St  Graceville Qld 4075 Australia;X-APPLE-RADIUS=500;X-TITLE=cnr Graceville Ave and Nadine St:geo:152.9920697,-27.5235837
END:VEVENT
BEGIN:VEVENT
DTSTART;TZID=Australia/Brisbane:20210911T173000
DTEND;TZID=Australia/Brisbane:20210911T180000
DTSTAMP:20260426T083518
CREATED:20210906T031305Z
LAST-MODIFIED:20210906T031305Z
UID:24827-1631381400-1631383200@nicolejohnston.com.au
SUMMARY:Brisbane Festival Street Serenades | Lontano
DESCRIPTION:
URL:https://nicolejohnston.com.au/event/brisbane-festival-street-serenades-lontano/
LOCATION:Ken Fletcher Park\, 27 Softstone St\, Tennyson\, Queensland\, 4105\, Australia
CATEGORIES:Community Event
ATTACH;FMTTYPE=image/png:https://nicolejohnston.com.au/wp-content/uploads/2021/09/Street-Serenades-Square.png
ORGANIZER;CN="Brisbane Festival":MAILTO:brisbane@brisbanefestival.com.au
GEO:-27.5260738;153.0052948
X-APPLE-STRUCTURED-LOCATION;VALUE=URI;X-ADDRESS=Ken Fletcher Park 27 Softstone St Tennyson Queensland 4105 Australia;X-APPLE-RADIUS=500;X-TITLE=27 Softstone St:geo:153.0052948,-27.5260738
END:VEVENT
BEGIN:VEVENT
DTSTART;TZID=Australia/Brisbane:20210916T170000
DTEND;TZID=Australia/Brisbane:20210916T173000
DTSTAMP:20260426T083518
CREATED:20210906T040246Z
LAST-MODIFIED:20210906T040342Z
UID:24829-1631811600-1631813400@nicolejohnston.com.au
SUMMARY:Brisbane Festival Street Serenades | Evangie
DESCRIPTION:
URL:https://nicolejohnston.com.au/event/brisbane-festival-street-serenades-evangie/
LOCATION:Hyde Rd Park\, Yeronga\, 331 Fairfield Rd\, Yeronga\, QLD\, 4104\, Australia
CATEGORIES:Community Event
ATTACH;FMTTYPE=image/png:https://nicolejohnston.com.au/wp-content/uploads/2021/09/Street-Serenades-Square.png
ORGANIZER;CN="Brisbane Festival":MAILTO:brisbane@brisbanefestival.com.au
END:VEVENT
BEGIN:VEVENT
DTSTART;TZID=Australia/Brisbane:20210916T181500
DTEND;TZID=Australia/Brisbane:20210916T184500
DTSTAMP:20260426T083518
CREATED:20210906T042005Z
LAST-MODIFIED:20210906T042005Z
UID:24841-1631816100-1631817900@nicolejohnston.com.au
SUMMARY:Brisbane Festival Street Serenade | ELEEA
DESCRIPTION:
URL:https://nicolejohnston.com.au/event/brisbane-festival-street-serenade-eleea/
LOCATION:Eric Cres Park\, Annerley\, 40 Eric Cres\, Annerley\, QLD\, 4103\, Australia
CATEGORIES:Community Event
ORGANIZER;CN="Brisbane Festival":MAILTO:brisbane@brisbanefestival.com.au
END:VEVENT
BEGIN:VEVENT
DTSTART;TZID=Australia/Brisbane:20210918T090000
DTEND;TZID=Australia/Brisbane:20210918T110000
DTSTAMP:20260426T083518
CREATED:20210906T022932Z
LAST-MODIFIED:20210906T030445Z
UID:24821-1631955600-1631962800@nicolejohnston.com.au
SUMMARY:Community Planting Day | Hefferan Park\, Annerley
DESCRIPTION:Join our local community to plant an edible garden in Annerley’s recently-upgraded pocket park\, Hefferan Park. Bring the kids along to enjoy a free show from Geckoes Wildlife and morning tea.
URL:https://nicolejohnston.com.au/event/community-planting-day-hefferan-park-annerley/
LOCATION:Hefferan Park\, Annerley\, 260 Annerley Rd\, Annerley\, QLD\, 4103\, Australia
CATEGORIES:Community Event
ATTACH;FMTTYPE=image/png:https://nicolejohnston.com.au/wp-content/uploads/2021/09/Hefferan-Park-Facebook-Cover-Pic.png
END:VEVENT
BEGIN:VEVENT
DTSTART;TZID=Australia/Brisbane:20210918T180000
DTEND;TZID=Australia/Brisbane:20210918T200000
DTSTAMP:20260426T083518
CREATED:20210914T034452Z
LAST-MODIFIED:20210914T034720Z
UID:24904-1631988000-1631995200@nicolejohnston.com.au
SUMMARY:Tennyson | Bands in Parks Under the Stars
DESCRIPTION:The Queensland Wind and Brass perform a program of symphonic classics at the QLD Tennis Centre. Enjoy a glass of wine and a meal from Baseline Café as you enjoy an evening of concert band favourites including music from Gershwin\, Mancini\, and John Williams.
URL:https://nicolejohnston.com.au/event/bands-in-parks-under-the-stars/
LOCATION:QLD Tennis Centre\, 190 King Arthur Tce\, Tennyson\, Queensland\, 4105\, Australia
CATEGORIES:Community Event
ATTACH;FMTTYPE=image/jpeg:https://nicolejohnston.com.au/wp-content/uploads/2021/09/NJ-at-Game-Set-Swing-Brisbane-Metropolitan-Bands-Feb-landscape.jpeg
END:VEVENT
END:VCALENDAR