BEGIN:VCALENDAR
VERSION:2.0
PRODID:-//Nicole Johnston - ECPv6.15.20//NONSGML v1.0//EN
CALSCALE:GREGORIAN
METHOD:PUBLISH
X-WR-CALNAME:Nicole Johnston
X-ORIGINAL-URL:https://nicolejohnston.com.au
X-WR-CALDESC:Events for Nicole Johnston
REFRESH-INTERVAL;VALUE=DURATION:PT1H
X-Robots-Tag:noindex
X-PUBLISHED-TTL:PT1H
BEGIN:VTIMEZONE
TZID:Australia/Brisbane
BEGIN:STANDARD
TZOFFSETFROM:+1000
TZOFFSETTO:+1000
TZNAME:AEST
DTSTART:20170101T000000
END:STANDARD
END:VTIMEZONE
BEGIN:VEVENT
DTSTART;TZID=Australia/Brisbane:20180724T103000
DTEND;TZID=Australia/Brisbane:20180724T113000
DTSTAMP:20260425T203519
CREATED:20180625T040926Z
LAST-MODIFIED:20180625T040926Z
UID:17499-1532428200-1532431800@nicolejohnston.com.au
SUMMARY:Corinda | What are you reading now
DESCRIPTION:Join us for morning of literary discussion as we share what we are currently reading. \n\n\n\n \nBooking\nBookings required. Phone Corinda Library on 07 3407 7701 to reserve your place.
URL:https://nicolejohnston.com.au/event/corinda-what-are-you-reading-now/
LOCATION:Corinda Library\, 641 Oxley Road\, Corinda\, Queensland\, 4075\, Australia
GEO:-27.538881;152.98142
X-APPLE-STRUCTURED-LOCATION;VALUE=URI;X-ADDRESS=Corinda Library 641 Oxley Road Corinda Queensland 4075 Australia;X-APPLE-RADIUS=500;X-TITLE=641 Oxley Road:geo:152.98142,-27.538881
END:VEVENT
BEGIN:VEVENT
DTSTART;TZID=Australia/Brisbane:20180725T153000
DTEND;TZID=Australia/Brisbane:20180725T163000
DTSTAMP:20260425T203519
CREATED:20180625T034850Z
LAST-MODIFIED:20180625T034850Z
UID:17477-1532532600-1532536200@nicolejohnston.com.au
SUMMARY:Fairfield | FBI: Fairfield book investigators kid's club
DESCRIPTION:Free \n\n\n\n\nIn July\, the club will read and discuss Baby Aliens Got My Teacher by Pamela Butchart. Ideal for children aged 6-11 years. \n \nBooking\nNot required.
URL:https://nicolejohnston.com.au/event/fairfield-fbi-fairfield-book-investigators-kids-club-10/
LOCATION:Fairfield Library\, Fairfield Gardens\, 180 Fairfield Rd\, Fairfield\, Queensland\, 4103\, Australia
GEO:-27.508752;153.025501
X-APPLE-STRUCTURED-LOCATION;VALUE=URI;X-ADDRESS=Fairfield Library Fairfield Gardens 180 Fairfield Rd Fairfield Queensland 4103 Australia;X-APPLE-RADIUS=500;X-TITLE=Fairfield Gardens\, 180 Fairfield Rd:geo:153.025501,-27.508752
END:VEVENT
BEGIN:VEVENT
DTSTART;TZID=Australia/Brisbane:20180727T140000
DTEND;TZID=Australia/Brisbane:20180727T153000
DTSTAMP:20260425T203519
CREATED:20180625T034948Z
LAST-MODIFIED:20180625T034948Z
UID:17479-1532700000-1532705400@nicolejohnston.com.au
SUMMARY:Fairfield | iPad help
DESCRIPTION:Learn how to find answers to your iPad questions and share tips with others in a group help session facilitated by library staff. Bring your own iPad and Apple account details. Basic iPad skills required. \n\n\n\n\nA Brisbane Libraries Tech Connect workshop. \n \nBooking\nBookings required. Phone Fairfield Library on 07 3403 8615 to reserve your place.
URL:https://nicolejohnston.com.au/event/fairfield-ipad-help-3/
LOCATION:Fairfield Library\, Fairfield Gardens\, 180 Fairfield Rd\, Fairfield\, Queensland\, 4103\, Australia
GEO:-27.508752;153.025501
X-APPLE-STRUCTURED-LOCATION;VALUE=URI;X-ADDRESS=Fairfield Library Fairfield Gardens 180 Fairfield Rd Fairfield Queensland 4103 Australia;X-APPLE-RADIUS=500;X-TITLE=Fairfield Gardens\, 180 Fairfield Rd:geo:153.025501,-27.508752
END:VEVENT
BEGIN:VEVENT
DTSTART;TZID=Australia/Brisbane:20180728T090000
DTEND;TZID=Australia/Brisbane:20180728T140000
DTSTAMP:20260425T203519
CREATED:20180725T055604Z
LAST-MODIFIED:20180725T055604Z
UID:17642-1532768400-1532786400@nicolejohnston.com.au
SUMMARY:Annerley | Junction Fest
DESCRIPTION:
URL:https://nicolejohnston.com.au/event/annerley-junction-fest/
LOCATION:Annerley Junction\, Crn Ipswich & Annerley Rd\, Annerley\, Qld\, 4103\, Australia
GEO:-27.509933;153.0327917
X-APPLE-STRUCTURED-LOCATION;VALUE=URI;X-ADDRESS=Annerley Junction Crn Ipswich & Annerley Rd Annerley Qld 4103 Australia;X-APPLE-RADIUS=500;X-TITLE=Crn Ipswich & Annerley Rd:geo:153.0327917,-27.509933
END:VEVENT
BEGIN:VEVENT
DTSTART;TZID=Australia/Brisbane:20180728T093000
DTEND;TZID=Australia/Brisbane:20180728T113000
DTSTAMP:20260425T203519
CREATED:20180525T022941Z
LAST-MODIFIED:20180525T022941Z
UID:17262-1532770200-1532777400@nicolejohnston.com.au
SUMMARY:Sherwood Community Kindergarten Open Day
DESCRIPTION:Sherwood Community Kindergarten invites families to come along to their annual Open Day!! \nSherwood Community Kindergarten is proud to provide:\n– High quality\, play-based\, government-approved kindergarten program\n– Long-serving staff with award-winning recognition\n– Spacious\, open-plan\, undercover indoor/outdoor learning environment\n– Beautiful\, naturally-shaded outdoor play areas\n– Friendly community presence and a warm family spirit \nCelebrating 60 Years • 1958–2018 \n44 Thallon Street\, Sherwood • 3379 4193 • sherwoodkindy.com.au
URL:https://nicolejohnston.com.au/event/sherwood-community-kindergarten-open-day/
LOCATION:Sherwood Community Kindergarten\, 44 Thallon St\, Sherwood\, Qld\, 4075\, Australia
GEO:-27.5343501;152.9802232
X-APPLE-STRUCTURED-LOCATION;VALUE=URI;X-ADDRESS=Sherwood Community Kindergarten 44 Thallon St Sherwood Qld 4075 Australia;X-APPLE-RADIUS=500;X-TITLE=44 Thallon St:geo:152.9802232,-27.5343501
END:VEVENT
BEGIN:VEVENT
DTSTART;TZID=Australia/Brisbane:20180728T103000
DTEND;TZID=Australia/Brisbane:20180728T113000
DTSTAMP:20260425T203519
CREATED:20180625T041736Z
LAST-MODIFIED:20180625T041736Z
UID:17515-1532773800-1532777400@nicolejohnston.com.au
SUMMARY:Corinda | Literary event: Beatrix Potter’s birthday
DESCRIPTION:Since 1901\, Peter Rabbit has been a favourite fictional character among children around the world.  Share in the fun and games celebrating Beatrix Potter’s beloved characters. Ideal for children aged 4-8 years. \n \nBooking\nBookings required. Phone Annerley Library on 07 3403 1735 to reserve your place.
URL:https://nicolejohnston.com.au/event/corinda-literary-event-beatrix-potters-birthday/
LOCATION:Annerley Library\, 469 Ipswich Rd\, Annerley\, Queensland\, 4103\, Australia
GEO:-27.5115338;153.0317863
X-APPLE-STRUCTURED-LOCATION;VALUE=URI;X-ADDRESS=Annerley Library 469 Ipswich Rd Annerley Queensland 4103 Australia;X-APPLE-RADIUS=500;X-TITLE=469 Ipswich Rd:geo:153.0317863,-27.5115338
END:VEVENT
BEGIN:VEVENT
DTSTART;TZID=Australia/Brisbane:20180728T103000
DTEND;TZID=Australia/Brisbane:20180728T120000
DTSTAMP:20260425T203519
CREATED:20180625T035138Z
LAST-MODIFIED:20180625T035138Z
UID:17481-1532773800-1532779200@nicolejohnston.com.au
SUMMARY:Fairfield | Indigenous songs and yarns with Getano Bann
DESCRIPTION:As a singer\, song writer\, story teller\, and registered music therapist\, Getano Bann lends his gifted style to share stories and songs that delight and tickle the funny bone. Come and join a sing-a-long with Uncle Getano\, his guitar and cheeky smile. \n \nBooking\nBookings required. Phone Fairfield Library on 07 3403 8615 to reserve your place.
URL:https://nicolejohnston.com.au/event/fairfield-indigenous-songs-and-yarns-with-getano-bann/
LOCATION:Fairfield Library\, Fairfield Gardens\, 180 Fairfield Rd\, Fairfield\, Queensland\, 4103\, Australia
GEO:-27.508752;153.025501
X-APPLE-STRUCTURED-LOCATION;VALUE=URI;X-ADDRESS=Fairfield Library Fairfield Gardens 180 Fairfield Rd Fairfield Queensland 4103 Australia;X-APPLE-RADIUS=500;X-TITLE=Fairfield Gardens\, 180 Fairfield Rd:geo:153.025501,-27.508752
END:VEVENT
BEGIN:VEVENT
DTSTART;TZID=Australia/Brisbane:20180729T070000
DTEND;TZID=Australia/Brisbane:20180729T093000
DTSTAMP:20260425T203519
CREATED:20180613T014635Z
LAST-MODIFIED:20180613T014635Z
UID:17410-1532847600-1532856600@nicolejohnston.com.au
SUMMARY:Graceville | Christ the King Fun Run
DESCRIPTION:
URL:https://nicolejohnston.com.au/event/graceville-christ-the-king-fun-run/
LOCATION:Simpsons Playground\, cnr Graceville Ave and Nadine St\,  Graceville\, Qld\, 4075\, Australia
GEO:-27.5235837;152.9920697
X-APPLE-STRUCTURED-LOCATION;VALUE=URI;X-ADDRESS=Simpsons Playground cnr Graceville Ave and Nadine St  Graceville Qld 4075 Australia;X-APPLE-RADIUS=500;X-TITLE=cnr Graceville Ave and Nadine St:geo:152.9920697,-27.5235837
END:VEVENT
BEGIN:VEVENT
DTSTART;TZID=Australia/Brisbane:20180729T140000
DTEND;TZID=Australia/Brisbane:20180729T160000
DTSTAMP:20260425T203519
CREATED:20180725T055404Z
LAST-MODIFIED:20180725T055428Z
UID:17639-1532872800-1532880000@nicolejohnston.com.au
SUMMARY:Oxley | Bands on the Green
DESCRIPTION:
URL:https://nicolejohnston.com.au/event/oxley-bands-on-the-green/
LOCATION:Club Oxley\, Englefield Rd\, Oxley\, Qld\, 4075\, Australia
GEO:-27.5587802;152.9694162
X-APPLE-STRUCTURED-LOCATION;VALUE=URI;X-ADDRESS=Club Oxley Englefield Rd Oxley Qld 4075 Australia;X-APPLE-RADIUS=500;X-TITLE=Englefield Rd:geo:152.9694162,-27.5587802
END:VEVENT
BEGIN:VEVENT
DTSTART;TZID=Australia/Brisbane:20180814T160000
DTEND;TZID=Australia/Brisbane:20180814T180000
DTSTAMP:20260425T203519
CREATED:20180612T062926Z
LAST-MODIFIED:20180612T062926Z
UID:17401-1534262400-1534269600@nicolejohnston.com.au
SUMMARY:Our Lady's College Annerley Open Day
DESCRIPTION:
URL:https://nicolejohnston.com.au/event/our-ladys-college-annerley-open-day/
LOCATION:Our Lady’s College\, 15 Chester Rd\, Annerley\, Qld\, 4103\, Australia
GEO:-27.5166033;153.0308312
X-APPLE-STRUCTURED-LOCATION;VALUE=URI;X-ADDRESS=Our Lady’s College 15 Chester Rd Annerley Qld 4103 Australia;X-APPLE-RADIUS=500;X-TITLE=15 Chester Rd:geo:153.0308312,-27.5166033
END:VEVENT
BEGIN:VEVENT
DTSTART;TZID=Australia/Brisbane:20180819T090000
DTEND;TZID=Australia/Brisbane:20180819T140000
DTSTAMP:20260425T203519
CREATED:20180725T060147Z
LAST-MODIFIED:20180725T060149Z
UID:17645-1534669200-1534687200@nicolejohnston.com.au
SUMMARY:Yeronga | RSPCA Cupcake Day
DESCRIPTION:Come along to Yeronga Hyde Rd Dog Park and get yourself some yummy treats – and raise money for the RSPCA at the same time! \n 
URL:https://nicolejohnston.com.au/event/yeronga-rspca-cupcake-day/
LOCATION:Hyde Rd Dog Park\, 331 Fairfield Rd\, Yeronga\, Qld\, 4104\, Australia
GEO:-27.512726;153.0179027
X-APPLE-STRUCTURED-LOCATION;VALUE=URI;X-ADDRESS=Hyde Rd Dog Park 331 Fairfield Rd Yeronga Qld 4104 Australia;X-APPLE-RADIUS=500;X-TITLE=331 Fairfield Rd:geo:153.0179027,-27.512726
END:VEVENT
BEGIN:VEVENT
DTSTART;TZID=Australia/Brisbane:20180830T140000
DTEND;TZID=Australia/Brisbane:20180830T150000
DTSTAMP:20260425T203519
CREATED:20180829T001950Z
LAST-MODIFIED:20180829T001950Z
UID:17751-1535637600-1535641200@nicolejohnston.com.au
SUMMARY:Corinda | Roald Dahl Day
DESCRIPTION:Free \n\n\n\n\nSeptember is Roald Dahl’s birth month\, and Brisbane Libraries are celebrating! Join the fun with games and activities based on some of the much loved author’s most famous books. Ideal for children aged 6-12 years.
URL:https://nicolejohnston.com.au/event/corinda-roald-dahl-day-2/
LOCATION:Corinda Library\, 641 Oxley Road\, Corinda\, Queensland\, 4075\, Australia
GEO:-27.538881;152.98142
X-APPLE-STRUCTURED-LOCATION;VALUE=URI;X-ADDRESS=Corinda Library 641 Oxley Road Corinda Queensland 4075 Australia;X-APPLE-RADIUS=500;X-TITLE=641 Oxley Road:geo:152.98142,-27.538881
END:VEVENT
BEGIN:VEVENT
DTSTART;TZID=Australia/Brisbane:20180831T140000
DTEND;TZID=Australia/Brisbane:20180831T150000
DTSTAMP:20260425T203519
CREATED:20180829T003133Z
LAST-MODIFIED:20180829T003133Z
UID:17773-1535724000-1535727600@nicolejohnston.com.au
SUMMARY:Fairfield | Internet skills one
DESCRIPTION:Free \n\n\n\n\nLearn how to find your way around the internet safely\, save your favourite websites\, search for information and use Google to help you find answers. Basic computer skills are required. \nA Brisbane Libraries Tech Connect workshop. \n \nBooking\nBookings required. Phone Fairfield Library on 07 3403 8615 to reserve your place.
URL:https://nicolejohnston.com.au/event/fairfield-internet-skills-one-7/
LOCATION:Fairfield Library\, Fairfield Gardens\, 180 Fairfield Rd\, Fairfield\, Queensland\, 4103\, Australia
GEO:-27.508752;153.025501
X-APPLE-STRUCTURED-LOCATION;VALUE=URI;X-ADDRESS=Fairfield Library Fairfield Gardens 180 Fairfield Rd Fairfield Queensland 4103 Australia;X-APPLE-RADIUS=500;X-TITLE=Fairfield Gardens\, 180 Fairfield Rd:geo:153.025501,-27.508752
END:VEVENT
BEGIN:VEVENT
DTSTART;TZID=Australia/Brisbane:20180903T091500
DTEND;TZID=Australia/Brisbane:20180903T100000
DTSTAMP:20260425T203519
CREATED:20180829T010446Z
LAST-MODIFIED:20180829T010446Z
UID:17795-1535966100-1535968800@nicolejohnston.com.au
SUMMARY:Annerley | BYOB (Bring your own baby) book club
DESCRIPTION:Free \n\n\n\n\nDo you care for a child under four years of age and love to read books? BYOB (bring your own baby) book club is a baby-friendly book club for parents and caregivers who are interested in joining a book club without having to organise a babysitter. Join in to discuss great books in good company. Call the library for more details. \n \nBooking\nBookings required. Phone Annerley Library on 07 3403 1735 to reserve your place.
URL:https://nicolejohnston.com.au/event/annerley-byob-bring-your-own-baby-book-club-8/
LOCATION:Annerley Library\, 469 Ipswich Rd\, Annerley\, Queensland\, 4103\, Australia
GEO:-27.5115338;153.0317863
X-APPLE-STRUCTURED-LOCATION;VALUE=URI;X-ADDRESS=Annerley Library 469 Ipswich Rd Annerley Queensland 4103 Australia;X-APPLE-RADIUS=500;X-TITLE=469 Ipswich Rd:geo:153.0317863,-27.5115338
END:VEVENT
BEGIN:VEVENT
DTSTART;TZID=Australia/Brisbane:20180905T110000
DTEND;TZID=Australia/Brisbane:20180905T123000
DTSTAMP:20260425T203519
CREATED:20180829T002048Z
LAST-MODIFIED:20180829T002048Z
UID:17753-1536145200-1536150600@nicolejohnston.com.au
SUMMARY:Corinda | Computer skills one
DESCRIPTION:Free \n\n\n\n\nLearn how to use the keyboard and mouse\, and find your way around a Windows computer. Perfect for the first time user.
URL:https://nicolejohnston.com.au/event/corinda-computer-skills-one-3/
LOCATION:Corinda Library\, 641 Oxley Road\, Corinda\, Queensland\, 4075\, Australia
GEO:-27.538881;152.98142
X-APPLE-STRUCTURED-LOCATION;VALUE=URI;X-ADDRESS=Corinda Library 641 Oxley Road Corinda Queensland 4075 Australia;X-APPLE-RADIUS=500;X-TITLE=641 Oxley Road:geo:152.98142,-27.538881
END:VEVENT
BEGIN:VEVENT
DTSTART;TZID=Australia/Brisbane:20180907T090000
DTEND;TZID=Australia/Brisbane:20180907T160000
DTSTAMP:20260425T203519
CREATED:20180725T054915Z
LAST-MODIFIED:20180725T054915Z
UID:17634-1536310800-1536336000@nicolejohnston.com.au
SUMMARY:"Our World" Artfest
DESCRIPTION:“Our World” ARTFEST \n  \nArt Show (+ music\, indigenous activities) \n  \npresented by Graceville Uniting Church and Milpera State High School – at Graceville Uniting Church\, Cnr Verney Rd East/Oxley Rd \n  \n\nFri Sept 7\, 9am – 4pm (opening concert 10am)\nSat Sept 8\, 9am – 4pm (+ 1/2 hourly activities from 10am)\nSun Sept 9\, 11am – 4pm (+ 1/2 hourly activities from 11am)
URL:https://nicolejohnston.com.au/event/our-world-artfest/2018-09-07/
LOCATION:Graceville Uniting Church\, 215 Oxley Rd\, Graceville\, Qld\, 4075\, Australia
GEO:-27.5206728;152.9790538
X-APPLE-STRUCTURED-LOCATION;VALUE=URI;X-ADDRESS=Graceville Uniting Church 215 Oxley Rd Graceville Qld 4075 Australia;X-APPLE-RADIUS=500;X-TITLE=215 Oxley Rd:geo:152.9790538,-27.5206728
END:VEVENT
BEGIN:VEVENT
DTSTART;TZID=Australia/Brisbane:20180907T140000
DTEND;TZID=Australia/Brisbane:20180907T150000
DTSTAMP:20260425T203519
CREATED:20180829T002141Z
LAST-MODIFIED:20180829T002141Z
UID:17755-1536328800-1536332400@nicolejohnston.com.au
SUMMARY:Corinda | Shakespeare's kings and their music
DESCRIPTION:Free \nOur perceptions of the kings of England are shaped from Shakespeare’s plays. Join Gary Thorpe as he examines historical facts and compares Shakespeare’s portrayals. The Festival Quartet will perform music linked to his plays.
URL:https://nicolejohnston.com.au/event/corinda-shakespeares-kings-and-their-music/
LOCATION:Corinda Library\, 641 Oxley Road\, Corinda\, Queensland\, 4075\, Australia
GEO:-27.538881;152.98142
X-APPLE-STRUCTURED-LOCATION;VALUE=URI;X-ADDRESS=Corinda Library 641 Oxley Road Corinda Queensland 4075 Australia;X-APPLE-RADIUS=500;X-TITLE=641 Oxley Road:geo:152.98142,-27.538881
END:VEVENT
BEGIN:VEVENT
DTSTART;TZID=Australia/Brisbane:20180907T140000
DTEND;TZID=Australia/Brisbane:20180907T153000
DTSTAMP:20260425T203519
CREATED:20180829T005606Z
LAST-MODIFIED:20180829T005606Z
UID:17775-1536328800-1536334200@nicolejohnston.com.au
SUMMARY:Fairfield | Library e-books for Androids and iPads
DESCRIPTION:Free \n\n\n\n\nExplore the wonderful world of Brisbane libraries’ free online e-books and e-audiobooks by learning how to setup your iPad or Android tablet to read or listen to your favourite online library content. Bring your own device\, Apple or Google Play Store account details\, library card and email account details. Basic device skills required. \nA Brisbane Libraries Tech Connect workshop. \n \nBooking\nBookings required. Phone Fairfield Library on 07 3403 8615 to reserve your place.
URL:https://nicolejohnston.com.au/event/fairfield-library-e-books-for-androids-and-ipads-8/
LOCATION:Fairfield Library\, Fairfield Gardens\, 180 Fairfield Rd\, Fairfield\, Queensland\, 4103\, Australia
GEO:-27.508752;153.025501
X-APPLE-STRUCTURED-LOCATION;VALUE=URI;X-ADDRESS=Fairfield Library Fairfield Gardens 180 Fairfield Rd Fairfield Queensland 4103 Australia;X-APPLE-RADIUS=500;X-TITLE=Fairfield Gardens\, 180 Fairfield Rd:geo:153.025501,-27.508752
END:VEVENT
BEGIN:VEVENT
DTSTART;TZID=Australia/Brisbane:20180908T140000
DTEND;TZID=Australia/Brisbane:20180908T150000
DTSTAMP:20260425T203519
CREATED:20180829T002309Z
LAST-MODIFIED:20180829T002309Z
UID:17757-1536415200-1536418800@nicolejohnston.com.au
SUMMARY:Corinda | Second Saturday book club
DESCRIPTION:For September\, read and discuss New Boy: Othello Retold by Tracy Chevalier. Please contact the library for further information.
URL:https://nicolejohnston.com.au/event/corinda-second-saturday-book-club-8/
LOCATION:Corinda Library\, 641 Oxley Road\, Corinda\, Queensland\, 4075\, Australia
GEO:-27.538881;152.98142
X-APPLE-STRUCTURED-LOCATION;VALUE=URI;X-ADDRESS=Corinda Library 641 Oxley Road Corinda Queensland 4075 Australia;X-APPLE-RADIUS=500;X-TITLE=641 Oxley Road:geo:152.98142,-27.538881
END:VEVENT
BEGIN:VEVENT
DTSTART;TZID=Australia/Brisbane:20180912T110000
DTEND;TZID=Australia/Brisbane:20180912T123000
DTSTAMP:20260425T203519
CREATED:20180829T002432Z
LAST-MODIFIED:20180829T002432Z
UID:17759-1536750000-1536755400@nicolejohnston.com.au
SUMMARY:Corinda: Computer skills two
DESCRIPTION:Free \n\n\n\n\nNow that you know how to use a keyboard and mouse\, build on your skills by learning how to create basic word documents\, find useful programs\, and manage files and folders on a windows computer. \nA Brisbane Libraries Tech Connect workshop. \n \nBooking\nBookings required. Phone Corinda Library on 07 3407 7701 to reserve your place.
URL:https://nicolejohnston.com.au/event/corinda-computer-skills-two/
LOCATION:Corinda Library\, 641 Oxley Road\, Corinda\, Queensland\, 4075\, Australia
GEO:-27.538881;152.98142
X-APPLE-STRUCTURED-LOCATION;VALUE=URI;X-ADDRESS=Corinda Library 641 Oxley Road Corinda Queensland 4075 Australia;X-APPLE-RADIUS=500;X-TITLE=641 Oxley Road:geo:152.98142,-27.538881
END:VEVENT
BEGIN:VEVENT
DTSTART;TZID=Australia/Brisbane:20180914T103000
DTEND;TZID=Australia/Brisbane:20180914T113000
DTSTAMP:20260425T203519
CREATED:20180829T002519Z
LAST-MODIFIED:20180829T002519Z
UID:17761-1536921000-1536924600@nicolejohnston.com.au
SUMMARY:Corinda | 150 years of Little Women
DESCRIPTION:Louisa May Alcott’s Little Women quickly became a beloved novel when first published 150 years ago. Today her characters Meg\, Jo\, Beth and Amy continue to delight readers with their stories of love\, sisterhood and American life in the 19th century. Join us for trivia and discussion in celebration of this classic work. \n \nBooking\nBookings required. Phone Corinda Library on 07 3407 7701 to reserve your place.
URL:https://nicolejohnston.com.au/event/corinda-150-years-of-little-women/
LOCATION:Corinda Library\, 641 Oxley Road\, Corinda\, Queensland\, 4075\, Australia
GEO:-27.538881;152.98142
X-APPLE-STRUCTURED-LOCATION;VALUE=URI;X-ADDRESS=Corinda Library 641 Oxley Road Corinda Queensland 4075 Australia;X-APPLE-RADIUS=500;X-TITLE=641 Oxley Road:geo:152.98142,-27.538881
END:VEVENT
BEGIN:VEVENT
DTSTART;TZID=Australia/Brisbane:20180914T103000
DTEND;TZID=Australia/Brisbane:20180914T120000
DTSTAMP:20260425T203519
CREATED:20180829T010540Z
LAST-MODIFIED:20180829T010540Z
UID:17797-1536921000-1536926400@nicolejohnston.com.au
SUMMARY:Annerley | Internet skills one
DESCRIPTION:Free \n\n\n\n\nLearn how to find your way around the internet safely\, save your favourite websites\, search for information and use Google to help you find answers. Basic computer skills are required. \nA Brisbane Libraries Tech Connect workshop. \n \nBooking\nBookings required. Phone Annerley Library on 07 3403 1735 to reserve your place.
URL:https://nicolejohnston.com.au/event/annerley-internet-skills-one-2/
LOCATION:Annerley Library\, 469 Ipswich Rd\, Annerley\, Queensland\, 4103\, Australia
GEO:-27.5115338;153.0317863
X-APPLE-STRUCTURED-LOCATION;VALUE=URI;X-ADDRESS=Annerley Library 469 Ipswich Rd Annerley Queensland 4103 Australia;X-APPLE-RADIUS=500;X-TITLE=469 Ipswich Rd:geo:153.0317863,-27.5115338
END:VEVENT
BEGIN:VEVENT
DTSTART;TZID=Australia/Brisbane:20180914T140000
DTEND;TZID=Australia/Brisbane:20180914T153000
DTSTAMP:20260425T203519
CREATED:20180829T005702Z
LAST-MODIFIED:20180829T005702Z
UID:17777-1536933600-1536939000@nicolejohnston.com.au
SUMMARY:Fairfield | Facebook basics
DESCRIPTION:Free \n\n\n\n\nLearn how to create your own Facebook account to connect with family\, friends and your favourite organisations. Discover basic navigation skills and how to manage your privacy settings. Basic computer skills\, internet skills and an email account are required. \nA Brisbane Libraries Tech Connect workshop. \n \nBooking\nBookings required. Phone Fairfield Library on 07 3403 8615 to reserve your place.
URL:https://nicolejohnston.com.au/event/fairfield-facebook-basics-10/
LOCATION:Fairfield Library\, Fairfield Gardens\, 180 Fairfield Rd\, Fairfield\, Queensland\, 4103\, Australia
GEO:-27.508752;153.025501
X-APPLE-STRUCTURED-LOCATION;VALUE=URI;X-ADDRESS=Fairfield Library Fairfield Gardens 180 Fairfield Rd Fairfield Queensland 4103 Australia;X-APPLE-RADIUS=500;X-TITLE=Fairfield Gardens\, 180 Fairfield Rd:geo:153.025501,-27.508752
END:VEVENT
BEGIN:VEVENT
DTSTART;TZID=Australia/Brisbane:20180915T093000
DTEND;TZID=Australia/Brisbane:20180915T100000
DTSTAMP:20260425T203519
CREATED:20180829T005755Z
LAST-MODIFIED:20180829T005755Z
UID:17779-1537003800-1537005600@nicolejohnston.com.au
SUMMARY:Fairfield | Rainbow families storytime
DESCRIPTION:Free \n\n\n\n\nEnjoy a storytime celebrating family diversity in support of the Brisbane Pride Festival. Ideal for children aged 2-5 years. \n \nBooking\nNot required.
URL:https://nicolejohnston.com.au/event/fairfield-rainbow-families-storytime/
LOCATION:Fairfield Library\, Fairfield Gardens\, 180 Fairfield Rd\, Fairfield\, Queensland\, 4103\, Australia
GEO:-27.508752;153.025501
X-APPLE-STRUCTURED-LOCATION;VALUE=URI;X-ADDRESS=Fairfield Library Fairfield Gardens 180 Fairfield Rd Fairfield Queensland 4103 Australia;X-APPLE-RADIUS=500;X-TITLE=Fairfield Gardens\, 180 Fairfield Rd:geo:153.025501,-27.508752
END:VEVENT
BEGIN:VEVENT
DTSTART;TZID=Australia/Brisbane:20180919T110000
DTEND;TZID=Australia/Brisbane:20180919T123000
DTSTAMP:20260425T203519
CREATED:20180829T002606Z
LAST-MODIFIED:20180829T002606Z
UID:17763-1537354800-1537360200@nicolejohnston.com.au
SUMMARY:Corinda | TV streaming on the net
DESCRIPTION:Free \n\n\n\n\nNever miss your favourite television show again. Learn about online streaming and how to use the internet to watch television on a laptop\, mobile device or television. \nA Brisbane Libraries Tech Connect workshop. \n \nBooking\nBookings required. Phone Corinda Library on 07 3407 7701 to reserve your place.
URL:https://nicolejohnston.com.au/event/corinda-tv-streaming-on-the-net/
LOCATION:Corinda Library\, 641 Oxley Road\, Corinda\, Queensland\, 4075\, Australia
GEO:-27.538881;152.98142
X-APPLE-STRUCTURED-LOCATION;VALUE=URI;X-ADDRESS=Corinda Library 641 Oxley Road Corinda Queensland 4075 Australia;X-APPLE-RADIUS=500;X-TITLE=641 Oxley Road:geo:152.98142,-27.538881
END:VEVENT
BEGIN:VEVENT
DTSTART;TZID=Australia/Brisbane:20180919T130000
DTEND;TZID=Australia/Brisbane:20180919T140000
DTSTAMP:20260425T203519
CREATED:20180829T005837Z
LAST-MODIFIED:20180829T005837Z
UID:17781-1537362000-1537365600@nicolejohnston.com.au
SUMMARY:Fairfield | Book chat
DESCRIPTION:Free \n\n\n\n\nFor September\, read and discuss The Housekeeper and the Professor  by Yoko Ogawa. New members welcome. \n \nBooking\nBookings required. Phone Fairfield Library on 07 3403 8615 to reserve your place.
URL:https://nicolejohnston.com.au/event/fairfield-book-chat-7/
LOCATION:Fairfield Library\, Fairfield Gardens\, 180 Fairfield Rd\, Fairfield\, Queensland\, 4103\, Australia
GEO:-27.508752;153.025501
X-APPLE-STRUCTURED-LOCATION;VALUE=URI;X-ADDRESS=Fairfield Library Fairfield Gardens 180 Fairfield Rd Fairfield Queensland 4103 Australia;X-APPLE-RADIUS=500;X-TITLE=Fairfield Gardens\, 180 Fairfield Rd:geo:153.025501,-27.508752
END:VEVENT
BEGIN:VEVENT
DTSTART;TZID=Australia/Brisbane:20180920T180000
DTEND;TZID=Australia/Brisbane:20180920T190000
DTSTAMP:20260425T203519
CREATED:20180829T005926Z
LAST-MODIFIED:20180829T005926Z
UID:17783-1537466400-1537470000@nicolejohnston.com.au
SUMMARY:Fairfield | Evening book club
DESCRIPTION:Free \n\n\n\n\nFor September\, read and discuss Don’t Let’s Go to the Dogs Tonight  by Alexandra Fuller. New members welcome. \n \nBooking\nNot required.
URL:https://nicolejohnston.com.au/event/fairfield-evening-book-club-6/
LOCATION:Fairfield Library\, Fairfield Gardens\, 180 Fairfield Rd\, Fairfield\, Queensland\, 4103\, Australia
GEO:-27.508752;153.025501
X-APPLE-STRUCTURED-LOCATION;VALUE=URI;X-ADDRESS=Fairfield Library Fairfield Gardens 180 Fairfield Rd Fairfield Queensland 4103 Australia;X-APPLE-RADIUS=500;X-TITLE=Fairfield Gardens\, 180 Fairfield Rd:geo:153.025501,-27.508752
END:VEVENT
BEGIN:VEVENT
DTSTART;TZID=Australia/Brisbane:20180921T103000
DTEND;TZID=Australia/Brisbane:20180921T120000
DTSTAMP:20260425T203519
CREATED:20180829T010706Z
LAST-MODIFIED:20180829T010706Z
UID:17799-1537525800-1537531200@nicolejohnston.com.au
SUMMARY:Annerley | Internet skills two
DESCRIPTION:Free \n\n\n\n\nBuild on your basic internet skills by learning search strategies\, information evaluation techniques and exploring a range of interesting and useful online resources. Basic computer and internet skills are required. \nA Brisbane Libraries Tech Connect workshop. \n \nBooking\nBookings required. Phone Annerley Library on 07 3403 1735 to reserve your place.
URL:https://nicolejohnston.com.au/event/annerley-internet-skills-two-2/
LOCATION:Annerley Library\, 469 Ipswich Rd\, Annerley\, Queensland\, 4103\, Australia
GEO:-27.5115338;153.0317863
X-APPLE-STRUCTURED-LOCATION;VALUE=URI;X-ADDRESS=Annerley Library 469 Ipswich Rd Annerley Queensland 4103 Australia;X-APPLE-RADIUS=500;X-TITLE=469 Ipswich Rd:geo:153.0317863,-27.5115338
END:VEVENT
BEGIN:VEVENT
DTSTART;TZID=Australia/Brisbane:20180921T140000
DTEND;TZID=Australia/Brisbane:20180921T153000
DTSTAMP:20260425T203519
CREATED:20180829T010013Z
LAST-MODIFIED:20180829T010013Z
UID:17785-1537538400-1537543800@nicolejohnston.com.au
SUMMARY:Fairfield | iPad help
DESCRIPTION:Learn how to find answers to your iPad questions and share tips with others in a group help session facilitated by library staff. Bring your own iPad and Apple account details. Basic iPad skills required. \nA Brisbane Libraries Tech Connect workshop. \n \nBooking\nBookings required. Phone Fairfield Library on 07 3403 8615 to reserve your place.
URL:https://nicolejohnston.com.au/event/fairfield-ipad-help-4/
LOCATION:Fairfield Library\, Fairfield Gardens\, 180 Fairfield Rd\, Fairfield\, Queensland\, 4103\, Australia
GEO:-27.508752;153.025501
X-APPLE-STRUCTURED-LOCATION;VALUE=URI;X-ADDRESS=Fairfield Library Fairfield Gardens 180 Fairfield Rd Fairfield Queensland 4103 Australia;X-APPLE-RADIUS=500;X-TITLE=Fairfield Gardens\, 180 Fairfield Rd:geo:153.025501,-27.508752
END:VEVENT
BEGIN:VEVENT
DTSTART;TZID=Australia/Brisbane:20180922T140000
DTEND;TZID=Australia/Brisbane:20180922T150000
DTSTAMP:20260425T203519
CREATED:20180829T010055Z
LAST-MODIFIED:20180829T010055Z
UID:17787-1537624800-1537628400@nicolejohnston.com.au
SUMMARY:Fairfield | CPR awareness
DESCRIPTION:Free \n\n\n\n\nAre you interested in developing practical knowledge and skill in cardiopulmonary resuscitation? This free workshop will give you the confidence to help keep someone alive using CPR while the ambulance is on its way. Presented by qualified trainers from the Queensland Local Ambulance Committee\, in partnership with the Queensland Ambulance Services. \n \nBooking\nBookings required. Phone Fairfield Library on 07 3403 8615 to reserve your place.
URL:https://nicolejohnston.com.au/event/fairfield-cpr-awareness-2/
LOCATION:Fairfield Library\, Fairfield Gardens\, 180 Fairfield Rd\, Fairfield\, Queensland\, 4103\, Australia
GEO:-27.508752;153.025501
X-APPLE-STRUCTURED-LOCATION;VALUE=URI;X-ADDRESS=Fairfield Library Fairfield Gardens 180 Fairfield Rd Fairfield Queensland 4103 Australia;X-APPLE-RADIUS=500;X-TITLE=Fairfield Gardens\, 180 Fairfield Rd:geo:153.025501,-27.508752
END:VEVENT
END:VCALENDAR