BEGIN:VCALENDAR
VERSION:2.0
PRODID:-//Nicole Johnston - ECPv6.15.20//NONSGML v1.0//EN
CALSCALE:GREGORIAN
METHOD:PUBLISH
X-WR-CALNAME:Nicole Johnston
X-ORIGINAL-URL:https://nicolejohnston.com.au
X-WR-CALDESC:Events for Nicole Johnston
REFRESH-INTERVAL;VALUE=DURATION:PT1H
X-Robots-Tag:noindex
X-PUBLISHED-TTL:PT1H
BEGIN:VTIMEZONE
TZID:Australia/Brisbane
BEGIN:STANDARD
TZOFFSETFROM:+1000
TZOFFSETTO:+1000
TZNAME:AEST
DTSTART:20230101T000000
END:STANDARD
END:VTIMEZONE
BEGIN:VEVENT
DTSTART;TZID=Australia/Brisbane:20240908T100000
DTEND;TZID=Australia/Brisbane:20240908T150000
DTSTAMP:20260425T204306
CREATED:20240904T055933Z
LAST-MODIFIED:20240904T055936Z
UID:28067-1725789600-1725807600@nicolejohnston.com.au
SUMMARY:Yeronga | Yeronga Park Kindy Enchanted Forest Fete
DESCRIPTION:
URL:https://nicolejohnston.com.au/event/yeronga-yeronga-park-kindy-enchanted-forest-fete/
LOCATION:Yeronga Park Kindy\, 15 School Road\, Yeronga\, Queensland\, 4104\, Australia
CATEGORIES:Community Event
ATTACH;FMTTYPE=image/jpeg:https://nicolejohnston.com.au/wp-content/uploads/2024/09/Yeronga-Park-Kindy-Fete-2024.jpg
GEO:-27.5218568;153.0242921
X-APPLE-STRUCTURED-LOCATION;VALUE=URI;X-ADDRESS=Yeronga Park Kindy 15 School Road Yeronga Queensland 4104 Australia;X-APPLE-RADIUS=500;X-TITLE=15 School Road:geo:153.0242921,-27.5218568
END:VEVENT
BEGIN:VEVENT
DTSTART;TZID=Australia/Brisbane:20240908T150000
DTEND;TZID=Australia/Brisbane:20240908T163000
DTSTAMP:20260425T204306
CREATED:20240815T041406Z
LAST-MODIFIED:20240815T041407Z
UID:27811-1725807600-1725813000@nicolejohnston.com.au
SUMMARY:Graceville | Beginners Lawn Bowls
DESCRIPTION:An introduction to the sport of lawn bowls. A sport that helps to build leg and core strength\, stability and coordination in a friendly social environment. \nThis is a GOLD event suitable for seniors. \nFor bookings phone or text David on 0407 894 727 or email dschonfe@bigpond.net.au.
URL:https://nicolejohnston.com.au/event/graceville-beginners-lawn-bowls-4/
LOCATION:Graceville Bowls Club\, 16 Wylie St\, Graceville\, Qld\, 4075\, Australia
ATTACH;FMTTYPE=image/jpeg:https://nicolejohnston.com.au/wp-content/uploads/2024/08/GOLD-Flyer-August-2024.jpg
ORGANIZER;CN="Graceville Bowls Club":MAILTO:dschonfe@bigpond.net.au
END:VEVENT
BEGIN:VEVENT
DTSTART;TZID=Australia/Brisbane:20240909T091500
DTEND;TZID=Australia/Brisbane:20240909T094500
DTSTAMP:20260425T204306
CREATED:20240807T043927Z
LAST-MODIFIED:20240807T060841Z
UID:27671-1725873300-1725875100@nicolejohnston.com.au
SUMMARY:Annerley Library | First 5 Forever Toddler Time
DESCRIPTION:Meet other parents and toddlers for a fun session of singing\, clapping and dancing. Learn action rhymes and songs which will help your child’s pre-literacy\, communication\, language and social skills. Ideal for babies and toddlers aged 1-2 years. The First 5 Forever initiative is funded by the Queensland Government.
URL:https://nicolejohnston.com.au/event/annerley-library-first-5-forever-toddler-time/2024-09-09/
LOCATION:Annerley Library\, 469 Ipswich Rd\, Annerley\, Queensland\, 4103\, Australia
GEO:-27.5115338;153.0317863
X-APPLE-STRUCTURED-LOCATION;VALUE=URI;X-ADDRESS=Annerley Library 469 Ipswich Rd Annerley Queensland 4103 Australia;X-APPLE-RADIUS=500;X-TITLE=469 Ipswich Rd:geo:153.0317863,-27.5115338
END:VEVENT
BEGIN:VEVENT
DTSTART;TZID=Australia/Brisbane:20240909T110000
DTEND;TZID=Australia/Brisbane:20240909T113000
DTSTAMP:20260425T204306
CREATED:20240807T042436Z
LAST-MODIFIED:20240807T060902Z
UID:27653-1725879600-1725881400@nicolejohnston.com.au
SUMMARY:Annerley Library | First 5 Forever Children's Storytime
DESCRIPTION:Experience the magic of storytime with your child at the library. This interactive session includes stories\, songs and mark making activities for young children. Ideal for children aged 2-5 years. \nThe First 5 Forever initiative is funded by the Queensland Government.
URL:https://nicolejohnston.com.au/event/annerley-library-first-5-forever-childrens-storytime/2024-09-09/
LOCATION:Annerley Library\, 469 Ipswich Rd\, Annerley\, Queensland\, 4103\, Australia
GEO:-27.5115338;153.0317863
X-APPLE-STRUCTURED-LOCATION;VALUE=URI;X-ADDRESS=Annerley Library 469 Ipswich Rd Annerley Queensland 4103 Australia;X-APPLE-RADIUS=500;X-TITLE=469 Ipswich Rd:geo:153.0317863,-27.5115338
END:VEVENT
BEGIN:VEVENT
DTSTART;TZID=Australia/Brisbane:20240910T100000
DTEND;TZID=Australia/Brisbane:20240910T110000
DTSTAMP:20260425T204306
CREATED:20240820T020956Z
LAST-MODIFIED:20240820T020956Z
UID:27954-1725962400-1725966000@nicolejohnston.com.au
SUMMARY:Sherwood | GOLD Meditation and Relaxation
DESCRIPTION:Learn techniques and skills to assist with relaxation and relieve stress in daily life. No prior experience is required. \nThis is a GOLD event suitable for seniors. Bring an exercise mat and pillow. \nBookings essential. To book email Sherwood Neighbourhood Centre. For more information phone 3379 6963.
URL:https://nicolejohnston.com.au/event/sherwood-gold-meditation-and-relaxation/2024-09-10/
LOCATION:Sherwood Neighbourhood Centre\, 38 Thallon Street\, Sherwood\, Queensland\, 4075\, Australia
GEO:-27.53402;152.981098
X-APPLE-STRUCTURED-LOCATION;VALUE=URI;X-ADDRESS=Sherwood Neighbourhood Centre 38 Thallon Street Sherwood Queensland 4075 Australia;X-APPLE-RADIUS=500;X-TITLE=38 Thallon Street:geo:152.981098,-27.53402
END:VEVENT
BEGIN:VEVENT
DTSTART;TZID=Australia/Brisbane:20240911T083000
DTEND;TZID=Australia/Brisbane:20240911T093000
DTSTAMP:20260425T204306
CREATED:20240624T031622Z
LAST-MODIFIED:20240624T031622Z
UID:27484-1726043400-1726047000@nicolejohnston.com.au
SUMMARY:Yeronga | GOLD Yoga for Mobility
DESCRIPTION:A gentle movement class blended with yoga to improve your strength\, balance and posture. No floor work included. Suitable for all fitness levels. Bring an exercise band. \nNo bookings required. For more information phone Cassie from Foxinsox Yoga on 0431 594 388.
URL:https://nicolejohnston.com.au/event/yeronga-gold-yoga-for-mobility/2024-09-11/
LOCATION:John Walker Place\, 323 Brisbane Corso\, Yeronga\, QLD\, 4104\, Australia
END:VEVENT
BEGIN:VEVENT
DTSTART;TZID=Australia/Brisbane:20240911T091500
DTEND;TZID=Australia/Brisbane:20240911T094500
DTSTAMP:20260425T204306
CREATED:20240807T042234Z
LAST-MODIFIED:20240807T060507Z
UID:27645-1726046100-1726047900@nicolejohnston.com.au
SUMMARY:Corinda Library | Toddler Time
DESCRIPTION:Meet other parents and toddlers for a fun session of singing\, clapping and dancing. Learn action rhymes and songs which will help your child’s pre-literacy\, communication\, language and social skills. Ideal for babies and toddlers aged 1-2 years. \nThe First 5 Forever initiative is funded by the Queensland Government.
URL:https://nicolejohnston.com.au/event/corinda-library-toddler-time/2024-09-11/
LOCATION:Corinda Library\, 641 Oxley Road\, Corinda\, Queensland\, 4075\, Australia
GEO:-27.538881;152.98142
X-APPLE-STRUCTURED-LOCATION;VALUE=URI;X-ADDRESS=Corinda Library 641 Oxley Road Corinda Queensland 4075 Australia;X-APPLE-RADIUS=500;X-TITLE=641 Oxley Road:geo:152.98142,-27.538881
END:VEVENT
BEGIN:VEVENT
DTSTART;TZID=Australia/Brisbane:20240911T140000
DTEND;TZID=Australia/Brisbane:20240911T150000
DTSTAMP:20260425T204306
CREATED:20240820T020533Z
LAST-MODIFIED:20240820T021036Z
UID:27940-1726063200-1726066800@nicolejohnston.com.au
SUMMARY:Sherwood | GOLD Belly Dance
DESCRIPTION:Enjoy gentle dance focused on fitness\, co-ordination\, flexibility\, relaxation and fun. Belly dance provides physical\, emotional and psychological benefits. Suitable for all levels.  Bring a belly dance belt if you have one. \nThis is a GOLD event suitable for seniors. \nBookings essential. To book email Sherwood Neighbourhood Centre. For more information phone 3379 6963.
URL:https://nicolejohnston.com.au/event/sherwood-belly-dance-2/2024-09-11/
LOCATION:Sherwood Neighbourhood Centre\, 38 Thallon Street\, Sherwood\, Queensland\, 4075\, Australia
GEO:-27.53402;152.981098
X-APPLE-STRUCTURED-LOCATION;VALUE=URI;X-ADDRESS=Sherwood Neighbourhood Centre 38 Thallon Street Sherwood Queensland 4075 Australia;X-APPLE-RADIUS=500;X-TITLE=38 Thallon Street:geo:152.981098,-27.53402
END:VEVENT
BEGIN:VEVENT
DTSTART;TZID=Australia/Brisbane:20240912T090000
DTEND;TZID=Australia/Brisbane:20240912T100000
DTSTAMP:20260425T204306
CREATED:20240619T064304Z
LAST-MODIFIED:20240619T064304Z
UID:27427-1726131600-1726135200@nicolejohnston.com.au
SUMMARY:Sherwood | Tai Chi Qigong
DESCRIPTION:This dynamic activity is invigorating and will help you feel relaxed\, refreshed and calm. Rejuvenate your body and learn to create a tranquil mind. Join any week. \nFor more information phone Julia from Minds Ease on 0412 362 338.
URL:https://nicolejohnston.com.au/event/sherwood-tai-chi-qigong-2/2024-09-12/
LOCATION:Sherwood Arboretum\, 57 Dewar Terrace\, Sherwood\, Queensland\, 4075\, Australia
GEO:-27.532253;152.977305
X-APPLE-STRUCTURED-LOCATION;VALUE=URI;X-ADDRESS=Sherwood Arboretum 57 Dewar Terrace Sherwood Queensland 4075 Australia;X-APPLE-RADIUS=500;X-TITLE=57 Dewar Terrace:geo:152.977305,-27.532253
END:VEVENT
BEGIN:VEVENT
DTSTART;TZID=Australia/Brisbane:20240912T090000
DTEND;TZID=Australia/Brisbane:20240912T100000
DTSTAMP:20260425T204306
CREATED:20240624T030353Z
LAST-MODIFIED:20240624T030353Z
UID:27465-1726131600-1726135200@nicolejohnston.com.au
SUMMARY:Oxley | Mums and Bubs Yoga
DESCRIPTION:A mum and bubs yoga class to connect with yourself\, your baby and others. Designed to support you post-natally\, gentle stretching and strengthening practices\, breathing exercises\, meditation.
URL:https://nicolejohnston.com.au/event/oxley-mums-and-bubs-yoga-2/2024-09-12/
LOCATION:Nixon Park\, 929 Oxley Road\, OXLEY\, QLD\, 4075\, Australia
GEO:-27.552171;152.9789711
X-APPLE-STRUCTURED-LOCATION;VALUE=URI;X-ADDRESS=Nixon Park 929 Oxley Road OXLEY QLD 4075 Australia;X-APPLE-RADIUS=500;X-TITLE=929 Oxley Road:geo:152.9789711,-27.552171
END:VEVENT
BEGIN:VEVENT
DTSTART;TZID=Australia/Brisbane:20240912T130000
DTEND;TZID=Australia/Brisbane:20240912T140000
DTSTAMP:20260425T204306
CREATED:20240624T044757Z
LAST-MODIFIED:20240624T044757Z
UID:27515-1726146000-1726149600@nicolejohnston.com.au
SUMMARY:Corinda | Aqua Yoga
DESCRIPTION:This is a low impact form of exercise that supports the body while still providing function and movement. Many yoga poses that you do in a class can be adapted for the pool\, sometimes using the pool walls as if it were the studio floor. \nNo bookings required. For more information phone Nichola on 0406 574 454.
URL:https://nicolejohnston.com.au/event/corinda-aqua-yoga-4/2024-09-12/
LOCATION:Dunlop Park Memorial Pool\, 794 Oxley Rd\, Corinda\, Qld\, 4075\, Australia
GEO:-27.5473096;152.9806407
X-APPLE-STRUCTURED-LOCATION;VALUE=URI;X-ADDRESS=Dunlop Park Memorial Pool 794 Oxley Rd Corinda Qld 4075 Australia;X-APPLE-RADIUS=500;X-TITLE=794 Oxley Rd:geo:152.9806407,-27.5473096
END:VEVENT
BEGIN:VEVENT
DTSTART;TZID=Australia/Brisbane:20240912T140000
DTEND;TZID=Australia/Brisbane:20240912T150000
DTSTAMP:20260425T204306
CREATED:20240807T023041Z
LAST-MODIFIED:20240807T023041Z
UID:27626-1726149600-1726153200@nicolejohnston.com.au
SUMMARY:Corinda Library | Tea and Trivia
DESCRIPTION:Join us for afternoon tea and test your knowledge against friends. Individuals and groups welcome. \nBookings required. Phone Corinda Library on 07 3407 7701 to reserve your place.
URL:https://nicolejohnston.com.au/event/corinda-library-tea-and-trivia/
LOCATION:Corinda Library\, 641 Oxley Road\, Corinda\, Queensland\, 4075\, Australia
GEO:-27.538881;152.98142
X-APPLE-STRUCTURED-LOCATION;VALUE=URI;X-ADDRESS=Corinda Library 641 Oxley Road Corinda Queensland 4075 Australia;X-APPLE-RADIUS=500;X-TITLE=641 Oxley Road:geo:152.98142,-27.538881
END:VEVENT
BEGIN:VEVENT
DTSTART;TZID=Australia/Brisbane:20240912T160000
DTEND;TZID=Australia/Brisbane:20240912T190000
DTSTAMP:20260425T204306
CREATED:20240826T033004Z
LAST-MODIFIED:20240826T033009Z
UID:28034-1726156800-1726167600@nicolejohnston.com.au
SUMMARY:Yeronga | Resilience in Action Expo
DESCRIPTION:Join the CP+ Community Resilience Team\, in partnership with Disaster Recovery Referral Partners\, for the Resilience in Action Expo on 12th September at Yeronga Community Centre! This event is packed with essential information and activities to help you\, and your family prepare for and recover from disasters.
URL:https://nicolejohnston.com.au/event/yeronga-resilience-in-action-expo/
LOCATION:Yeronga Community Centre\, 62 Park Rd\, Yeronga\, Queensland\, 4103\, Australia
CATEGORIES:Community Event
ATTACH;FMTTYPE=image/png:https://nicolejohnston.com.au/wp-content/uploads/2024/08/Resilience-in-Action-Expo.png
ORGANIZER;CN="Yeronga Community Centre":MAILTO:yeronga@communityplus.org.au
GEO:-27.5178214;153.0308084
X-APPLE-STRUCTURED-LOCATION;VALUE=URI;X-ADDRESS=Yeronga Community Centre 62 Park Rd Yeronga Queensland 4103 Australia;X-APPLE-RADIUS=500;X-TITLE=62 Park Rd:geo:153.0308084,-27.5178214
END:VEVENT
BEGIN:VEVENT
DTSTART;TZID=Australia/Brisbane:20240913T091500
DTEND;TZID=Australia/Brisbane:20240913T094500
DTSTAMP:20260425T204306
CREATED:20240807T041445Z
LAST-MODIFIED:20240807T060517Z
UID:27638-1726218900-1726220700@nicolejohnston.com.au
SUMMARY:Corinda Library | First 5 Forever Babies\, Books and Rhymes
DESCRIPTION:Meet other parents and babies for a fun session of singing\, clapping and dancing. Learn songs and action rhymes to nurture your baby’s pre-literacy\, communication\, language and social skills. Ideal for babies aged up to one year. The First 5 Forever initiative is funded by the Queensland Government.
URL:https://nicolejohnston.com.au/event/corinda-library-first-5-forever-babies-books-and-rhymes-2/2024-09-13/
LOCATION:Corinda Library\, 641 Oxley Road\, Corinda\, Queensland\, 4075\, Australia
GEO:-27.538881;152.98142
X-APPLE-STRUCTURED-LOCATION;VALUE=URI;X-ADDRESS=Corinda Library 641 Oxley Road Corinda Queensland 4075 Australia;X-APPLE-RADIUS=500;X-TITLE=641 Oxley Road:geo:152.98142,-27.538881
END:VEVENT
BEGIN:VEVENT
DTSTART;TZID=Australia/Brisbane:20240913T091500
DTEND;TZID=Australia/Brisbane:20240913T094500
DTSTAMP:20260425T204306
CREATED:20240807T042737Z
LAST-MODIFIED:20240807T060851Z
UID:27663-1726218900-1726220700@nicolejohnston.com.au
SUMMARY:Annerley Library | First 5 Forever Babies\, Books and Rhymes
DESCRIPTION:Meet other parents and babies for a fun session of singing\, clapping and dancing. Learn songs and action rhymes to nurture your baby’s pre-literacy\, communication\, language and social skills. Ideal for babies aged up to one year. The First 5 Forever initiative is funded by the Queensland Government.
URL:https://nicolejohnston.com.au/event/annerley-library-first-5-forever-babies-books-and-rhymes-2/2024-09-13/
LOCATION:Annerley Library\, 469 Ipswich Rd\, Annerley\, Queensland\, 4103\, Australia
GEO:-27.5115338;153.0317863
X-APPLE-STRUCTURED-LOCATION;VALUE=URI;X-ADDRESS=Annerley Library 469 Ipswich Rd Annerley Queensland 4103 Australia;X-APPLE-RADIUS=500;X-TITLE=469 Ipswich Rd:geo:153.0317863,-27.5115338
END:VEVENT
BEGIN:VEVENT
DTSTART;TZID=Australia/Brisbane:20240913T140000
DTEND;TZID=Australia/Brisbane:20240913T153000
DTSTAMP:20260425T204306
CREATED:20240807T044951Z
LAST-MODIFIED:20240807T044951Z
UID:27683-1726236000-1726241400@nicolejohnston.com.au
SUMMARY:Fairfield Library | One-On-One Tech Help
DESCRIPTION:Contact Fairfield library to enquire about one-on-one tech assistance to troubleshoot technical issues\, develop digital skills and improve online confidence. \nA Brisbane Libraries Tech Connect workshop.
URL:https://nicolejohnston.com.au/event/fairfield-library-one-on-one-tech-help/2024-09-13/
LOCATION:Fairfield Library\, Fairfield Gardens\, 180 Fairfield Rd\, Fairfield\, Queensland\, 4103\, Australia
GEO:-27.508752;153.025501
X-APPLE-STRUCTURED-LOCATION;VALUE=URI;X-ADDRESS=Fairfield Library Fairfield Gardens 180 Fairfield Rd Fairfield Queensland 4103 Australia;X-APPLE-RADIUS=500;X-TITLE=Fairfield Gardens\, 180 Fairfield Rd:geo:153.025501,-27.508752
END:VEVENT
BEGIN:VEVENT
DTSTART;TZID=Australia/Brisbane:20240913T163000
DTEND;TZID=Australia/Brisbane:20240913T203000
DTSTAMP:20260425T204306
CREATED:20240829T044507Z
LAST-MODIFIED:20240829T044511Z
UID:28057-1726245000-1726259400@nicolejohnston.com.au
SUMMARY:Dutton Park | Dutton Park State School Community Movie Night
DESCRIPTION:Gates open at 4:30pm\, food service starts at 5pm\, movie starts at 6:30pm. The movie will be “Scooby-Doo and the Curse of the 13th Ghost” \nThis is a free event\, but please register your attendance and pre-order food here.
URL:https://nicolejohnston.com.au/event/dutton-park-dutton-park-state-school-community-movie-night/
LOCATION:Dutton Park State School\, 112 Annerley Rd\, Dutton Park\, QLD\, 4102\, Australia
CATEGORIES:Community Event
END:VEVENT
BEGIN:VEVENT
DTSTART;TZID=Australia/Brisbane:20240913T170000
DTEND;TZID=Australia/Brisbane:20240913T220000
DTSTAMP:20260425T204306
CREATED:20240819T234105Z
LAST-MODIFIED:20240819T234106Z
UID:27884-1726246800-1726264800@nicolejohnston.com.au
SUMMARY:Graceville | Graceville Festival
DESCRIPTION:Held in the leafy suburbs of Western Brisbane\, the Graceville Festival aims to celebrate the vibrant culture\, heritage and community spirit of our beloved area. The Festival will feature local artisans\, live music\, family friendly amusement rides\, a live screening of the NRL semi-finals on the big screen and much more.
URL:https://nicolejohnston.com.au/event/graceville-graceville-festival/
LOCATION:Souths Graceville Hounds Rugby League Club\, 247 Graceville Ave\, Graceville\, Queensland\, 4075\, Australia
CATEGORIES:Community Event
ATTACH;FMTTYPE=image/jpeg:https://nicolejohnston.com.au/wp-content/uploads/2024/08/Graceville-Festival-Flyer-JPEG.jpg
END:VEVENT
BEGIN:VEVENT
DTSTART;TZID=Australia/Brisbane:20240914T070000
DTEND;TZID=Australia/Brisbane:20240914T080000
DTSTAMP:20260425T204306
CREATED:20240619T063747Z
LAST-MODIFIED:20240619T063747Z
UID:27408-1726297200-1726300800@nicolejohnston.com.au
SUMMARY:Annerley | Yoga
DESCRIPTION:Focus on a range of movements to relax the mind and body. Stretching\, breathing\, strength and balance exercises are included by incorporating standing poses and mat work into the session. \nFor more information phone Deanna from Yoga Mind Body Brisbane on 0401 247 328. \nBring an exercise mat\, towel\, two blocks and a yoga strap if you have them.
URL:https://nicolejohnston.com.au/event/annerley-yoga-6/2024-09-14/
LOCATION:Vallely St Park\, 51 Vallely Street\, Annerley\, QLD\, 4103\, Australia
END:VEVENT
BEGIN:VEVENT
DTSTART;TZID=Australia/Brisbane:20240914T100000
DTEND;TZID=Australia/Brisbane:20240914T120000
DTSTAMP:20260425T204306
CREATED:20240807T020758Z
LAST-MODIFIED:20240807T020758Z
UID:27608-1726308000-1726315200@nicolejohnston.com.au
SUMMARY:Annerley Library | Queensland Family History Online
DESCRIPTION:Do you have Queensland ancestry you would like to know more about? Discover some of the wonderful resources  available online with an experienced researcher from the Genealogical Society of Queensland. A Brisbane Libraries Tech Connect workshop. \nBookings required. Phone Annerley Library on 07 3403 1735 to reserve your place.
URL:https://nicolejohnston.com.au/event/annerley-library-queensland-family-history-online/
LOCATION:Annerley Library\, 469 Ipswich Rd\, Annerley\, Queensland\, 4103\, Australia
GEO:-27.5115338;153.0317863
X-APPLE-STRUCTURED-LOCATION;VALUE=URI;X-ADDRESS=Annerley Library 469 Ipswich Rd Annerley Queensland 4103 Australia;X-APPLE-RADIUS=500;X-TITLE=469 Ipswich Rd:geo:153.0317863,-27.5115338
END:VEVENT
BEGIN:VEVENT
DTSTART;TZID=Australia/Brisbane:20240914T100000
DTEND;TZID=Australia/Brisbane:20240914T120000
DTSTAMP:20260425T204306
CREATED:20240807T032309Z
LAST-MODIFIED:20240807T032309Z
UID:27628-1726308000-1726315200@nicolejohnston.com.au
SUMMARY:Corinda Library | Waterwise Gardening
DESCRIPTION:Horticulturist Brian Sams will show you how to make the best use of water in your garden. Topics to be showcased will include improving soil water holding\, mulching for moisture saving\, choosing plants with similar water needs and irrigating efficiently. \nBookings required. Phone Corinda Library on 07 3407 7701 to reserve your place.
URL:https://nicolejohnston.com.au/event/corinda-library-waterwise-gardening/
LOCATION:Corinda Library\, 641 Oxley Road\, Corinda\, Queensland\, 4075\, Australia
GEO:-27.538881;152.98142
X-APPLE-STRUCTURED-LOCATION;VALUE=URI;X-ADDRESS=Corinda Library 641 Oxley Road Corinda Queensland 4075 Australia;X-APPLE-RADIUS=500;X-TITLE=641 Oxley Road:geo:152.98142,-27.538881
END:VEVENT
BEGIN:VEVENT
DTSTART;TZID=Australia/Brisbane:20240914T140000
DTEND;TZID=Australia/Brisbane:20240914T160000
DTSTAMP:20260425T204306
CREATED:20240821T003543Z
LAST-MODIFIED:20240821T003545Z
UID:28010-1726322400-1726329600@nicolejohnston.com.au
SUMMARY:Oxley | Learn to Crochet with the QCWA
DESCRIPTION:Booking for this event is to simply email us at oxleybranch@qcwa.org.au.\n\nJoin us to celebrate International Crochet Day and learn to crochet either:\n\n1. Granny square for $10 – Beginners2pm sold out – starting a second group for 3pm; or\n\n2. Hanging 5 x hand towel places\, up to 10 scrunchie or make upremover for $15 – Experienced crocheters\n\nAll materials including wool\, crochet hook included!\n\nDevonshire afternoon tea of scones\, jam and cream and tea or coffee served.\n\nWe look forward to seeing you there.
URL:https://nicolejohnston.com.au/event/oxley-learn-to-crochet-with-the-qcwa/
LOCATION:QCWA Oxley Hall\, 76 Lincoln St\, Oxley\, QLD\, 4075\, Australia
CATEGORIES:Community Event
ATTACH;FMTTYPE=image/jpeg:https://nicolejohnston.com.au/wp-content/uploads/2024/08/Oxley-QCWA-Crochet.jpg
ORGANIZER;CN="QCWA Oxley":MAILTO:qcwaoxley@gmail.com
END:VEVENT
BEGIN:VEVENT
DTSTART;TZID=Australia/Brisbane:20240916T091500
DTEND;TZID=Australia/Brisbane:20240916T094500
DTSTAMP:20260425T204306
CREATED:20240807T043927Z
LAST-MODIFIED:20240807T060841Z
UID:27672-1726478100-1726479900@nicolejohnston.com.au
SUMMARY:Annerley Library | First 5 Forever Toddler Time
DESCRIPTION:Meet other parents and toddlers for a fun session of singing\, clapping and dancing. Learn action rhymes and songs which will help your child’s pre-literacy\, communication\, language and social skills. Ideal for babies and toddlers aged 1-2 years. The First 5 Forever initiative is funded by the Queensland Government.
URL:https://nicolejohnston.com.au/event/annerley-library-first-5-forever-toddler-time/2024-09-16/
LOCATION:Annerley Library\, 469 Ipswich Rd\, Annerley\, Queensland\, 4103\, Australia
GEO:-27.5115338;153.0317863
X-APPLE-STRUCTURED-LOCATION;VALUE=URI;X-ADDRESS=Annerley Library 469 Ipswich Rd Annerley Queensland 4103 Australia;X-APPLE-RADIUS=500;X-TITLE=469 Ipswich Rd:geo:153.0317863,-27.5115338
END:VEVENT
BEGIN:VEVENT
DTSTART;TZID=Australia/Brisbane:20240916T100000
DTEND;TZID=Australia/Brisbane:20240916T110000
DTSTAMP:20260425T204306
CREATED:20240815T045440Z
LAST-MODIFIED:20240815T045441Z
UID:27814-1726480800-1726484400@nicolejohnston.com.au
SUMMARY:Fairfield | Freestyle Scooter Clinic
DESCRIPTION:Learn new skills on your Scooter that will help you ride skate parks safely and have more fun! \nThis is a Chillout event suitable for young people 4-17 years. \nNo bookings required. For more information email Rampfest or phone Chris on 0421 701 448.
URL:https://nicolejohnston.com.au/event/fairfield-freestyle-scooter-clinic/
LOCATION:J.F. O’Grady Memorial Park\, Brougham St\, Fairfield\, Qld\, 4103\, Australia
GEO:-27.507678;153.0226066
X-APPLE-STRUCTURED-LOCATION;VALUE=URI;X-ADDRESS=J.F. O’Grady Memorial Park Brougham St Fairfield Qld 4103 Australia;X-APPLE-RADIUS=500;X-TITLE=Brougham St:geo:153.0226066,-27.507678
END:VEVENT
BEGIN:VEVENT
DTSTART;TZID=Australia/Brisbane:20240916T100000
DTEND;TZID=Australia/Brisbane:20240916T123000
DTSTAMP:20260425T204306
CREATED:20240820T021516Z
LAST-MODIFIED:20240820T021516Z
UID:27980-1726480800-1726489800@nicolejohnston.com.au
SUMMARY:Sherwood | GOLD Ceramic Pinch Pot Animals - Session 1
DESCRIPTION:Use the double pinch pot method to make a cute animal. \nThis is a GOLD event suitable for seniors. Bring an apron and wear closed in shoes. \nBookings essential. To book email Sherwood Neighbourhood Centre. For more information phone 3379 6963.
URL:https://nicolejohnston.com.au/event/sherwood-gold-ceramic-pinch-pot-animals-session-1/
LOCATION:Sherwood Neighbourhood Centre\, 38 Thallon Street\, Sherwood\, Queensland\, 4075\, Australia
GEO:-27.53402;152.981098
X-APPLE-STRUCTURED-LOCATION;VALUE=URI;X-ADDRESS=Sherwood Neighbourhood Centre 38 Thallon Street Sherwood Queensland 4075 Australia;X-APPLE-RADIUS=500;X-TITLE=38 Thallon Street:geo:152.981098,-27.53402
END:VEVENT
BEGIN:VEVENT
DTSTART;TZID=Australia/Brisbane:20240916T110000
DTEND;TZID=Australia/Brisbane:20240916T113000
DTSTAMP:20260425T204306
CREATED:20240807T042436Z
LAST-MODIFIED:20240807T060902Z
UID:27654-1726484400-1726486200@nicolejohnston.com.au
SUMMARY:Annerley Library | First 5 Forever Children's Storytime
DESCRIPTION:Experience the magic of storytime with your child at the library. This interactive session includes stories\, songs and mark making activities for young children. Ideal for children aged 2-5 years. \nThe First 5 Forever initiative is funded by the Queensland Government.
URL:https://nicolejohnston.com.au/event/annerley-library-first-5-forever-childrens-storytime/2024-09-16/
LOCATION:Annerley Library\, 469 Ipswich Rd\, Annerley\, Queensland\, 4103\, Australia
GEO:-27.5115338;153.0317863
X-APPLE-STRUCTURED-LOCATION;VALUE=URI;X-ADDRESS=Annerley Library 469 Ipswich Rd Annerley Queensland 4103 Australia;X-APPLE-RADIUS=500;X-TITLE=469 Ipswich Rd:geo:153.0317863,-27.5115338
END:VEVENT
BEGIN:VEVENT
DTSTART;TZID=Australia/Brisbane:20240916T110000
DTEND;TZID=Australia/Brisbane:20240916T120000
DTSTAMP:20260425T204306
CREATED:20240815T045647Z
LAST-MODIFIED:20240815T045648Z
UID:27816-1726484400-1726488000@nicolejohnston.com.au
SUMMARY:Fairfield | Freestyle Scooter Clinic
DESCRIPTION:Learn new skills on your Scooter that will help you ride skate parks safely and have more fun! \nThis is a Chillout event suitable for young people 4-17 years. \nNo bookings required. For more information email Rampfest or phone Chris on 0421 701 448.
URL:https://nicolejohnston.com.au/event/fairfield-freestyle-scooter-clinic-2/
LOCATION:J.F. O’Grady Memorial Park\, Brougham St\, Fairfield\, Qld\, 4103\, Australia
GEO:-27.507678;153.0226066
X-APPLE-STRUCTURED-LOCATION;VALUE=URI;X-ADDRESS=J.F. O’Grady Memorial Park Brougham St Fairfield Qld 4103 Australia;X-APPLE-RADIUS=500;X-TITLE=Brougham St:geo:153.0226066,-27.507678
END:VEVENT
BEGIN:VEVENT
DTSTART;TZID=Australia/Brisbane:20240916T110000
DTEND;TZID=Australia/Brisbane:20240916T130000
DTSTAMP:20260425T204306
CREATED:20240807T020954Z
LAST-MODIFIED:20240807T060943Z
UID:27610-1726484400-1726491600@nicolejohnston.com.au
SUMMARY:Annerley Library | Make and Create for Kids
DESCRIPTION:Drop into the library to get creative with free art and craft activities. Ideal for children aged 3-8 years.
URL:https://nicolejohnston.com.au/event/annerley-library-make-and-create-for-kids/2024-09-16/
LOCATION:Annerley Library\, 469 Ipswich Rd\, Annerley\, Queensland\, 4103\, Australia
GEO:-27.5115338;153.0317863
X-APPLE-STRUCTURED-LOCATION;VALUE=URI;X-ADDRESS=Annerley Library 469 Ipswich Rd Annerley Queensland 4103 Australia;X-APPLE-RADIUS=500;X-TITLE=469 Ipswich Rd:geo:153.0317863,-27.5115338
END:VEVENT
BEGIN:VEVENT
DTSTART;TZID=Australia/Brisbane:20240917T110000
DTEND;TZID=Australia/Brisbane:20240917T120000
DTSTAMP:20260425T204306
CREATED:20240807T021242Z
LAST-MODIFIED:20240807T021242Z
UID:27617-1726570800-1726574400@nicolejohnston.com.au
SUMMARY:Annerley Library | Introducing Osmo
DESCRIPTION:Discover an educational gaming system that merges tactile exploration with innovative iPad technology\, actively engaging children in the learning process. Introducing young minds to coding in a fun and easy way\, Osmo enables children to explore the world of science\, maths\, art and more through creative problem solving. Ideal for children aged 5-12 years. \nA BNEtechkids workshop. \nBookings required. Phone Annerley Library on 07 3403 1735 to reserve your place.
URL:https://nicolejohnston.com.au/event/annerley-library-introducing-osmo/
LOCATION:Annerley Library\, 469 Ipswich Rd\, Annerley\, Queensland\, 4103\, Australia
GEO:-27.5115338;153.0317863
X-APPLE-STRUCTURED-LOCATION;VALUE=URI;X-ADDRESS=Annerley Library 469 Ipswich Rd Annerley Queensland 4103 Australia;X-APPLE-RADIUS=500;X-TITLE=469 Ipswich Rd:geo:153.0317863,-27.5115338
END:VEVENT
BEGIN:VEVENT
DTSTART;TZID=Australia/Brisbane:20240917T110000
DTEND;TZID=Australia/Brisbane:20240917T120000
DTSTAMP:20260425T204306
CREATED:20240807T052132Z
LAST-MODIFIED:20240807T052132Z
UID:27696-1726570800-1726574400@nicolejohnston.com.au
SUMMARY:Fairfield Library | Make and Create for Kids
DESCRIPTION:Drop into the library to get creative with free art and craft activities. Ideal for children aged 4-12 years.
URL:https://nicolejohnston.com.au/event/fairfield-library-make-and-create-for-kids/
LOCATION:Fairfield Library\, Fairfield Gardens\, 180 Fairfield Rd\, Fairfield\, Queensland\, 4103\, Australia
GEO:-27.508752;153.025501
X-APPLE-STRUCTURED-LOCATION;VALUE=URI;X-ADDRESS=Fairfield Library Fairfield Gardens 180 Fairfield Rd Fairfield Queensland 4103 Australia;X-APPLE-RADIUS=500;X-TITLE=Fairfield Gardens\, 180 Fairfield Rd:geo:153.025501,-27.508752
END:VEVENT
END:VCALENDAR