BEGIN:VCALENDAR
VERSION:2.0
PRODID:-//Nicole Johnston - ECPv6.15.20//NONSGML v1.0//EN
CALSCALE:GREGORIAN
METHOD:PUBLISH
X-ORIGINAL-URL:https://nicolejohnston.com.au
X-WR-CALDESC:Events for Nicole Johnston
REFRESH-INTERVAL;VALUE=DURATION:PT1H
X-Robots-Tag:noindex
X-PUBLISHED-TTL:PT1H
BEGIN:VTIMEZONE
TZID:Australia/Brisbane
BEGIN:STANDARD
TZOFFSETFROM:+1000
TZOFFSETTO:+1000
TZNAME:AEST
DTSTART:20160101T000000
END:STANDARD
END:VTIMEZONE
BEGIN:VEVENT
DTSTART;TZID=Australia/Brisbane:20171215T140000
DTEND;TZID=Australia/Brisbane:20171215T150000
DTSTAMP:20260426T091650
CREATED:20171107T234422Z
LAST-MODIFIED:20171107T234422Z
UID:14397-1513346400-1513350000@nicolejohnston.com.au
SUMMARY:Annerley | Warriors and wizards with Chris Thompson
DESCRIPTION:Chris Thompson will relate old Irish stories of heroes and adventures. Bookings essential.
URL:https://nicolejohnston.com.au/event/annerley-warriors-and-wizards-with-chris-thompson/
LOCATION:Corinda Library\, 641 Oxley Road\, Corinda\, Queensland\, 4075\, Australia
GEO:-27.538881;152.98142
X-APPLE-STRUCTURED-LOCATION;VALUE=URI;X-ADDRESS=Corinda Library 641 Oxley Road Corinda Queensland 4075 Australia;X-APPLE-RADIUS=500;X-TITLE=641 Oxley Road:geo:152.98142,-27.538881
END:VEVENT
BEGIN:VEVENT
DTSTART;TZID=Australia/Brisbane:20171215T140000
DTEND;TZID=Australia/Brisbane:20171215T153000
DTSTAMP:20260426T091650
CREATED:20171115T015452Z
LAST-MODIFIED:20171115T015452Z
UID:14506-1513346400-1513351800@nicolejohnston.com.au
SUMMARY:Fairfield | eBay and Gumtree basics
DESCRIPTION:Looking to de-clutter or add to your home? Learn about buying and selling goods safely online through eBay and Gumtree. Basic computer and internet skills required. Bookings essential.
URL:https://nicolejohnston.com.au/event/fairfield-ebay-and-gumtree-basics-2/
LOCATION:Fairfield Library\, Fairfield Gardens\, 180 Fairfield Rd\, Fairfield\, Queensland\, 4103\, Australia
GEO:-27.508752;153.025501
X-APPLE-STRUCTURED-LOCATION;VALUE=URI;X-ADDRESS=Fairfield Library Fairfield Gardens 180 Fairfield Rd Fairfield Queensland 4103 Australia;X-APPLE-RADIUS=500;X-TITLE=Fairfield Gardens\, 180 Fairfield Rd:geo:153.025501,-27.508752
END:VEVENT
BEGIN:VEVENT
DTSTART;TZID=Australia/Brisbane:20171216T100000
DTEND;TZID=Australia/Brisbane:20171216T103000
DTSTAMP:20260426T091650
CREATED:20171107T233538Z
LAST-MODIFIED:20171107T233538Z
UID:14381-1513418400-1513420200@nicolejohnston.com.au
SUMMARY:Annerley | ‘Twas the Night Before Christmas storytime
DESCRIPTION:Join a special reading of the classic story ‘Twas the Night Before Christmas and holiday craft. Ideal for children aged 2-5 years.
URL:https://nicolejohnston.com.au/event/annerley-twas-the-night-before-christmas-storytime/
LOCATION:Annerley Library\, 469 Ipswich Rd\, Annerley\, Queensland\, 4103\, Australia
GEO:-27.5115338;153.0317863
X-APPLE-STRUCTURED-LOCATION;VALUE=URI;X-ADDRESS=Annerley Library 469 Ipswich Rd Annerley Queensland 4103 Australia;X-APPLE-RADIUS=500;X-TITLE=469 Ipswich Rd:geo:153.0317863,-27.5115338
END:VEVENT
BEGIN:VEVENT
DTSTART;TZID=Australia/Brisbane:20171216T100000
DTEND;TZID=Australia/Brisbane:20171216T103000
DTSTAMP:20260426T091650
CREATED:20171115T015616Z
LAST-MODIFIED:20171115T015616Z
UID:14508-1513418400-1513420200@nicolejohnston.com.au
SUMMARY:Fairfield | Christmas craft
DESCRIPTION:Join us after our special First 5 Forever Christmas themed storytime and make seasonal craft. Ideal for children aged 2-5 years.
URL:https://nicolejohnston.com.au/event/fairfield-christmas-craft/
LOCATION:Fairfield Library\, Fairfield Gardens\, 180 Fairfield Rd\, Fairfield\, Queensland\, 4103\, Australia
GEO:-27.508752;153.025501
X-APPLE-STRUCTURED-LOCATION;VALUE=URI;X-ADDRESS=Fairfield Library Fairfield Gardens 180 Fairfield Rd Fairfield Queensland 4103 Australia;X-APPLE-RADIUS=500;X-TITLE=Fairfield Gardens\, 180 Fairfield Rd:geo:153.025501,-27.508752
END:VEVENT
BEGIN:VEVENT
DTSTART;TZID=Australia/Brisbane:20171216T103000
DTEND;TZID=Australia/Brisbane:20171216T123000
DTSTAMP:20260426T091650
CREATED:20171107T233628Z
LAST-MODIFIED:20171107T235330Z
UID:14383-1513420200-1513427400@nicolejohnston.com.au
SUMMARY:Annerley | Christmas maker space
DESCRIPTION:Enjoy free school holiday craft activities with a Christmas theme. Ideal for children aged 6-10 years and their carers. Bookings essential.
URL:https://nicolejohnston.com.au/event/annerley-christmas-maker-space/
LOCATION:Annerley Library\, 469 Ipswich Rd\, Annerley\, Queensland\, 4103\, Australia
GEO:-27.5115338;153.0317863
X-APPLE-STRUCTURED-LOCATION;VALUE=URI;X-ADDRESS=Annerley Library 469 Ipswich Rd Annerley Queensland 4103 Australia;X-APPLE-RADIUS=500;X-TITLE=469 Ipswich Rd:geo:153.0317863,-27.5115338
END:VEVENT
BEGIN:VEVENT
DTSTART;TZID=Australia/Brisbane:20171216T140000
DTEND;TZID=Australia/Brisbane:20171216T150000
DTSTAMP:20260426T091650
CREATED:20171115T015706Z
LAST-MODIFIED:20171115T015706Z
UID:14510-1513432800-1513436400@nicolejohnston.com.au
SUMMARY:Fairfield | Tinker table: Cubelets
DESCRIPTION:Drop in for some hands-on experimenting with Cubelets. These magnetic modular cubes can be snapped together in multiple ways to build all kinds of robotic creations. Ideal for all ages.
URL:https://nicolejohnston.com.au/event/fairfield-tinker-table-cubelets-2/
LOCATION:Fairfield Library\, Fairfield Gardens\, 180 Fairfield Rd\, Fairfield\, Queensland\, 4103\, Australia
GEO:-27.508752;153.025501
X-APPLE-STRUCTURED-LOCATION;VALUE=URI;X-ADDRESS=Fairfield Library Fairfield Gardens 180 Fairfield Rd Fairfield Queensland 4103 Australia;X-APPLE-RADIUS=500;X-TITLE=Fairfield Gardens\, 180 Fairfield Rd:geo:153.025501,-27.508752
END:VEVENT
BEGIN:VEVENT
DTSTART;TZID=Australia/Brisbane:20171217T170000
DTEND;TZID=Australia/Brisbane:20171217T190000
DTSTAMP:20260426T091650
CREATED:20171114T005511Z
LAST-MODIFIED:20171114T005511Z
UID:14459-1513530000-1513537200@nicolejohnston.com.au
SUMMARY:Chelmer | St David's Anglican Xmas Festival
DESCRIPTION:Join me to celebrate the Christmas season at St David’s Anglican Christmas Festival from 5pm on Sunday\, 17 December. Come along and enjoy children’s activities\, such as jumping castle and petting zoo\, as well as yummy baked goods and christmas stalls. The festival will be held at St David’s Church\, 62 Chelmer St E\, Chelmer.
URL:https://nicolejohnston.com.au/event/chelmer-st-davids-anglican-xmas-festival/
LOCATION:St David’s Anglican Church\, 62 Chelmer St East\, Chelmer\, Queensland\, 4068\, Australia
GEO:-27.514588;152.973768
X-APPLE-STRUCTURED-LOCATION;VALUE=URI;X-ADDRESS=St David’s Anglican Church 62 Chelmer St East Chelmer Queensland 4068 Australia;X-APPLE-RADIUS=500;X-TITLE=62 Chelmer St East:geo:152.973768,-27.514588
END:VEVENT
BEGIN:VEVENT
DTSTART;TZID=Australia/Brisbane:20171217T170000
DTEND;TZID=Australia/Brisbane:20171217T200000
DTSTAMP:20260426T091650
CREATED:20171102T021439Z
LAST-MODIFIED:20171102T021439Z
UID:14341-1513530000-1513540800@nicolejohnston.com.au
SUMMARY:St David's Anglican Church Community Christmas Festival
DESCRIPTION:Free jumping castle and petting zoo. Christmas and food stalls. Come along for a great annual community event. I hope to see you there!
URL:https://nicolejohnston.com.au/event/st-davids-anglican-church-community-christmas-festival/
LOCATION:St David’s Anglican Church\, 62 Chelmer St East\, Chelmer\, Queensland\, 4068\, Australia
GEO:-27.514588;152.973768
X-APPLE-STRUCTURED-LOCATION;VALUE=URI;X-ADDRESS=St David’s Anglican Church 62 Chelmer St East Chelmer Queensland 4068 Australia;X-APPLE-RADIUS=500;X-TITLE=62 Chelmer St East:geo:152.973768,-27.514588
END:VEVENT
BEGIN:VEVENT
DTSTART;TZID=Australia/Brisbane:20171220T093000
DTEND;TZID=Australia/Brisbane:20171220T110000
DTSTAMP:20260426T091650
CREATED:20171107T233711Z
LAST-MODIFIED:20171107T233711Z
UID:14385-1513762200-1513767600@nicolejohnston.com.au
SUMMARY:Annerley | Sphero and the enchanted forest
DESCRIPTION:Help Sphero find his way through the enchanted forest using simple coding skills. No prior programming experience required. Bookings essential.\n\nA BNEtechkids workshop.
URL:https://nicolejohnston.com.au/event/annerley-sphero-and-the-enchanted-forest/
LOCATION:Annerley Library\, 469 Ipswich Rd\, Annerley\, Queensland\, 4103\, Australia
GEO:-27.5115338;153.0317863
X-APPLE-STRUCTURED-LOCATION;VALUE=URI;X-ADDRESS=Annerley Library 469 Ipswich Rd Annerley Queensland 4103 Australia;X-APPLE-RADIUS=500;X-TITLE=469 Ipswich Rd:geo:153.0317863,-27.5115338
END:VEVENT
BEGIN:VEVENT
DTSTART;TZID=Australia/Brisbane:20171220T110000
DTEND;TZID=Australia/Brisbane:20171220T123000
DTSTAMP:20260426T091650
CREATED:20171107T234710Z
LAST-MODIFIED:20171107T234728Z
UID:14399-1513767600-1513773000@nicolejohnston.com.au
SUMMARY:Corinda | Computer skills two
DESCRIPTION:Now that you know how to use a keyboard and mouse\, build on your skills by learning how to create basic word documents\, find useful programs\, and manage files and folders on a windows computer. Bookings essential.
URL:https://nicolejohnston.com.au/event/annerley-computer-skills-two/
LOCATION:Corinda Library\, 641 Oxley Road\, Corinda\, Queensland\, 4075\, Australia
GEO:-27.538881;152.98142
X-APPLE-STRUCTURED-LOCATION;VALUE=URI;X-ADDRESS=Corinda Library 641 Oxley Road Corinda Queensland 4075 Australia;X-APPLE-RADIUS=500;X-TITLE=641 Oxley Road:geo:152.98142,-27.538881
END:VEVENT
BEGIN:VEVENT
DTSTART;TZID=Australia/Brisbane:20171220T140000
DTEND;TZID=Australia/Brisbane:20171220T143000
DTSTAMP:20260426T091650
CREATED:20171115T015803Z
LAST-MODIFIED:20171115T015803Z
UID:14512-1513778400-1513780200@nicolejohnston.com.au
SUMMARY:Fairfield | Live performance: KoalaRumba by Blue Gum Farm
DESCRIPTION:A celebration of life in the Australian Outback! A little bit quirky and a whole lot of fun\, KoalaRumba is an interactive concert that focuses on Australian native animals and their life in the Australian bush. Meet Elvis Emu as he grazes out in the paddock. See Sunny the cockatoo as she forages for seeds at the silo and join old Grandad Goanna on his adventures around the farm. Ideal for children aged 0-6 years.
URL:https://nicolejohnston.com.au/event/fairfield-live-performance-koalarumba-by-blue-gum-farm/
LOCATION:Fairfield Library\, Fairfield Gardens\, 180 Fairfield Rd\, Fairfield\, Queensland\, 4103\, Australia
GEO:-27.508752;153.025501
X-APPLE-STRUCTURED-LOCATION;VALUE=URI;X-ADDRESS=Fairfield Library Fairfield Gardens 180 Fairfield Rd Fairfield Queensland 4103 Australia;X-APPLE-RADIUS=500;X-TITLE=Fairfield Gardens\, 180 Fairfield Rd:geo:153.025501,-27.508752
END:VEVENT
BEGIN:VEVENT
DTSTART;TZID=Australia/Brisbane:20171221T100000
DTEND;TZID=Australia/Brisbane:20171221T110000
DTSTAMP:20260426T091650
CREATED:20171115T015853Z
LAST-MODIFIED:20171115T015853Z
UID:14514-1513850400-1513854000@nicolejohnston.com.au
SUMMARY:Fairfield | Bunnyhop and friends: A Christmas stocking of stories
DESCRIPTION:Storyteller Chris Thompson and her puppet friends unpack a surprise package of Christmas stories. Chris and her friends come all the way from Ireland\, so expect a sparkle of Santa’s snow to add to the Brisbane sunshine! This is an interactive show for children of all ages and their carers.
URL:https://nicolejohnston.com.au/event/fairfield-bunnyhop-and-friends-a-christmas-stocking-of-stories/
LOCATION:Fairfield Library\, Fairfield Gardens\, 180 Fairfield Rd\, Fairfield\, Queensland\, 4103\, Australia
GEO:-27.508752;153.025501
X-APPLE-STRUCTURED-LOCATION;VALUE=URI;X-ADDRESS=Fairfield Library Fairfield Gardens 180 Fairfield Rd Fairfield Queensland 4103 Australia;X-APPLE-RADIUS=500;X-TITLE=Fairfield Gardens\, 180 Fairfield Rd:geo:153.025501,-27.508752
END:VEVENT
BEGIN:VEVENT
DTSTART;TZID=Australia/Brisbane:20171221T140000
DTEND;TZID=Australia/Brisbane:20171221T143000
DTSTAMP:20260426T091650
CREATED:20171107T234833Z
LAST-MODIFIED:20171107T234833Z
UID:14402-1513864800-1513866600@nicolejohnston.com.au
SUMMARY:Corinda | Christmas storytime
DESCRIPTION:Join in the yuletide fun of listening to some wonderful stories\, old and new.
URL:https://nicolejohnston.com.au/event/corinda-christmas-storytime/
LOCATION:Corinda Library\, 641 Oxley Road\, Corinda\, Queensland\, 4075\, Australia
GEO:-27.538881;152.98142
X-APPLE-STRUCTURED-LOCATION;VALUE=URI;X-ADDRESS=Corinda Library 641 Oxley Road Corinda Queensland 4075 Australia;X-APPLE-RADIUS=500;X-TITLE=641 Oxley Road:geo:152.98142,-27.538881
END:VEVENT
BEGIN:VEVENT
DTSTART;TZID=Australia/Brisbane:20171222T140000
DTEND;TZID=Australia/Brisbane:20171222T153000
DTSTAMP:20260426T091650
CREATED:20171115T015935Z
LAST-MODIFIED:20171115T015935Z
UID:14516-1513951200-1513956600@nicolejohnston.com.au
SUMMARY:Fairfield | Computer skills one
DESCRIPTION:Learn how to use the keyboard and mouse\, and find your way around a Windows computer. Perfect for the first time user. Bookings essential.
URL:https://nicolejohnston.com.au/event/fairfield-computer-skills-one-2/
LOCATION:Fairfield Library\, Fairfield Gardens\, 180 Fairfield Rd\, Fairfield\, Queensland\, 4103\, Australia
GEO:-27.508752;153.025501
X-APPLE-STRUCTURED-LOCATION;VALUE=URI;X-ADDRESS=Fairfield Library Fairfield Gardens 180 Fairfield Rd Fairfield Queensland 4103 Australia;X-APPLE-RADIUS=500;X-TITLE=Fairfield Gardens\, 180 Fairfield Rd:geo:153.025501,-27.508752
END:VEVENT
BEGIN:VEVENT
DTSTART;TZID=Australia/Brisbane:20171222T140000
DTEND;TZID=Australia/Brisbane:20171222T160000
DTSTAMP:20260426T091650
CREATED:20171107T234953Z
LAST-MODIFIED:20171107T234953Z
UID:14404-1513951200-1513958400@nicolejohnston.com.au
SUMMARY:Corinda | Maker space
DESCRIPTION:Make a great Christmas gift bag for your family and friends. Bookings essential.
URL:https://nicolejohnston.com.au/event/corinda-maker-space-5/
LOCATION:Corinda Library\, 641 Oxley Road\, Corinda\, Queensland\, 4075\, Australia
GEO:-27.538881;152.98142
X-APPLE-STRUCTURED-LOCATION;VALUE=URI;X-ADDRESS=Corinda Library 641 Oxley Road Corinda Queensland 4075 Australia;X-APPLE-RADIUS=500;X-TITLE=641 Oxley Road:geo:152.98142,-27.538881
END:VEVENT
BEGIN:VEVENT
DTSTART;TZID=Australia/Brisbane:20171227T110000
DTEND;TZID=Australia/Brisbane:20171227T123000
DTSTAMP:20260426T091650
CREATED:20171107T235059Z
LAST-MODIFIED:20171107T235059Z
UID:14406-1514372400-1514377800@nicolejohnston.com.au
SUMMARY:Corinda | Online safety and security
DESCRIPTION:Feel safe and confident online by learning the basics of secure internet use. Learn how to protect yourself against viruses and malware\, pay safely online and create strong passwords. Basic computer and internet skills required. Bookings essential.
URL:https://nicolejohnston.com.au/event/corinda-online-safety-and-security/
LOCATION:Corinda RSL\, Clewley St\, Corinda\, Qld\, 4075\, Australia
GEO:-27.5383287;152.9839763
X-APPLE-STRUCTURED-LOCATION;VALUE=URI;X-ADDRESS=Corinda RSL Clewley St Corinda Qld 4075 Australia;X-APPLE-RADIUS=500;X-TITLE=Clewley St:geo:152.9839763,-27.5383287
END:VEVENT
BEGIN:VEVENT
DTSTART;TZID=Australia/Brisbane:20171227T130000
DTEND;TZID=Australia/Brisbane:20171227T160000
DTSTAMP:20260426T091650
CREATED:20171115T020117Z
LAST-MODIFIED:20171115T020117Z
UID:14518-1514379600-1514390400@nicolejohnston.com.au
SUMMARY:Fairfield | Maker space
DESCRIPTION:Drop in and be crafty. Make your selection from a range of art and craft activities. Ideal for all ages.
URL:https://nicolejohnston.com.au/event/fairfield-maker-space-4/
LOCATION:Fairfield Library\, Fairfield Gardens\, 180 Fairfield Rd\, Fairfield\, Queensland\, 4103\, Australia
GEO:-27.508752;153.025501
X-APPLE-STRUCTURED-LOCATION;VALUE=URI;X-ADDRESS=Fairfield Library Fairfield Gardens 180 Fairfield Rd Fairfield Queensland 4103 Australia;X-APPLE-RADIUS=500;X-TITLE=Fairfield Gardens\, 180 Fairfield Rd:geo:153.025501,-27.508752
END:VEVENT
BEGIN:VEVENT
DTSTART;TZID=Australia/Brisbane:20171228T130000
DTEND;TZID=Australia/Brisbane:20171228T160000
DTSTAMP:20260426T091650
CREATED:20171115T020312Z
LAST-MODIFIED:20171115T020312Z
UID:14520-1514466000-1514476800@nicolejohnston.com.au
SUMMARY:Fairfield | Maker space
DESCRIPTION:Drop in and be crafty. Make your selection from a range of art and craft activities. Ideal for all ages.
URL:https://nicolejohnston.com.au/event/fairfield-maker-space-5/2017-12-28/
LOCATION:Fairfield Library\, Fairfield Gardens\, 180 Fairfield Rd\, Fairfield\, Queensland\, 4103\, Australia
GEO:-27.508752;153.025501
X-APPLE-STRUCTURED-LOCATION;VALUE=URI;X-ADDRESS=Fairfield Library Fairfield Gardens 180 Fairfield Rd Fairfield Queensland 4103 Australia;X-APPLE-RADIUS=500;X-TITLE=Fairfield Gardens\, 180 Fairfield Rd:geo:153.025501,-27.508752
END:VEVENT
BEGIN:VEVENT
DTSTART;TZID=Australia/Brisbane:20180103T110000
DTEND;TZID=Australia/Brisbane:20180103T123000
DTSTAMP:20260426T091650
CREATED:20171124T051414Z
LAST-MODIFIED:20171124T051414Z
UID:14579-1514977200-1514982600@nicolejohnston.com.au
SUMMARY:Corinda | Facebook basics
DESCRIPTION:Create your own account and learn how to use Facebook so you can stay in touch with family and friends online. Bookings essential.
URL:https://nicolejohnston.com.au/event/corinda-facebook-basics/
LOCATION:Corinda Library\, 641 Oxley Road\, Corinda\, Queensland\, 4075\, Australia
GEO:-27.538881;152.98142
X-APPLE-STRUCTURED-LOCATION;VALUE=URI;X-ADDRESS=Corinda Library 641 Oxley Road Corinda Queensland 4075 Australia;X-APPLE-RADIUS=500;X-TITLE=641 Oxley Road:geo:152.98142,-27.538881
END:VEVENT
BEGIN:VEVENT
DTSTART;TZID=Australia/Brisbane:20180105T140000
DTEND;TZID=Australia/Brisbane:20180105T153000
DTSTAMP:20260426T091650
CREATED:20171124T050755Z
LAST-MODIFIED:20171124T050755Z
UID:14565-1515160800-1515166200@nicolejohnston.com.au
SUMMARY:Fairfield | Internet skills one
DESCRIPTION:Learn how to find your way around the internet safely\, save your favourite websites\, search for information and use Google to help you find answers. Basic computer skills are required. Bookings essential.
URL:https://nicolejohnston.com.au/event/fairfield-internet-skills-one-4/
LOCATION:Fairfield Library\, Fairfield Gardens\, 180 Fairfield Rd\, Fairfield\, Queensland\, 4103\, Australia
GEO:-27.508752;153.025501
X-APPLE-STRUCTURED-LOCATION;VALUE=URI;X-ADDRESS=Fairfield Library Fairfield Gardens 180 Fairfield Rd Fairfield Queensland 4103 Australia;X-APPLE-RADIUS=500;X-TITLE=Fairfield Gardens\, 180 Fairfield Rd:geo:153.025501,-27.508752
END:VEVENT
BEGIN:VEVENT
DTSTART;TZID=Australia/Brisbane:20180108T140000
DTEND;TZID=Australia/Brisbane:20180108T150000
DTSTAMP:20260426T091650
CREATED:20171124T052807Z
LAST-MODIFIED:20171124T053237Z
UID:14600-1515420000-1515423600@nicolejohnston.com.au
SUMMARY:Annerley | Maker space
DESCRIPTION:Enjoy free school holiday craft activities.  Ideal for children aged 6-10 years and their carers. Bookings essential.
URL:https://nicolejohnston.com.au/event/annerley-maker-space/2018-01-08/
LOCATION:Corinda Library\, 641 Oxley Road\, Corinda\, Queensland\, 4075\, Australia
GEO:-27.538881;152.98142
X-APPLE-STRUCTURED-LOCATION;VALUE=URI;X-ADDRESS=Corinda Library 641 Oxley Road Corinda Queensland 4075 Australia;X-APPLE-RADIUS=500;X-TITLE=641 Oxley Road:geo:152.98142,-27.538881
END:VEVENT
BEGIN:VEVENT
DTSTART;TZID=Australia/Brisbane:20180109T100000
DTEND;TZID=Australia/Brisbane:20180109T113000
DTSTAMP:20260426T091650
CREATED:20171124T052855Z
LAST-MODIFIED:20171124T052855Z
UID:14605-1515492000-1515497400@nicolejohnston.com.au
SUMMARY:Annerley | Email skills one
DESCRIPTION:Connect with family\, friends and organisations using email. Learn how to create an email account\, send and reply to emails\, create contacts\, and sign in and out of your account. Basic computer and internet skills required. Bookings essential. \nA Brisbane Libraries Tech Connect workshop.
URL:https://nicolejohnston.com.au/event/annerley-email-skills-one/
LOCATION:Annerley Library\, 469 Ipswich Rd\, Annerley\, Queensland\, 4103\, Australia
GEO:-27.5115338;153.0317863
X-APPLE-STRUCTURED-LOCATION;VALUE=URI;X-ADDRESS=Annerley Library 469 Ipswich Rd Annerley Queensland 4103 Australia;X-APPLE-RADIUS=500;X-TITLE=469 Ipswich Rd:geo:153.0317863,-27.5115338
END:VEVENT
BEGIN:VEVENT
DTSTART;TZID=Australia/Brisbane:20180109T130000
DTEND;TZID=Australia/Brisbane:20180109T140000
DTSTAMP:20260426T091650
CREATED:20171124T052937Z
LAST-MODIFIED:20171124T052937Z
UID:14607-1515502800-1515506400@nicolejohnston.com.au
SUMMARY:Annerley | Cartoon Dave workshop: Spectacular sea creatures
DESCRIPTION:Dave ‘Cartoon Dave’ Hackett has taught cartooning to more than 200\,000 children in schools and libraries all over the world. He is the author of seven how-to cartooning books\, three picture books and six novels. Join Dave as he shares his cartooning skills in this fun and interactive workshop. Ideal for children aged 6-12 years. Bookings essential.\n\nThis event is part of Brisbane Libraries’ Summer Reading program.
URL:https://nicolejohnston.com.au/event/annerley-cartoon-dave-workshop-spectacular-sea-creatures/
LOCATION:Annerley Library\, 469 Ipswich Rd\, Annerley\, Queensland\, 4103\, Australia
GEO:-27.5115338;153.0317863
X-APPLE-STRUCTURED-LOCATION;VALUE=URI;X-ADDRESS=Annerley Library 469 Ipswich Rd Annerley Queensland 4103 Australia;X-APPLE-RADIUS=500;X-TITLE=469 Ipswich Rd:geo:153.0317863,-27.5115338
END:VEVENT
BEGIN:VEVENT
DTSTART;TZID=Australia/Brisbane:20180110T110000
DTEND;TZID=Australia/Brisbane:20180110T123000
DTSTAMP:20260426T091650
CREATED:20171124T051500Z
LAST-MODIFIED:20171124T051500Z
UID:14581-1515582000-1515587400@nicolejohnston.com.au
SUMMARY:Corinda | iPad skills one
DESCRIPTION:Learn how to use the basic features of an iPad. Explore apps\, connect to Wi-Fi and search on the internet. Perfect for the first time user. Bring your own iPad. Bookings essential.
URL:https://nicolejohnston.com.au/event/corinda-ipad-skills-one-2/
LOCATION:Corinda Library\, 641 Oxley Road\, Corinda\, Queensland\, 4075\, Australia
GEO:-27.538881;152.98142
X-APPLE-STRUCTURED-LOCATION;VALUE=URI;X-ADDRESS=Corinda Library 641 Oxley Road Corinda Queensland 4075 Australia;X-APPLE-RADIUS=500;X-TITLE=641 Oxley Road:geo:152.98142,-27.538881
END:VEVENT
BEGIN:VEVENT
DTSTART;TZID=Australia/Brisbane:20180110T140000
DTEND;TZID=Australia/Brisbane:20180110T150000
DTSTAMP:20260426T091650
CREATED:20171124T051538Z
LAST-MODIFIED:20171124T051538Z
UID:14583-1515592800-1515596400@nicolejohnston.com.au
SUMMARY:Corinda | 'I Want to be in a Book' workshop
DESCRIPTION:Based on Narelle Oliver’s I Want to Be in a Book\, participants will explore the world of story book creation with Megan Daley. Children will make their own Story Ideas Journal using collage techniques. Lots of inspiration for summer story writing!  Ideal for children aged 6-10 years. Ideal for children aged 6-10 years. Bookings essential.
URL:https://nicolejohnston.com.au/event/corinda-i-want-to-be-in-a-book-workshop/
LOCATION:Corinda Library\, 641 Oxley Road\, Corinda\, Queensland\, 4075\, Australia
GEO:-27.538881;152.98142
X-APPLE-STRUCTURED-LOCATION;VALUE=URI;X-ADDRESS=Corinda Library 641 Oxley Road Corinda Queensland 4075 Australia;X-APPLE-RADIUS=500;X-TITLE=641 Oxley Road:geo:152.98142,-27.538881
END:VEVENT
BEGIN:VEVENT
DTSTART;TZID=Australia/Brisbane:20180111T100000
DTEND;TZID=Australia/Brisbane:20180111T110000
DTSTAMP:20260426T091650
CREATED:20171124T050848Z
LAST-MODIFIED:20171124T050848Z
UID:14567-1515664800-1515668400@nicolejohnston.com.au
SUMMARY:Fairfield | Slime and snow workshop with Street Science
DESCRIPTION:Mix chemicals (safe ones!) together and watch the amazing change from liquid to ooey-gooey glow-in-the-dark bubble slime right before your eyes! Make instant snow and watch it expand 100 times its original size to create piles of soft\, fluffy fun. Ideal for children aged 6-12 years. Bookings essential.
URL:https://nicolejohnston.com.au/event/fairfield-slime-and-snow-workshop-with-street-science/
LOCATION:Fairfield Library\, Fairfield Gardens\, 180 Fairfield Rd\, Fairfield\, Queensland\, 4103\, Australia
GEO:-27.508752;153.025501
X-APPLE-STRUCTURED-LOCATION;VALUE=URI;X-ADDRESS=Fairfield Library Fairfield Gardens 180 Fairfield Rd Fairfield Queensland 4103 Australia;X-APPLE-RADIUS=500;X-TITLE=Fairfield Gardens\, 180 Fairfield Rd:geo:153.025501,-27.508752
END:VEVENT
BEGIN:VEVENT
DTSTART;TZID=Australia/Brisbane:20180111T140000
DTEND;TZID=Australia/Brisbane:20180111T150000
DTSTAMP:20260426T091650
CREATED:20171124T051624Z
LAST-MODIFIED:20171124T051624Z
UID:14585-1515679200-1515682800@nicolejohnston.com.au
SUMMARY:Corinda | The story of collage
DESCRIPTION:Collage art has a long history as an art form\, dating back to the early 1900s right through to modern day. Join artists from the Brisbane Collage Club to learn about basic techniques and styles of collage art\, and try your hand at making your own artwork. Ideal for those aged 12 years and older. Bookings essential.
URL:https://nicolejohnston.com.au/event/corinda-the-story-of-collage/
LOCATION:Corinda Library\, 641 Oxley Road\, Corinda\, Queensland\, 4075\, Australia
GEO:-27.538881;152.98142
X-APPLE-STRUCTURED-LOCATION;VALUE=URI;X-ADDRESS=Corinda Library 641 Oxley Road Corinda Queensland 4075 Australia;X-APPLE-RADIUS=500;X-TITLE=641 Oxley Road:geo:152.98142,-27.538881
END:VEVENT
BEGIN:VEVENT
DTSTART;TZID=Australia/Brisbane:20180112T093000
DTEND;TZID=Australia/Brisbane:20180112T101500
DTSTAMP:20260426T091650
CREATED:20171124T053020Z
LAST-MODIFIED:20171124T053020Z
UID:14609-1515749400-1515752100@nicolejohnston.com.au
SUMMARY:Annerley | Go wild for science show
DESCRIPTION:Be blown away by an energetic and explosive science show with the Street Science team! Presenters will ignite your imagination and show you wild demonstrations that will leave you cheering for more. Ideal for children aged 6-12 years. Bookings essential.\n\nThis event is part of Brisbane Libraries’ Summer Reading program.
URL:https://nicolejohnston.com.au/event/annerley-go-wild-for-science-show/
LOCATION:Annerley Library\, 469 Ipswich Rd\, Annerley\, Queensland\, 4103\, Australia
GEO:-27.5115338;153.0317863
X-APPLE-STRUCTURED-LOCATION;VALUE=URI;X-ADDRESS=Annerley Library 469 Ipswich Rd Annerley Queensland 4103 Australia;X-APPLE-RADIUS=500;X-TITLE=469 Ipswich Rd:geo:153.0317863,-27.5115338
END:VEVENT
BEGIN:VEVENT
DTSTART;TZID=Australia/Brisbane:20180112T140000
DTEND;TZID=Australia/Brisbane:20180112T153000
DTSTAMP:20260426T091650
CREATED:20171124T050939Z
LAST-MODIFIED:20171124T050939Z
UID:14570-1515765600-1515771000@nicolejohnston.com.au
SUMMARY:Fairfield | Library e-books for Androids and iPads
DESCRIPTION:Explore the wonderful world of Brisbane libraries’ free online e-books and e-audiobooks by learning how to set up your iPad or Android tablet to read or listen to your favourite online library content. Bring your own device\, Apple or Google Play Store account details\, library card and email account details. Basic device skills required. Bookings essential.
URL:https://nicolejohnston.com.au/event/fairfield-library-e-books-for-androids-and-ipads-3/
LOCATION:Fairfield Library\, Fairfield Gardens\, 180 Fairfield Rd\, Fairfield\, Queensland\, 4103\, Australia
GEO:-27.508752;153.025501
X-APPLE-STRUCTURED-LOCATION;VALUE=URI;X-ADDRESS=Fairfield Library Fairfield Gardens 180 Fairfield Rd Fairfield Queensland 4103 Australia;X-APPLE-RADIUS=500;X-TITLE=Fairfield Gardens\, 180 Fairfield Rd:geo:153.025501,-27.508752
END:VEVENT
BEGIN:VEVENT
DTSTART;TZID=Australia/Brisbane:20180113T140000
DTEND;TZID=Australia/Brisbane:20180113T144500
DTSTAMP:20260426T091650
CREATED:20171124T051032Z
LAST-MODIFIED:20171124T051032Z
UID:14572-1515852000-1515854700@nicolejohnston.com.au
SUMMARY:Fairfield | Songs of our homeland: Dallas Jon Vea Vea
DESCRIPTION:Hailing from the Fraser Coast\, with a ‘golden voice’\, this seasoned performer combines emotive vocals\, lead guitar and harmonica. Ideal for all ages.
URL:https://nicolejohnston.com.au/event/fairfield-songs-of-our-homeland-dallas-jon-vea-vea/
LOCATION:Fairfield Library\, Fairfield Gardens\, 180 Fairfield Rd\, Fairfield\, Queensland\, 4103\, Australia
GEO:-27.508752;153.025501
X-APPLE-STRUCTURED-LOCATION;VALUE=URI;X-ADDRESS=Fairfield Library Fairfield Gardens 180 Fairfield Rd Fairfield Queensland 4103 Australia;X-APPLE-RADIUS=500;X-TITLE=Fairfield Gardens\, 180 Fairfield Rd:geo:153.025501,-27.508752
END:VEVENT
END:VCALENDAR