BEGIN:VCALENDAR
VERSION:2.0
PRODID:-//Nicole Johnston - ECPv6.15.20//NONSGML v1.0//EN
CALSCALE:GREGORIAN
METHOD:PUBLISH
X-WR-CALNAME:Nicole Johnston
X-ORIGINAL-URL:https://nicolejohnston.com.au
X-WR-CALDESC:Events for Nicole Johnston
REFRESH-INTERVAL;VALUE=DURATION:PT1H
X-Robots-Tag:noindex
X-PUBLISHED-TTL:PT1H
BEGIN:VTIMEZONE
TZID:Australia/Brisbane
BEGIN:STANDARD
TZOFFSETFROM:+1000
TZOFFSETTO:+1000
TZNAME:AEST
DTSTART:20170101T000000
END:STANDARD
END:VTIMEZONE
BEGIN:VEVENT
DTSTART;TZID=Australia/Brisbane:20181209T161500
DTEND;TZID=Australia/Brisbane:20181209T200000
DTSTAMP:20260425T203724
CREATED:20181122T043517Z
LAST-MODIFIED:20181122T043517Z
UID:18133-1544372100-1544385600@nicolejohnston.com.au
SUMMARY:Fairfield | Christmas Carols in the Park
DESCRIPTION:
URL:https://nicolejohnston.com.au/event/fairfield-christmas-carols-in-the-park/
LOCATION:Robinson Park\, 221 Fairfield Road\, Fairfield\, Queensland\, 4103\, Australia
GEO:-27.5099948;153.023042
X-APPLE-STRUCTURED-LOCATION;VALUE=URI;X-ADDRESS=Robinson Park 221 Fairfield Road Fairfield Queensland 4103 Australia;X-APPLE-RADIUS=500;X-TITLE=221 Fairfield Road:geo:153.023042,-27.5099948
END:VEVENT
BEGIN:VEVENT
DTSTART;TZID=Australia/Brisbane:20181216T170000
DTEND;TZID=Australia/Brisbane:20181216T200000
DTSTAMP:20260425T203724
CREATED:20181122T041623Z
LAST-MODIFIED:20181122T041624Z
UID:18123-1544979600-1544990400@nicolejohnston.com.au
SUMMARY:St David's Christmas Festival
DESCRIPTION:
URL:https://nicolejohnston.com.au/event/st-davids-christmas-festival/
LOCATION:QLD
END:VEVENT
BEGIN:VEVENT
DTSTART;TZID=Australia/Brisbane:20190213T110000
DTEND;TZID=Australia/Brisbane:20190213T123000
DTSTAMP:20260425T203724
CREATED:20190211T015450Z
LAST-MODIFIED:20190211T015450Z
UID:18413-1550055600-1550061000@nicolejohnston.com.au
SUMMARY:Smartphone Skills
DESCRIPTION:Learn how to navigate your way around a smartphone with a touch screen. This includes how to make and receive calls\, create and send text messages\, add contacts and install apps. Perfect for the first time user. Bring your own smartphone.
URL:https://nicolejohnston.com.au/event/smartphone-skills/
LOCATION:Corinda Library\, 641 Oxley Road\, Corinda\, Queensland\, 4075\, Australia
GEO:-27.538881;152.98142
X-APPLE-STRUCTURED-LOCATION;VALUE=URI;X-ADDRESS=Corinda Library 641 Oxley Road Corinda Queensland 4075 Australia;X-APPLE-RADIUS=500;X-TITLE=641 Oxley Road:geo:152.98142,-27.538881
END:VEVENT
BEGIN:VEVENT
DTSTART;TZID=Australia/Brisbane:20190214T103000
DTEND;TZID=Australia/Brisbane:20190214T113000
DTSTAMP:20260425T203724
CREATED:20190211T015533Z
LAST-MODIFIED:20190211T015544Z
UID:18415-1550140200-1550143800@nicolejohnston.com.au
SUMMARY:Corinda | Library Lovers' Day
DESCRIPTION:Join fellow library lovers for a cuppa celebrating this great annual event\, and share the books you love with other library enthusiasts.
URL:https://nicolejohnston.com.au/event/library-lovers-day/
LOCATION:Corinda Library\, 641 Oxley Road\, Corinda\, Queensland\, 4075\, Australia
GEO:-27.538881;152.98142
X-APPLE-STRUCTURED-LOCATION;VALUE=URI;X-ADDRESS=Corinda Library 641 Oxley Road Corinda Queensland 4075 Australia;X-APPLE-RADIUS=500;X-TITLE=641 Oxley Road:geo:152.98142,-27.538881
END:VEVENT
BEGIN:VEVENT
DTSTART;TZID=Australia/Brisbane:20190214T130000
DTEND;TZID=Australia/Brisbane:20190214T140000
DTSTAMP:20260425T203724
CREATED:20190211T020831Z
LAST-MODIFIED:20190211T020831Z
UID:18444-1550149200-1550152800@nicolejohnston.com.au
SUMMARY:Fairfield | Library Lovers' Day
DESCRIPTION:Enjoy a morning of fun\, making friends and testing your knowledge of the great lovers in literature. Individuals and groups are welcome. \n \nBooking\nBookings required. Phone Fairfield Library on 07 3403 8615 to reserve your place.
URL:https://nicolejohnston.com.au/event/fairfield-library-lovers-day/
LOCATION:Fairfield Library\, Fairfield Gardens\, 180 Fairfield Rd\, Fairfield\, Queensland\, 4103\, Australia
GEO:-27.508752;153.025501
X-APPLE-STRUCTURED-LOCATION;VALUE=URI;X-ADDRESS=Fairfield Library Fairfield Gardens 180 Fairfield Rd Fairfield Queensland 4103 Australia;X-APPLE-RADIUS=500;X-TITLE=Fairfield Gardens\, 180 Fairfield Rd:geo:153.025501,-27.508752
END:VEVENT
BEGIN:VEVENT
DTSTART;TZID=Australia/Brisbane:20190215T140000
DTEND;TZID=Australia/Brisbane:20190215T153000
DTSTAMP:20260425T203724
CREATED:20190211T020922Z
LAST-MODIFIED:20190211T020922Z
UID:18446-1550239200-1550244600@nicolejohnston.com.au
SUMMARY:Fairfield | Online safety and security basics
DESCRIPTION:Feel safe and confident online by learning the basics of secure internet use. Learn how to protect yourself against viruses and malware\, pay safely online and create strong passwords. Basic computer and internet skills required. \nA Brisbane Libraries Tech Connect workshop. \n \nBooking\nBookings required. Phone Fairfield Library on 07 3403 8615 to reserve your place.
URL:https://nicolejohnston.com.au/event/fairfield-online-safety-and-security-basics-2/
LOCATION:Fairfield Library\, Fairfield Gardens\, 180 Fairfield Rd\, Fairfield\, Queensland\, 4103\, Australia
GEO:-27.508752;153.025501
X-APPLE-STRUCTURED-LOCATION;VALUE=URI;X-ADDRESS=Fairfield Library Fairfield Gardens 180 Fairfield Rd Fairfield Queensland 4103 Australia;X-APPLE-RADIUS=500;X-TITLE=Fairfield Gardens\, 180 Fairfield Rd:geo:153.025501,-27.508752
END:VEVENT
BEGIN:VEVENT
DTSTART;TZID=Australia/Brisbane:20190220T110000
DTEND;TZID=Australia/Brisbane:20190220T123000
DTSTAMP:20260425T203724
CREATED:20190211T015629Z
LAST-MODIFIED:20190211T015629Z
UID:18418-1550660400-1550665800@nicolejohnston.com.au
SUMMARY:Corinda | Cloud basics
DESCRIPTION:Learn about the benefits of cloud storage and cloud computing. We will show you how to use online storage to store photos and documents for email\, and where to find free online software for common tasks such as word processing and photo editing.
URL:https://nicolejohnston.com.au/event/corinda-cloud-basics/
LOCATION:Corinda Library\, 641 Oxley Road\, Corinda\, Queensland\, 4075\, Australia
GEO:-27.538881;152.98142
X-APPLE-STRUCTURED-LOCATION;VALUE=URI;X-ADDRESS=Corinda Library 641 Oxley Road Corinda Queensland 4075 Australia;X-APPLE-RADIUS=500;X-TITLE=641 Oxley Road:geo:152.98142,-27.538881
END:VEVENT
BEGIN:VEVENT
DTSTART;TZID=Australia/Brisbane:20190221T180000
DTEND;TZID=Australia/Brisbane:20190221T190000
DTSTAMP:20260425T203724
CREATED:20190211T021021Z
LAST-MODIFIED:20190211T021021Z
UID:18448-1550772000-1550775600@nicolejohnston.com.au
SUMMARY:Fairfield | Evening book club
DESCRIPTION:In February\, read and discuss The Children Act by Ian McEwan. New members welcome. \n  \nBooking\nNot required.
URL:https://nicolejohnston.com.au/event/fairfield-evening-book-club-7/
LOCATION:Fairfield Library\, Fairfield Gardens\, 180 Fairfield Rd\, Fairfield\, Queensland\, 4103\, Australia
GEO:-27.508752;153.025501
X-APPLE-STRUCTURED-LOCATION;VALUE=URI;X-ADDRESS=Fairfield Library Fairfield Gardens 180 Fairfield Rd Fairfield Queensland 4103 Australia;X-APPLE-RADIUS=500;X-TITLE=Fairfield Gardens\, 180 Fairfield Rd:geo:153.025501,-27.508752
END:VEVENT
BEGIN:VEVENT
DTSTART;TZID=Australia/Brisbane:20190222T140000
DTEND;TZID=Australia/Brisbane:20190222T153000
DTSTAMP:20260425T203724
CREATED:20190211T021120Z
LAST-MODIFIED:20190211T021120Z
UID:18450-1550844000-1550849400@nicolejohnston.com.au
SUMMARY:Fairfield | Email skills two
DESCRIPTION:Do you have an email address\, but would like to improve your skills? Learn how to manage your email more effectively by organising your inbox\, creating folders\, managing attachments and using filter options. Basic computer skills and an email account required. \nA Brisbane Libraries Tech Connect workshop. \n \nBooking\nBookings required. Phone Fairfield Library on 07 3403 8615 to reserve your place.
URL:https://nicolejohnston.com.au/event/fairfield-email-skills-two/
LOCATION:Fairfield Library\, Fairfield Gardens\, 180 Fairfield Rd\, Fairfield\, Queensland\, 4103\, Australia
GEO:-27.508752;153.025501
X-APPLE-STRUCTURED-LOCATION;VALUE=URI;X-ADDRESS=Fairfield Library Fairfield Gardens 180 Fairfield Rd Fairfield Queensland 4103 Australia;X-APPLE-RADIUS=500;X-TITLE=Fairfield Gardens\, 180 Fairfield Rd:geo:153.025501,-27.508752
END:VEVENT
BEGIN:VEVENT
DTSTART;TZID=Australia/Brisbane:20190223T103000
DTEND;TZID=Australia/Brisbane:20190223T120000
DTSTAMP:20260425T203724
CREATED:20190211T015711Z
LAST-MODIFIED:20190211T015725Z
UID:18420-1550917800-1550923200@nicolejohnston.com.au
SUMMARY:Corinda | Planning for abundance
DESCRIPTION:Having a plan and knowing what to plant when\, throughout the year is one fundamental key to successful gardening. Learn how to eat seasonally and locally from your backyard as horticulturalist Claire Bickle shares the philosophy of growing and eating well.
URL:https://nicolejohnston.com.au/event/corinda-planning-for-abundance/
LOCATION:Corinda Library\, 641 Oxley Road\, Corinda\, Queensland\, 4075\, Australia
GEO:-27.538881;152.98142
X-APPLE-STRUCTURED-LOCATION;VALUE=URI;X-ADDRESS=Corinda Library 641 Oxley Road Corinda Queensland 4075 Australia;X-APPLE-RADIUS=500;X-TITLE=641 Oxley Road:geo:152.98142,-27.538881
END:VEVENT
BEGIN:VEVENT
DTSTART;TZID=Australia/Brisbane:20190226T100000
DTEND;TZID=Australia/Brisbane:20190226T113000
DTSTAMP:20260425T203724
CREATED:20190211T022350Z
LAST-MODIFIED:20190211T022350Z
UID:18472-1551175200-1551180600@nicolejohnston.com.au
SUMMARY:Annerley | Online family history resources
DESCRIPTION:Learn how to search for your ancestors online using a range of library resources. Beginners and more advanced participants are welcome. \nA Brisbane Libraries Tech Connect workshop. \n \nBooking\nBookings required. Phone Annerley Library on 07 3403 1735 to reserve your place.
URL:https://nicolejohnston.com.au/event/annerley-online-family-history-resources-3/
LOCATION:Annerley Library\, 469 Ipswich Rd\, Annerley\, Queensland\, 4103\, Australia
GEO:-27.5115338;153.0317863
X-APPLE-STRUCTURED-LOCATION;VALUE=URI;X-ADDRESS=Annerley Library 469 Ipswich Rd Annerley Queensland 4103 Australia;X-APPLE-RADIUS=500;X-TITLE=469 Ipswich Rd:geo:153.0317863,-27.5115338
END:VEVENT
BEGIN:VEVENT
DTSTART;TZID=Australia/Brisbane:20190226T103000
DTEND;TZID=Australia/Brisbane:20190226T113000
DTSTAMP:20260425T203724
CREATED:20190211T015816Z
LAST-MODIFIED:20190211T015816Z
UID:18422-1551177000-1551180600@nicolejohnston.com.au
SUMMARY:Corinda | Meet Ally Blake
DESCRIPTION:With over thirty-five books published and more than 4 million copies sold worldwide\, Australian romance author Ally Blake talks about her experiences writing the most popular genre in the world\, for the most iconic publisher in the world – the home of romance\, Harlequin Mills and Boon. \nBooks will be available for purchase on the day\, or bring your copy from home for Ally to sign. \nTo reserve your place\, visit Eventbrite\, or phone the library.
URL:https://nicolejohnston.com.au/event/corinda-meet-ally-blake/
LOCATION:Corinda Library\, 641 Oxley Road\, Corinda\, Queensland\, 4075\, Australia
GEO:-27.538881;152.98142
X-APPLE-STRUCTURED-LOCATION;VALUE=URI;X-ADDRESS=Corinda Library 641 Oxley Road Corinda Queensland 4075 Australia;X-APPLE-RADIUS=500;X-TITLE=641 Oxley Road:geo:152.98142,-27.538881
END:VEVENT
BEGIN:VEVENT
DTSTART;TZID=Australia/Brisbane:20190227T110000
DTEND;TZID=Australia/Brisbane:20190227T123000
DTSTAMP:20260425T203724
CREATED:20190211T015858Z
LAST-MODIFIED:20190211T015858Z
UID:18424-1551265200-1551270600@nicolejohnston.com.au
SUMMARY:Corinda | TV streaming on the net
DESCRIPTION:Never miss your favourite television show again. Learn about online streaming and how to use the internet to watch television on a laptop\, mobile device or television. \nA Brisbane Libraries Tech Connect workshop.
URL:https://nicolejohnston.com.au/event/corinda-tv-streaming-on-the-net-2/
LOCATION:Corinda Library\, 641 Oxley Road\, Corinda\, Queensland\, 4075\, Australia
GEO:-27.538881;152.98142
X-APPLE-STRUCTURED-LOCATION;VALUE=URI;X-ADDRESS=Corinda Library 641 Oxley Road Corinda Queensland 4075 Australia;X-APPLE-RADIUS=500;X-TITLE=641 Oxley Road:geo:152.98142,-27.538881
END:VEVENT
BEGIN:VEVENT
DTSTART;TZID=Australia/Brisbane:20190227T130000
DTEND;TZID=Australia/Brisbane:20190227T140000
DTSTAMP:20260425T203724
CREATED:20190211T021209Z
LAST-MODIFIED:20190211T021209Z
UID:18452-1551272400-1551276000@nicolejohnston.com.au
SUMMARY:Fairfield | Book chat
DESCRIPTION:In February\, read and discuss The Bookshop by Penelope Fitzgerald. New members welcome. \n \nBooking\nNot required.
URL:https://nicolejohnston.com.au/event/fairfield-book-chat-8/
LOCATION:Fairfield Library\, Fairfield Gardens\, 180 Fairfield Rd\, Fairfield\, Queensland\, 4103\, Australia
GEO:-27.508752;153.025501
X-APPLE-STRUCTURED-LOCATION;VALUE=URI;X-ADDRESS=Fairfield Library Fairfield Gardens 180 Fairfield Rd Fairfield Queensland 4103 Australia;X-APPLE-RADIUS=500;X-TITLE=Fairfield Gardens\, 180 Fairfield Rd:geo:153.025501,-27.508752
END:VEVENT
BEGIN:VEVENT
DTSTART;TZID=Australia/Brisbane:20190227T153000
DTEND;TZID=Australia/Brisbane:20190227T163000
DTSTAMP:20260425T203724
CREATED:20190211T021346Z
LAST-MODIFIED:20190211T021346Z
UID:18454-1551281400-1551285000@nicolejohnston.com.au
SUMMARY:Fairfield | FBI: Fairfield book investigator kid's club
DESCRIPTION:In February\, the club will read the Secret Agent Mummy series by Stephen Cole. Ideal for children aged 6-11 years. \n \nBooking\nNot required.
URL:https://nicolejohnston.com.au/event/fairfield-fbi-fairfield-book-investigator-kids-club/
LOCATION:Fairfield Library\, Fairfield Gardens\, 180 Fairfield Rd\, Fairfield\, Queensland\, 4103\, Australia
GEO:-27.508752;153.025501
X-APPLE-STRUCTURED-LOCATION;VALUE=URI;X-ADDRESS=Fairfield Library Fairfield Gardens 180 Fairfield Rd Fairfield Queensland 4103 Australia;X-APPLE-RADIUS=500;X-TITLE=Fairfield Gardens\, 180 Fairfield Rd:geo:153.025501,-27.508752
END:VEVENT
BEGIN:VEVENT
DTSTART;TZID=Australia/Brisbane:20190301T133000
DTEND;TZID=Australia/Brisbane:20190301T150000
DTSTAMP:20260425T203724
CREATED:20190211T020013Z
LAST-MODIFIED:20190211T020013Z
UID:18426-1551447000-1551452400@nicolejohnston.com.au
SUMMARY:Corinda | First Friday craft group
DESCRIPTION:Drop into our First Friday craft group and bring your favourite craft to work on and share. \n \nBooking\nBookings required. Phone Corinda Library on 07 3407 7701 to reserve your place.
URL:https://nicolejohnston.com.au/event/corinda-first-friday-craft-group-3/
LOCATION:Corinda Library\, 641 Oxley Road\, Corinda\, Queensland\, 4075\, Australia
GEO:-27.538881;152.98142
X-APPLE-STRUCTURED-LOCATION;VALUE=URI;X-ADDRESS=Corinda Library 641 Oxley Road Corinda Queensland 4075 Australia;X-APPLE-RADIUS=500;X-TITLE=641 Oxley Road:geo:152.98142,-27.538881
END:VEVENT
BEGIN:VEVENT
DTSTART;TZID=Australia/Brisbane:20190302T140000
DTEND;TZID=Australia/Brisbane:20190302T150000
DTSTAMP:20260425T203724
CREATED:20190211T020104Z
LAST-MODIFIED:20190211T020104Z
UID:18428-1551535200-1551538800@nicolejohnston.com.au
SUMMARY:Corinda | Dr Seuss's storytime dress up
DESCRIPTION:In honour of the birthday of this brilliant writer for the young and the young at heart\, join us for a special afternoon of story reading\, games and other activities. Come dressed up as your favourite character. Ideal for children aged 2-12 years. \nBooking\nNot required.
URL:https://nicolejohnston.com.au/event/corinda-dr-seusss-storytime-dress-up/
LOCATION:Corinda Library\, 641 Oxley Road\, Corinda\, Queensland\, 4075\, Australia
GEO:-27.538881;152.98142
X-APPLE-STRUCTURED-LOCATION;VALUE=URI;X-ADDRESS=Corinda Library 641 Oxley Road Corinda Queensland 4075 Australia;X-APPLE-RADIUS=500;X-TITLE=641 Oxley Road:geo:152.98142,-27.538881
END:VEVENT
BEGIN:VEVENT
DTSTART;TZID=Australia/Brisbane:20190304T091500
DTEND;TZID=Australia/Brisbane:20190304T100000
DTSTAMP:20260425T203724
CREATED:20190211T022436Z
LAST-MODIFIED:20190211T022436Z
UID:18474-1551690900-1551693600@nicolejohnston.com.au
SUMMARY:Annerley | BYOB (Bring your own baby) book club
DESCRIPTION:Do you care for a child under four years of age and love to read books? BYOB book club is a baby-friendly book club for parents and caregivers who are interested in joining a book club without having to organise a babysitter. Join to discuss great books in good company. Call library for more details. \n \nBooking\nBookings required. Phone Annerley Library on 07 3403 1735 to reserve your place.
URL:https://nicolejohnston.com.au/event/annerley-byob-bring-your-own-baby-book-club-9/
LOCATION:Annerley Library\, 469 Ipswich Rd\, Annerley\, Queensland\, 4103\, Australia
GEO:-27.5115338;153.0317863
X-APPLE-STRUCTURED-LOCATION;VALUE=URI;X-ADDRESS=Annerley Library 469 Ipswich Rd Annerley Queensland 4103 Australia;X-APPLE-RADIUS=500;X-TITLE=469 Ipswich Rd:geo:153.0317863,-27.5115338
END:VEVENT
BEGIN:VEVENT
DTSTART;TZID=Australia/Brisbane:20190305T130000
DTEND;TZID=Australia/Brisbane:20190305T150000
DTSTAMP:20260425T203724
CREATED:20190211T021438Z
LAST-MODIFIED:20190211T021438Z
UID:18456-1551790800-1551798000@nicolejohnston.com.au
SUMMARY:Fairfield | Southside community craft circle
DESCRIPTION:This craft group makes clothes\, rugs and toys to support disadvantaged children in Queensland. New members welcome. Please phone Wendy on 3341 2039 for more information. \n \nBooking\nNot required.
URL:https://nicolejohnston.com.au/event/fairfield-southside-community-craft-circle/
LOCATION:Fairfield Library\, Fairfield Gardens\, 180 Fairfield Rd\, Fairfield\, Queensland\, 4103\, Australia
GEO:-27.508752;153.025501
X-APPLE-STRUCTURED-LOCATION;VALUE=URI;X-ADDRESS=Fairfield Library Fairfield Gardens 180 Fairfield Rd Fairfield Queensland 4103 Australia;X-APPLE-RADIUS=500;X-TITLE=Fairfield Gardens\, 180 Fairfield Rd:geo:153.025501,-27.508752
END:VEVENT
BEGIN:VEVENT
DTSTART;TZID=Australia/Brisbane:20190306T110000
DTEND;TZID=Australia/Brisbane:20190306T123000
DTSTAMP:20260425T203724
CREATED:20190211T020153Z
LAST-MODIFIED:20190211T020153Z
UID:18430-1551870000-1551875400@nicolejohnston.com.au
SUMMARY:Corinda | Library e-books for Androids and iPads
DESCRIPTION:Explore the wonderful world of Brisbane libraries’ free online e-books and e-audiobooks by learning how to setup your iPad or Android tablet to read or listen to your favourite online library content. Bring your own device\, Apple or Google Play Store account details\, library card and email account details. Basic device skills required. \nA Brisbane Libraries Tech Connect workshop. \n \nBooking\nBookings required. Phone Corinda Library on 07 3407 7701 to reserve your place.
URL:https://nicolejohnston.com.au/event/corinda-library-e-books-for-androids-and-ipads-3/
LOCATION:Corinda Library\, 641 Oxley Road\, Corinda\, Queensland\, 4075\, Australia
GEO:-27.538881;152.98142
X-APPLE-STRUCTURED-LOCATION;VALUE=URI;X-ADDRESS=Corinda Library 641 Oxley Road Corinda Queensland 4075 Australia;X-APPLE-RADIUS=500;X-TITLE=641 Oxley Road:geo:152.98142,-27.538881
END:VEVENT
BEGIN:VEVENT
DTSTART;TZID=Australia/Brisbane:20190308T103000
DTEND;TZID=Australia/Brisbane:20190308T113000
DTSTAMP:20260425T203724
CREATED:20190211T020257Z
LAST-MODIFIED:20190211T020257Z
UID:18432-1552041000-1552044600@nicolejohnston.com.au
SUMMARY:Corinda | International Women’s Day
DESCRIPTION:Join us in celebrating this special day for tea and trivia as we acknowledge the achievements of women from diverse backgrounds throughout history\, test our general knowledge\, and browse our commemorative display of women’s authors. \n \nBooking\nBookings required. Phone Corinda Library on 07 3407 7701 to reserve your place.
URL:https://nicolejohnston.com.au/event/corinda-international-womens-day/
LOCATION:Corinda Library\, 641 Oxley Road\, Corinda\, Queensland\, 4075\, Australia
GEO:-27.538881;152.98142
X-APPLE-STRUCTURED-LOCATION;VALUE=URI;X-ADDRESS=Corinda Library 641 Oxley Road Corinda Queensland 4075 Australia;X-APPLE-RADIUS=500;X-TITLE=641 Oxley Road:geo:152.98142,-27.538881
END:VEVENT
BEGIN:VEVENT
DTSTART;TZID=Australia/Brisbane:20190308T140000
DTEND;TZID=Australia/Brisbane:20190308T153000
DTSTAMP:20260425T203724
CREATED:20190211T021541Z
LAST-MODIFIED:20190211T021541Z
UID:18458-1552053600-1552059000@nicolejohnston.com.au
SUMMARY:Fairfield | Social media basics
DESCRIPTION:Learn about popular social media sites including Facebook\, Twitter\, Pinterest\, Tumblr and Instagram. Discover how these websites help you to connect with family\, friends and organisations online. Basic computer and internet skills required. \nA Brisbane Libraries Tech Connect workshop. \n \nBooking\nBookings required. Phone Fairfield Library on 07 3403 8615 to reserve your place.
URL:https://nicolejohnston.com.au/event/fairfield-social-media-basics-7/
LOCATION:Fairfield Library\, Fairfield Gardens\, 180 Fairfield Rd\, Fairfield\, Queensland\, 4103\, Australia
GEO:-27.508752;153.025501
X-APPLE-STRUCTURED-LOCATION;VALUE=URI;X-ADDRESS=Fairfield Library Fairfield Gardens 180 Fairfield Rd Fairfield Queensland 4103 Australia;X-APPLE-RADIUS=500;X-TITLE=Fairfield Gardens\, 180 Fairfield Rd:geo:153.025501,-27.508752
END:VEVENT
BEGIN:VEVENT
DTSTART;TZID=Australia/Brisbane:20190309T140000
DTEND;TZID=Australia/Brisbane:20190309T150000
DTSTAMP:20260425T203724
CREATED:20190211T020336Z
LAST-MODIFIED:20190211T020336Z
UID:18434-1552140000-1552143600@nicolejohnston.com.au
SUMMARY:Corinda | Second Saturday book club
DESCRIPTION:For March\, read and discuss The Last Station by Jay Parini. New members are always welcome to join this friendly group. \n \nBooking\nBookings required. Phone Corinda Library on 07 3407 7701 to reserve your place.
URL:https://nicolejohnston.com.au/event/corinda-second-saturday-book-club-9/
LOCATION:Corinda Library\, 641 Oxley Road\, Corinda\, Queensland\, 4075\, Australia
GEO:-27.538881;152.98142
X-APPLE-STRUCTURED-LOCATION;VALUE=URI;X-ADDRESS=Corinda Library 641 Oxley Road Corinda Queensland 4075 Australia;X-APPLE-RADIUS=500;X-TITLE=641 Oxley Road:geo:152.98142,-27.538881
END:VEVENT
BEGIN:VEVENT
DTSTART;TZID=Australia/Brisbane:20190311T133000
DTEND;TZID=Australia/Brisbane:20190311T150000
DTSTAMP:20260425T203724
CREATED:20190211T022515Z
LAST-MODIFIED:20190211T022515Z
UID:18476-1552311000-1552316400@nicolejohnston.com.au
SUMMARY:Annerley | Library e-books and downloads
DESCRIPTION:Discover the wonderful range of free online resources available through Brisbane libraries. This session includes tips on how to read\, listen to or watch your favourite online library content including books\, magazines\, newspapers and music. Bring your own device\, library card and email account details. \nA Brisbane Libraries Tech Connect workshop. \n \nBooking\nBookings required. Phone Annerley Library on 07 3403 1735 to reserve your place.
URL:https://nicolejohnston.com.au/event/annerley-library-e-books-and-downloads/
LOCATION:Annerley Library\, 469 Ipswich Rd\, Annerley\, Queensland\, 4103\, Australia
GEO:-27.5115338;153.0317863
X-APPLE-STRUCTURED-LOCATION;VALUE=URI;X-ADDRESS=Annerley Library 469 Ipswich Rd Annerley Queensland 4103 Australia;X-APPLE-RADIUS=500;X-TITLE=469 Ipswich Rd:geo:153.0317863,-27.5115338
END:VEVENT
BEGIN:VEVENT
DTSTART;TZID=Australia/Brisbane:20190313T110000
DTEND;TZID=Australia/Brisbane:20190313T123000
DTSTAMP:20260425T203724
CREATED:20190211T020423Z
LAST-MODIFIED:20190211T020423Z
UID:18436-1552474800-1552480200@nicolejohnston.com.au
SUMMARY:Corinda | iPad skills one
DESCRIPTION:Learn how to use the basic features of an iPad. Explore apps\, connect to Wi-Fi and search on the internet. Perfect for the first time user. Bring your own iPad. \nA Brisbane Libraries Tech Connect workshop. \n \nBooking\nBookings required. Phone Corinda Library on 07 3407 7701 to reserve your place.
URL:https://nicolejohnston.com.au/event/corinda-ipad-skills-one-3/
LOCATION:Corinda Library\, 641 Oxley Road\, Corinda\, Queensland\, 4075\, Australia
GEO:-27.538881;152.98142
X-APPLE-STRUCTURED-LOCATION;VALUE=URI;X-ADDRESS=Corinda Library 641 Oxley Road Corinda Queensland 4075 Australia;X-APPLE-RADIUS=500;X-TITLE=641 Oxley Road:geo:152.98142,-27.538881
END:VEVENT
BEGIN:VEVENT
DTSTART;TZID=Australia/Brisbane:20190315T140000
DTEND;TZID=Australia/Brisbane:20190315T153000
DTSTAMP:20260425T203724
CREATED:20190211T021638Z
LAST-MODIFIED:20190211T021638Z
UID:18460-1552658400-1552663800@nicolejohnston.com.au
SUMMARY:Fairfield | iPad help
DESCRIPTION:Learn how to find answers to your iPad questions and share tips with others in a group help session facilitated by library staff. Bring your own iPad and Apple account details. Basic iPad skills required. \nA Brisbane Libraries Tech Connect workshop. \n \nBooking\nBookings required. Phone Fairfield Library on 07 3403 8615 to reserve your place.
URL:https://nicolejohnston.com.au/event/fairfield-ipad-help-5/
LOCATION:Fairfield Library\, Fairfield Gardens\, 180 Fairfield Rd\, Fairfield\, Queensland\, 4103\, Australia
GEO:-27.508752;153.025501
X-APPLE-STRUCTURED-LOCATION;VALUE=URI;X-ADDRESS=Fairfield Library Fairfield Gardens 180 Fairfield Rd Fairfield Queensland 4103 Australia;X-APPLE-RADIUS=500;X-TITLE=Fairfield Gardens\, 180 Fairfield Rd:geo:153.025501,-27.508752
END:VEVENT
BEGIN:VEVENT
DTSTART;TZID=Australia/Brisbane:20190316T103000
DTEND;TZID=Australia/Brisbane:20190316T123000
DTSTAMP:20260425T203724
CREATED:20190211T022919Z
LAST-MODIFIED:20190211T023056Z
UID:18478-1552732200-1552739400@nicolejohnston.com.au
SUMMARY:Annerley | Garden myth busters
DESCRIPTION:Join horticulturist Brian Sams as he examines a number of fallacies that have crept into gardening folklore\, and asks participants to challenge some current practices during this interactive myth-busting seminar. \n  \nBooking\nBookings required. Phone Annerley Library on 07 3403 1735 to reserve your place.
URL:https://nicolejohnston.com.au/event/annerley-garden-myth-busters/
LOCATION:Annerley Library\, 469 Ipswich Rd\, Annerley\, Queensland\, 4103\, Australia
GEO:-27.5115338;153.0317863
X-APPLE-STRUCTURED-LOCATION;VALUE=URI;X-ADDRESS=Annerley Library 469 Ipswich Rd Annerley Queensland 4103 Australia;X-APPLE-RADIUS=500;X-TITLE=469 Ipswich Rd:geo:153.0317863,-27.5115338
END:VEVENT
BEGIN:VEVENT
DTSTART;TZID=Australia/Brisbane:20190320T110000
DTEND;TZID=Australia/Brisbane:20190320T123000
DTSTAMP:20260425T203724
CREATED:20190211T020509Z
LAST-MODIFIED:20190211T020509Z
UID:18438-1553079600-1553085000@nicolejohnston.com.au
SUMMARY:Corinda | iPad skills two
DESCRIPTION:Ready to learn more about your iPad? Customise your iPad by organising your apps and adjusting basic settings. Discover how to find and download useful apps on the App Store. Bring your own iPad and Apple ID account details. \nA Brisbane Libraries Tech Connect workshop. \n \nBooking\nBookings required. Phone Corinda Library on 07 3407 7701 to reserve your place.
URL:https://nicolejohnston.com.au/event/corinda-ipad-skills-two-3/
LOCATION:Corinda Library\, 641 Oxley Road\, Corinda\, Queensland\, 4075\, Australia
GEO:-27.538881;152.98142
X-APPLE-STRUCTURED-LOCATION;VALUE=URI;X-ADDRESS=Corinda Library 641 Oxley Road Corinda Queensland 4075 Australia;X-APPLE-RADIUS=500;X-TITLE=641 Oxley Road:geo:152.98142,-27.538881
END:VEVENT
BEGIN:VEVENT
DTSTART;TZID=Australia/Brisbane:20190322T140000
DTEND;TZID=Australia/Brisbane:20190322T153000
DTSTAMP:20260425T203724
CREATED:20190211T021742Z
LAST-MODIFIED:20190211T021742Z
UID:18462-1553263200-1553268600@nicolejohnston.com.au
SUMMARY:Fairfield | Android help
DESCRIPTION:Learn how to find answers to your Android device questions and share tips with others in a group help session facilitated by library staff. Bring your own Android tablet and Google Play Store account details. Basic Android skills required. \nA Brisbane Libraries Tech Connect workshop. \n \nBooking\nBookings required. Phone Fairfield Library on 07 3403 8615 to reserve your place.
URL:https://nicolejohnston.com.au/event/fairfield-android-help-5/
LOCATION:Fairfield Library\, Fairfield Gardens\, 180 Fairfield Rd\, Fairfield\, Queensland\, 4103\, Australia
GEO:-27.508752;153.025501
X-APPLE-STRUCTURED-LOCATION;VALUE=URI;X-ADDRESS=Fairfield Library Fairfield Gardens 180 Fairfield Rd Fairfield Queensland 4103 Australia;X-APPLE-RADIUS=500;X-TITLE=Fairfield Gardens\, 180 Fairfield Rd:geo:153.025501,-27.508752
END:VEVENT
BEGIN:VEVENT
DTSTART;TZID=Australia/Brisbane:20190326T103000
DTEND;TZID=Australia/Brisbane:20190326T113000
DTSTAMP:20260425T203724
CREATED:20190211T020555Z
LAST-MODIFIED:20190211T020555Z
UID:18440-1553596200-1553599800@nicolejohnston.com.au
SUMMARY:Corinds | Book talk: Banned books in Australia
DESCRIPTION:Join us for a morning of literary controversy as Urszula Willmot shares her enthusiasm and knowledge surrounding this fascinating topic. The history of literary censorship in our country over the last fifty years will be discussed\, with some fascinating insights into what has caused fear and outrage at various times over that period\, and the legacy of this history for our reading today. \n \nBooking\nBookings required. Phone Corinda Library on 07 3407 7701 to reserve your place.
URL:https://nicolejohnston.com.au/event/corinds-book-talk-banned-books-in-australia/
LOCATION:Corinda Library\, 641 Oxley Road\, Corinda\, Queensland\, 4075\, Australia
GEO:-27.538881;152.98142
X-APPLE-STRUCTURED-LOCATION;VALUE=URI;X-ADDRESS=Corinda Library 641 Oxley Road Corinda Queensland 4075 Australia;X-APPLE-RADIUS=500;X-TITLE=641 Oxley Road:geo:152.98142,-27.538881
END:VEVENT
END:VCALENDAR