BEGIN:VCALENDAR
VERSION:2.0
PRODID:-//Nicole Johnston - ECPv6.15.20//NONSGML v1.0//EN
CALSCALE:GREGORIAN
METHOD:PUBLISH
X-WR-CALNAME:Nicole Johnston
X-ORIGINAL-URL:https://nicolejohnston.com.au
X-WR-CALDESC:Events for Nicole Johnston
REFRESH-INTERVAL;VALUE=DURATION:PT1H
X-Robots-Tag:noindex
X-PUBLISHED-TTL:PT1H
BEGIN:VTIMEZONE
TZID:Australia/Brisbane
BEGIN:STANDARD
TZOFFSETFROM:+1000
TZOFFSETTO:+1000
TZNAME:AEST
DTSTART:20240101T000000
END:STANDARD
END:VTIMEZONE
BEGIN:VEVENT
DTSTART;TZID=Australia/Brisbane:20250613T091500
DTEND;TZID=Australia/Brisbane:20250613T094500
DTSTAMP:20260425T060542
CREATED:20250516T022004Z
LAST-MODIFIED:20250516T022004Z
UID:29709-1749806100-1749807900@nicolejohnston.com.au
SUMMARY:Corinda Library | First 5 Forever Babies\, Books and Rhymes
DESCRIPTION:Meet other parents and babies for a fun session of singing\, clapping and dancing. Learn songs and action rhymes to nurture your baby’s pre-literacy\, communication\, language and social skills. Ideal for babies aged up to one year.
URL:https://nicolejohnston.com.au/event/corinda-library-first-5-forever-babies-books-and-rhymes-35/
LOCATION:Corinda Library\, 641 Oxley Road\, Corinda\, Queensland\, 4075\, Australia
GEO:-27.538881;152.98142
X-APPLE-STRUCTURED-LOCATION;VALUE=URI;X-ADDRESS=Corinda Library 641 Oxley Road Corinda Queensland 4075 Australia;X-APPLE-RADIUS=500;X-TITLE=641 Oxley Road:geo:152.98142,-27.538881
END:VEVENT
BEGIN:VEVENT
DTSTART;TZID=Australia/Brisbane:20250613T140000
DTEND;TZID=Australia/Brisbane:20250613T153000
DTSTAMP:20260425T060542
CREATED:20250516T035331Z
LAST-MODIFIED:20250516T035331Z
UID:29760-1749823200-1749828600@nicolejohnston.com.au
SUMMARY:Fairfield Library | One-On-One Tech Help
DESCRIPTION:Contact Fairfield library to enquire about one-on-one tech assistance to troubleshoot technical issues\, develop digital skills and improve online confidence. A Brisbane Libraries Tech Connect workshop. \nBookings required. Phone Fairfield Library on 07 3403 8615 to reserve your place.
URL:https://nicolejohnston.com.au/event/fairfield-library-one-on-one-tech-help-14/
LOCATION:Fairfield Library\, Fairfield Gardens\, 180 Fairfield Rd\, Fairfield\, Queensland\, 4103\, Australia
GEO:-27.508752;153.025501
X-APPLE-STRUCTURED-LOCATION;VALUE=URI;X-ADDRESS=Fairfield Library Fairfield Gardens 180 Fairfield Rd Fairfield Queensland 4103 Australia;X-APPLE-RADIUS=500;X-TITLE=Fairfield Gardens\, 180 Fairfield Rd:geo:153.025501,-27.508752
END:VEVENT
BEGIN:VEVENT
DTSTART;TZID=Australia/Brisbane:20250614T100000
DTEND;TZID=Australia/Brisbane:20250614T130000
DTSTAMP:20260425T060542
CREATED:20250516T022736Z
LAST-MODIFIED:20250516T032034Z
UID:29711-1749895200-1749906000@nicolejohnston.com.au
SUMMARY:Corinda Library | Learn to Knit
DESCRIPTION:During this fun workshop\, textile artist Lu Douglas will teach you how to get started with your own knitted creations. All materials supplied. No previous experience required. \nBookings required. Phone Corinda Library on 07 3407 7701 to reserve your place. \n 
URL:https://nicolejohnston.com.au/event/corinda-library-learn-to-knit/
LOCATION:Corinda Library\, 641 Oxley Road\, Corinda\, Queensland\, 4075\, Australia
GEO:-27.538881;152.98142
X-APPLE-STRUCTURED-LOCATION;VALUE=URI;X-ADDRESS=Corinda Library 641 Oxley Road Corinda Queensland 4075 Australia;X-APPLE-RADIUS=500;X-TITLE=641 Oxley Road:geo:152.98142,-27.538881
END:VEVENT
BEGIN:VEVENT
DTSTART;TZID=Australia/Brisbane:20250615T080000
DTEND;TZID=Australia/Brisbane:20250615T120000
DTSTAMP:20260425T060542
CREATED:20250603T055629Z
LAST-MODIFIED:20250603T055631Z
UID:29831-1749974400-1749988800@nicolejohnston.com.au
SUMMARY:Stones Corner | Pop-Up Pooch Party
DESCRIPTION:
URL:https://nicolejohnston.com.au/event/stones-corner-pop-up-pooch-party/
LOCATION:Hanlon Park\, 56 Junction St\, Stones Corner\, Queensland\, 4120\, Australia
CATEGORIES:Community Event
ATTACH;FMTTYPE=image/png:https://nicolejohnston.com.au/wp-content/uploads/2025/06/Pooch-Party.png
END:VEVENT
BEGIN:VEVENT
DTSTART;TZID=Australia/Brisbane:20250615T103000
DTEND;TZID=Australia/Brisbane:20250615T113000
DTSTAMP:20260425T060542
CREATED:20250612T055353Z
LAST-MODIFIED:20250612T055353Z
UID:30193-1749983400-1749987000@nicolejohnston.com.au
SUMMARY:Sherwood | Friends of Sherwood Arboretum AGM
DESCRIPTION:
URL:https://nicolejohnston.com.au/event/sherwood-friends-of-sherwood-arboretum-agm-2/
LOCATION:Sherwood Arboretum\, 57 Dewar Terrace\, Sherwood\, Queensland\, 4075\, Australia
CATEGORIES:Community Event
ATTACH;FMTTYPE=image/jpeg:https://nicolejohnston.com.au/wp-content/uploads/2025/06/AGM-NEW-POSTER-23-May25-LR-scaled.jpg
ORGANIZER;CN="Friends of Sherwood Arboretum":MAILTO:secretaryatfosa@gmail.com
GEO:-27.532253;152.977305
X-APPLE-STRUCTURED-LOCATION;VALUE=URI;X-ADDRESS=Sherwood Arboretum 57 Dewar Terrace Sherwood Queensland 4075 Australia;X-APPLE-RADIUS=500;X-TITLE=57 Dewar Terrace:geo:152.977305,-27.532253
END:VEVENT
BEGIN:VEVENT
DTSTART;TZID=Australia/Brisbane:20250616T091500
DTEND;TZID=Australia/Brisbane:20250616T094500
DTSTAMP:20260425T060542
CREATED:20250508T033935Z
LAST-MODIFIED:20250508T033935Z
UID:29631-1750065300-1750067100@nicolejohnston.com.au
SUMMARY:Annerley Library | First 5 Forever Toddler Time
DESCRIPTION:Meet other parents and toddlers for a fun session of singing\, clapping and dancing. Learn action rhymes and songs which will help your child’s pre-literacy\, communication\, language and social skills. Ideal for babies and toddlers aged 1-2 years.
URL:https://nicolejohnston.com.au/event/annerley-library-first-5-forever-toddler-time-34/
LOCATION:Annerley Library\, 469 Ipswich Rd\, Annerley\, Queensland\, 4103\, Australia
GEO:-27.5115338;153.0317863
X-APPLE-STRUCTURED-LOCATION;VALUE=URI;X-ADDRESS=Annerley Library 469 Ipswich Rd Annerley Queensland 4103 Australia;X-APPLE-RADIUS=500;X-TITLE=469 Ipswich Rd:geo:153.0317863,-27.5115338
END:VEVENT
BEGIN:VEVENT
DTSTART;TZID=Australia/Brisbane:20250616T110000
DTEND;TZID=Australia/Brisbane:20250616T113000
DTSTAMP:20260425T060542
CREATED:20250508T034026Z
LAST-MODIFIED:20250508T034026Z
UID:29633-1750071600-1750073400@nicolejohnston.com.au
SUMMARY:Annerley Library | First 5 Forever Children's Storytime
DESCRIPTION:Experience the magic of storytime with your child at the library. This interactive session includes stories\, songs and mark making activities for young children. Ideal for children aged 2-5 years.
URL:https://nicolejohnston.com.au/event/annerley-library-first-5-forever-childrens-storytime-29/
LOCATION:Annerley Library\, 469 Ipswich Rd\, Annerley\, Queensland\, 4103\, Australia
GEO:-27.5115338;153.0317863
X-APPLE-STRUCTURED-LOCATION;VALUE=URI;X-ADDRESS=Annerley Library 469 Ipswich Rd Annerley Queensland 4103 Australia;X-APPLE-RADIUS=500;X-TITLE=469 Ipswich Rd:geo:153.0317863,-27.5115338
END:VEVENT
BEGIN:VEVENT
DTSTART;TZID=Australia/Brisbane:20250618T093000
DTEND;TZID=Australia/Brisbane:20250618T100000
DTSTAMP:20260425T060542
CREATED:20250516T035431Z
LAST-MODIFIED:20250516T035431Z
UID:29762-1750239000-1750240800@nicolejohnston.com.au
SUMMARY:Fairfield Library | First 5 Forever Babies\, Books and Rhymes
DESCRIPTION:Meet other parents and babies for a fun session of singing\, clapping and dancing. Learn songs and action rhymes to nurture your baby’s pre-literacy\, communication\, language and social skills. Ideal for babies aged up to one year.
URL:https://nicolejohnston.com.au/event/fairfield-library-first-5-forever-babies-books-and-rhymes-38/
LOCATION:Fairfield Library\, Fairfield Gardens\, 180 Fairfield Rd\, Fairfield\, Queensland\, 4103\, Australia
GEO:-27.508752;153.025501
X-APPLE-STRUCTURED-LOCATION;VALUE=URI;X-ADDRESS=Fairfield Library Fairfield Gardens 180 Fairfield Rd Fairfield Queensland 4103 Australia;X-APPLE-RADIUS=500;X-TITLE=Fairfield Gardens\, 180 Fairfield Rd:geo:153.025501,-27.508752
END:VEVENT
BEGIN:VEVENT
DTSTART;TZID=Australia/Brisbane:20250618T103000
DTEND;TZID=Australia/Brisbane:20250618T110000
DTSTAMP:20260425T060542
CREATED:20250516T035608Z
LAST-MODIFIED:20250516T035608Z
UID:29764-1750242600-1750244400@nicolejohnston.com.au
SUMMARY:Fairfield Library | First 5 Forever Toddler Time
DESCRIPTION:Meet other parents and toddlers for a fun session of singing\, clapping and dancing. Learn action rhymes and songs which will help your child’s pre-literacy\, communication\, language and social skills. Ideal for babies and toddlers aged 1-2 years.
URL:https://nicolejohnston.com.au/event/fairfield-library-first-5-forever-toddler-time-32/
LOCATION:Fairfield Library\, Fairfield Gardens\, 180 Fairfield Rd\, Fairfield\, Queensland\, 4103\, Australia
GEO:-27.508752;153.025501
X-APPLE-STRUCTURED-LOCATION;VALUE=URI;X-ADDRESS=Fairfield Library Fairfield Gardens 180 Fairfield Rd Fairfield Queensland 4103 Australia;X-APPLE-RADIUS=500;X-TITLE=Fairfield Gardens\, 180 Fairfield Rd:geo:153.025501,-27.508752
END:VEVENT
BEGIN:VEVENT
DTSTART;TZID=Australia/Brisbane:20250619T091500
DTEND;TZID=Australia/Brisbane:20250619T094500
DTSTAMP:20260425T060542
CREATED:20250516T030236Z
LAST-MODIFIED:20250516T030236Z
UID:29713-1750324500-1750326300@nicolejohnston.com.au
SUMMARY:Corinda Library | First 5 Forever Toddler Time
DESCRIPTION:Meet other parents and toddlers for a fun session of singing\, clapping and dancing. Learn action rhymes and songs which will help your child’s pre-literacy\, communication\, language and social skills. Ideal for babies and toddlers aged 1-2 years.
URL:https://nicolejohnston.com.au/event/corinda-library-first-5-forever-toddler-time-36/
LOCATION:Corinda Library\, 641 Oxley Road\, Corinda\, Queensland\, 4075\, Australia
GEO:-27.538881;152.98142
X-APPLE-STRUCTURED-LOCATION;VALUE=URI;X-ADDRESS=Corinda Library 641 Oxley Road Corinda Queensland 4075 Australia;X-APPLE-RADIUS=500;X-TITLE=641 Oxley Road:geo:152.98142,-27.538881
END:VEVENT
BEGIN:VEVENT
DTSTART;TZID=Australia/Brisbane:20250619T180000
DTEND;TZID=Australia/Brisbane:20250619T190000
DTSTAMP:20260425T060542
CREATED:20250516T035702Z
LAST-MODIFIED:20250516T035702Z
UID:29766-1750356000-1750359600@nicolejohnston.com.au
SUMMARY:Fairfield Library | Evening Book Club
DESCRIPTION:In June\, read and discuss The Mountains Sing by Nguyen Phan Que Mai. In July\, read and discuss The Last Devil to Die by Richard Osman.
URL:https://nicolejohnston.com.au/event/fairfield-library-evening-book-club-8/
LOCATION:Fairfield Library\, Fairfield Gardens\, 180 Fairfield Rd\, Fairfield\, Queensland\, 4103\, Australia
GEO:-27.508752;153.025501
X-APPLE-STRUCTURED-LOCATION;VALUE=URI;X-ADDRESS=Fairfield Library Fairfield Gardens 180 Fairfield Rd Fairfield Queensland 4103 Australia;X-APPLE-RADIUS=500;X-TITLE=Fairfield Gardens\, 180 Fairfield Rd:geo:153.025501,-27.508752
END:VEVENT
BEGIN:VEVENT
DTSTART;TZID=Australia/Brisbane:20250620T091500
DTEND;TZID=Australia/Brisbane:20250620T094500
DTSTAMP:20260425T060542
CREATED:20250508T034116Z
LAST-MODIFIED:20250508T034116Z
UID:29635-1750410900-1750412700@nicolejohnston.com.au
SUMMARY:Annerley Library | First 5 Forever Babies\, Books and Rhymes
DESCRIPTION:Meet other parents and babies for a fun session of singing\, clapping and dancing. Learn songs and action rhymes to nurture your baby’s pre-literacy\, communication\, language and social skills. Ideal for babies aged up to one year.
URL:https://nicolejohnston.com.au/event/annerley-library-first-5-forever-babies-books-and-rhymes-35/
LOCATION:Annerley Library\, 469 Ipswich Rd\, Annerley\, Queensland\, 4103\, Australia
GEO:-27.5115338;153.0317863
X-APPLE-STRUCTURED-LOCATION;VALUE=URI;X-ADDRESS=Annerley Library 469 Ipswich Rd Annerley Queensland 4103 Australia;X-APPLE-RADIUS=500;X-TITLE=469 Ipswich Rd:geo:153.0317863,-27.5115338
END:VEVENT
BEGIN:VEVENT
DTSTART;TZID=Australia/Brisbane:20250620T091500
DTEND;TZID=Australia/Brisbane:20250620T094500
DTSTAMP:20260425T060542
CREATED:20250516T030610Z
LAST-MODIFIED:20250516T030610Z
UID:29715-1750410900-1750412700@nicolejohnston.com.au
SUMMARY:Corinda Library | First 5 Forever Babies\, Books and Rhymes
DESCRIPTION:Meet other parents and babies for a fun session of singing\, clapping and dancing. Learn songs and action rhymes to nurture your baby’s pre-literacy\, communication\, language and social skills. Ideal for babies aged up to one year.
URL:https://nicolejohnston.com.au/event/corinda-library-first-5-forever-babies-books-and-rhymes-36/
LOCATION:Corinda Library\, 641 Oxley Road\, Corinda\, Queensland\, 4075\, Australia
GEO:-27.538881;152.98142
X-APPLE-STRUCTURED-LOCATION;VALUE=URI;X-ADDRESS=Corinda Library 641 Oxley Road Corinda Queensland 4075 Australia;X-APPLE-RADIUS=500;X-TITLE=641 Oxley Road:geo:152.98142,-27.538881
END:VEVENT
BEGIN:VEVENT
DTSTART;TZID=Australia/Brisbane:20250620T140000
DTEND;TZID=Australia/Brisbane:20250620T153000
DTSTAMP:20260425T060542
CREATED:20250516T035812Z
LAST-MODIFIED:20250516T035812Z
UID:29768-1750428000-1750433400@nicolejohnston.com.au
SUMMARY:Fairfield Library | Tea and Tech: apple iPhone - Customising Your Home Screen
DESCRIPTION:Get together with other locals to explore customising your iPhone home screen! Learn how to personalise your device to access your favourite apps\, widgets\, and shortcuts\, making navigation easier and more efficient. A Brisbane Libraries Tech Connect workshop. \nBookings required. Phone Fairfield Library on 07 3403 8615 to reserve your place.
URL:https://nicolejohnston.com.au/event/fairfield-library-tea-and-tech-apple-iphone-customising-your-home-screen/
LOCATION:Fairfield Library\, Fairfield Gardens\, 180 Fairfield Rd\, Fairfield\, Queensland\, 4103\, Australia
GEO:-27.508752;153.025501
X-APPLE-STRUCTURED-LOCATION;VALUE=URI;X-ADDRESS=Fairfield Library Fairfield Gardens 180 Fairfield Rd Fairfield Queensland 4103 Australia;X-APPLE-RADIUS=500;X-TITLE=Fairfield Gardens\, 180 Fairfield Rd:geo:153.025501,-27.508752
END:VEVENT
BEGIN:VEVENT
DTSTART;TZID=Australia/Brisbane:20250621T084500
DTEND;TZID=Australia/Brisbane:20250621T160000
DTSTAMP:20260425T060542
CREATED:20250616T061145Z
LAST-MODIFIED:20250616T061145Z
UID:30197-1750495500-1750521600@nicolejohnston.com.au
SUMMARY:Corinda | QLD Cake Decorators Association Demonstration Day
DESCRIPTION:
URL:https://nicolejohnston.com.au/event/corinda-qld-cake-decorators-association-demonstration-day/
LOCATION:Corinda Bowls Club\, 60 Hall St\, Corinda\, Qld\, 4075\, Australia
CATEGORIES:Community Event
ORGANIZER;CN="Queensland Cake Decorators Association Brisbane Central Branch":MAILTO:qcdacentraltreasurer@gmail.com
GEO:-27.5314721;152.986358
X-APPLE-STRUCTURED-LOCATION;VALUE=URI;X-ADDRESS=Corinda Bowls Club 60 Hall St Corinda Qld 4075 Australia;X-APPLE-RADIUS=500;X-TITLE=60 Hall St:geo:152.986358,-27.5314721
END:VEVENT
BEGIN:VEVENT
DTSTART;TZID=Australia/Brisbane:20250623T091500
DTEND;TZID=Australia/Brisbane:20250623T094500
DTSTAMP:20260425T060542
CREATED:20250508T034249Z
LAST-MODIFIED:20250508T034249Z
UID:29637-1750670100-1750671900@nicolejohnston.com.au
SUMMARY:Annerley Library | First 5 Forever Toddler Time
DESCRIPTION:Meet other parents and toddlers for a fun session of singing\, clapping and dancing. Learn action rhymes and songs which will help your child’s pre-literacy\, communication\, language and social skills. Ideal for babies and toddlers aged 1-2 years.
URL:https://nicolejohnston.com.au/event/annerley-library-first-5-forever-toddler-time-35/
LOCATION:Annerley Library\, 469 Ipswich Rd\, Annerley\, Queensland\, 4103\, Australia
GEO:-27.5115338;153.0317863
X-APPLE-STRUCTURED-LOCATION;VALUE=URI;X-ADDRESS=Annerley Library 469 Ipswich Rd Annerley Queensland 4103 Australia;X-APPLE-RADIUS=500;X-TITLE=469 Ipswich Rd:geo:153.0317863,-27.5115338
END:VEVENT
BEGIN:VEVENT
DTSTART;TZID=Australia/Brisbane:20250623T110000
DTEND;TZID=Australia/Brisbane:20250623T113000
DTSTAMP:20260425T060542
CREATED:20250508T034405Z
LAST-MODIFIED:20250508T034405Z
UID:29639-1750676400-1750678200@nicolejohnston.com.au
SUMMARY:Annerley Library | First 5 Forever Children's Storytime
DESCRIPTION:Experience the magic of storytime with your child at the library. This interactive session includes stories\, songs and mark making activities for young children.
URL:https://nicolejohnston.com.au/event/annerley-library-first-5-forever-childrens-storytime-30/
LOCATION:Annerley Library\, 469 Ipswich Rd\, Annerley\, Queensland\, 4103\, Australia
GEO:-27.5115338;153.0317863
X-APPLE-STRUCTURED-LOCATION;VALUE=URI;X-ADDRESS=Annerley Library 469 Ipswich Rd Annerley Queensland 4103 Australia;X-APPLE-RADIUS=500;X-TITLE=469 Ipswich Rd:geo:153.0317863,-27.5115338
END:VEVENT
BEGIN:VEVENT
DTSTART;TZID=Australia/Brisbane:20250625T093000
DTEND;TZID=Australia/Brisbane:20250625T100000
DTSTAMP:20260425T060542
CREATED:20250516T040002Z
LAST-MODIFIED:20250516T040002Z
UID:29770-1750843800-1750845600@nicolejohnston.com.au
SUMMARY:Fairfield Library | First 5 Forever Babies\, Books and Rhymes
DESCRIPTION:Meet other parents and babies for a fun session of singing\, clapping and dancing. Learn songs and action rhymes to nurture your baby’s pre-literacy\, communication\, language and social skills. Ideal for babies aged up to one year.
URL:https://nicolejohnston.com.au/event/fairfield-library-first-5-forever-babies-books-and-rhymes-39/
LOCATION:Fairfield Library\, Fairfield Gardens\, 180 Fairfield Rd\, Fairfield\, Queensland\, 4103\, Australia
GEO:-27.508752;153.025501
X-APPLE-STRUCTURED-LOCATION;VALUE=URI;X-ADDRESS=Fairfield Library Fairfield Gardens 180 Fairfield Rd Fairfield Queensland 4103 Australia;X-APPLE-RADIUS=500;X-TITLE=Fairfield Gardens\, 180 Fairfield Rd:geo:153.025501,-27.508752
END:VEVENT
BEGIN:VEVENT
DTSTART;TZID=Australia/Brisbane:20250625T103000
DTEND;TZID=Australia/Brisbane:20250625T110000
DTSTAMP:20260425T060542
CREATED:20250516T040435Z
LAST-MODIFIED:20250516T040435Z
UID:29772-1750847400-1750849200@nicolejohnston.com.au
SUMMARY:Fairfield Library | First 5 Forever Toddler Time
DESCRIPTION:Meet other parents and toddlers for a fun session of singing\, clapping and dancing. Learn action rhymes and songs which will help your child’s pre-literacy\, communication\, language and social skills. Ideal for babies and toddlers aged 1-2 years.
URL:https://nicolejohnston.com.au/event/fairfield-library-first-5-forever-toddler-time-33/
LOCATION:Fairfield Library\, Fairfield Gardens\, 180 Fairfield Rd\, Fairfield\, Queensland\, 4103\, Australia
GEO:-27.508752;153.025501
X-APPLE-STRUCTURED-LOCATION;VALUE=URI;X-ADDRESS=Fairfield Library Fairfield Gardens 180 Fairfield Rd Fairfield Queensland 4103 Australia;X-APPLE-RADIUS=500;X-TITLE=Fairfield Gardens\, 180 Fairfield Rd:geo:153.025501,-27.508752
END:VEVENT
BEGIN:VEVENT
DTSTART;TZID=Australia/Brisbane:20250625T130000
DTEND;TZID=Australia/Brisbane:20250625T140000
DTSTAMP:20260425T060542
CREATED:20250516T040541Z
LAST-MODIFIED:20250516T040541Z
UID:29774-1750856400-1750860000@nicolejohnston.com.au
SUMMARY:Fairfield Library | Book Chat
DESCRIPTION:In June\, read and discuss Firefly Lane by Kristin Hannah. In July\, read and discuss A Lesson in Dying by Ann Cleeves.
URL:https://nicolejohnston.com.au/event/fairfield-library-book-chat-11/
LOCATION:Fairfield Library\, Fairfield Gardens\, 180 Fairfield Rd\, Fairfield\, Queensland\, 4103\, Australia
GEO:-27.508752;153.025501
X-APPLE-STRUCTURED-LOCATION;VALUE=URI;X-ADDRESS=Fairfield Library Fairfield Gardens 180 Fairfield Rd Fairfield Queensland 4103 Australia;X-APPLE-RADIUS=500;X-TITLE=Fairfield Gardens\, 180 Fairfield Rd:geo:153.025501,-27.508752
END:VEVENT
BEGIN:VEVENT
DTSTART;TZID=Australia/Brisbane:20250626T091500
DTEND;TZID=Australia/Brisbane:20250626T094500
DTSTAMP:20260425T060542
CREATED:20250516T030830Z
LAST-MODIFIED:20250516T030830Z
UID:29717-1750929300-1750931100@nicolejohnston.com.au
SUMMARY:Corinda Library | First 5 Forever Toddler Time
DESCRIPTION:Meet other parents and toddlers for a fun session of singing\, clapping and dancing. Learn action rhymes and songs which will help your child’s pre-literacy\, communication\, language and social skills. Ideal for babies and toddlers aged 1-2 years.
URL:https://nicolejohnston.com.au/event/corinda-library-first-5-forever-toddler-time-37/
LOCATION:Corinda Library\, 641 Oxley Road\, Corinda\, Queensland\, 4075\, Australia
GEO:-27.538881;152.98142
X-APPLE-STRUCTURED-LOCATION;VALUE=URI;X-ADDRESS=Corinda Library 641 Oxley Road Corinda Queensland 4075 Australia;X-APPLE-RADIUS=500;X-TITLE=641 Oxley Road:geo:152.98142,-27.538881
END:VEVENT
BEGIN:VEVENT
DTSTART;TZID=Australia/Brisbane:20250626T170000
DTEND;TZID=Australia/Brisbane:20250626T180000
DTSTAMP:20260425T060542
CREATED:20250516T040639Z
LAST-MODIFIED:20250516T040639Z
UID:29776-1750957200-1750960800@nicolejohnston.com.au
SUMMARY:Fairfield Library | Chess Club
DESCRIPTION:Play chess in a fun and friendly atmosphere. Practise against others of similar ages or seek tougher challenges if desired\, focusing on improving skills by having fun. Ideal for those aged 6–15 years. \nBookings required. Phone Fairfield Library on 07 3403 8615 to reserve your place.
URL:https://nicolejohnston.com.au/event/fairfield-library-chess-club-2/
LOCATION:Fairfield Library\, Fairfield Gardens\, 180 Fairfield Rd\, Fairfield\, Queensland\, 4103\, Australia
GEO:-27.508752;153.025501
X-APPLE-STRUCTURED-LOCATION;VALUE=URI;X-ADDRESS=Fairfield Library Fairfield Gardens 180 Fairfield Rd Fairfield Queensland 4103 Australia;X-APPLE-RADIUS=500;X-TITLE=Fairfield Gardens\, 180 Fairfield Rd:geo:153.025501,-27.508752
END:VEVENT
BEGIN:VEVENT
DTSTART;TZID=Australia/Brisbane:20250627T091500
DTEND;TZID=Australia/Brisbane:20250627T094500
DTSTAMP:20260425T060542
CREATED:20250508T034710Z
LAST-MODIFIED:20250508T034710Z
UID:29641-1751015700-1751017500@nicolejohnston.com.au
SUMMARY:Annerley Library | First 5 Forever Babies\, Books and Rhymes
DESCRIPTION:Meet other parents and babies for a fun session of singing\, clapping and dancing. Learn songs and action rhymes to nurture your baby’s pre-literacy\, communication\, language and social skills. Ideal for babies aged up to one year.
URL:https://nicolejohnston.com.au/event/annerley-library-first-5-forever-babies-books-and-rhymes-36/
LOCATION:Annerley Library\, 469 Ipswich Rd\, Annerley\, Queensland\, 4103\, Australia
GEO:-27.5115338;153.0317863
X-APPLE-STRUCTURED-LOCATION;VALUE=URI;X-ADDRESS=Annerley Library 469 Ipswich Rd Annerley Queensland 4103 Australia;X-APPLE-RADIUS=500;X-TITLE=469 Ipswich Rd:geo:153.0317863,-27.5115338
END:VEVENT
BEGIN:VEVENT
DTSTART;TZID=Australia/Brisbane:20250627T091500
DTEND;TZID=Australia/Brisbane:20250627T094500
DTSTAMP:20260425T060542
CREATED:20250516T031248Z
LAST-MODIFIED:20250516T031248Z
UID:29719-1751015700-1751017500@nicolejohnston.com.au
SUMMARY:Corinda Library | First 5 Forever Babies\, Books and Rhymes
DESCRIPTION:Meet other parents and babies for a fun session of singing\, clapping and dancing. Learn songs and action rhymes to nurture your baby’s pre-literacy\, communication\, language and social skills. Ideal for babies aged up to one year.
URL:https://nicolejohnston.com.au/event/corinda-library-first-5-forever-babies-books-and-rhymes-37/
LOCATION:Corinda Library\, 641 Oxley Road\, Corinda\, Queensland\, 4075\, Australia
GEO:-27.538881;152.98142
X-APPLE-STRUCTURED-LOCATION;VALUE=URI;X-ADDRESS=Corinda Library 641 Oxley Road Corinda Queensland 4075 Australia;X-APPLE-RADIUS=500;X-TITLE=641 Oxley Road:geo:152.98142,-27.538881
END:VEVENT
BEGIN:VEVENT
DTSTART;TZID=Australia/Brisbane:20250628T130000
DTEND;TZID=Australia/Brisbane:20250628T150000
DTSTAMP:20260425T060542
CREATED:20250516T040911Z
LAST-MODIFIED:20250516T040911Z
UID:29778-1751115600-1751122800@nicolejohnston.com.au
SUMMARY:Fairfield Library | Meccano Construction for Young Adults
DESCRIPTION:Are you a construction whiz? Create working masterpieces out of metal strips\, plates\, nuts and bolts. Join in and follow easy plans to build a model with help available from library staff. Individuals and pairs welcome. \nBookings required. Phone Fairfield Library on 07 3403 8615 to reserve your place.
URL:https://nicolejohnston.com.au/event/fairfield-library-meccano-construction-for-young-adults/
LOCATION:Fairfield Library\, Fairfield Gardens\, 180 Fairfield Rd\, Fairfield\, Queensland\, 4103\, Australia
GEO:-27.508752;153.025501
X-APPLE-STRUCTURED-LOCATION;VALUE=URI;X-ADDRESS=Fairfield Library Fairfield Gardens 180 Fairfield Rd Fairfield Queensland 4103 Australia;X-APPLE-RADIUS=500;X-TITLE=Fairfield Gardens\, 180 Fairfield Rd:geo:153.025501,-27.508752
END:VEVENT
BEGIN:VEVENT
DTSTART;TZID=Australia/Brisbane:20250629T100000
DTEND;TZID=Australia/Brisbane:20250629T140000
DTSTAMP:20260425T060542
CREATED:20250616T061659Z
LAST-MODIFIED:20250616T061700Z
UID:30200-1751191200-1751205600@nicolejohnston.com.au
SUMMARY:Sherwood | Vintage Car Club Queensland Concours d’Elégance
DESCRIPTION:
URL:https://nicolejohnston.com.au/event/sherwood-vintage-car-club-queensland-concours-delegance-3/
LOCATION:Sherwood Arboretum\, 57 Dewar Terrace\, Sherwood\, Queensland\, 4075\, Australia
CATEGORIES:Community Event
ATTACH;FMTTYPE=image/jpeg:https://nicolejohnston.com.au/wp-content/uploads/2025/06/Sherwood-Arboretum-flyer-2025-scaled.jpg
GEO:-27.532253;152.977305
X-APPLE-STRUCTURED-LOCATION;VALUE=URI;X-ADDRESS=Sherwood Arboretum 57 Dewar Terrace Sherwood Queensland 4075 Australia;X-APPLE-RADIUS=500;X-TITLE=57 Dewar Terrace:geo:152.977305,-27.532253
END:VEVENT
BEGIN:VEVENT
DTSTART;TZID=Australia/Brisbane:20250630T091500
DTEND;TZID=Australia/Brisbane:20250630T094500
DTSTAMP:20260425T060542
CREATED:20250508T034807Z
LAST-MODIFIED:20250508T034807Z
UID:29643-1751274900-1751276700@nicolejohnston.com.au
SUMMARY:Annerley Library | First 5 Forever Toddler Time
DESCRIPTION:Meet other parents and toddlers for a fun session of singing\, clapping and dancing. Learn action rhymes and songs which will help your child’s pre-literacy\, communication\, language and social skills. Ideal for babies and toddlers aged 1-2 years.
URL:https://nicolejohnston.com.au/event/annerley-library-first-5-forever-toddler-time-36/
LOCATION:Annerley Library\, 469 Ipswich Rd\, Annerley\, Queensland\, 4103\, Australia
GEO:-27.5115338;153.0317863
X-APPLE-STRUCTURED-LOCATION;VALUE=URI;X-ADDRESS=Annerley Library 469 Ipswich Rd Annerley Queensland 4103 Australia;X-APPLE-RADIUS=500;X-TITLE=469 Ipswich Rd:geo:153.0317863,-27.5115338
END:VEVENT
BEGIN:VEVENT
DTSTART;TZID=Australia/Brisbane:20250701T110000
DTEND;TZID=Australia/Brisbane:20250701T120000
DTSTAMP:20260425T060542
CREATED:20250603T060140Z
LAST-MODIFIED:20250603T060140Z
UID:29835-1751367600-1751371200@nicolejohnston.com.au
SUMMARY:Fairfield Library | Make and Create
DESCRIPTION:Drop in and get creative with free art and craft activities. Ideal for those aged 4 years and older.
URL:https://nicolejohnston.com.au/event/fairfield-library-make-and-create-3/
LOCATION:Fairfield Library\, Fairfield Gardens\, 180 Fairfield Rd\, Fairfield\, Queensland\, 4103\, Australia
GEO:-27.508752;153.025501
X-APPLE-STRUCTURED-LOCATION;VALUE=URI;X-ADDRESS=Fairfield Library Fairfield Gardens 180 Fairfield Rd Fairfield Queensland 4103 Australia;X-APPLE-RADIUS=500;X-TITLE=Fairfield Gardens\, 180 Fairfield Rd:geo:153.025501,-27.508752
END:VEVENT
BEGIN:VEVENT
DTSTART;TZID=Australia/Brisbane:20250701T110000
DTEND;TZID=Australia/Brisbane:20250701T130000
DTSTAMP:20260425T060542
CREATED:20250508T034900Z
LAST-MODIFIED:20250508T034900Z
UID:29645-1751367600-1751374800@nicolejohnston.com.au
SUMMARY:Annerley Library | Make and Create for Kids
DESCRIPTION:This school holidays\, drop into the library to get creative with free art and craft activities. Ideal for children aged. Ideal for children aged 3-8 years.
URL:https://nicolejohnston.com.au/event/annerley-library-make-and-create-for-kids-7/
LOCATION:Annerley Library\, 469 Ipswich Rd\, Annerley\, Queensland\, 4103\, Australia
GEO:-27.5115338;153.0317863
X-APPLE-STRUCTURED-LOCATION;VALUE=URI;X-ADDRESS=Annerley Library 469 Ipswich Rd Annerley Queensland 4103 Australia;X-APPLE-RADIUS=500;X-TITLE=469 Ipswich Rd:geo:153.0317863,-27.5115338
END:VEVENT
BEGIN:VEVENT
DTSTART;TZID=Australia/Brisbane:20250701T130000
DTEND;TZID=Australia/Brisbane:20250701T150000
DTSTAMP:20260425T060542
CREATED:20250603T060336Z
LAST-MODIFIED:20250603T060336Z
UID:29837-1751374800-1751382000@nicolejohnston.com.au
SUMMARY:Fairfield Library | Southside Community Craft Circle
DESCRIPTION:This is a craft group that makes items to support the disadvantaged in the community. Please call Elinor on 0481 754 999 for more information.
URL:https://nicolejohnston.com.au/event/fairfield-library-southside-community-craft-circle-10/
LOCATION:Fairfield Library\, Fairfield Gardens\, 180 Fairfield Rd\, Fairfield\, Queensland\, 4103\, Australia
GEO:-27.508752;153.025501
X-APPLE-STRUCTURED-LOCATION;VALUE=URI;X-ADDRESS=Fairfield Library Fairfield Gardens 180 Fairfield Rd Fairfield Queensland 4103 Australia;X-APPLE-RADIUS=500;X-TITLE=Fairfield Gardens\, 180 Fairfield Rd:geo:153.025501,-27.508752
END:VEVENT
END:VCALENDAR