BEGIN:VCALENDAR
VERSION:2.0
PRODID:-//Nicole Johnston - ECPv6.15.20//NONSGML v1.0//EN
CALSCALE:GREGORIAN
METHOD:PUBLISH
X-ORIGINAL-URL:https://nicolejohnston.com.au
X-WR-CALDESC:Events for Nicole Johnston
REFRESH-INTERVAL;VALUE=DURATION:PT1H
X-Robots-Tag:noindex
X-PUBLISHED-TTL:PT1H
BEGIN:VTIMEZONE
TZID:Australia/Brisbane
BEGIN:STANDARD
TZOFFSETFROM:+1000
TZOFFSETTO:+1000
TZNAME:AEST
DTSTART:20170101T000000
END:STANDARD
END:VTIMEZONE
BEGIN:VEVENT
DTSTART;TZID=Australia/Brisbane:20180914T103000
DTEND;TZID=Australia/Brisbane:20180914T113000
DTSTAMP:20260426T000632
CREATED:20180829T002519Z
LAST-MODIFIED:20180829T002519Z
UID:17761-1536921000-1536924600@nicolejohnston.com.au
SUMMARY:Corinda | 150 years of Little Women
DESCRIPTION:Louisa May Alcott’s Little Women quickly became a beloved novel when first published 150 years ago. Today her characters Meg\, Jo\, Beth and Amy continue to delight readers with their stories of love\, sisterhood and American life in the 19th century. Join us for trivia and discussion in celebration of this classic work. \n \nBooking\nBookings required. Phone Corinda Library on 07 3407 7701 to reserve your place.
URL:https://nicolejohnston.com.au/event/corinda-150-years-of-little-women/
LOCATION:Corinda Library\, 641 Oxley Road\, Corinda\, Queensland\, 4075\, Australia
GEO:-27.538881;152.98142
X-APPLE-STRUCTURED-LOCATION;VALUE=URI;X-ADDRESS=Corinda Library 641 Oxley Road Corinda Queensland 4075 Australia;X-APPLE-RADIUS=500;X-TITLE=641 Oxley Road:geo:152.98142,-27.538881
END:VEVENT
BEGIN:VEVENT
DTSTART;TZID=Australia/Brisbane:20180914T103000
DTEND;TZID=Australia/Brisbane:20180914T120000
DTSTAMP:20260426T000632
CREATED:20180829T010540Z
LAST-MODIFIED:20180829T010540Z
UID:17797-1536921000-1536926400@nicolejohnston.com.au
SUMMARY:Annerley | Internet skills one
DESCRIPTION:Free \n\n\n\n\nLearn how to find your way around the internet safely\, save your favourite websites\, search for information and use Google to help you find answers. Basic computer skills are required. \nA Brisbane Libraries Tech Connect workshop. \n \nBooking\nBookings required. Phone Annerley Library on 07 3403 1735 to reserve your place.
URL:https://nicolejohnston.com.au/event/annerley-internet-skills-one-2/
LOCATION:Annerley Library\, 469 Ipswich Rd\, Annerley\, Queensland\, 4103\, Australia
GEO:-27.5115338;153.0317863
X-APPLE-STRUCTURED-LOCATION;VALUE=URI;X-ADDRESS=Annerley Library 469 Ipswich Rd Annerley Queensland 4103 Australia;X-APPLE-RADIUS=500;X-TITLE=469 Ipswich Rd:geo:153.0317863,-27.5115338
END:VEVENT
BEGIN:VEVENT
DTSTART;TZID=Australia/Brisbane:20180914T140000
DTEND;TZID=Australia/Brisbane:20180914T153000
DTSTAMP:20260426T000632
CREATED:20180829T005702Z
LAST-MODIFIED:20180829T005702Z
UID:17777-1536933600-1536939000@nicolejohnston.com.au
SUMMARY:Fairfield | Facebook basics
DESCRIPTION:Free \n\n\n\n\nLearn how to create your own Facebook account to connect with family\, friends and your favourite organisations. Discover basic navigation skills and how to manage your privacy settings. Basic computer skills\, internet skills and an email account are required. \nA Brisbane Libraries Tech Connect workshop. \n \nBooking\nBookings required. Phone Fairfield Library on 07 3403 8615 to reserve your place.
URL:https://nicolejohnston.com.au/event/fairfield-facebook-basics-10/
LOCATION:Fairfield Library\, Fairfield Gardens\, 180 Fairfield Rd\, Fairfield\, Queensland\, 4103\, Australia
GEO:-27.508752;153.025501
X-APPLE-STRUCTURED-LOCATION;VALUE=URI;X-ADDRESS=Fairfield Library Fairfield Gardens 180 Fairfield Rd Fairfield Queensland 4103 Australia;X-APPLE-RADIUS=500;X-TITLE=Fairfield Gardens\, 180 Fairfield Rd:geo:153.025501,-27.508752
END:VEVENT
BEGIN:VEVENT
DTSTART;TZID=Australia/Brisbane:20180915T093000
DTEND;TZID=Australia/Brisbane:20180915T100000
DTSTAMP:20260426T000632
CREATED:20180829T005755Z
LAST-MODIFIED:20180829T005755Z
UID:17779-1537003800-1537005600@nicolejohnston.com.au
SUMMARY:Fairfield | Rainbow families storytime
DESCRIPTION:Free \n\n\n\n\nEnjoy a storytime celebrating family diversity in support of the Brisbane Pride Festival. Ideal for children aged 2-5 years. \n \nBooking\nNot required.
URL:https://nicolejohnston.com.au/event/fairfield-rainbow-families-storytime/
LOCATION:Fairfield Library\, Fairfield Gardens\, 180 Fairfield Rd\, Fairfield\, Queensland\, 4103\, Australia
GEO:-27.508752;153.025501
X-APPLE-STRUCTURED-LOCATION;VALUE=URI;X-ADDRESS=Fairfield Library Fairfield Gardens 180 Fairfield Rd Fairfield Queensland 4103 Australia;X-APPLE-RADIUS=500;X-TITLE=Fairfield Gardens\, 180 Fairfield Rd:geo:153.025501,-27.508752
END:VEVENT
BEGIN:VEVENT
DTSTART;TZID=Australia/Brisbane:20180919T110000
DTEND;TZID=Australia/Brisbane:20180919T123000
DTSTAMP:20260426T000632
CREATED:20180829T002606Z
LAST-MODIFIED:20180829T002606Z
UID:17763-1537354800-1537360200@nicolejohnston.com.au
SUMMARY:Corinda | TV streaming on the net
DESCRIPTION:Free \n\n\n\n\nNever miss your favourite television show again. Learn about online streaming and how to use the internet to watch television on a laptop\, mobile device or television. \nA Brisbane Libraries Tech Connect workshop. \n \nBooking\nBookings required. Phone Corinda Library on 07 3407 7701 to reserve your place.
URL:https://nicolejohnston.com.au/event/corinda-tv-streaming-on-the-net/
LOCATION:Corinda Library\, 641 Oxley Road\, Corinda\, Queensland\, 4075\, Australia
GEO:-27.538881;152.98142
X-APPLE-STRUCTURED-LOCATION;VALUE=URI;X-ADDRESS=Corinda Library 641 Oxley Road Corinda Queensland 4075 Australia;X-APPLE-RADIUS=500;X-TITLE=641 Oxley Road:geo:152.98142,-27.538881
END:VEVENT
BEGIN:VEVENT
DTSTART;TZID=Australia/Brisbane:20180919T130000
DTEND;TZID=Australia/Brisbane:20180919T140000
DTSTAMP:20260426T000632
CREATED:20180829T005837Z
LAST-MODIFIED:20180829T005837Z
UID:17781-1537362000-1537365600@nicolejohnston.com.au
SUMMARY:Fairfield | Book chat
DESCRIPTION:Free \n\n\n\n\nFor September\, read and discuss The Housekeeper and the Professor  by Yoko Ogawa. New members welcome. \n \nBooking\nBookings required. Phone Fairfield Library on 07 3403 8615 to reserve your place.
URL:https://nicolejohnston.com.au/event/fairfield-book-chat-7/
LOCATION:Fairfield Library\, Fairfield Gardens\, 180 Fairfield Rd\, Fairfield\, Queensland\, 4103\, Australia
GEO:-27.508752;153.025501
X-APPLE-STRUCTURED-LOCATION;VALUE=URI;X-ADDRESS=Fairfield Library Fairfield Gardens 180 Fairfield Rd Fairfield Queensland 4103 Australia;X-APPLE-RADIUS=500;X-TITLE=Fairfield Gardens\, 180 Fairfield Rd:geo:153.025501,-27.508752
END:VEVENT
BEGIN:VEVENT
DTSTART;TZID=Australia/Brisbane:20180920T180000
DTEND;TZID=Australia/Brisbane:20180920T190000
DTSTAMP:20260426T000632
CREATED:20180829T005926Z
LAST-MODIFIED:20180829T005926Z
UID:17783-1537466400-1537470000@nicolejohnston.com.au
SUMMARY:Fairfield | Evening book club
DESCRIPTION:Free \n\n\n\n\nFor September\, read and discuss Don’t Let’s Go to the Dogs Tonight  by Alexandra Fuller. New members welcome. \n \nBooking\nNot required.
URL:https://nicolejohnston.com.au/event/fairfield-evening-book-club-6/
LOCATION:Fairfield Library\, Fairfield Gardens\, 180 Fairfield Rd\, Fairfield\, Queensland\, 4103\, Australia
GEO:-27.508752;153.025501
X-APPLE-STRUCTURED-LOCATION;VALUE=URI;X-ADDRESS=Fairfield Library Fairfield Gardens 180 Fairfield Rd Fairfield Queensland 4103 Australia;X-APPLE-RADIUS=500;X-TITLE=Fairfield Gardens\, 180 Fairfield Rd:geo:153.025501,-27.508752
END:VEVENT
BEGIN:VEVENT
DTSTART;TZID=Australia/Brisbane:20180921T103000
DTEND;TZID=Australia/Brisbane:20180921T120000
DTSTAMP:20260426T000632
CREATED:20180829T010706Z
LAST-MODIFIED:20180829T010706Z
UID:17799-1537525800-1537531200@nicolejohnston.com.au
SUMMARY:Annerley | Internet skills two
DESCRIPTION:Free \n\n\n\n\nBuild on your basic internet skills by learning search strategies\, information evaluation techniques and exploring a range of interesting and useful online resources. Basic computer and internet skills are required. \nA Brisbane Libraries Tech Connect workshop. \n \nBooking\nBookings required. Phone Annerley Library on 07 3403 1735 to reserve your place.
URL:https://nicolejohnston.com.au/event/annerley-internet-skills-two-2/
LOCATION:Annerley Library\, 469 Ipswich Rd\, Annerley\, Queensland\, 4103\, Australia
GEO:-27.5115338;153.0317863
X-APPLE-STRUCTURED-LOCATION;VALUE=URI;X-ADDRESS=Annerley Library 469 Ipswich Rd Annerley Queensland 4103 Australia;X-APPLE-RADIUS=500;X-TITLE=469 Ipswich Rd:geo:153.0317863,-27.5115338
END:VEVENT
BEGIN:VEVENT
DTSTART;TZID=Australia/Brisbane:20180921T140000
DTEND;TZID=Australia/Brisbane:20180921T153000
DTSTAMP:20260426T000632
CREATED:20180829T010013Z
LAST-MODIFIED:20180829T010013Z
UID:17785-1537538400-1537543800@nicolejohnston.com.au
SUMMARY:Fairfield | iPad help
DESCRIPTION:Learn how to find answers to your iPad questions and share tips with others in a group help session facilitated by library staff. Bring your own iPad and Apple account details. Basic iPad skills required. \nA Brisbane Libraries Tech Connect workshop. \n \nBooking\nBookings required. Phone Fairfield Library on 07 3403 8615 to reserve your place.
URL:https://nicolejohnston.com.au/event/fairfield-ipad-help-4/
LOCATION:Fairfield Library\, Fairfield Gardens\, 180 Fairfield Rd\, Fairfield\, Queensland\, 4103\, Australia
GEO:-27.508752;153.025501
X-APPLE-STRUCTURED-LOCATION;VALUE=URI;X-ADDRESS=Fairfield Library Fairfield Gardens 180 Fairfield Rd Fairfield Queensland 4103 Australia;X-APPLE-RADIUS=500;X-TITLE=Fairfield Gardens\, 180 Fairfield Rd:geo:153.025501,-27.508752
END:VEVENT
BEGIN:VEVENT
DTSTART;TZID=Australia/Brisbane:20180922T140000
DTEND;TZID=Australia/Brisbane:20180922T150000
DTSTAMP:20260426T000632
CREATED:20180829T010055Z
LAST-MODIFIED:20180829T010055Z
UID:17787-1537624800-1537628400@nicolejohnston.com.au
SUMMARY:Fairfield | CPR awareness
DESCRIPTION:Free \n\n\n\n\nAre you interested in developing practical knowledge and skill in cardiopulmonary resuscitation? This free workshop will give you the confidence to help keep someone alive using CPR while the ambulance is on its way. Presented by qualified trainers from the Queensland Local Ambulance Committee\, in partnership with the Queensland Ambulance Services. \n \nBooking\nBookings required. Phone Fairfield Library on 07 3403 8615 to reserve your place.
URL:https://nicolejohnston.com.au/event/fairfield-cpr-awareness-2/
LOCATION:Fairfield Library\, Fairfield Gardens\, 180 Fairfield Rd\, Fairfield\, Queensland\, 4103\, Australia
GEO:-27.508752;153.025501
X-APPLE-STRUCTURED-LOCATION;VALUE=URI;X-ADDRESS=Fairfield Library Fairfield Gardens 180 Fairfield Rd Fairfield Queensland 4103 Australia;X-APPLE-RADIUS=500;X-TITLE=Fairfield Gardens\, 180 Fairfield Rd:geo:153.025501,-27.508752
END:VEVENT
BEGIN:VEVENT
DTSTART;TZID=Australia/Brisbane:20180924T140000
DTEND;TZID=Australia/Brisbane:20180924T150000
DTSTAMP:20260426T000632
CREATED:20180829T010750Z
LAST-MODIFIED:20180829T010750Z
UID:17801-1537797600-1537801200@nicolejohnston.com.au
SUMMARY:Annerley | Rangoli
DESCRIPTION:Free \n\n\n\n\nDiscover traditional Indian folk art and create your own Rangoli artwork to take home and display on festive occasions like Diwali. Ideal for children aged 5-12 years. \n \nBooking\nBookings required. Phone Annerley Library on 07 3403 1735 to reserve your place.
URL:https://nicolejohnston.com.au/event/annerley-rangoli-2/
LOCATION:Annerley Library\, 469 Ipswich Rd\, Annerley\, Queensland\, 4103\, Australia
GEO:-27.5115338;153.0317863
X-APPLE-STRUCTURED-LOCATION;VALUE=URI;X-ADDRESS=Annerley Library 469 Ipswich Rd Annerley Queensland 4103 Australia;X-APPLE-RADIUS=500;X-TITLE=469 Ipswich Rd:geo:153.0317863,-27.5115338
END:VEVENT
BEGIN:VEVENT
DTSTART;TZID=Australia/Brisbane:20180925T100000
DTEND;TZID=Australia/Brisbane:20180925T110000
DTSTAMP:20260426T000632
CREATED:20180829T010841Z
LAST-MODIFIED:20180829T010841Z
UID:17803-1537869600-1537873200@nicolejohnston.com.au
SUMMARY:Annerley | Roald Dahl Day
DESCRIPTION:Free \n\n\n\n\nSeptember is Roald Dahl’s birth month\, and Brisbane libraries are celebrating! Join the fun with games and activities based on some of this much loved author’s most famous books. Ideal for children aged 6-11 years. \n \nBooking\nBookings required. Phone Annerley Library on 07 3403 1735 to reserve your place.
URL:https://nicolejohnston.com.au/event/annerley-roald-dahl-day-2/
LOCATION:Annerley Library\, 469 Ipswich Rd\, Annerley\, Queensland\, 4103\, Australia
GEO:-27.5115338;153.0317863
X-APPLE-STRUCTURED-LOCATION;VALUE=URI;X-ADDRESS=Annerley Library 469 Ipswich Rd Annerley Queensland 4103 Australia;X-APPLE-RADIUS=500;X-TITLE=469 Ipswich Rd:geo:153.0317863,-27.5115338
END:VEVENT
BEGIN:VEVENT
DTSTART;TZID=Australia/Brisbane:20180925T103000
DTEND;TZID=Australia/Brisbane:20180925T113000
DTSTAMP:20260426T000632
CREATED:20180829T002659Z
LAST-MODIFIED:20180829T002659Z
UID:17765-1537871400-1537875000@nicolejohnston.com.au
SUMMARY:Corinda | Meet Noel Braun
DESCRIPTION:Free \n\n\n\n\nNoel Braun embarked on a spiritual quest of self-discovery after the suicide of his wife\, Maris. He decided to walk two of the more popular routes of the Camino de Santiago across France and Spain\, and two more journeys followed later taking different routes. Noel undertook these journeys aged in his seventies and eighties\, and has described his experiences and the people he met in his books\, The Day Was Made for Walking and I Guess I’ll Just Keep on Walking. \nJoin Noel as he discusses his experiences writing his memoirs. Books will be available for purchase on the day\, or bring your copy from home for Noel to sign. \nTo reserve your place\, visit Eventbrite or phone the library. \n \nBooking\nBookings required. Phone Corinda Library on 07 3407 7701 to reserve your place.
URL:https://nicolejohnston.com.au/event/corinda-meet-noel-braun/
LOCATION:Corinda Library\, 641 Oxley Road\, Corinda\, Queensland\, 4075\, Australia
GEO:-27.538881;152.98142
X-APPLE-STRUCTURED-LOCATION;VALUE=URI;X-ADDRESS=Corinda Library 641 Oxley Road Corinda Queensland 4075 Australia;X-APPLE-RADIUS=500;X-TITLE=641 Oxley Road:geo:152.98142,-27.538881
END:VEVENT
BEGIN:VEVENT
DTSTART;TZID=Australia/Brisbane:20180926T033000
DTEND;TZID=Australia/Brisbane:20180926T163000
DTSTAMP:20260426T000632
CREATED:20180829T010145Z
LAST-MODIFIED:20180829T010145Z
UID:17789-1537932600-1537979400@nicolejohnston.com.au
SUMMARY:Fairfield | FBI: Fairfield book investigators kid's club
DESCRIPTION:Free \n\n\n\n\nIn September\, the club will read the Stinkbomb & Ketchup-Face series by John Dougherty. Ideal for children aged 6-11 years. \n \nBooking\nNot required.
URL:https://nicolejohnston.com.au/event/fairfield-fbi-fairfield-book-investigators-kids-club-11/
LOCATION:Fairfield Library\, Fairfield Gardens\, 180 Fairfield Rd\, Fairfield\, Queensland\, 4103\, Australia
GEO:-27.508752;153.025501
X-APPLE-STRUCTURED-LOCATION;VALUE=URI;X-ADDRESS=Fairfield Library Fairfield Gardens 180 Fairfield Rd Fairfield Queensland 4103 Australia;X-APPLE-RADIUS=500;X-TITLE=Fairfield Gardens\, 180 Fairfield Rd:geo:153.025501,-27.508752
END:VEVENT
BEGIN:VEVENT
DTSTART;TZID=Australia/Brisbane:20180926T110000
DTEND;TZID=Australia/Brisbane:20180926T123000
DTSTAMP:20260426T000632
CREATED:20180829T002749Z
LAST-MODIFIED:20180829T002749Z
UID:17767-1537959600-1537965000@nicolejohnston.com.au
SUMMARY:Corinda | Smartphone skills
DESCRIPTION:Free \n\n\n\n\nLearn how to navigate your way around a smartphone with a touch screen. This includes how to make and receive calls\, create and send text messages\, add contacts and install apps. Perfect for the first time user. Bring your own smartphone. \nA Brisbane Libraries Tech Connect workshop. \n \nBooking\nBookings required. Phone Corinda Library on 07 3407 7701 to reserve your place.
URL:https://nicolejohnston.com.au/event/corinda-smartphone-skills-4/
LOCATION:Corinda Library\, 641 Oxley Road\, Corinda\, Queensland\, 4075\, Australia
GEO:-27.538881;152.98142
X-APPLE-STRUCTURED-LOCATION;VALUE=URI;X-ADDRESS=Corinda Library 641 Oxley Road Corinda Queensland 4075 Australia;X-APPLE-RADIUS=500;X-TITLE=641 Oxley Road:geo:152.98142,-27.538881
END:VEVENT
BEGIN:VEVENT
DTSTART;TZID=Australia/Brisbane:20180926T140000
DTEND;TZID=Australia/Brisbane:20180926T150000
DTSTAMP:20260426T000632
CREATED:20180829T002835Z
LAST-MODIFIED:20180829T002835Z
UID:17769-1537970400-1537974000@nicolejohnston.com.au
SUMMARY:Corinda | Rangoli
DESCRIPTION:Free \n\n\n\n\nDiscover traditional Indian folk art and create your own Rangoli artwork to take home and display on festive occasions like Diwali. Ideal for children aged 5-12 years. \n \nBooking\nBookings required. Phone Corinda Library on 07 3407 7701 to reserve your place.
URL:https://nicolejohnston.com.au/event/corinda-rangoli/
LOCATION:Corinda Library\, 641 Oxley Road\, Corinda\, Queensland\, 4075\, Australia
GEO:-27.538881;152.98142
X-APPLE-STRUCTURED-LOCATION;VALUE=URI;X-ADDRESS=Corinda Library 641 Oxley Road Corinda Queensland 4075 Australia;X-APPLE-RADIUS=500;X-TITLE=641 Oxley Road:geo:152.98142,-27.538881
END:VEVENT
BEGIN:VEVENT
DTSTART;TZID=Australia/Brisbane:20180927T130000
DTEND;TZID=Australia/Brisbane:20180927T143000
DTSTAMP:20260426T000632
CREATED:20180829T010244Z
LAST-MODIFIED:20180829T010244Z
UID:17791-1538053200-1538058600@nicolejohnston.com.au
SUMMARY:Fairfield | Book illustration using collage with Mark Guthrie
DESCRIPTION:Free \n\n\n\n\nLearn how picture books are made with illustrator\, author and Walt Disney animator\, Mark Guthrie. In this fun workshop you will use drawing and collage to develop your story ideas into your very own illustrated book. Ideal for children aged seven years and older. \n \nBooking\nBookings required. Phone Fairfield Library on 07 3403 8615 to reserve your place.
URL:https://nicolejohnston.com.au/event/fairfield-book-illustration-using-collage-with-mark-guthrie/
LOCATION:Fairfield Library\, Fairfield Gardens\, 180 Fairfield Rd\, Fairfield\, Queensland\, 4103\, Australia
GEO:-27.508752;153.025501
X-APPLE-STRUCTURED-LOCATION;VALUE=URI;X-ADDRESS=Fairfield Library Fairfield Gardens 180 Fairfield Rd Fairfield Queensland 4103 Australia;X-APPLE-RADIUS=500;X-TITLE=Fairfield Gardens\, 180 Fairfield Rd:geo:153.025501,-27.508752
END:VEVENT
BEGIN:VEVENT
DTSTART;TZID=Australia/Brisbane:20180928T140000
DTEND;TZID=Australia/Brisbane:20180928T150000
DTSTAMP:20260426T000632
CREATED:20180829T002923Z
LAST-MODIFIED:20180829T002923Z
UID:17771-1538143200-1538146800@nicolejohnston.com.au
SUMMARY:Corinda |  Share
DESCRIPTION:Free \n\n\n\n\nEnjoy your holidays with some great craft activities at the library. \n \nBooking\nBookings required. Phone Corinda Library on 07 3407 7701 to reserve your place.
URL:https://nicolejohnston.com.au/event/corinda-share/
LOCATION:Corinda Library\, 641 Oxley Road\, Corinda\, Queensland\, 4075\, Australia
GEO:-27.538881;152.98142
X-APPLE-STRUCTURED-LOCATION;VALUE=URI;X-ADDRESS=Corinda Library 641 Oxley Road Corinda Queensland 4075 Australia;X-APPLE-RADIUS=500;X-TITLE=641 Oxley Road:geo:152.98142,-27.538881
END:VEVENT
BEGIN:VEVENT
DTSTART;TZID=Australia/Brisbane:20180928T140000
DTEND;TZID=Australia/Brisbane:20180928T150000
DTSTAMP:20260426T000632
CREATED:20180829T010330Z
LAST-MODIFIED:20180829T010330Z
UID:17793-1538143200-1538146800@nicolejohnston.com.au
SUMMARY:Fairfield | Social media basics
DESCRIPTION:Free \nLearn about popular social media sites including Facebook\, Twitter\, Pinterest\, Tumblr and Instagram. Discover how these websites help you to connect with family\, friends and organisations online. Basic computer and internet skills required. \nA Brisbane Libraries Tech Connect workshop. \n \nBooking\nBookings required. Phone Fairfield Library on 07 3403 8615 to reserve your place.
URL:https://nicolejohnston.com.au/event/fairfield-social-media-basics-6/
LOCATION:Fairfield Library\, Fairfield Gardens\, 180 Fairfield Rd\, Fairfield\, Queensland\, 4103\, Australia
GEO:-27.508752;153.025501
X-APPLE-STRUCTURED-LOCATION;VALUE=URI;X-ADDRESS=Fairfield Library Fairfield Gardens 180 Fairfield Rd Fairfield Queensland 4103 Australia;X-APPLE-RADIUS=500;X-TITLE=Fairfield Gardens\, 180 Fairfield Rd:geo:153.025501,-27.508752
END:VEVENT
BEGIN:VEVENT
DTSTART;TZID=Australia/Brisbane:20180929T153000
DTEND;TZID=Australia/Brisbane:20180929T170000
DTSTAMP:20260426T000632
CREATED:20180910T005542Z
LAST-MODIFIED:20180910T005542Z
UID:17849-1538235000-1538240400@nicolejohnston.com.au
SUMMARY:Yeronga Bush Care Community Planting
DESCRIPTION:The Yeronga Bushcare Group is holding a community planting event from 3:30pm on Saturday\, 29 September at the playground end of Esplanade\, Yeronga. Come along and help beautify the area! Child friendly nature based activities will be available for the kids.
URL:https://nicolejohnston.com.au/event/yeronga-bush-care-community-planting/
LOCATION:Paringa Place Park\, 50 Esplanade\, Yeronga\, Qld\, 4104\, Australia
GEO:-27.5140455;153.0149526
X-APPLE-STRUCTURED-LOCATION;VALUE=URI;X-ADDRESS=Paringa Place Park 50 Esplanade Yeronga Qld 4104 Australia;X-APPLE-RADIUS=500;X-TITLE=50 Esplanade:geo:153.0149526,-27.5140455
END:VEVENT
BEGIN:VEVENT
DTSTART;TZID=Australia/Brisbane:20181007T173000
DTEND;TZID=Australia/Brisbane:20181007T203000
DTSTAMP:20260426T000632
CREATED:20180912T061845Z
LAST-MODIFIED:20180912T061845Z
UID:17861-1538933400-1538944200@nicolejohnston.com.au
SUMMARY:Mango Jam
DESCRIPTION:
URL:https://nicolejohnston.com.au/event/mango-jam/
LOCATION:Stephens Croquet Club\, Frederick Street\, Yeronga\, Qld\, 4104\, Australia
GEO:-27.5193039;153.0262504
X-APPLE-STRUCTURED-LOCATION;VALUE=URI;X-ADDRESS=Stephens Croquet Club Frederick Street Yeronga Qld 4104 Australia;X-APPLE-RADIUS=500;X-TITLE=Frederick Street:geo:153.0262504,-27.5193039
END:VEVENT
BEGIN:VEVENT
DTSTART;TZID=Australia/Brisbane:20181009T153000
DTEND;TZID=Australia/Brisbane:20181009T173000
DTSTAMP:20260426T000632
CREATED:20181010T233202Z
LAST-MODIFIED:20181010T233202Z
UID:17952-1539099000-1539106200@nicolejohnston.com.au
SUMMARY:Fairfield | Beginners Skateboard Club
DESCRIPTION:
URL:https://nicolejohnston.com.au/event/fairfield-beginners-skateboard-club/2018-10-09/
LOCATION:J.F. O’Grady Memorial Park\, Brougham St\, Fairfield\, Qld\, 4103\, Australia
GEO:-27.507678;153.0226066
X-APPLE-STRUCTURED-LOCATION;VALUE=URI;X-ADDRESS=J.F. O’Grady Memorial Park Brougham St Fairfield Qld 4103 Australia;X-APPLE-RADIUS=500;X-TITLE=Brougham St:geo:153.0226066,-27.507678
END:VEVENT
BEGIN:VEVENT
DTSTART;TZID=Australia/Brisbane:20181013T170000
DTEND;TZID=Australia/Brisbane:20181013T200000
DTSTAMP:20260426T000632
CREATED:20181011T020830Z
LAST-MODIFIED:20181011T020831Z
UID:17983-1539450000-1539460800@nicolejohnston.com.au
SUMMARY:Graceville | Family Fun Day
DESCRIPTION:
URL:https://nicolejohnston.com.au/event/graceville-family-fun-day/
LOCATION:Souths Graceville Rugby League Club\, 247 Graceville Ave\, Graceville\, Qld\, 4075\, Australia
END:VEVENT
BEGIN:VEVENT
DTSTART;TZID=Australia/Brisbane:20181020T100000
DTEND;TZID=Australia/Brisbane:20181020T160000
DTSTAMP:20260426T000632
CREATED:20181011T001100Z
LAST-MODIFIED:20181011T001100Z
UID:17971-1540029600-1540051200@nicolejohnston.com.au
SUMMARY:Sherwood | Art in the Park
DESCRIPTION:
URL:https://nicolejohnston.com.au/event/sherwood-art-in-the-park/
LOCATION:Hives Park\, 37 Quarry Rd\, Sherwood\, Qld\, 4075\, Australia
END:VEVENT
BEGIN:VEVENT
DTSTART;TZID=Australia/Brisbane:20181020T183000
DTEND;TZID=Australia/Brisbane:20181020T223000
DTSTAMP:20260426T000632
CREATED:20181011T003555Z
LAST-MODIFIED:20181011T003555Z
UID:17977-1540060200-1540074600@nicolejohnston.com.au
SUMMARY:Oxley | QCWA Trivia Night
DESCRIPTION:
URL:https://nicolejohnston.com.au/event/oxley-qcwa-trivia-night/
LOCATION:Club Oxley\, Englefield Rd\, Oxley\, Qld\, 4075\, Australia
GEO:-27.5587802;152.9694162
X-APPLE-STRUCTURED-LOCATION;VALUE=URI;X-ADDRESS=Club Oxley Englefield Rd Oxley Qld 4075 Australia;X-APPLE-RADIUS=500;X-TITLE=Englefield Rd:geo:152.9694162,-27.5587802
END:VEVENT
BEGIN:VEVENT
DTSTART;TZID=Australia/Brisbane:20181020T183000
DTEND;TZID=Australia/Brisbane:20181020T223000
DTSTAMP:20260426T000632
CREATED:20181011T003924Z
LAST-MODIFIED:20181011T003925Z
UID:17980-1540060200-1540074600@nicolejohnston.com.au
SUMMARY:Corinda | Trivia Night
DESCRIPTION:
URL:https://nicolejohnston.com.au/event/corinda-trivia-night/
LOCATION:Sherwood-Indooroopilly RSL\, 2 Clewley St\, Corinda\, Qld\, 4075\, Australia
GEO:-27.5376407;152.9810731
X-APPLE-STRUCTURED-LOCATION;VALUE=URI;X-ADDRESS=Sherwood-Indooroopilly RSL 2 Clewley St Corinda Qld 4075 Australia;X-APPLE-RADIUS=500;X-TITLE=2 Clewley St:geo:152.9810731,-27.5376407
END:VEVENT
BEGIN:VEVENT
DTSTART;TZID=Australia/Brisbane:20181107T100000
DTEND;TZID=Australia/Brisbane:20181108T160000
DTSTAMP:20260426T000632
CREATED:20181010T234211Z
LAST-MODIFIED:20181010T234211Z
UID:17964-1541584800-1541692800@nicolejohnston.com.au
SUMMARY:Sherwood | Arts and Crafts Exhibition
DESCRIPTION:
URL:https://nicolejohnston.com.au/event/sherwood-arts-and-crafts-exhibition/2018-11-07/
LOCATION:Sherwood Uniting Church\, cnr Thallon St and Sherwood Rd\, Sherwood\, qld\, 4075\, Australia
GEO:-27.5320991;152.9806216
X-APPLE-STRUCTURED-LOCATION;VALUE=URI;X-ADDRESS=Sherwood Uniting Church cnr Thallon St and Sherwood Rd Sherwood qld 4075 Australia;X-APPLE-RADIUS=500;X-TITLE=cnr Thallon St and Sherwood Rd:geo:152.9806216,-27.5320991
END:VEVENT
BEGIN:VEVENT
DTSTART;TZID=Australia/Brisbane:20181109T100000
DTEND;TZID=Australia/Brisbane:20181109T210000
DTSTAMP:20260426T000632
CREATED:20181010T234519Z
LAST-MODIFIED:20181010T234949Z
UID:17967-1541757600-1541797200@nicolejohnston.com.au
SUMMARY:Sherwood | Arts and Crafts Exhibition
DESCRIPTION:
URL:https://nicolejohnston.com.au/event/sherwood-arts-and-crafts-exhibition-2/
LOCATION:Sherwood Uniting Church\, cnr Thallon St and Sherwood Rd\, Sherwood\, qld\, 4075\, Australia
GEO:-27.5320991;152.9806216
X-APPLE-STRUCTURED-LOCATION;VALUE=URI;X-ADDRESS=Sherwood Uniting Church cnr Thallon St and Sherwood Rd Sherwood qld 4075 Australia;X-APPLE-RADIUS=500;X-TITLE=cnr Thallon St and Sherwood Rd:geo:152.9806216,-27.5320991
END:VEVENT
BEGIN:VEVENT
DTSTART;TZID=Australia/Brisbane:20181109T173000
DTEND;TZID=Australia/Brisbane:20181109T213000
DTSTAMP:20260426T000632
CREATED:20181011T001827Z
LAST-MODIFIED:20181011T001827Z
UID:17975-1541784600-1541799000@nicolejohnston.com.au
SUMMARY:Sherwood Community Festival
DESCRIPTION:The Sherwood Community Festival is a free family event\, sponsored by Brisbane City Council\, which keeps getting bigger and better each year. \nThis year it will be on Friday\, 9th November\, from 5.30 pm to 9.30 pm. \nThere will be a section dedicated to a huge variety of food stalls\, a pop-up library\, plus all the other market stalls\, rides and live entertainment! \nAttractions include: \n– free rides for the children\n– stage show and workshop activities from Street Science\n– wildlife display area\n– Police band\n– a pop-up library with storytelling for the children \n_ market and food stalls \nlive entertainment including bands\, choirs\, dance troupes \na nativity play – complete with live camels \na designated child zone area with Santa Claus \na raffle with some amazing prizes. Tickets are on sale outside Sherwood Woolworths on 20/10\, 27/10 and 3/11\, plus they can be purchased on the night from the information desk. \nWe are really excited about the upcoming festival and look forward to welcoming our extended community to Sherwood once more for this year’s celebrations.
URL:https://nicolejohnston.com.au/event/sherwood-community-festival-4/
LOCATION:Sherwood Rd Shopping Precinct\, Sherwood Rd\, Sherwood\, Qld\, 4075\, Australia
GEO:-27.5329105;152.9861142
X-APPLE-STRUCTURED-LOCATION;VALUE=URI;X-ADDRESS=Sherwood Rd Shopping Precinct Sherwood Rd Sherwood Qld 4075 Australia;X-APPLE-RADIUS=500;X-TITLE=Sherwood Rd:geo:152.9861142,-27.5329105
END:VEVENT
BEGIN:VEVENT
DTSTART;TZID=Australia/Brisbane:20181110T100000
DTEND;TZID=Australia/Brisbane:20181110T120000
DTSTAMP:20260426T000632
CREATED:20181010T235303Z
LAST-MODIFIED:20181010T235303Z
UID:17969-1541844000-1541851200@nicolejohnston.com.au
SUMMARY:Sherwood | Arts and Crafts Exhibition
DESCRIPTION:
URL:https://nicolejohnston.com.au/event/sherwood-arts-and-crafts-exhibition-3/
LOCATION:QLD
ORGANIZER;CN="Sherwood Uniting Church":MAILTO:refreshyourstash@gmail.com
END:VEVENT
END:VCALENDAR