BEGIN:VCALENDAR
VERSION:2.0
PRODID:-//Nicole Johnston - ECPv6.15.20//NONSGML v1.0//EN
CALSCALE:GREGORIAN
METHOD:PUBLISH
X-ORIGINAL-URL:https://nicolejohnston.com.au
X-WR-CALDESC:Events for Nicole Johnston
REFRESH-INTERVAL;VALUE=DURATION:PT1H
X-Robots-Tag:noindex
X-PUBLISHED-TTL:PT1H
BEGIN:VTIMEZONE
TZID:Australia/Brisbane
BEGIN:STANDARD
TZOFFSETFROM:+1000
TZOFFSETTO:+1000
TZNAME:AEST
DTSTART:20180101T000000
END:STANDARD
END:VTIMEZONE
BEGIN:VEVENT
DTSTART;TZID=Australia/Brisbane:20190525T100000
DTEND;TZID=Australia/Brisbane:20190525T110000
DTSTAMP:20260425T204004
CREATED:20190503T022748Z
LAST-MODIFIED:20190503T022748Z
UID:18800-1558778400-1558782000@nicolejohnston.com.au
SUMMARY:Annerley | Meet Matthew Wengert
DESCRIPTION:City in Masks: How Brisbane fought the Spanish Flu is a narrative history of this city’s encounter with the biggest killer in history. The 1919 epidemic was the deadliest disaster Brisbane ever endured. The story is\, of course\, dramatic and sad. It’s also inspirational: not only in terms of the heroic work done by doctors and nurses\, but because hundreds of women organised themselves to help keep thousands of dangerously sick people alive by taking care of the fundamental basics of life. \nJoin Matthew Wengert\, a historical researcher and writer with a particular interest in medical history and Queensland’s colonial frontier\, as he discusses his research regarding the Spanish Flu and its arrival in Australia and the local stories that he has discovered. Matthew has also received the 2018 Brisbane City Council’s Lord Mayor’s Helen Taylor Research Award for Local History. \nBooks will be available for purchase on the day\, or bring your copy from home for Matthew to sign. \nTo reserve your place\, visit Eventbrite\, or phone the library. \n \nBooking\nBookings required. Phone Annerley Library on 07 3403 1735 to reserve your place. \nVenue\nAnnerley Library\, 448 Ipswich Road\, Annerley\nView venue details and accessibility\nView on Google Maps
URL:https://nicolejohnston.com.au/event/annerley-meet-matthew-wengert/
LOCATION:Corinda Library\, 641 Oxley Road\, Corinda\, Queensland\, 4075\, Australia
GEO:-27.538881;152.98142
X-APPLE-STRUCTURED-LOCATION;VALUE=URI;X-ADDRESS=Corinda Library 641 Oxley Road Corinda Queensland 4075 Australia;X-APPLE-RADIUS=500;X-TITLE=641 Oxley Road:geo:152.98142,-27.538881
END:VEVENT
BEGIN:VEVENT
DTSTART;TZID=Australia/Brisbane:20190527T130000
DTEND;TZID=Australia/Brisbane:20190527T143000
DTSTAMP:20260425T204004
CREATED:20190503T022836Z
LAST-MODIFIED:20190503T022836Z
UID:18802-1558962000-1558967400@nicolejohnston.com.au
SUMMARY:Annerley | Library e-books for Android and iPad
DESCRIPTION:Explore the wonderful world of Brisbane libraries’ free online e-books and e-audiobooks. This session includes tips on how to read\, listen to\, or watch your favourite online library content. Bring your own device\, library card and email account details. \nA Brisbane Libraries Tech Connect workshop. \n \nBooking\nBookings required. Phone Annerley Library on 07 3403 1735 to reserve your place. \nVenue\nAnnerley Library\, 448 Ipswich Road\, Annerley\nView venue details and accessibility\nView on Google Maps
URL:https://nicolejohnston.com.au/event/annerley-library-e-books-for-android-and-ipad/
LOCATION:Corinda Library\, 641 Oxley Road\, Corinda\, Queensland\, 4075\, Australia
GEO:-27.538881;152.98142
X-APPLE-STRUCTURED-LOCATION;VALUE=URI;X-ADDRESS=Corinda Library 641 Oxley Road Corinda Queensland 4075 Australia;X-APPLE-RADIUS=500;X-TITLE=641 Oxley Road:geo:152.98142,-27.538881
END:VEVENT
BEGIN:VEVENT
DTSTART;TZID=Australia/Brisbane:20190528T103000
DTEND;TZID=Australia/Brisbane:20190528T113000
DTSTAMP:20260425T204004
CREATED:20190503T022153Z
LAST-MODIFIED:20190503T022153Z
UID:18792-1559039400-1559043000@nicolejohnston.com.au
SUMMARY:Corinda | The life and times of J R R Tolkien
DESCRIPTION:A revealing talk by local authority Peter Kenny that follows Tolkien’s life through his early years\, his romance with Edith Bratt\, war service\, Professor in Oxford\, the Inklings\, the development of his famous stories\, the cult of the sixties\, and his later years. The talk reflects on how his life was intertwined with his writings\, and how his life experiences affected and influenced many of his stories. \n \nBooking\nBookings required. Phone Corinda Library on 07 3407 7701 to reserve your place. \nVenue\nCorinda Library\, 641 Oxley Road\, Corinda\nView venue details and accessibility\nView on Google Maps
URL:https://nicolejohnston.com.au/event/corinda-the-life-and-times-of-j-r-r-tolkien/
LOCATION:Corinda Library\, 641 Oxley Road\, Corinda\, Queensland\, 4075\, Australia
GEO:-27.538881;152.98142
X-APPLE-STRUCTURED-LOCATION;VALUE=URI;X-ADDRESS=Corinda Library 641 Oxley Road Corinda Queensland 4075 Australia;X-APPLE-RADIUS=500;X-TITLE=641 Oxley Road:geo:152.98142,-27.538881
END:VEVENT
BEGIN:VEVENT
DTSTART;TZID=Australia/Brisbane:20190529T110000
DTEND;TZID=Australia/Brisbane:20190529T123000
DTSTAMP:20260425T204004
CREATED:20190503T022237Z
LAST-MODIFIED:20190503T022237Z
UID:18794-1559127600-1559133000@nicolejohnston.com.au
SUMMARY:Corinda | Online safety and security basics
DESCRIPTION:Feel safe and confident online by learning the basics of secure internet use. Learn how to protect yourself against viruses and malware\, pay safely online and create strong passwords. Basic computer and internet skills required. \nA Brisbane Libraries Tech connect workshop. \n \nBooking\nBookings required. Phone Corinda Library on 07 3407 7701 to reserve your place. \nVenue\nCorinda Library\, 641 Oxley Road\, Corinda\nView venue details and accessibility\nView on Google Maps
URL:https://nicolejohnston.com.au/event/corinda-online-safety-and-security-basics-3/
LOCATION:Corinda Library\, 641 Oxley Road\, Corinda\, Queensland\, 4075\, Australia
GEO:-27.538881;152.98142
X-APPLE-STRUCTURED-LOCATION;VALUE=URI;X-ADDRESS=Corinda Library 641 Oxley Road Corinda Queensland 4075 Australia;X-APPLE-RADIUS=500;X-TITLE=641 Oxley Road:geo:152.98142,-27.538881
END:VEVENT
BEGIN:VEVENT
DTSTART;TZID=Australia/Brisbane:20190529T140000
DTEND;TZID=Australia/Brisbane:20190529T150000
DTSTAMP:20260425T204004
CREATED:20190503T022343Z
LAST-MODIFIED:20190503T022343Z
UID:18796-1559138400-1559142000@nicolejohnston.com.au
SUMMARY:Corinda | Yarning and poetry with Aunty Theresa Creed
DESCRIPTION:Born on Woorabinda Aboriginal Mission and an elder of the Piitta Pitta and Kalkadoon nations of North West Queensland\, Theresa is a performance poet and draws on her long history as a dancer\, actor and singer\, and her ancient culture of ceremony. Theresa’s poetry tells her story and the history of her family\, from the undisturbed times to war and invasion\, the Aboriginal mission and reserve system\, the land rights movement\, and life today. \n \nBooking\nBookings required. Phone Corinda Library on 07 3407 7701 to reserve your place. \nVenue\nCorinda Library\, 641 Oxley Road\, Corinda\nView venue details and accessibility\nView on Google Maps
URL:https://nicolejohnston.com.au/event/corinda-yarning-and-poetry-with-aunty-theresa-creed/
LOCATION:Corinda Library\, 641 Oxley Road\, Corinda\, Queensland\, 4075\, Australia
GEO:-27.538881;152.98142
X-APPLE-STRUCTURED-LOCATION;VALUE=URI;X-ADDRESS=Corinda Library 641 Oxley Road Corinda Queensland 4075 Australia;X-APPLE-RADIUS=500;X-TITLE=641 Oxley Road:geo:152.98142,-27.538881
END:VEVENT
BEGIN:VEVENT
DTSTART;TZID=Australia/Brisbane:20190703T143000
DTEND;TZID=Australia/Brisbane:20190703T160000
DTSTAMP:20260425T204004
CREATED:20190703T010754Z
LAST-MODIFIED:20190703T010754Z
UID:19088-1562164200-1562169600@nicolejohnston.com.au
SUMMARY:Free Information Session on My Aged Care
DESCRIPTION:
URL:https://nicolejohnston.com.au/event/free-information-session-on-my-aged-care/
LOCATION:Sherwood Neighbourhood Centre\, 38 Thallon Street\, Sherwood\, Queensland\, 4075\, Australia
GEO:-27.53402;152.981098
X-APPLE-STRUCTURED-LOCATION;VALUE=URI;X-ADDRESS=Sherwood Neighbourhood Centre 38 Thallon Street Sherwood Queensland 4075 Australia;X-APPLE-RADIUS=500;X-TITLE=38 Thallon Street:geo:152.981098,-27.53402
END:VEVENT
BEGIN:VEVENT
DTSTART;TZID=Australia/Brisbane:20190706T073000
DTEND;TZID=Australia/Brisbane:20190706T120000
DTSTAMP:20260425T204004
CREATED:20190703T005633Z
LAST-MODIFIED:20190703T005633Z
UID:19079-1562398200-1562414400@nicolejohnston.com.au
SUMMARY:Neighbourhood Garage Sale
DESCRIPTION:
URL:https://nicolejohnston.com.au/event/neighbourhood-garage-sale/
LOCATION:Sherwood Neighbourhood Centre\, 38 Thallon Street\, Sherwood\, Queensland\, 4075\, Australia
GEO:-27.53402;152.981098
X-APPLE-STRUCTURED-LOCATION;VALUE=URI;X-ADDRESS=Sherwood Neighbourhood Centre 38 Thallon Street Sherwood Queensland 4075 Australia;X-APPLE-RADIUS=500;X-TITLE=38 Thallon Street:geo:152.981098,-27.53402
END:VEVENT
BEGIN:VEVENT
DTSTART;TZID=Australia/Brisbane:20190712T183000
DTEND;TZID=Australia/Brisbane:20190712T210000
DTSTAMP:20260425T204004
CREATED:20190703T005735Z
LAST-MODIFIED:20190703T040454Z
UID:19082-1562956200-1562965200@nicolejohnston.com.au
SUMMARY:Free Family Movie - Dumbo
DESCRIPTION:The event is FREE but to reserve your place\, visit https://www.facebook.com/events/617069225475217/?active_tab=about
URL:https://nicolejohnston.com.au/event/free-family-movie-dumbo/
LOCATION:Riverside Christian Church\, 26 Glenwood St\, Chelmer\, Qld\, 4075\, Australia
GEO:-27.5122024;152.9768831
X-APPLE-STRUCTURED-LOCATION;VALUE=URI;X-ADDRESS=Riverside Christian Church 26 Glenwood St Chelmer Qld 4075 Australia;X-APPLE-RADIUS=500;X-TITLE=26 Glenwood St:geo:152.9768831,-27.5122024
END:VEVENT
BEGIN:VEVENT
DTSTART;TZID=Australia/Brisbane:20190714T100000
DTEND;TZID=Australia/Brisbane:20190714T140000
DTSTAMP:20260425T204004
CREATED:20190703T011504Z
LAST-MODIFIED:20190703T011504Z
UID:19095-1563098400-1563112800@nicolejohnston.com.au
SUMMARY:Community Plus Open Day
DESCRIPTION:
URL:https://nicolejohnston.com.au/event/community-plus-open-day/
LOCATION:Yeronga Community Centre\, 62 Park Rd\, Yeronga\, Queensland\, 4103\, Australia
GEO:-27.5178214;153.0308084
X-APPLE-STRUCTURED-LOCATION;VALUE=URI;X-ADDRESS=Yeronga Community Centre 62 Park Rd Yeronga Queensland 4103 Australia;X-APPLE-RADIUS=500;X-TITLE=62 Park Rd:geo:153.0308084,-27.5178214
END:VEVENT
BEGIN:VEVENT
DTSTART;TZID=Australia/Brisbane:20190720T093000
DTEND;TZID=Australia/Brisbane:20190720T113000
DTSTAMP:20260425T204004
CREATED:20190703T005842Z
LAST-MODIFIED:20190703T005842Z
UID:19084-1563615000-1563622200@nicolejohnston.com.au
SUMMARY:Sherwood Kindy Open Day
DESCRIPTION:
URL:https://nicolejohnston.com.au/event/sherwood-kindy-open-day/
LOCATION:Sherwood Community Kindergarten\, 44 Thallon St\, Sherwood\, Qld\, 4075\, Australia
GEO:-27.5343501;152.9802232
X-APPLE-STRUCTURED-LOCATION;VALUE=URI;X-ADDRESS=Sherwood Community Kindergarten 44 Thallon St Sherwood Qld 4075 Australia;X-APPLE-RADIUS=500;X-TITLE=44 Thallon St:geo:152.9802232,-27.5343501
END:VEVENT
BEGIN:VEVENT
DTSTART;TZID=Australia/Brisbane:20190720T103000
DTEND;TZID=Australia/Brisbane:20190720T113000
DTSTAMP:20260425T204004
CREATED:20190703T011110Z
LAST-MODIFIED:20190703T011110Z
UID:19090-1563618600-1563622200@nicolejohnston.com.au
SUMMARY:Fairfield Writers Group Book Launch: Love Eventually
DESCRIPTION:
URL:https://nicolejohnston.com.au/event/fairfield-writers-group-book-launch-love-eventually/
LOCATION:Fairfield Library\, Fairfield Gardens\, 180 Fairfield Rd\, Fairfield\, Queensland\, 4103\, Australia
GEO:-27.508752;153.025501
X-APPLE-STRUCTURED-LOCATION;VALUE=URI;X-ADDRESS=Fairfield Library Fairfield Gardens 180 Fairfield Rd Fairfield Queensland 4103 Australia;X-APPLE-RADIUS=500;X-TITLE=Fairfield Gardens\, 180 Fairfield Rd:geo:153.025501,-27.508752
END:VEVENT
BEGIN:VEVENT
DTSTART;TZID=Australia/Brisbane:20190720T130000
DTEND;TZID=Australia/Brisbane:20190720T160000
DTSTAMP:20260425T204004
CREATED:20190703T004249Z
LAST-MODIFIED:20190703T004249Z
UID:19060-1563627600-1563638400@nicolejohnston.com.au
SUMMARY:Graceville Croquet Club Come and Play Day
DESCRIPTION:Join Graceville Croquet Club from 1-4pm on Saturday 20 July for a free Come and Play Day. Head on down to get a taste of several different types of croquet and see how fun the game really is! Please wear joggers or soft soled shoes. For more information or to RSVP\, email the club at graceville@croquetqld.org.
URL:https://nicolejohnston.com.au/event/graceville-croquet-club-come-and-play-day/
LOCATION:Graceville Croquet Club\, 53a Appel St\, Chelmer\, Qld\, 4068\, Australia
GEO:-27.5170685;152.9742136
X-APPLE-STRUCTURED-LOCATION;VALUE=URI;X-ADDRESS=Graceville Croquet Club 53a Appel St Chelmer Qld 4068 Australia;X-APPLE-RADIUS=500;X-TITLE=53a Appel St:geo:152.9742136,-27.5170685
END:VEVENT
BEGIN:VEVENT
DTSTART;TZID=Australia/Brisbane:20190721T093000
DTEND;TZID=Australia/Brisbane:20190721T110000
DTSTAMP:20260425T204004
CREATED:20190703T010005Z
LAST-MODIFIED:20190703T010005Z
UID:19086-1563701400-1563706800@nicolejohnston.com.au
SUMMARY:Chelmer-Graceville Kindergarten Open Day
DESCRIPTION:
URL:https://nicolejohnston.com.au/event/chelmer-graceville-kindergarten-open-day-3/
LOCATION:Chelmer-Graceville Kindergarten\, 40 Acacia Ave\, Graceville\, QLD\, 4075\, Australia
GEO:-27.517345;152.980216
X-APPLE-STRUCTURED-LOCATION;VALUE=URI;X-ADDRESS=Chelmer-Graceville Kindergarten 40 Acacia Ave Graceville QLD 4075 Australia;X-APPLE-RADIUS=500;X-TITLE=40 Acacia Ave:geo:152.980216,-27.517345
END:VEVENT
BEGIN:VEVENT
DTSTART;TZID=Australia/Brisbane:20190727T093000
DTEND;TZID=Australia/Brisbane:20190727T103000
DTSTAMP:20260425T204004
CREATED:20190725T064337Z
LAST-MODIFIED:20190725T064337Z
UID:19165-1564219800-1564223400@nicolejohnston.com.au
SUMMARY:Sherwood | FREE Winter Guided Discovery Walks at Sherwood Arboretum
DESCRIPTION:YOU’RE INVITED TO A DISCOVERY WALK THIS SATURDAY! \n \nFOSA invites you to spend a wonderful hour discovering the fascinating stories behind the magnificent collection of Australian native trees at the heritage-listed Sherwood Arboretum this Saturday\, 27 July at 9.30 am. \nThis free walk\, starting at the Jolimont Street car park entry\, will be conducted by the Curator of Brisbane Botanic Gardens\, Dale Arvidsson and the Volunteer Guides of Brisbane Botanic Gardens. \nWith our superb winter weather\, this is an excellent chance to enjoy a relaxing walk\, with morning tea to follow beside the Arboretum’s rainforest giants. A $5.00 donation for adults supports our volunteer work in the Arboretum. \nOur numbers are limited so bookings are essential. Please email info@sherwoodarboretum.com.au or call 3278 6525 by this Friday to book your place for this FREE walk.
URL:https://nicolejohnston.com.au/event/sherwood-free-winter-guided-discovery-walks-at-sherwood-arboretum/
LOCATION:Sherwood Arboretum\, 57 Dewar Terrace\, Sherwood\, Queensland\, 4075\, Australia
GEO:-27.532253;152.977305
X-APPLE-STRUCTURED-LOCATION;VALUE=URI;X-ADDRESS=Sherwood Arboretum 57 Dewar Terrace Sherwood Queensland 4075 Australia;X-APPLE-RADIUS=500;X-TITLE=57 Dewar Terrace:geo:152.977305,-27.532253
END:VEVENT
BEGIN:VEVENT
DTSTART;TZID=Australia/Brisbane:20190727T100000
DTEND;TZID=Australia/Brisbane:20190727T160000
DTSTAMP:20260425T204004
CREATED:20190703T004533Z
LAST-MODIFIED:20190703T004545Z
UID:19062-1564221600-1564243200@nicolejohnston.com.au
SUMMARY:Corinda Primary School Festival of Nations
DESCRIPTION:
URL:https://nicolejohnston.com.au/event/corinda-primary-school-festival-of-nations/
LOCATION:Corinda State School\, 330 Cliveden Ave\, Corinda\, Queensland\, 4075\, Australia
GEO:-27.5496743;152.9829047
X-APPLE-STRUCTURED-LOCATION;VALUE=URI;X-ADDRESS=Corinda State School 330 Cliveden Ave Corinda Queensland 4075 Australia;X-APPLE-RADIUS=500;X-TITLE=330 Cliveden Ave:geo:152.9829047,-27.5496743
END:VEVENT
BEGIN:VEVENT
DTSTART;TZID=Australia/Brisbane:20190727T170000
DTEND;TZID=Australia/Brisbane:20190727T190000
DTSTAMP:20260425T204004
CREATED:20190725T065037Z
LAST-MODIFIED:20190725T065038Z
UID:19170-1564246800-1564254000@nicolejohnston.com.au
SUMMARY:Carrington Boat Club History Talk
DESCRIPTION:
URL:https://nicolejohnston.com.au/event/carrington-boat-club-history-talk/
LOCATION:Horace Window Reserve\, 128 Hilda St\, Corinda\, Qld\, 4075\, Australia
END:VEVENT
BEGIN:VEVENT
DTSTART;TZID=Australia/Brisbane:20190727T183000
DTEND;TZID=Australia/Brisbane:20190727T213000
DTSTAMP:20260425T204004
CREATED:20190708T040149Z
LAST-MODIFIED:20190708T040149Z
UID:19116-1564252200-1564263000@nicolejohnston.com.au
SUMMARY:Christmas in July Trivia Night
DESCRIPTION:
URL:https://nicolejohnston.com.au/event/christmas-in-july-trivia-night/
LOCATION:Club Oxley\, Englefield Rd\, Oxley\, Qld\, 4075\, Australia
GEO:-27.5587802;152.9694162
X-APPLE-STRUCTURED-LOCATION;VALUE=URI;X-ADDRESS=Club Oxley Englefield Rd Oxley Qld 4075 Australia;X-APPLE-RADIUS=500;X-TITLE=Englefield Rd:geo:152.9694162,-27.5587802
END:VEVENT
BEGIN:VEVENT
DTSTART;TZID=Australia/Brisbane:20190802T090000
DTEND;TZID=Australia/Brisbane:20190802T210000
DTSTAMP:20260425T204004
CREATED:20190726T062247Z
LAST-MODIFIED:20190726T062248Z
UID:19177-1564736400-1564779600@nicolejohnston.com.au
SUMMARY:Link Vision Op Shop Bonanza
DESCRIPTION:
URL:https://nicolejohnston.com.au/event/link-vision-op-shop-bonanza/
LOCATION:King George Square\, 100 Adelaide St\, Brisbane\, Qld\, 4000\, Australia
GEO:-27.468425;153.024201
X-APPLE-STRUCTURED-LOCATION;VALUE=URI;X-ADDRESS=King George Square 100 Adelaide St Brisbane Qld 4000 Australia;X-APPLE-RADIUS=500;X-TITLE=100 Adelaide St:geo:153.024201,-27.468425
END:VEVENT
BEGIN:VEVENT
DTSTART;TZID=Australia/Brisbane:20190803T100000
DTEND;TZID=Australia/Brisbane:20190803T140000
DTSTAMP:20260425T204004
CREATED:20190703T004702Z
LAST-MODIFIED:20190703T004702Z
UID:19074-1564826400-1564840800@nicolejohnston.com.au
SUMMARY:St David's Fete
DESCRIPTION:
URL:https://nicolejohnston.com.au/event/st-davids-fete/
LOCATION:St David’s Anglican Church\, 62 Chelmer St East\, Chelmer\, Queensland\, 4068\, Australia
GEO:-27.514588;152.973768
X-APPLE-STRUCTURED-LOCATION;VALUE=URI;X-ADDRESS=St David’s Anglican Church 62 Chelmer St East Chelmer Queensland 4068 Australia;X-APPLE-RADIUS=500;X-TITLE=62 Chelmer St East:geo:152.973768,-27.514588
END:VEVENT
BEGIN:VEVENT
DTSTART;TZID=Australia/Brisbane:20190804T090000
DTEND;TZID=Australia/Brisbane:20190804T150000
DTSTAMP:20260425T204004
CREATED:20190703T005411Z
LAST-MODIFIED:20190703T005411Z
UID:19076-1564909200-1564930800@nicolejohnston.com.au
SUMMARY:St Joseph's Primary School Fete
DESCRIPTION:
URL:https://nicolejohnston.com.au/event/st-josephs-primary-school-fete-2/
LOCATION:St Joseph’s Primary School\, 28 Clewley Street\, Corinda\, Qld\, 4075\, Australia
GEO:-27.537952;152.9835939
X-APPLE-STRUCTURED-LOCATION;VALUE=URI;X-ADDRESS=St Joseph’s Primary School 28 Clewley Street Corinda Qld 4075 Australia;X-APPLE-RADIUS=500;X-TITLE=28 Clewley Street:geo:152.9835939,-27.537952
END:VEVENT
BEGIN:VEVENT
DTSTART;TZID=Australia/Brisbane:20190809T173000
DTEND;TZID=Australia/Brisbane:20190809T183000
DTSTAMP:20260425T204004
CREATED:20190801T012203Z
LAST-MODIFIED:20190801T012239Z
UID:19197-1565371800-1565375400@nicolejohnston.com.au
SUMMARY:Women on the Road Bike Workshop Woolloongabba
DESCRIPTION:
URL:https://nicolejohnston.com.au/event/women-on-the-road-bike-workshop/
LOCATION:Woolloongabba Substation\, 45 Logan Rd\, Woolloongabba\, Qld\, 4102\, Australia
END:VEVENT
BEGIN:VEVENT
DTSTART;TZID=Australia/Brisbane:20190817T090000
DTEND;TZID=Australia/Brisbane:20190817T130000
DTSTAMP:20260425T204004
CREATED:20190801T061803Z
LAST-MODIFIED:20190801T061804Z
UID:19202-1566032400-1566046800@nicolejohnston.com.au
SUMMARY:Braille House Bookshop Opening Annerley
DESCRIPTION:
URL:https://nicolejohnston.com.au/event/braille-house-bookshop-opening-annerley/
LOCATION:Braille House\, 507 Ipswich Rd\, Annerley\, Qld\, 4103
END:VEVENT
BEGIN:VEVENT
DTSTART;TZID=Australia/Brisbane:20190827T093000
DTEND;TZID=Australia/Brisbane:20190827T143000
DTSTAMP:20260425T204004
CREATED:20190725T065336Z
LAST-MODIFIED:20190725T065344Z
UID:19174-1566898200-1566916200@nicolejohnston.com.au
SUMMARY:Sherwood | Seniors Day
DESCRIPTION:
URL:https://nicolejohnston.com.au/event/sherwood-seniors-day/
LOCATION:Sherwood Neighbourhood Centre\, 38 Thallon Street\, Sherwood\, Queensland\, 4075\, Australia
GEO:-27.53402;152.981098
X-APPLE-STRUCTURED-LOCATION;VALUE=URI;X-ADDRESS=Sherwood Neighbourhood Centre 38 Thallon Street Sherwood Queensland 4075 Australia;X-APPLE-RADIUS=500;X-TITLE=38 Thallon Street:geo:152.981098,-27.53402
END:VEVENT
BEGIN:VEVENT
DTSTART;TZID=Australia/Brisbane:20190827T173000
DTEND;TZID=Australia/Brisbane:20190827T200000
DTSTAMP:20260425T204004
CREATED:20190725T064716Z
LAST-MODIFIED:20190725T064716Z
UID:19167-1566927000-1566936000@nicolejohnston.com.au
SUMMARY:Oxley Creek Catchment Association General Meeting
DESCRIPTION:
URL:https://nicolejohnston.com.au/event/oxley-creek-catchment-association-general-meeting-2/
LOCATION:Oxley Creek Common\, 271 Sherwood Rd\, Rocklea\, Qld\, 4106\, Australia
GEO:-27.535636;152.993047
X-APPLE-STRUCTURED-LOCATION;VALUE=URI;X-ADDRESS=Oxley Creek Common 271 Sherwood Rd Rocklea Qld 4106 Australia;X-APPLE-RADIUS=500;X-TITLE=271 Sherwood Rd:geo:152.993047,-27.535636
END:VEVENT
BEGIN:VEVENT
DTSTART;TZID=Australia/Brisbane:20190908T100000
DTEND;TZID=Australia/Brisbane:20190908T150000
DTSTAMP:20260425T204004
CREATED:20190819T232953Z
LAST-MODIFIED:20190819T232953Z
UID:19373-1567936800-1567954800@nicolejohnston.com.au
SUMMARY:Yeronga Park Kindergarten Fete
DESCRIPTION:
URL:https://nicolejohnston.com.au/event/yeronga-park-kindergarten-fete/
LOCATION:Yeronga Park Kindy\, 15 School Road\, Yeronga\, Queensland\, 4104\, Australia
GEO:-27.5218568;153.0242921
X-APPLE-STRUCTURED-LOCATION;VALUE=URI;X-ADDRESS=Yeronga Park Kindy 15 School Road Yeronga Queensland 4104 Australia;X-APPLE-RADIUS=500;X-TITLE=15 School Road:geo:153.0242921,-27.5218568
END:VEVENT
BEGIN:VEVENT
DTSTART;TZID=Australia/Brisbane:20190908T150000
DTEND;TZID=Australia/Brisbane:20190908T180000
DTSTAMP:20260425T204004
CREATED:20190905T031911Z
LAST-MODIFIED:20190905T031912Z
UID:19452-1567954800-1567965600@nicolejohnston.com.au
SUMMARY:Stephens Croquet Come and Try Day
DESCRIPTION:A free Come and Try Croquet on Sunday\, 8 September from 3 pm. Visitors need only come with hat sunscreen and enclosed shoes. Afternoon tea will be provided.
URL:https://nicolejohnston.com.au/event/stephens-croquet-come-and-try-day/
LOCATION:Stephens Croquet Club\, Frederick Street\, Yeronga\, Qld\, 4104\, Australia
GEO:-27.5193039;153.0262504
X-APPLE-STRUCTURED-LOCATION;VALUE=URI;X-ADDRESS=Stephens Croquet Club Frederick Street Yeronga Qld 4104 Australia;X-APPLE-RADIUS=500;X-TITLE=Frederick Street:geo:153.0262504,-27.5193039
END:VEVENT
BEGIN:VEVENT
DTSTART;TZID=Australia/Brisbane:20190912T100000
DTEND;TZID=Australia/Brisbane:20190912T110000
DTSTAMP:20260425T204004
CREATED:20190905T031742Z
LAST-MODIFIED:20190905T031742Z
UID:19448-1568282400-1568286000@nicolejohnston.com.au
SUMMARY:RUOK? Day - Laughter is the Best Medicine
DESCRIPTION:
URL:https://nicolejohnston.com.au/event/ruok-day-laughter-is-the-best-medicine/
LOCATION:St Matthew’s Anglican Church Sherwood\, 648-650 Sherwood Rd\, Sherwood\, Qld\, 4075\, Australia
END:VEVENT
BEGIN:VEVENT
DTSTART;TZID=Australia/Brisbane:20190914T090000
DTEND;TZID=Australia/Brisbane:20190914T120000
DTSTAMP:20260425T204004
CREATED:20190830T005846Z
LAST-MODIFIED:20190830T005846Z
UID:19408-1568451600-1568462400@nicolejohnston.com.au
SUMMARY:Sherwood | Spring Market
DESCRIPTION:
URL:https://nicolejohnston.com.au/event/sherwood-spring-market/
LOCATION:Sherwood Uniting Church\, cnr Thallon St and Sherwood Rd\, Sherwood\, qld\, 4075\, Australia
GEO:-27.5320991;152.9806216
X-APPLE-STRUCTURED-LOCATION;VALUE=URI;X-ADDRESS=Sherwood Uniting Church cnr Thallon St and Sherwood Rd Sherwood qld 4075 Australia;X-APPLE-RADIUS=500;X-TITLE=cnr Thallon St and Sherwood Rd:geo:152.9806216,-27.5320991
END:VEVENT
BEGIN:VEVENT
DTSTART;TZID=Australia/Brisbane:20190915T100000
DTEND;TZID=Australia/Brisbane:20190915T160000
DTSTAMP:20260425T204004
CREATED:20190828T232752Z
LAST-MODIFIED:20190828T232753Z
UID:19397-1568541600-1568563200@nicolejohnston.com.au
SUMMARY:Graceville | Sustainable House Day
DESCRIPTION:
URL:https://nicolejohnston.com.au/event/graceville-sustainable-house-day/
LOCATION:Benarrawa Community Development Assn.\, 79 Waratah Avenue\, Graceville\, Queensland\, 4075\, Australia
GEO:-27.518651;152.985055
X-APPLE-STRUCTURED-LOCATION;VALUE=URI;X-ADDRESS=Benarrawa Community Development Assn. 79 Waratah Avenue Graceville Queensland 4075 Australia;X-APPLE-RADIUS=500;X-TITLE=79 Waratah Avenue:geo:152.985055,-27.518651
END:VEVENT
BEGIN:VEVENT
DTSTART;TZID=Australia/Brisbane:20190921T130000
DTEND;TZID=Australia/Brisbane:20190921T160000
DTSTAMP:20260425T204004
CREATED:20190904T002502Z
LAST-MODIFIED:20190904T002503Z
UID:19432-1569070800-1569081600@nicolejohnston.com.au
SUMMARY:Yeronga | Women's Woodworking Introduction Session
DESCRIPTION:
URL:https://nicolejohnston.com.au/event/yeronga-womens-woodworking-introduction-session/
LOCATION:Annerley Men’s Shed\, 14 Lambton St\, Annerley\, Qld\, 4103\, Australia
END:VEVENT
END:VCALENDAR