BEGIN:VCALENDAR
VERSION:2.0
PRODID:-//Nicole Johnston - ECPv6.15.20//NONSGML v1.0//EN
CALSCALE:GREGORIAN
METHOD:PUBLISH
X-ORIGINAL-URL:https://nicolejohnston.com.au
X-WR-CALDESC:Events for Nicole Johnston
REFRESH-INTERVAL;VALUE=DURATION:PT1H
X-Robots-Tag:noindex
X-PUBLISHED-TTL:PT1H
BEGIN:VTIMEZONE
TZID:Australia/Brisbane
BEGIN:STANDARD
TZOFFSETFROM:+1000
TZOFFSETTO:+1000
TZNAME:AEST
DTSTART:20230101T000000
END:STANDARD
END:VTIMEZONE
BEGIN:VEVENT
DTSTART;TZID=Australia/Brisbane:20240924T093000
DTEND;TZID=Australia/Brisbane:20240924T103000
DTSTAMP:20260426T060323
CREATED:20240815T050505Z
LAST-MODIFIED:20240815T050505Z
UID:27824-1727170200-1727173800@nicolejohnston.com.au
SUMMARY:Sherwood | Woodworking in the Park - Mini Towns
DESCRIPTION:Bookings essential. Build a mini wooden town complete with buildings\, trees and vehicles. Kids will love this opportunity to get hands-on using real tools safely to build and then decorate their own mini wooden city-scape. \nThis is a Chillout event suitable for young people 4-14 years. \nBookings essential. To book visit Make+Meld.
URL:https://nicolejohnston.com.au/event/sherwood-woodworking-in-the-park-mini-towns/
LOCATION:Sherwood Arboretum\, 57 Dewar Terrace\, Sherwood\, Queensland\, 4075\, Australia
GEO:-27.532253;152.977305
X-APPLE-STRUCTURED-LOCATION;VALUE=URI;X-ADDRESS=Sherwood Arboretum 57 Dewar Terrace Sherwood Queensland 4075 Australia;X-APPLE-RADIUS=500;X-TITLE=57 Dewar Terrace:geo:152.977305,-27.532253
END:VEVENT
BEGIN:VEVENT
DTSTART;TZID=Australia/Brisbane:20240924T110000
DTEND;TZID=Australia/Brisbane:20240924T120000
DTSTAMP:20260426T060323
CREATED:20240807T021406Z
LAST-MODIFIED:20240807T021406Z
UID:27619-1727175600-1727179200@nicolejohnston.com.au
SUMMARY:Annerley Library | Meet Intelino\, the Interactive Smart Train
DESCRIPTION:Jump onboard Intelino\, our innovative smart train! Enjoy this interactive event where you can program an Intelino train to navigate fun coding challenges. No prior programming experience required. Ideal for children aged 5-8 years. \nA BNEtechkids workshop. \nBookings required. Phone Annerley Library on 07 3403 1735 to reserve your place.
URL:https://nicolejohnston.com.au/event/annerley-library-meet-intelino-the-interactive-smart-train/
LOCATION:Annerley Library\, 469 Ipswich Rd\, Annerley\, Queensland\, 4103\, Australia
GEO:-27.5115338;153.0317863
X-APPLE-STRUCTURED-LOCATION;VALUE=URI;X-ADDRESS=Annerley Library 469 Ipswich Rd Annerley Queensland 4103 Australia;X-APPLE-RADIUS=500;X-TITLE=469 Ipswich Rd:geo:153.0317863,-27.5115338
END:VEVENT
BEGIN:VEVENT
DTSTART;TZID=Australia/Brisbane:20240924T110000
DTEND;TZID=Australia/Brisbane:20240924T130000
DTSTAMP:20260426T060323
CREATED:20240807T020954Z
LAST-MODIFIED:20240807T060945Z
UID:27614-1727175600-1727182800@nicolejohnston.com.au
SUMMARY:Annerley Library | Make and Create for Kids
DESCRIPTION:Drop into the library to get creative with free art and craft activities. Ideal for children aged 3-8 years.
URL:https://nicolejohnston.com.au/event/annerley-library-make-and-create-for-kids/2024-09-24/
LOCATION:Annerley Library\, 469 Ipswich Rd\, Annerley\, Queensland\, 4103\, Australia
GEO:-27.5115338;153.0317863
X-APPLE-STRUCTURED-LOCATION;VALUE=URI;X-ADDRESS=Annerley Library 469 Ipswich Rd Annerley Queensland 4103 Australia;X-APPLE-RADIUS=500;X-TITLE=469 Ipswich Rd:geo:153.0317863,-27.5115338
END:VEVENT
BEGIN:VEVENT
DTSTART;TZID=Australia/Brisbane:20240924T140000
DTEND;TZID=Australia/Brisbane:20240924T150000
DTSTAMP:20260426T060323
CREATED:20240807T053625Z
LAST-MODIFIED:20240807T053625Z
UID:27703-1727186400-1727190000@nicolejohnston.com.au
SUMMARY:Fairfield Library | Kids Book Chat: Dog Man
DESCRIPTION:Enjoy a fun and engaging book chat looking at some of your favourite book series with activities and games. Read Dog Man by Dav Pilkey. Ideal for primary school aged children. Ideal for children aged 5-12 years. \nBookings required. Phone Fairfield Library on 07 3403 8615 to reserve your place.
URL:https://nicolejohnston.com.au/event/fairfield-library-kids-book-chat-dog-man/
LOCATION:Fairfield Library\, Fairfield Gardens\, 180 Fairfield Rd\, Fairfield\, Queensland\, 4103\, Australia
GEO:-27.508752;153.025501
X-APPLE-STRUCTURED-LOCATION;VALUE=URI;X-ADDRESS=Fairfield Library Fairfield Gardens 180 Fairfield Rd Fairfield Queensland 4103 Australia;X-APPLE-RADIUS=500;X-TITLE=Fairfield Gardens\, 180 Fairfield Rd:geo:153.025501,-27.508752
END:VEVENT
BEGIN:VEVENT
DTSTART;TZID=Australia/Brisbane:20240925T091500
DTEND;TZID=Australia/Brisbane:20240925T094500
DTSTAMP:20260426T060323
CREATED:20240807T042234Z
LAST-MODIFIED:20240807T060509Z
UID:27647-1727255700-1727257500@nicolejohnston.com.au
SUMMARY:Corinda Library | Toddler Time
DESCRIPTION:Meet other parents and toddlers for a fun session of singing\, clapping and dancing. Learn action rhymes and songs which will help your child’s pre-literacy\, communication\, language and social skills. Ideal for babies and toddlers aged 1-2 years. \nThe First 5 Forever initiative is funded by the Queensland Government.
URL:https://nicolejohnston.com.au/event/corinda-library-toddler-time/2024-09-25/
LOCATION:Corinda Library\, 641 Oxley Road\, Corinda\, Queensland\, 4075\, Australia
GEO:-27.538881;152.98142
X-APPLE-STRUCTURED-LOCATION;VALUE=URI;X-ADDRESS=Corinda Library 641 Oxley Road Corinda Queensland 4075 Australia;X-APPLE-RADIUS=500;X-TITLE=641 Oxley Road:geo:152.98142,-27.538881
END:VEVENT
BEGIN:VEVENT
DTSTART;TZID=Australia/Brisbane:20240925T130000
DTEND;TZID=Australia/Brisbane:20240925T140000
DTSTAMP:20260426T060323
CREATED:20240807T053825Z
LAST-MODIFIED:20240807T053825Z
UID:27705-1727269200-1727272800@nicolejohnston.com.au
SUMMARY:Fairfield Library | Book Chat
DESCRIPTION:In September\, read and Shell by Kristina Olsson. New members welcome.
URL:https://nicolejohnston.com.au/event/fairfield-library-book-chat-3/
LOCATION:Fairfield Library\, Fairfield Gardens\, 180 Fairfield Rd\, Fairfield\, Queensland\, 4103\, Australia
GEO:-27.508752;153.025501
X-APPLE-STRUCTURED-LOCATION;VALUE=URI;X-ADDRESS=Fairfield Library Fairfield Gardens 180 Fairfield Rd Fairfield Queensland 4103 Australia;X-APPLE-RADIUS=500;X-TITLE=Fairfield Gardens\, 180 Fairfield Rd:geo:153.025501,-27.508752
END:VEVENT
BEGIN:VEVENT
DTSTART;TZID=Australia/Brisbane:20240925T143000
DTEND;TZID=Australia/Brisbane:20240925T153000
DTSTAMP:20260426T060323
CREATED:20240807T053942Z
LAST-MODIFIED:20240807T053942Z
UID:27707-1727274600-1727278200@nicolejohnston.com.au
SUMMARY:Fairfield Library | Sensory Friendly: Junior STEAM
DESCRIPTION:Join us with family or friends for fun tactile and digital activities designed to relax and inspire. Ideal for children aged 5-9 years who are neurodivergent or experience sensory sensitivity or sensory overload. \nBookings required. Phone Fairfield Library on 07 3403 8615 to reserve your place.
URL:https://nicolejohnston.com.au/event/fairfield-library-sensory-friendly-junior-steam/
LOCATION:Fairfield Library\, Fairfield Gardens\, 180 Fairfield Rd\, Fairfield\, Queensland\, 4103\, Australia
GEO:-27.508752;153.025501
X-APPLE-STRUCTURED-LOCATION;VALUE=URI;X-ADDRESS=Fairfield Library Fairfield Gardens 180 Fairfield Rd Fairfield Queensland 4103 Australia;X-APPLE-RADIUS=500;X-TITLE=Fairfield Gardens\, 180 Fairfield Rd:geo:153.025501,-27.508752
END:VEVENT
BEGIN:VEVENT
DTSTART;TZID=Australia/Brisbane:20240926T130000
DTEND;TZID=Australia/Brisbane:20240926T140000
DTSTAMP:20260426T060323
CREATED:20240624T044757Z
LAST-MODIFIED:20240624T044757Z
UID:27516-1727355600-1727359200@nicolejohnston.com.au
SUMMARY:Corinda | Aqua Yoga
DESCRIPTION:This is a low impact form of exercise that supports the body while still providing function and movement. Many yoga poses that you do in a class can be adapted for the pool\, sometimes using the pool walls as if it were the studio floor. \nNo bookings required. For more information phone Nichola on 0406 574 454.
URL:https://nicolejohnston.com.au/event/corinda-aqua-yoga-4/2024-09-26/
LOCATION:Dunlop Park Memorial Pool\, 794 Oxley Rd\, Corinda\, Qld\, 4075\, Australia
GEO:-27.5473096;152.9806407
X-APPLE-STRUCTURED-LOCATION;VALUE=URI;X-ADDRESS=Dunlop Park Memorial Pool 794 Oxley Rd Corinda Qld 4075 Australia;X-APPLE-RADIUS=500;X-TITLE=794 Oxley Rd:geo:152.9806407,-27.5473096
END:VEVENT
BEGIN:VEVENT
DTSTART;TZID=Australia/Brisbane:20240926T130000
DTEND;TZID=Australia/Brisbane:20240926T150000
DTSTAMP:20260426T060323
CREATED:20240807T032538Z
LAST-MODIFIED:20240807T032538Z
UID:27631-1727355600-1727362800@nicolejohnston.com.au
SUMMARY:Corinda Library | Make and Create for Kids
DESCRIPTION:Drop into the library to get creative with free art and craft activities. Ideal for children aged 4-12 years and their carers.
URL:https://nicolejohnston.com.au/event/corinda-library-make-and-create-for-kids/2024-09-26/
LOCATION:Corinda Library\, 641 Oxley Road\, Corinda\, Queensland\, 4075\, Australia
GEO:-27.538881;152.98142
X-APPLE-STRUCTURED-LOCATION;VALUE=URI;X-ADDRESS=Corinda Library 641 Oxley Road Corinda Queensland 4075 Australia;X-APPLE-RADIUS=500;X-TITLE=641 Oxley Road:geo:152.98142,-27.538881
END:VEVENT
BEGIN:VEVENT
DTSTART;TZID=Australia/Brisbane:20240926T180000
DTEND;TZID=Australia/Brisbane:20240926T190000
DTSTAMP:20260426T060323
CREATED:20240807T054350Z
LAST-MODIFIED:20240807T054350Z
UID:27709-1727373600-1727377200@nicolejohnston.com.au
SUMMARY:Fairfield Library | 20-Something Book Club
DESCRIPTION:Join young adult readers of fiction and non-fiction of all genres. Come along and discuss the books that you’ve read and loved recently with other readers. Ideal for those aged 18-29 years. \nBookings required. Phone Fairfield Library on 07 3403 8615 to reserve your place.
URL:https://nicolejohnston.com.au/event/fairfield-library-20-something-book-club-2/
LOCATION:Fairfield Library\, Fairfield Gardens\, 180 Fairfield Rd\, Fairfield\, Queensland\, 4103\, Australia
GEO:-27.508752;153.025501
X-APPLE-STRUCTURED-LOCATION;VALUE=URI;X-ADDRESS=Fairfield Library Fairfield Gardens 180 Fairfield Rd Fairfield Queensland 4103 Australia;X-APPLE-RADIUS=500;X-TITLE=Fairfield Gardens\, 180 Fairfield Rd:geo:153.025501,-27.508752
END:VEVENT
BEGIN:VEVENT
DTSTART;TZID=Australia/Brisbane:20240927T091500
DTEND;TZID=Australia/Brisbane:20240927T094500
DTSTAMP:20260426T060323
CREATED:20240807T041445Z
LAST-MODIFIED:20240807T060518Z
UID:27640-1727428500-1727430300@nicolejohnston.com.au
SUMMARY:Corinda Library | First 5 Forever Babies\, Books and Rhymes
DESCRIPTION:Meet other parents and babies for a fun session of singing\, clapping and dancing. Learn songs and action rhymes to nurture your baby’s pre-literacy\, communication\, language and social skills. Ideal for babies aged up to one year. The First 5 Forever initiative is funded by the Queensland Government.
URL:https://nicolejohnston.com.au/event/corinda-library-first-5-forever-babies-books-and-rhymes-2/2024-09-27/
LOCATION:Corinda Library\, 641 Oxley Road\, Corinda\, Queensland\, 4075\, Australia
GEO:-27.538881;152.98142
X-APPLE-STRUCTURED-LOCATION;VALUE=URI;X-ADDRESS=Corinda Library 641 Oxley Road Corinda Queensland 4075 Australia;X-APPLE-RADIUS=500;X-TITLE=641 Oxley Road:geo:152.98142,-27.538881
END:VEVENT
BEGIN:VEVENT
DTSTART;TZID=Australia/Brisbane:20240927T091500
DTEND;TZID=Australia/Brisbane:20240927T094500
DTSTAMP:20260426T060323
CREATED:20240807T042737Z
LAST-MODIFIED:20240807T060852Z
UID:27665-1727428500-1727430300@nicolejohnston.com.au
SUMMARY:Annerley Library | First 5 Forever Babies\, Books and Rhymes
DESCRIPTION:Meet other parents and babies for a fun session of singing\, clapping and dancing. Learn songs and action rhymes to nurture your baby’s pre-literacy\, communication\, language and social skills. Ideal for babies aged up to one year. The First 5 Forever initiative is funded by the Queensland Government.
URL:https://nicolejohnston.com.au/event/annerley-library-first-5-forever-babies-books-and-rhymes-2/2024-09-27/
LOCATION:Annerley Library\, 469 Ipswich Rd\, Annerley\, Queensland\, 4103\, Australia
GEO:-27.5115338;153.0317863
X-APPLE-STRUCTURED-LOCATION;VALUE=URI;X-ADDRESS=Annerley Library 469 Ipswich Rd Annerley Queensland 4103 Australia;X-APPLE-RADIUS=500;X-TITLE=469 Ipswich Rd:geo:153.0317863,-27.5115338
END:VEVENT
BEGIN:VEVENT
DTSTART;TZID=Australia/Brisbane:20240927T110000
DTEND;TZID=Australia/Brisbane:20240927T130000
DTSTAMP:20260426T060323
CREATED:20240807T020954Z
LAST-MODIFIED:20240807T060945Z
UID:27615-1727434800-1727442000@nicolejohnston.com.au
SUMMARY:Annerley Library | Make and Create for Kids
DESCRIPTION:Drop into the library to get creative with free art and craft activities. Ideal for children aged 3-8 years.
URL:https://nicolejohnston.com.au/event/annerley-library-make-and-create-for-kids/2024-09-27/
LOCATION:Annerley Library\, 469 Ipswich Rd\, Annerley\, Queensland\, 4103\, Australia
GEO:-27.5115338;153.0317863
X-APPLE-STRUCTURED-LOCATION;VALUE=URI;X-ADDRESS=Annerley Library 469 Ipswich Rd Annerley Queensland 4103 Australia;X-APPLE-RADIUS=500;X-TITLE=469 Ipswich Rd:geo:153.0317863,-27.5115338
END:VEVENT
BEGIN:VEVENT
DTSTART;TZID=Australia/Brisbane:20240927T143000
DTEND;TZID=Australia/Brisbane:20240927T153000
DTSTAMP:20260426T060323
CREATED:20240807T055154Z
LAST-MODIFIED:20240807T055154Z
UID:27713-1727447400-1727451000@nicolejohnston.com.au
SUMMARY:Fairfield Library | Sensory Friendly: Junior STEAM
DESCRIPTION:Join us with family or friends for fun tactile and digital activities designed to relax and inspire. Ideal for children aged 5-9 years who are neurodivergent or experience sensory sensitivity or sensory overload. \n\n\nBookings required. Phone Fairfield Library on 07 3403 8615 to reserve your place.
URL:https://nicolejohnston.com.au/event/fairfield-library-sensory-friendly-junior-steam-2/
LOCATION:Fairfield Library\, Fairfield Gardens\, 180 Fairfield Rd\, Fairfield\, Queensland\, 4103\, Australia
GEO:-27.508752;153.025501
X-APPLE-STRUCTURED-LOCATION;VALUE=URI;X-ADDRESS=Fairfield Library Fairfield Gardens 180 Fairfield Rd Fairfield Queensland 4103 Australia;X-APPLE-RADIUS=500;X-TITLE=Fairfield Gardens\, 180 Fairfield Rd:geo:153.025501,-27.508752
END:VEVENT
BEGIN:VEVENT
DTSTART;TZID=Australia/Brisbane:20240928T103000
DTEND;TZID=Australia/Brisbane:20240928T120000
DTSTAMP:20260426T060323
CREATED:20240905T032036Z
LAST-MODIFIED:20240905T032042Z
UID:28070-1727519400-1727524800@nicolejohnston.com.au
SUMMARY:Yeronga | Talking History: Lost Houses
DESCRIPTION:Hear the stories of some of the “lost” and even “lost and found” houses of the area\, including Lyn Burnett on 19 Albemarle St\, Yeerongpilly\, and John Horder on 59 Dudley St West\, Annerley.
URL:https://nicolejohnston.com.au/event/yeronga-talking-history-lost-houses/
LOCATION:Yeronga Community Centre\, 62 Park Rd\, Yeronga\, Queensland\, 4103\, Australia
CATEGORIES:Community Event
ATTACH;FMTTYPE=image/png:https://nicolejohnston.com.au/wp-content/uploads/2024/09/ASHG-September-Talk.png
ORGANIZER;CN="Annerley-Stephens History Group Inc":MAILTO:annerleystephenshistorygroupin@gmail.com
GEO:-27.5178214;153.0308084
X-APPLE-STRUCTURED-LOCATION;VALUE=URI;X-ADDRESS=Yeronga Community Centre 62 Park Rd Yeronga Queensland 4103 Australia;X-APPLE-RADIUS=500;X-TITLE=62 Park Rd:geo:153.0308084,-27.5178214
END:VEVENT
BEGIN:VEVENT
DTSTART;TZID=Australia/Brisbane:20240929T150000
DTEND;TZID=Australia/Brisbane:20240929T170000
DTSTAMP:20260426T060323
CREATED:20240925T052245Z
LAST-MODIFIED:20240925T052247Z
UID:28224-1727622000-1727629200@nicolejohnston.com.au
SUMMARY:Yeronga | Yeronga Bushcare Group Working Bee
DESCRIPTION:Activities which are aimed at preparing the site for summer will include planting\, watering\, mulching and weeding.
URL:https://nicolejohnston.com.au/event/yeronga-yeronga-bushcare-group-working-bee/
LOCATION:Brisbane Corso Park\, 323 Brisbane Corso\, Yeronga\, QLD\, 4104\, Australia
CATEGORIES:Community Event
ATTACH;FMTTYPE=image/jpeg:https://nicolejohnston.com.au/wp-content/uploads/2024/09/Yeronga-Bushcare.jpg
ORGANIZER;CN="Yeronga Bushcare Group":MAILTO:yfbc@googlegroups.com
END:VEVENT
BEGIN:VEVENT
DTSTART;TZID=Australia/Brisbane:20240930T091500
DTEND;TZID=Australia/Brisbane:20240930T094500
DTSTAMP:20260426T060323
CREATED:20240910T021835Z
LAST-MODIFIED:20240910T021835Z
UID:28195-1727687700-1727689500@nicolejohnston.com.au
SUMMARY:Annerley Library | First 5 Forever Toddler Time
DESCRIPTION:Meet other parents and toddlers for a fun session of singing\, clapping and dancing. Learn action rhymes and songs which will help your child’s pre-literacy\, communication\, language and social skills. Ideal for babies and toddlers aged 1-2 years.
URL:https://nicolejohnston.com.au/event/annerley-library-first-5-forever-toddler-time-9/
LOCATION:Annerley Library\, 469 Ipswich Rd\, Annerley\, Queensland\, 4103\, Australia
GEO:-27.5115338;153.0317863
X-APPLE-STRUCTURED-LOCATION;VALUE=URI;X-ADDRESS=Annerley Library 469 Ipswich Rd Annerley Queensland 4103 Australia;X-APPLE-RADIUS=500;X-TITLE=469 Ipswich Rd:geo:153.0317863,-27.5115338
END:VEVENT
BEGIN:VEVENT
DTSTART;TZID=Australia/Brisbane:20240930T110000
DTEND;TZID=Australia/Brisbane:20240930T113000
DTSTAMP:20260426T060323
CREATED:20240807T042436Z
LAST-MODIFIED:20240807T060903Z
UID:27656-1727694000-1727695800@nicolejohnston.com.au
SUMMARY:Annerley Library | First 5 Forever Children's Storytime
DESCRIPTION:Experience the magic of storytime with your child at the library. This interactive session includes stories\, songs and mark making activities for young children. Ideal for children aged 2-5 years. \nThe First 5 Forever initiative is funded by the Queensland Government.
URL:https://nicolejohnston.com.au/event/annerley-library-first-5-forever-childrens-storytime/2024-09-30/
LOCATION:Annerley Library\, 469 Ipswich Rd\, Annerley\, Queensland\, 4103\, Australia
GEO:-27.5115338;153.0317863
X-APPLE-STRUCTURED-LOCATION;VALUE=URI;X-ADDRESS=Annerley Library 469 Ipswich Rd Annerley Queensland 4103 Australia;X-APPLE-RADIUS=500;X-TITLE=469 Ipswich Rd:geo:153.0317863,-27.5115338
END:VEVENT
BEGIN:VEVENT
DTSTART;TZID=Australia/Brisbane:20241001T100000
DTEND;TZID=Australia/Brisbane:20241001T110000
DTSTAMP:20260426T060323
CREATED:20240820T020956Z
LAST-MODIFIED:20240820T020956Z
UID:27955-1727776800-1727780400@nicolejohnston.com.au
SUMMARY:Sherwood | GOLD Meditation and Relaxation
DESCRIPTION:Learn techniques and skills to assist with relaxation and relieve stress in daily life. No prior experience is required. \nThis is a GOLD event suitable for seniors. Bring an exercise mat and pillow. \nBookings essential. To book email Sherwood Neighbourhood Centre. For more information phone 3379 6963.
URL:https://nicolejohnston.com.au/event/sherwood-gold-meditation-and-relaxation/2024-10-01/
LOCATION:Sherwood Neighbourhood Centre\, 38 Thallon Street\, Sherwood\, Queensland\, 4075\, Australia
GEO:-27.53402;152.981098
X-APPLE-STRUCTURED-LOCATION;VALUE=URI;X-ADDRESS=Sherwood Neighbourhood Centre 38 Thallon Street Sherwood Queensland 4075 Australia;X-APPLE-RADIUS=500;X-TITLE=38 Thallon Street:geo:152.981098,-27.53402
END:VEVENT
BEGIN:VEVENT
DTSTART;TZID=Australia/Brisbane:20241002T083000
DTEND;TZID=Australia/Brisbane:20241002T093000
DTSTAMP:20260426T060323
CREATED:20240624T031622Z
LAST-MODIFIED:20240624T031622Z
UID:27485-1727857800-1727861400@nicolejohnston.com.au
SUMMARY:Yeronga | GOLD Yoga for Mobility
DESCRIPTION:A gentle movement class blended with yoga to improve your strength\, balance and posture. No floor work included. Suitable for all fitness levels. Bring an exercise band. \nNo bookings required. For more information phone Cassie from Foxinsox Yoga on 0431 594 388.
URL:https://nicolejohnston.com.au/event/yeronga-gold-yoga-for-mobility/2024-10-02/
LOCATION:John Walker Place\, 323 Brisbane Corso\, Yeronga\, QLD\, 4104\, Australia
END:VEVENT
BEGIN:VEVENT
DTSTART;TZID=Australia/Brisbane:20241002T091500
DTEND;TZID=Australia/Brisbane:20241002T094500
DTSTAMP:20260426T060323
CREATED:20240909T041849Z
LAST-MODIFIED:20240909T044008Z
UID:28084-1727860500-1727862300@nicolejohnston.com.au
SUMMARY:Corinda Library | Toddler Time
DESCRIPTION:Meet other parents and toddlers for a fun session of singing\, clapping and dancing. Learn action rhymes and songs which will help your child’s pre-literacy\, communication\, language and social skills. Ideal for babies and toddlers aged 1-2 years.
URL:https://nicolejohnston.com.au/event/corinda-toddler-time-3/
LOCATION:Corinda Library\, 641 Oxley Road\, Corinda\, Queensland\, 4075\, Australia
GEO:-27.538881;152.98142
X-APPLE-STRUCTURED-LOCATION;VALUE=URI;X-ADDRESS=Corinda Library 641 Oxley Road Corinda Queensland 4075 Australia;X-APPLE-RADIUS=500;X-TITLE=641 Oxley Road:geo:152.98142,-27.538881
END:VEVENT
BEGIN:VEVENT
DTSTART;TZID=Australia/Brisbane:20241002T140000
DTEND;TZID=Australia/Brisbane:20241002T150000
DTSTAMP:20260426T060323
CREATED:20240820T020533Z
LAST-MODIFIED:20240820T021038Z
UID:27941-1727877600-1727881200@nicolejohnston.com.au
SUMMARY:Sherwood | GOLD Belly Dance
DESCRIPTION:Enjoy gentle dance focused on fitness\, co-ordination\, flexibility\, relaxation and fun. Belly dance provides physical\, emotional and psychological benefits. Suitable for all levels.  Bring a belly dance belt if you have one. \nThis is a GOLD event suitable for seniors. \nBookings essential. To book email Sherwood Neighbourhood Centre. For more information phone 3379 6963.
URL:https://nicolejohnston.com.au/event/sherwood-belly-dance-2/2024-10-02/
LOCATION:Sherwood Neighbourhood Centre\, 38 Thallon Street\, Sherwood\, Queensland\, 4075\, Australia
GEO:-27.53402;152.981098
X-APPLE-STRUCTURED-LOCATION;VALUE=URI;X-ADDRESS=Sherwood Neighbourhood Centre 38 Thallon Street Sherwood Queensland 4075 Australia;X-APPLE-RADIUS=500;X-TITLE=38 Thallon Street:geo:152.981098,-27.53402
END:VEVENT
BEGIN:VEVENT
DTSTART;TZID=Australia/Brisbane:20241003T090000
DTEND;TZID=Australia/Brisbane:20241003T100000
DTSTAMP:20260426T060323
CREATED:20240619T064304Z
LAST-MODIFIED:20240619T064304Z
UID:27428-1727946000-1727949600@nicolejohnston.com.au
SUMMARY:Sherwood | Tai Chi Qigong
DESCRIPTION:This dynamic activity is invigorating and will help you feel relaxed\, refreshed and calm. Rejuvenate your body and learn to create a tranquil mind. Join any week. \nFor more information phone Julia from Minds Ease on 0412 362 338.
URL:https://nicolejohnston.com.au/event/sherwood-tai-chi-qigong-2/2024-10-03/
LOCATION:Sherwood Arboretum\, 57 Dewar Terrace\, Sherwood\, Queensland\, 4075\, Australia
GEO:-27.532253;152.977305
X-APPLE-STRUCTURED-LOCATION;VALUE=URI;X-ADDRESS=Sherwood Arboretum 57 Dewar Terrace Sherwood Queensland 4075 Australia;X-APPLE-RADIUS=500;X-TITLE=57 Dewar Terrace:geo:152.977305,-27.532253
END:VEVENT
BEGIN:VEVENT
DTSTART;TZID=Australia/Brisbane:20241003T090000
DTEND;TZID=Australia/Brisbane:20241003T100000
DTSTAMP:20260426T060323
CREATED:20240624T030353Z
LAST-MODIFIED:20240624T030353Z
UID:27466-1727946000-1727949600@nicolejohnston.com.au
SUMMARY:Oxley | Mums and Bubs Yoga
DESCRIPTION:A mum and bubs yoga class to connect with yourself\, your baby and others. Designed to support you post-natally\, gentle stretching and strengthening practices\, breathing exercises\, meditation.
URL:https://nicolejohnston.com.au/event/oxley-mums-and-bubs-yoga-2/2024-10-03/
LOCATION:Nixon Park\, 929 Oxley Road\, OXLEY\, QLD\, 4075\, Australia
GEO:-27.552171;152.9789711
X-APPLE-STRUCTURED-LOCATION;VALUE=URI;X-ADDRESS=Nixon Park 929 Oxley Road OXLEY QLD 4075 Australia;X-APPLE-RADIUS=500;X-TITLE=929 Oxley Road:geo:152.9789711,-27.552171
END:VEVENT
BEGIN:VEVENT
DTSTART;TZID=Australia/Brisbane:20241003T130000
DTEND;TZID=Australia/Brisbane:20241003T140000
DTSTAMP:20260426T060323
CREATED:20240624T044757Z
LAST-MODIFIED:20240624T044757Z
UID:27518-1727960400-1727964000@nicolejohnston.com.au
SUMMARY:Corinda | Aqua Yoga
DESCRIPTION:This is a low impact form of exercise that supports the body while still providing function and movement. Many yoga poses that you do in a class can be adapted for the pool\, sometimes using the pool walls as if it were the studio floor. \nNo bookings required. For more information phone Nichola on 0406 574 454.
URL:https://nicolejohnston.com.au/event/corinda-aqua-yoga-4/2024-10-03/
LOCATION:Dunlop Park Memorial Pool\, 794 Oxley Rd\, Corinda\, Qld\, 4075\, Australia
GEO:-27.5473096;152.9806407
X-APPLE-STRUCTURED-LOCATION;VALUE=URI;X-ADDRESS=Dunlop Park Memorial Pool 794 Oxley Rd Corinda Qld 4075 Australia;X-APPLE-RADIUS=500;X-TITLE=794 Oxley Rd:geo:152.9806407,-27.5473096
END:VEVENT
BEGIN:VEVENT
DTSTART;TZID=Australia/Brisbane:20241004T091500
DTEND;TZID=Australia/Brisbane:20241004T094500
DTSTAMP:20260426T060323
CREATED:20240909T042002Z
LAST-MODIFIED:20240909T044040Z
UID:28086-1728033300-1728035100@nicolejohnston.com.au
SUMMARY:Corinda Library | Babies\, Books and Rhymes
DESCRIPTION:Meet other parents and babies for a fun session of singing\, clapping and dancing. Learn songs and action rhymes to nurture your baby’s pre-literacy\, communication\, language and social skills. Ideal for babies aged up to one year.
URL:https://nicolejohnston.com.au/event/corinda-babies-books-and-rhymes-2/
LOCATION:Corinda Library\, 641 Oxley Road\, Corinda\, Queensland\, 4075\, Australia
GEO:-27.538881;152.98142
X-APPLE-STRUCTURED-LOCATION;VALUE=URI;X-ADDRESS=Corinda Library 641 Oxley Road Corinda Queensland 4075 Australia;X-APPLE-RADIUS=500;X-TITLE=641 Oxley Road:geo:152.98142,-27.538881
END:VEVENT
BEGIN:VEVENT
DTSTART;TZID=Australia/Brisbane:20241004T091500
DTEND;TZID=Australia/Brisbane:20241004T094500
DTSTAMP:20260426T060323
CREATED:20240909T042107Z
LAST-MODIFIED:20240909T044038Z
UID:28088-1728033300-1728035100@nicolejohnston.com.au
SUMMARY:Annerley Library | Babies\, Books and Rhymes
DESCRIPTION:Meet other parents and babies for a fun session of singing\, clapping and dancing. Learn songs and action rhymes to nurture your baby’s pre-literacy\, communication\, language and social skills. Ideal for babies aged up to one year.
URL:https://nicolejohnston.com.au/event/annerley-babies-books-and-rhymes-2/
LOCATION:Annerley Library\, 469 Ipswich Rd\, Annerley\, Queensland\, 4103\, Australia
GEO:-27.5115338;153.0317863
X-APPLE-STRUCTURED-LOCATION;VALUE=URI;X-ADDRESS=Annerley Library 469 Ipswich Rd Annerley Queensland 4103 Australia;X-APPLE-RADIUS=500;X-TITLE=469 Ipswich Rd:geo:153.0317863,-27.5115338
END:VEVENT
BEGIN:VEVENT
DTSTART;TZID=Australia/Brisbane:20241005T070000
DTEND;TZID=Australia/Brisbane:20241005T080000
DTSTAMP:20260426T060323
CREATED:20240619T063747Z
LAST-MODIFIED:20240619T063747Z
UID:27409-1728111600-1728115200@nicolejohnston.com.au
SUMMARY:Annerley | Yoga
DESCRIPTION:Focus on a range of movements to relax the mind and body. Stretching\, breathing\, strength and balance exercises are included by incorporating standing poses and mat work into the session. \nFor more information phone Deanna from Yoga Mind Body Brisbane on 0401 247 328. \nBring an exercise mat\, towel\, two blocks and a yoga strap if you have them.
URL:https://nicolejohnston.com.au/event/annerley-yoga-6/2024-10-05/
LOCATION:Vallely St Park\, 51 Vallely Street\, Annerley\, QLD\, 4103\, Australia
END:VEVENT
BEGIN:VEVENT
DTSTART;TZID=Australia/Brisbane:20241005T104500
DTEND;TZID=Australia/Brisbane:20241005T113000
DTSTAMP:20260426T060323
CREATED:20240820T014540Z
LAST-MODIFIED:20240820T014541Z
UID:27903-1728125100-1728127800@nicolejohnston.com.au
SUMMARY:Yeronga | Aqua Aerobics
DESCRIPTION:Experience an excellent\, low-impact cross-training workout in the water. Feel the benefits of exercise without the pain. Using minimum impact movements\, participants will develop strength\, mobility and movement in a fun environment. This class will be conducted in the outdoor 25m/50m pool.
URL:https://nicolejohnston.com.au/event/yeronga-aqua-aerobics-3/2024-10-05/
LOCATION:Yeronga Park Pool\, 81 School Rd\, Yeronga\, Qld\, 4104\, Australia
ORGANIZER;CN="Aqua English":MAILTO:info@aquaenglish.com.au
GEO:-27.5210935;153.019099
X-APPLE-STRUCTURED-LOCATION;VALUE=URI;X-ADDRESS=Yeronga Park Pool 81 School Rd Yeronga Qld 4104 Australia;X-APPLE-RADIUS=500;X-TITLE=81 School Rd:geo:153.019099,-27.5210935
END:VEVENT
BEGIN:VEVENT
DTSTART;TZID=Australia/Brisbane:20241005T110000
DTEND;TZID=Australia/Brisbane:20241005T113000
DTSTAMP:20260426T060323
CREATED:20240909T042421Z
LAST-MODIFIED:20240909T042421Z
UID:28090-1728126000-1728127800@nicolejohnston.com.au
SUMMARY:Annerley | Family STEAM Morning
DESCRIPTION:Join us for a morning of games and activities exploring science\, technology\, reading and art. Enjoy different activities to challenge your thinking and bring out your creative side in a fun environment. Ideal for all ages. \nBookings required. Phone Annerley Library on 07 3403 1735 to reserve your place.
URL:https://nicolejohnston.com.au/event/annerley-family-steam-morning-2/
LOCATION:Annerley Library\, 469 Ipswich Rd\, Annerley\, Queensland\, 4103\, Australia
GEO:-27.5115338;153.0317863
X-APPLE-STRUCTURED-LOCATION;VALUE=URI;X-ADDRESS=Annerley Library 469 Ipswich Rd Annerley Queensland 4103 Australia;X-APPLE-RADIUS=500;X-TITLE=469 Ipswich Rd:geo:153.0317863,-27.5115338
END:VEVENT
END:VCALENDAR