BEGIN:VCALENDAR
VERSION:2.0
PRODID:-//Nicole Johnston - ECPv6.15.20//NONSGML v1.0//EN
CALSCALE:GREGORIAN
METHOD:PUBLISH
X-WR-CALNAME:Nicole Johnston
X-ORIGINAL-URL:https://nicolejohnston.com.au
X-WR-CALDESC:Events for Nicole Johnston
REFRESH-INTERVAL;VALUE=DURATION:PT1H
X-Robots-Tag:noindex
X-PUBLISHED-TTL:PT1H
BEGIN:VTIMEZONE
TZID:Australia/Brisbane
BEGIN:STANDARD
TZOFFSETFROM:+1000
TZOFFSETTO:+1000
TZNAME:AEST
DTSTART:20180101T000000
END:STANDARD
END:VTIMEZONE
BEGIN:VEVENT
DTSTART;TZID=Australia/Brisbane:20191008T090000
DTEND;TZID=Australia/Brisbane:20191008T100000
DTSTAMP:20260426T000432
CREATED:20191002T002742Z
LAST-MODIFIED:20191002T002742Z
UID:19599-1570525200-1570528800@nicolejohnston.com.au
SUMMARY:Corinda Library | BYOB (Bring your own baby) book club
DESCRIPTION:Do you care for a child under four and love to read books? BYOB book club is a baby-friendly book club for parents and caregivers who are interested in joining a book club without having to organise a babysitter. Discuss great books in good company. Call the library for more details. \n\n\n\nBookings\n\nBookings required. Phone Corinda Library on 07 3407 7701 to reserve your place.
URL:https://nicolejohnston.com.au/event/corinda-library-byob-bring-your-own-baby-book-club/
LOCATION:Corinda Library\, 641 Oxley Road\, Corinda\, Queensland\, 4075\, Australia
GEO:-27.538881;152.98142
X-APPLE-STRUCTURED-LOCATION;VALUE=URI;X-ADDRESS=Corinda Library 641 Oxley Road Corinda Queensland 4075 Australia;X-APPLE-RADIUS=500;X-TITLE=641 Oxley Road:geo:152.98142,-27.538881
END:VEVENT
BEGIN:VEVENT
DTSTART;TZID=Australia/Brisbane:20191008T103000
DTEND;TZID=Australia/Brisbane:20191008T123000
DTSTAMP:20260426T000432
CREATED:20190915T234557Z
LAST-MODIFIED:20190915T234557Z
UID:19488-1570530600-1570537800@nicolejohnston.com.au
SUMMARY:Yeronga | Tenant Trivia!
DESCRIPTION:
URL:https://nicolejohnston.com.au/event/yeronga-tenant-trivia/
LOCATION:Yeronga Community Centre\, 62 Park Rd\, Yeronga\, Queensland\, 4103\, Australia
GEO:-27.5178214;153.0308084
X-APPLE-STRUCTURED-LOCATION;VALUE=URI;X-ADDRESS=Yeronga Community Centre 62 Park Rd Yeronga Queensland 4103 Australia;X-APPLE-RADIUS=500;X-TITLE=62 Park Rd:geo:153.0308084,-27.5178214
END:VEVENT
BEGIN:VEVENT
DTSTART;TZID=Australia/Brisbane:20191009T110000
DTEND;TZID=Australia/Brisbane:20191009T123000
DTSTAMP:20260426T000432
CREATED:20191002T003524Z
LAST-MODIFIED:20191002T003524Z
UID:19601-1570618800-1570624200@nicolejohnston.com.au
SUMMARY:Corinda Library | Computer skills one
DESCRIPTION:Learn how to use the keyboard and mouse\, and find your way around a Windows computer.  Perfect for the first time user. \nA Brisbane Libraries Tech Connect workshop. \n\n\n\nBookings\n\nBookings required. Phone Corinda Library on 07 3407 7701 to reser
URL:https://nicolejohnston.com.au/event/corinda-library-computer-skills-one/
LOCATION:Corinda Library\, 641 Oxley Road\, Corinda\, Queensland\, 4075\, Australia
GEO:-27.538881;152.98142
X-APPLE-STRUCTURED-LOCATION;VALUE=URI;X-ADDRESS=Corinda Library 641 Oxley Road Corinda Queensland 4075 Australia;X-APPLE-RADIUS=500;X-TITLE=641 Oxley Road:geo:152.98142,-27.538881
END:VEVENT
BEGIN:VEVENT
DTSTART;TZID=Australia/Brisbane:20191009T130000
DTEND;TZID=Australia/Brisbane:20191009T150000
DTSTAMP:20260426T000432
CREATED:20191002T052331Z
LAST-MODIFIED:20191002T052331Z
UID:19644-1570626000-1570633200@nicolejohnston.com.au
SUMMARY:Sherwood | Mental Health Day
DESCRIPTION:
URL:https://nicolejohnston.com.au/event/sherwood-mental-health-day/
LOCATION:Sherwood Neighbourhood Centre\, 38 Thallon Street\, Sherwood\, Queensland\, 4075\, Australia
GEO:-27.53402;152.981098
X-APPLE-STRUCTURED-LOCATION;VALUE=URI;X-ADDRESS=Sherwood Neighbourhood Centre 38 Thallon Street Sherwood Queensland 4075 Australia;X-APPLE-RADIUS=500;X-TITLE=38 Thallon Street:geo:152.981098,-27.53402
END:VEVENT
BEGIN:VEVENT
DTSTART;TZID=Australia/Brisbane:20191009T133000
DTEND;TZID=Australia/Brisbane:20191009T143000
DTSTAMP:20260426T000432
CREATED:20191002T003615Z
LAST-MODIFIED:20191002T003615Z
UID:19603-1570627800-1570631400@nicolejohnston.com.au
SUMMARY:Corinda Library | Meet Kim Hodges
DESCRIPTION:When Kim Hodges’ psychologists suggests she has depression\, she immediately recoils from the idea. She is a mother\, a wife\, an academic – a functional human being! But it is the only diagnosis that explains the days she can barely lift her heavy limbs out of bed\, the sick feeling that moves its way across her body and brain\, the isolation\, alcohol use\, the colour that evaporated and left her world grey. \nWhat follows is a five-year journey that involves six lengthy hospital stays\, multiple trips to the Emergency Department\, innumerable engagements with health professionals\, and eventually\, the ability for Kim to overcome the denial\, shame and stigma she feels about mental illness to begin her road to recovery. \nRaw\, honest and confronting\, join Kim Hodges as she discusses her latest book Girl Over the Edge. \nBooks will be available for purchase on the day\, or bring your copy from home for Kim to sign. To reserve your place\, visit Eventbrite\, or phone the library. \n\n\n\nBookings\n\nBookings required. Phone Corinda Library on 07 3407 7701 to reserve your place.
URL:https://nicolejohnston.com.au/event/corinda-library-meet-kim-hodges/
LOCATION:Corinda Library\, 641 Oxley Road\, Corinda\, Queensland\, 4075\, Australia
GEO:-27.538881;152.98142
X-APPLE-STRUCTURED-LOCATION;VALUE=URI;X-ADDRESS=Corinda Library 641 Oxley Road Corinda Queensland 4075 Australia;X-APPLE-RADIUS=500;X-TITLE=641 Oxley Road:geo:152.98142,-27.538881
END:VEVENT
BEGIN:VEVENT
DTSTART;TZID=Australia/Brisbane:20191011T140000
DTEND;TZID=Australia/Brisbane:20191011T153000
DTSTAMP:20260426T000432
CREATED:20191002T015200Z
LAST-MODIFIED:20191002T015200Z
UID:19631-1570802400-1570807800@nicolejohnston.com.au
SUMMARY:Fairfield Library | Computer skills one
DESCRIPTION:Learn how to use the keyboard and mouse\, and find your way around a Windows computer. Perfect for the first time user. \nA Brisbane Libraries Tech Connect workshop. \n\n\n\nBookings\n\nBookings required. Phone Fairfield Library on 07 3403 8615 to reserve your place.
URL:https://nicolejohnston.com.au/event/fairfield-library-computer-skills-one/
LOCATION:Fairfield Library\, Fairfield Gardens\, 180 Fairfield Rd\, Fairfield\, Queensland\, 4103\, Australia
GEO:-27.508752;153.025501
X-APPLE-STRUCTURED-LOCATION;VALUE=URI;X-ADDRESS=Fairfield Library Fairfield Gardens 180 Fairfield Rd Fairfield Queensland 4103 Australia;X-APPLE-RADIUS=500;X-TITLE=Fairfield Gardens\, 180 Fairfield Rd:geo:153.025501,-27.508752
END:VEVENT
BEGIN:VEVENT
DTSTART;TZID=Australia/Brisbane:20191012T080000
DTEND;TZID=Australia/Brisbane:20191013T170000
DTSTAMP:20260426T000432
CREATED:20190916T044512Z
LAST-MODIFIED:20190916T044512Z
UID:19496-1570867200-1570986000@nicolejohnston.com.au
SUMMARY:Sherwood-Chelmer Bushcare Open Day
DESCRIPTION:
URL:https://nicolejohnston.com.au/event/sherwood-chelmer-bushcare-open-day/
LOCATION:Queensland
END:VEVENT
BEGIN:VEVENT
DTSTART;TZID=Australia/Brisbane:20191012T080000
DTEND;TZID=Australia/Brisbane:20191013T170000
DTSTAMP:20260426T000432
CREATED:20190927T070637Z
LAST-MODIFIED:20190927T070637Z
UID:19579-1570867200-1570986000@nicolejohnston.com.au
SUMMARY:Bushcare Celebration Day
DESCRIPTION:  \n  \n  \n  \n  \n  \n  \n  \n  \n  \n  \n  \n  \n  \n  \n  \n  \n  \n  \n  \n  \n  \n  \n  \n  \n 
URL:https://nicolejohnston.com.au/event/bushcare-celebration-day/
LOCATION:Queensland
END:VEVENT
BEGIN:VEVENT
DTSTART;TZID=Australia/Brisbane:20191012T110000
DTEND;TZID=Australia/Brisbane:20191012T190000
DTSTAMP:20260426T000432
CREATED:20190923T005654Z
LAST-MODIFIED:20190929T091151Z
UID:19551-1570878000-1570906800@nicolejohnston.com.au
SUMMARY:St Sebastian's Primary School Fete
DESCRIPTION:
URL:https://nicolejohnston.com.au/event/st-sebastians-primary-school-fete-2/
LOCATION:St Sebastian’s School\, Kadumba Street\, Yeronga\, Queensland\, 4104\, Australia
GEO:-27.515171;153.0119597
X-APPLE-STRUCTURED-LOCATION;VALUE=URI;X-ADDRESS=St Sebastian’s School Kadumba Street Yeronga Queensland 4104 Australia;X-APPLE-RADIUS=500;X-TITLE=Kadumba Street:geo:153.0119597,-27.515171
END:VEVENT
BEGIN:VEVENT
DTSTART;TZID=Australia/Brisbane:20191015T103000
DTEND;TZID=Australia/Brisbane:20191015T120000
DTSTAMP:20260426T000432
CREATED:20191002T012607Z
LAST-MODIFIED:20191002T012607Z
UID:19617-1571135400-1571140800@nicolejohnston.com.au
SUMMARY:Annerley Library | Social media basics
DESCRIPTION:Learn about popular social media sites including Facebook\, Twitter\, Pinterest\, Tumblr and Instagram. Discover how these websites help you to connect with family\, friends and organisations online. Basic computer and internet skills required. \nA Brisbane Libraries Tech Connect workshop. \n\n\n\nBookings\n\nBookings required. Phone Annerley Library on 07 3403 1735 to reserve your place.
URL:https://nicolejohnston.com.au/event/annerley-library-social-media-basics/
LOCATION:Annerley Library\, 469 Ipswich Rd\, Annerley\, Queensland\, 4103\, Australia
GEO:-27.5115338;153.0317863
X-APPLE-STRUCTURED-LOCATION;VALUE=URI;X-ADDRESS=Annerley Library 469 Ipswich Rd Annerley Queensland 4103 Australia;X-APPLE-RADIUS=500;X-TITLE=469 Ipswich Rd:geo:153.0317863,-27.5115338
END:VEVENT
BEGIN:VEVENT
DTSTART;TZID=Australia/Brisbane:20191016T110000
DTEND;TZID=Australia/Brisbane:20191016T123000
DTSTAMP:20260426T000432
CREATED:20191002T004010Z
LAST-MODIFIED:20191002T004010Z
UID:19607-1571223600-1571229000@nicolejohnston.com.au
SUMMARY:Corinda | Computer skills two
DESCRIPTION:Now that you know how to use a keyboard and mouse\, build on your skills by learning how to create basic Word documents\, find useful programs\, and manage files and folders on a Windows computer. \nA Brisbane Libraries Tech Connect workshop. \n\n\n\nBookings\n\nBookings required. Phone Corinda Library on 07 3407 7701 to reserve your place.
URL:https://nicolejohnston.com.au/event/corinda-computer-skills-two-2/
LOCATION:Corinda Library\, 641 Oxley Road\, Corinda\, Queensland\, 4075\, Australia
GEO:-27.538881;152.98142
X-APPLE-STRUCTURED-LOCATION;VALUE=URI;X-ADDRESS=Corinda Library 641 Oxley Road Corinda Queensland 4075 Australia;X-APPLE-RADIUS=500;X-TITLE=641 Oxley Road:geo:152.98142,-27.538881
END:VEVENT
BEGIN:VEVENT
DTSTART;TZID=Australia/Brisbane:20191017T180000
DTEND;TZID=Australia/Brisbane:20191017T190000
DTSTAMP:20260426T000432
CREATED:20191002T015541Z
LAST-MODIFIED:20191002T015541Z
UID:19633-1571335200-1571338800@nicolejohnston.com.au
SUMMARY:Fairfield | Evening book club
DESCRIPTION:In October\, read and discuss Shell by Kristina Olsson. New members welcome \n\n\n\nBookings\n\nNot required.
URL:https://nicolejohnston.com.au/event/fairfield-evening-book-club-9/
LOCATION:Fairfield Library\, Fairfield Gardens\, 180 Fairfield Rd\, Fairfield\, Queensland\, 4103\, Australia
GEO:-27.508752;153.025501
X-APPLE-STRUCTURED-LOCATION;VALUE=URI;X-ADDRESS=Fairfield Library Fairfield Gardens 180 Fairfield Rd Fairfield Queensland 4103 Australia;X-APPLE-RADIUS=500;X-TITLE=Fairfield Gardens\, 180 Fairfield Rd:geo:153.025501,-27.508752
END:VEVENT
BEGIN:VEVENT
DTSTART;TZID=Australia/Brisbane:20191018T140000
DTEND;TZID=Australia/Brisbane:20191018T153000
DTSTAMP:20260426T000432
CREATED:20191002T015636Z
LAST-MODIFIED:20191002T015636Z
UID:19635-1571407200-1571412600@nicolejohnston.com.au
SUMMARY:Fairfield Library | Computer skills two
DESCRIPTION:Now that you know how to use a keyboard and mouse\, build on your skills by learning how to create basic Word documents\, find useful programs\, and manage files and folders on a Windows computer. \nA Brisbane Libraries Tech Connect workshop. \n\n\n\nBookings\n\nBookings required. Phone Fairfield Library on 07 3403 8615 to reserve your place.
URL:https://nicolejohnston.com.au/event/fairfield-library-computer-skills-two/
LOCATION:Fairfield Library\, Fairfield Gardens\, 180 Fairfield Rd\, Fairfield\, Queensland\, 4103\, Australia
GEO:-27.508752;153.025501
X-APPLE-STRUCTURED-LOCATION;VALUE=URI;X-ADDRESS=Fairfield Library Fairfield Gardens 180 Fairfield Rd Fairfield Queensland 4103 Australia;X-APPLE-RADIUS=500;X-TITLE=Fairfield Gardens\, 180 Fairfield Rd:geo:153.025501,-27.508752
END:VEVENT
BEGIN:VEVENT
DTSTART;TZID=Australia/Brisbane:20191019T100000
DTEND;TZID=Australia/Brisbane:20191019T120000
DTSTAMP:20260426T000432
CREATED:20190923T010205Z
LAST-MODIFIED:20190923T010205Z
UID:19554-1571479200-1571486400@nicolejohnston.com.au
SUMMARY:Annerley Community Bookshop Reunion
DESCRIPTION:
URL:https://nicolejohnston.com.au/event/annerley-community-bookshop-reunion/
LOCATION:Braille House\, 507 Ipswich Rd\, Annerley\, Qld\, 4103
END:VEVENT
BEGIN:VEVENT
DTSTART;TZID=Australia/Brisbane:20191019T130000
DTEND;TZID=Australia/Brisbane:20191019T150000
DTSTAMP:20260426T000432
CREATED:20191002T004231Z
LAST-MODIFIED:20191002T004231Z
UID:19609-1571490000-1571497200@nicolejohnston.com.au
SUMMARY:Corinda Library | Beginners guide to fruit trees
DESCRIPTION:The secret to a bumper harvest of fruit is all about P-R-O-D-U-C-E. This workshop provides all the necessary beginner tips and tricks to get your garden bursting with fruit year round. Presented by Paul Plant\, Registered Horticulturist. \n\n\n\nBookings\n\nBookings required. Phone Corinda Library on 07 3407 7701 to reserve your place.
URL:https://nicolejohnston.com.au/event/corinda-library-beginners-guide-to-fruit-trees/
LOCATION:Corinda Library\, 641 Oxley Road\, Corinda\, Queensland\, 4075\, Australia
GEO:-27.538881;152.98142
X-APPLE-STRUCTURED-LOCATION;VALUE=URI;X-ADDRESS=Corinda Library 641 Oxley Road Corinda Queensland 4075 Australia;X-APPLE-RADIUS=500;X-TITLE=641 Oxley Road:geo:152.98142,-27.538881
END:VEVENT
BEGIN:VEVENT
DTSTART;TZID=Australia/Brisbane:20191022T103000
DTEND;TZID=Australia/Brisbane:20191022T113000
DTSTAMP:20260426T000432
CREATED:20191002T004407Z
LAST-MODIFIED:20191002T004407Z
UID:19611-1571740200-1571743800@nicolejohnston.com.au
SUMMARY:Corinda Library | Meet Duncan Richardson
DESCRIPTION:On the morning of January 28th 1919\, a trainload of Queenslanders pulled into Tenterfield\, to be told they could travel no further. The border was closed because of the flu outbreak in Sydney and they were quarantined for at least a week. Squashed into every available billet in town\, they waiting while more trains arrived from the South\, extending the quarantined period indefinitely. How they and the locals coped while governments dithered and bickered makes a fascinating and often amusing story. \nJoin Duncan as he discusses his latest book Captives of the Spanish Lady: 700 Queensland in Quarantine – Tenterfield 1919. \nBooks will be available for purchase on the day\, or bring your copy from home for Duncan to sign. To reserve your place\, visit Eventbrite\, or phone the library. \n\n\n\nBookings\n\nBookings required. Phone Corinda Library on 07 3407 7701 to reserve your place.
URL:https://nicolejohnston.com.au/event/corinda-library-meet-duncan-richardson/
LOCATION:Corinda Library\, 641 Oxley Road\, Corinda\, Queensland\, 4075\, Australia
GEO:-27.538881;152.98142
X-APPLE-STRUCTURED-LOCATION;VALUE=URI;X-ADDRESS=Corinda Library 641 Oxley Road Corinda Queensland 4075 Australia;X-APPLE-RADIUS=500;X-TITLE=641 Oxley Road:geo:152.98142,-27.538881
END:VEVENT
BEGIN:VEVENT
DTSTART;TZID=Australia/Brisbane:20191022T103000
DTEND;TZID=Australia/Brisbane:20191022T120000
DTSTAMP:20260426T000432
CREATED:20191002T013024Z
LAST-MODIFIED:20191002T013024Z
UID:19619-1571740200-1571745600@nicolejohnston.com.au
SUMMARY:Annerley Library | Facebook basics
DESCRIPTION:Learn how to create your own Facebook account to connect with family\, friends and your favourite organisations. Discover basic navigation skills and how to manage your privacy settings. Basic computer skills\, internet skills and an email account are required. \nA Brisbane Libraries Tech Connect workshop. \n\n\n\nBookings\n\nBookings required. Phone Annerley Library on 07 3403 1735 to reserve your place.
URL:https://nicolejohnston.com.au/event/annerley-library-facebook-basics/
LOCATION:Queensland
END:VEVENT
BEGIN:VEVENT
DTSTART;TZID=Australia/Brisbane:20191022T103000
DTEND;TZID=Australia/Brisbane:20191022T120000
DTSTAMP:20260426T000432
CREATED:20191002T014453Z
LAST-MODIFIED:20191002T014453Z
UID:19621-1571740200-1571745600@nicolejohnston.com.au
SUMMARY:Annerley Library | Facebook basics
DESCRIPTION:Learn how to create your own Facebook account to connect with family\, friends and your favourite organisations. Discover basic navigation skills and how to manage your privacy settings. Basic computer skills\, internet skills and an email account are required. \nA Brisbane Libraries Tech Connect workshop. \n\n\n\nBookings\n\nBookings required. Phone Annerley Library on 07 3403 1735 to reserve your place.
URL:https://nicolejohnston.com.au/event/annerley-library-facebook-basics-2/
LOCATION:Annerley Library\, 469 Ipswich Rd\, Annerley\, Queensland\, 4103\, Australia
GEO:-27.5115338;153.0317863
X-APPLE-STRUCTURED-LOCATION;VALUE=URI;X-ADDRESS=Annerley Library 469 Ipswich Rd Annerley Queensland 4103 Australia;X-APPLE-RADIUS=500;X-TITLE=469 Ipswich Rd:geo:153.0317863,-27.5115338
END:VEVENT
BEGIN:VEVENT
DTSTART;TZID=Australia/Brisbane:20191023T110000
DTEND;TZID=Australia/Brisbane:20191023T123000
DTSTAMP:20260426T000432
CREATED:20191002T004743Z
LAST-MODIFIED:20191002T004743Z
UID:19613-1571828400-1571833800@nicolejohnston.com.au
SUMMARY:Corinda Library | Internet skills one
DESCRIPTION:Learn how to find your way around the internet safely\, save your favourite websites\, search for information and use Google to help you find answers.  Basic computer skills are required. \nA Brisbane Libraries Tech Connect workshop. \n\n\n\nBookings\n\nBookings required. Phone Corinda Library on 07 3407 7701 to reserve your place.
URL:https://nicolejohnston.com.au/event/corinda-library-internet-skills-one/
LOCATION:Corinda Library\, 641 Oxley Road\, Corinda\, Queensland\, 4075\, Australia
GEO:-27.538881;152.98142
X-APPLE-STRUCTURED-LOCATION;VALUE=URI;X-ADDRESS=Corinda Library 641 Oxley Road Corinda Queensland 4075 Australia;X-APPLE-RADIUS=500;X-TITLE=641 Oxley Road:geo:152.98142,-27.538881
END:VEVENT
BEGIN:VEVENT
DTSTART;TZID=Australia/Brisbane:20191023T130000
DTEND;TZID=Australia/Brisbane:20191023T140000
DTSTAMP:20260426T000432
CREATED:20191002T015729Z
LAST-MODIFIED:20191002T015729Z
UID:19637-1571835600-1571839200@nicolejohnston.com.au
SUMMARY:Fairfield Library | Book chat
DESCRIPTION:In October\, read and discuss The Fifth Letter by Nicola Moriarty. New members welcome \n\n\n\nBookings\n\nNot required.
URL:https://nicolejohnston.com.au/event/fairfield-library-book-chat/
LOCATION:Fairfield Library\, Fairfield Gardens\, 180 Fairfield Rd\, Fairfield\, Queensland\, 4103\, Australia
GEO:-27.508752;153.025501
X-APPLE-STRUCTURED-LOCATION;VALUE=URI;X-ADDRESS=Fairfield Library Fairfield Gardens 180 Fairfield Rd Fairfield Queensland 4103 Australia;X-APPLE-RADIUS=500;X-TITLE=Fairfield Gardens\, 180 Fairfield Rd:geo:153.025501,-27.508752
END:VEVENT
BEGIN:VEVENT
DTSTART;TZID=Australia/Brisbane:20191025T140000
DTEND;TZID=Australia/Brisbane:20191025T153000
DTSTAMP:20260426T000432
CREATED:20191002T015815Z
LAST-MODIFIED:20191002T015815Z
UID:19639-1572012000-1572017400@nicolejohnston.com.au
SUMMARY:Fairfield Library | Internet skills one
DESCRIPTION:Learn how to find your way around the internet safely\, save your favourite websites\, search for information and use Google to help you find answers. Basic computer skills are required. \nA Brisbane Libraries Tech Connect workshop. \n\n\n\nBookings\n\nBookings required. Phone Fairfield Library on 07 3403 8615 to reserve your place.
URL:https://nicolejohnston.com.au/event/fairfield-library-internet-skills-one/
LOCATION:Fairfield Library\, Fairfield Gardens\, 180 Fairfield Rd\, Fairfield\, Queensland\, 4103\, Australia
GEO:-27.508752;153.025501
X-APPLE-STRUCTURED-LOCATION;VALUE=URI;X-ADDRESS=Fairfield Library Fairfield Gardens 180 Fairfield Rd Fairfield Queensland 4103 Australia;X-APPLE-RADIUS=500;X-TITLE=Fairfield Gardens\, 180 Fairfield Rd:geo:153.025501,-27.508752
END:VEVENT
BEGIN:VEVENT
DTSTART;TZID=Australia/Brisbane:20191026T103000
DTEND;TZID=Australia/Brisbane:20191026T114500
DTSTAMP:20260426T000432
CREATED:20191002T014705Z
LAST-MODIFIED:20191002T014705Z
UID:19623-1572085800-1572090300@nicolejohnston.com.au
SUMMARY:Annerley Library | Fool proof vegetables
DESCRIPTION:Do you have trouble with tomatoes\, do your carrots curl\, are your Brussel sprouts just not sprouting? There are easier ways to grow the tastiest and most delicious vegies that just won’t disappoint. It’s a matter of growing the right plants for the right season\, and getting the growing conditions right from the start. Linda Brennan from Ecobotanica will let you into the secrets of terrific tropical crops that taste great and don’t cause disappointments. Participants\, please bring a bag or small shoe box to take home your starter plants. \n\n\n\nBookings\n\nBookings required. Phone Annerley Library on 07 3403 1735 to reserve your place.
URL:https://nicolejohnston.com.au/event/annerley-library-fool-proof-vegetables/
LOCATION:Annerley Library\, 469 Ipswich Rd\, Annerley\, Queensland\, 4103\, Australia
GEO:-27.5115338;153.0317863
X-APPLE-STRUCTURED-LOCATION;VALUE=URI;X-ADDRESS=Annerley Library 469 Ipswich Rd Annerley Queensland 4103 Australia;X-APPLE-RADIUS=500;X-TITLE=469 Ipswich Rd:geo:153.0317863,-27.5115338
END:VEVENT
BEGIN:VEVENT
DTSTART;TZID=Australia/Brisbane:20191026T140000
DTEND;TZID=Australia/Brisbane:20191026T160000
DTSTAMP:20260426T000432
CREATED:20190722T023055Z
LAST-MODIFIED:20190722T023055Z
UID:19150-1572098400-1572105600@nicolejohnston.com.au
SUMMARY:Annual Designer Rummage Sale - Women's Legal Service
DESCRIPTION:
URL:https://nicolejohnston.com.au/event/annual-designer-rummage-sale-womens-legal-service/
LOCATION:Princess Theatre\, 8 Annerley Rd\, Woolloongabba\, Qld\, Australia
ORGANIZER;CN="Women's Legal Service":MAILTO:admin@wlsq.org.au
END:VEVENT
BEGIN:VEVENT
DTSTART;TZID=Australia/Brisbane:20191026T183000
DTEND;TZID=Australia/Brisbane:20191026T203000
DTSTAMP:20260426T000432
CREATED:20191007T234130Z
LAST-MODIFIED:20191007T234130Z
UID:19661-1572114600-1572121800@nicolejohnston.com.au
SUMMARY:Sherwood | St Matt's 150th Anniversary Trivia Night
DESCRIPTION:
URL:https://nicolejohnston.com.au/event/sherwood-st-matts-150th-anniversary-trivia-night/
LOCATION:St Matthew’s Anglican Church Sherwood\, 648-650 Sherwood Rd\, Sherwood\, Qld\, 4075\, Australia
END:VEVENT
BEGIN:VEVENT
DTSTART;TZID=Australia/Brisbane:20191029T103000
DTEND;TZID=Australia/Brisbane:20191029T120000
DTSTAMP:20260426T000432
CREATED:20191002T014758Z
LAST-MODIFIED:20191002T014758Z
UID:19625-1572345000-1572350400@nicolejohnston.com.au
SUMMARY:Annerley Library | Cloud basics
DESCRIPTION:Learn about the benefits of cloud storage and cloud computing. We will show you how to use online storage to store photos and documents for email\, and where to find free online software for common tasks such as word processing and photo editing. \nA Brisbane Libraries Tech Connect workshop. \n\n\n\nBookings\n\nBookings required. Phone Annerley Library on 07 3403 1735 to reserve your place.
URL:https://nicolejohnston.com.au/event/annerley-library-cloud-basics/
LOCATION:Annerley Library\, 469 Ipswich Rd\, Annerley\, Queensland\, 4103\, Australia
GEO:-27.5115338;153.0317863
X-APPLE-STRUCTURED-LOCATION;VALUE=URI;X-ADDRESS=Annerley Library 469 Ipswich Rd Annerley Queensland 4103 Australia;X-APPLE-RADIUS=500;X-TITLE=469 Ipswich Rd:geo:153.0317863,-27.5115338
END:VEVENT
BEGIN:VEVENT
DTSTART;TZID=Australia/Brisbane:20191030T110000
DTEND;TZID=Australia/Brisbane:20191030T123000
DTSTAMP:20260426T000432
CREATED:20191002T004829Z
LAST-MODIFIED:20191002T004829Z
UID:19615-1572433200-1572438600@nicolejohnston.com.au
SUMMARY:Corinda | Internet skills two
DESCRIPTION:Build on your basic internet skills by learning search strategies\, information evaluation techniques and exploring a range of interesting and useful online resources. Basic computer and internet skills are required. \nA Brisbane Libraries Tech Connect workshop. \n\n\n\nBookings\n\nBookings required. Phone Corinda Library on 07 3407 7701 to reserve your place.
URL:https://nicolejohnston.com.au/event/corinda-internet-skills-two-5/
LOCATION:Corinda Library\, 641 Oxley Road\, Corinda\, Queensland\, 4075\, Australia
GEO:-27.538881;152.98142
X-APPLE-STRUCTURED-LOCATION;VALUE=URI;X-ADDRESS=Corinda Library 641 Oxley Road Corinda Queensland 4075 Australia;X-APPLE-RADIUS=500;X-TITLE=641 Oxley Road:geo:152.98142,-27.538881
END:VEVENT
BEGIN:VEVENT
DTSTART;TZID=Australia/Brisbane:20191102T100000
DTEND;TZID=Australia/Brisbane:20191102T120000
DTSTAMP:20260426T000432
CREATED:20190916T022109Z
LAST-MODIFIED:20190916T022110Z
UID:19493-1572688800-1572696000@nicolejohnston.com.au
SUMMARY:Souths Graceville Hounds Rugby League Club Sign On Day
DESCRIPTION:
URL:https://nicolejohnston.com.au/event/souths-graceville-hounds-rugby-league-club-sign-on-day/
LOCATION:Souths Graceville Rugby League Club\, 247 Graceville Ave\, Graceville\, Qld\, 4075\, Australia
END:VEVENT
BEGIN:VEVENT
DTSTART;TZID=Australia/Brisbane:20191102T180000
DTEND;TZID=Australia/Brisbane:20191102T210000
DTSTAMP:20260426T000432
CREATED:20191016T021716Z
LAST-MODIFIED:20191016T021716Z
UID:19697-1572717600-1572728400@nicolejohnston.com.au
SUMMARY:Sherwood Movie in the Park - Mary Poppins Returns
DESCRIPTION:
URL:https://nicolejohnston.com.au/event/sherwood-movie-in-the-park-mary-poppins-returns/
LOCATION:Sherwood State School\, 464 Oxley Rd\, Sherwood\, Qld\, 4075\, Australia
GEO:-27.5317202;152.9831449
X-APPLE-STRUCTURED-LOCATION;VALUE=URI;X-ADDRESS=Sherwood State School 464 Oxley Rd Sherwood Qld 4075 Australia;X-APPLE-RADIUS=500;X-TITLE=464 Oxley Rd:geo:152.9831449,-27.5317202
END:VEVENT
BEGIN:VEVENT
DTSTART;TZID=Australia/Brisbane:20191103T080000
DTEND;TZID=Australia/Brisbane:20191103T130000
DTSTAMP:20260426T000432
CREATED:20191016T021332Z
LAST-MODIFIED:20191016T022147Z
UID:19693-1572768000-1572786000@nicolejohnston.com.au
SUMMARY:Yeronga Meals on Wheels Garage Sale and Sausage Sizzle
DESCRIPTION:
URL:https://nicolejohnston.com.au/event/yeronga-meals-on-wheels-garage-sale-and-sausage-sizzle/
LOCATION:Yeronga Meals on Wheels\, 17 School Rd\, Yeronga\, Qld\, 4104\, Australia
END:VEVENT
BEGIN:VEVENT
DTSTART;TZID=Australia/Brisbane:20191103T093000
DTEND;TZID=Australia/Brisbane:20191103T110000
DTSTAMP:20260426T000432
CREATED:20191028T033743Z
LAST-MODIFIED:20191028T033743Z
UID:19752-1572773400-1572778800@nicolejohnston.com.au
SUMMARY:Yeronga | Kids Clothing Swap
DESCRIPTION:
URL:https://nicolejohnston.com.au/event/yeronga-kids-clothing-swap/
LOCATION:Yeronga Community Centre\, 62 Park Rd\, Yeronga\, Queensland\, 4103\, Australia
GEO:-27.5178214;153.0308084
X-APPLE-STRUCTURED-LOCATION;VALUE=URI;X-ADDRESS=Yeronga Community Centre 62 Park Rd Yeronga Queensland 4103 Australia;X-APPLE-RADIUS=500;X-TITLE=62 Park Rd:geo:153.0308084,-27.5178214
END:VEVENT
END:VCALENDAR