BEGIN:VCALENDAR
VERSION:2.0
PRODID:-//Nicole Johnston - ECPv6.15.20//NONSGML v1.0//EN
CALSCALE:GREGORIAN
METHOD:PUBLISH
X-WR-CALNAME:Nicole Johnston
X-ORIGINAL-URL:https://nicolejohnston.com.au
X-WR-CALDESC:Events for Nicole Johnston
REFRESH-INTERVAL;VALUE=DURATION:PT1H
X-Robots-Tag:noindex
X-PUBLISHED-TTL:PT1H
BEGIN:VTIMEZONE
TZID:Australia/Brisbane
BEGIN:STANDARD
TZOFFSETFROM:+1000
TZOFFSETTO:+1000
TZNAME:AEST
DTSTART:20160101T000000
END:STANDARD
END:VTIMEZONE
BEGIN:VEVENT
DTSTART;TZID=Australia/Brisbane:20170701T093000
DTEND;TZID=Australia/Brisbane:20170701T100000
DTSTAMP:20260426T131004
CREATED:20170628T234345Z
LAST-MODIFIED:20170628T234345Z
UID:12885-1498901400-1498903200@nicolejohnston.com.au
SUMMARY:BYOB (Bring your own baby) book club
DESCRIPTION:Do you care for a child under four years of age and love to read books? BYOB (bring your own baby) book club is a baby-friendly book club for parents and caregivers who are interested in joining a book club without having to organise a babysitter. Join in to discuss great books in good company. Call the library for more details. Bookings essential.
URL:https://nicolejohnston.com.au/event/byob-bring-your-own-baby-book-club/
LOCATION:Annerley Library\, 469 Ipswich Rd\, Annerley\, Queensland\, 4103\, Australia
GEO:-27.5115338;153.0317863
X-APPLE-STRUCTURED-LOCATION;VALUE=URI;X-ADDRESS=Annerley Library 469 Ipswich Rd Annerley Queensland 4103 Australia;X-APPLE-RADIUS=500;X-TITLE=469 Ipswich Rd:geo:153.0317863,-27.5115338
END:VEVENT
BEGIN:VEVENT
DTSTART;TZID=Australia/Brisbane:20170703T153000
DTEND;TZID=Australia/Brisbane:20170703T163000
DTSTAMP:20260426T131004
CREATED:20170628T234456Z
LAST-MODIFIED:20170628T234456Z
UID:12887-1499095800-1499099400@nicolejohnston.com.au
SUMMARY:NAIDOC Week storytime
DESCRIPTION:Enjoy a special storytime celebrating Aboriginal and Torres Strait Islander cultures. Ideal for children aged 2-5 years. Presented as part of Black History Month celebrations. Bookings essential.
URL:https://nicolejohnston.com.au/event/naidoc-week-storytime-2/
LOCATION:Annerley Library\, 469 Ipswich Rd\, Annerley\, Queensland\, 4103\, Australia
GEO:-27.5115338;153.0317863
X-APPLE-STRUCTURED-LOCATION;VALUE=URI;X-ADDRESS=Annerley Library 469 Ipswich Rd Annerley Queensland 4103 Australia;X-APPLE-RADIUS=500;X-TITLE=469 Ipswich Rd:geo:153.0317863,-27.5115338
END:VEVENT
BEGIN:VEVENT
DTSTART;TZID=Australia/Brisbane:20170704T173000
DTEND;TZID=Australia/Brisbane:20170704T210000
DTSTAMP:20260426T131004
CREATED:20170703T230715Z
LAST-MODIFIED:20170703T230715Z
UID:12996-1499189400-1499202000@nicolejohnston.com.au
SUMMARY:Sherwood Community Festival
DESCRIPTION:
URL:https://nicolejohnston.com.au/event/sherwood-community-festival-3/
LOCATION:Sherwood Rd Shopping Precinct\, Sherwood Rd\, Sherwood\, Qld\, 4075\, Australia
GEO:-27.5329105;152.9861142
X-APPLE-STRUCTURED-LOCATION;VALUE=URI;X-ADDRESS=Sherwood Rd Shopping Precinct Sherwood Rd Sherwood Qld 4075 Australia;X-APPLE-RADIUS=500;X-TITLE=Sherwood Rd:geo:152.9861142,-27.5329105
END:VEVENT
BEGIN:VEVENT
DTSTART;TZID=Australia/Brisbane:20170705T110000
DTEND;TZID=Australia/Brisbane:20170705T123000
DTSTAMP:20260426T131004
CREATED:20170629T002445Z
LAST-MODIFIED:20170629T002445Z
UID:12919-1499252400-1499257800@nicolejohnston.com.au
SUMMARY:Corinda | Internet skills two
DESCRIPTION:Build on your basic internet skills by learning search strategies\, information evaluation techniques and exploring a range of interesting and useful online resources. Basic computer and internet skills are required. Bookings essential.
URL:https://nicolejohnston.com.au/event/corinda-internet-skills-two/
LOCATION:Corinda Library\, 641 Oxley Road\, Corinda\, Queensland\, 4075\, Australia
GEO:-27.538881;152.98142
X-APPLE-STRUCTURED-LOCATION;VALUE=URI;X-ADDRESS=Corinda Library 641 Oxley Road Corinda Queensland 4075 Australia;X-APPLE-RADIUS=500;X-TITLE=641 Oxley Road:geo:152.98142,-27.538881
END:VEVENT
BEGIN:VEVENT
DTSTART;TZID=Australia/Brisbane:20170705T140000
DTEND;TZID=Australia/Brisbane:20170705T150000
DTSTAMP:20260426T131004
CREATED:20170629T002526Z
LAST-MODIFIED:20170629T002526Z
UID:12921-1499263200-1499266800@nicolejohnston.com.au
SUMMARY:Duddley Doo’s Big Fishing Adventure storytime
DESCRIPTION:Join author Karyn Jane Handran as she shares her book Duddley Doo’s Big Fishing Adventure in this special storytime. Listen to Karyn’s story and then make your own mouse ears. Ideal for children aged 4-7 years.
URL:https://nicolejohnston.com.au/event/duddley-doos-big-fishing-adventure-storytime/
LOCATION:Corinda Library\, 641 Oxley Road\, Corinda\, Queensland\, 4075\, Australia
GEO:-27.538881;152.98142
X-APPLE-STRUCTURED-LOCATION;VALUE=URI;X-ADDRESS=Corinda Library 641 Oxley Road Corinda Queensland 4075 Australia;X-APPLE-RADIUS=500;X-TITLE=641 Oxley Road:geo:152.98142,-27.538881
END:VEVENT
BEGIN:VEVENT
DTSTART;TZID=Australia/Brisbane:20170706T140000
DTEND;TZID=Australia/Brisbane:20170706T150000
DTSTAMP:20260426T131004
CREATED:20170629T002609Z
LAST-MODIFIED:20170629T002609Z
UID:12923-1499349600-1499353200@nicolejohnston.com.au
SUMMARY:Corinda | NAIDOC Week storytime
DESCRIPTION:Celebrate the Indigenous heritage of Australia by joining us for a special storytime. Ideal for children aged 2-5 years. Presented as part of Black History Month celebrations.
URL:https://nicolejohnston.com.au/event/corinda-naidoc-week-storytime/
LOCATION:Corinda Library\, 641 Oxley Road\, Corinda\, Queensland\, 4075\, Australia
GEO:-27.538881;152.98142
X-APPLE-STRUCTURED-LOCATION;VALUE=URI;X-ADDRESS=Corinda Library 641 Oxley Road Corinda Queensland 4075 Australia;X-APPLE-RADIUS=500;X-TITLE=641 Oxley Road:geo:152.98142,-27.538881
END:VEVENT
BEGIN:VEVENT
DTSTART;TZID=Australia/Brisbane:20170707T100000
DTEND;TZID=Australia/Brisbane:20170707T110000
DTSTAMP:20260426T131004
CREATED:20170628T234634Z
LAST-MODIFIED:20170628T234634Z
UID:12889-1499421600-1499425200@nicolejohnston.com.au
SUMMARY:Comic workshop with Cartoon Dave: Rockin' robots
DESCRIPTION:Dave ‘Cartoon Dave’ Hackett has taught cartooning to over 150\,000 children in schools\, libraries\, literary festivals and in newspapers and magazines across the country. He is the author of several how-to cartooning books\, picture books and novels.\n\nJoin Dave when he shares the secrets to comic cartooning during workshops at libraries across Brisbane these school holidays. Ideal for children aged 6-12 years. Bookings essential.
URL:https://nicolejohnston.com.au/event/comic-workshop-with-cartoon-dave-rockin-robots/
LOCATION:Annerley Library\, 469 Ipswich Rd\, Annerley\, Queensland\, 4103\, Australia
GEO:-27.5115338;153.0317863
X-APPLE-STRUCTURED-LOCATION;VALUE=URI;X-ADDRESS=Annerley Library 469 Ipswich Rd Annerley Queensland 4103 Australia;X-APPLE-RADIUS=500;X-TITLE=469 Ipswich Rd:geo:153.0317863,-27.5115338
END:VEVENT
BEGIN:VEVENT
DTSTART;TZID=Australia/Brisbane:20170707T110000
DTEND;TZID=Australia/Brisbane:20170707T113000
DTSTAMP:20260426T131004
CREATED:20170628T235824Z
LAST-MODIFIED:20170628T235824Z
UID:12901-1499425200-1499427000@nicolejohnston.com.au
SUMMARY:Fairfield | NAIDOC Week storytime
DESCRIPTION:Enjoy a special storytime celebrating Aboriginal and Torres Strait Islander cultures.  Ideal for children aged 2-5 years. Presented as part of Black History Month celebrations.
URL:https://nicolejohnston.com.au/event/fairfield-naidoc-week-storytime/
LOCATION:Fairfield Library\, Fairfield Gardens\, 180 Fairfield Rd\, Fairfield\, Queensland\, 4103\, Australia
GEO:-27.508752;153.025501
X-APPLE-STRUCTURED-LOCATION;VALUE=URI;X-ADDRESS=Fairfield Library Fairfield Gardens 180 Fairfield Rd Fairfield Queensland 4103 Australia;X-APPLE-RADIUS=500;X-TITLE=Fairfield Gardens\, 180 Fairfield Rd:geo:153.025501,-27.508752
END:VEVENT
BEGIN:VEVENT
DTSTART;TZID=Australia/Brisbane:20170707T133000
DTEND;TZID=Australia/Brisbane:20170707T150000
DTSTAMP:20260426T131004
CREATED:20170629T002731Z
LAST-MODIFIED:20170629T002731Z
UID:12925-1499434200-1499439600@nicolejohnston.com.au
SUMMARY:Corinda | Maker space
DESCRIPTION:Drop into the library to try your hand at crafts using picture book covers. Ideal for children aged 5-12 years.
URL:https://nicolejohnston.com.au/event/corinda-maker-space-3/
LOCATION:Corinda Library\, 641 Oxley Road\, Corinda\, Queensland\, 4075\, Australia
GEO:-27.538881;152.98142
X-APPLE-STRUCTURED-LOCATION;VALUE=URI;X-ADDRESS=Corinda Library 641 Oxley Road Corinda Queensland 4075 Australia;X-APPLE-RADIUS=500;X-TITLE=641 Oxley Road:geo:152.98142,-27.538881
END:VEVENT
BEGIN:VEVENT
DTSTART;TZID=Australia/Brisbane:20170707T153000
DTEND;TZID=Australia/Brisbane:20170707T163000
DTSTAMP:20260426T131004
CREATED:20170628T235911Z
LAST-MODIFIED:20170628T235911Z
UID:12903-1499441400-1499445000@nicolejohnston.com.au
SUMMARY:Fairfield | Eric Carle creatures
DESCRIPTION:Create your own creepy crawly artwork exploring the collage techniques used to illustrate Eric Carle’s picture books. Ideal for children aged 2-5 years. Bookings essential.
URL:https://nicolejohnston.com.au/event/fairfield-eric-carle-creatures/
LOCATION:Fairfield Library\, Fairfield Gardens\, 180 Fairfield Rd\, Fairfield\, Queensland\, 4103\, Australia
GEO:-27.508752;153.025501
X-APPLE-STRUCTURED-LOCATION;VALUE=URI;X-ADDRESS=Fairfield Library Fairfield Gardens 180 Fairfield Rd Fairfield Queensland 4103 Australia;X-APPLE-RADIUS=500;X-TITLE=Fairfield Gardens\, 180 Fairfield Rd:geo:153.025501,-27.508752
END:VEVENT
BEGIN:VEVENT
DTSTART;TZID=Australia/Brisbane:20170708T140000
DTEND;TZID=Australia/Brisbane:20170708T150000
DTSTAMP:20260426T131004
CREATED:20170629T002817Z
LAST-MODIFIED:20170629T002817Z
UID:12927-1499522400-1499526000@nicolejohnston.com.au
SUMMARY:Corinda | Second Saturday book club
DESCRIPTION:For July\, read and discuss Wild Pork and Watercress by Barry Crump.
URL:https://nicolejohnston.com.au/event/corinda-second-saturday-book-club/
LOCATION:Corinda Library\, 641 Oxley Road\, Corinda\, Queensland\, 4075\, Australia
GEO:-27.538881;152.98142
X-APPLE-STRUCTURED-LOCATION;VALUE=URI;X-ADDRESS=Corinda Library 641 Oxley Road Corinda Queensland 4075 Australia;X-APPLE-RADIUS=500;X-TITLE=641 Oxley Road:geo:152.98142,-27.538881
END:VEVENT
BEGIN:VEVENT
DTSTART;TZID=Australia/Brisbane:20170712T110000
DTEND;TZID=Australia/Brisbane:20170712T123000
DTSTAMP:20260426T131004
CREATED:20170629T002856Z
LAST-MODIFIED:20170629T002856Z
UID:12929-1499857200-1499862600@nicolejohnston.com.au
SUMMARY:Corinda | iPad skills one
DESCRIPTION:Learn how to use the basic features of an iPad. Explore apps\, connect to Wi-Fi and search on the internet. Perfect for the first time user. Bring your own iPad. Bookings essential.
URL:https://nicolejohnston.com.au/event/corinda-ipad-skills-one/
LOCATION:Corinda Library\, 641 Oxley Road\, Corinda\, Queensland\, 4075\, Australia
GEO:-27.538881;152.98142
X-APPLE-STRUCTURED-LOCATION;VALUE=URI;X-ADDRESS=Corinda Library 641 Oxley Road Corinda Queensland 4075 Australia;X-APPLE-RADIUS=500;X-TITLE=641 Oxley Road:geo:152.98142,-27.538881
END:VEVENT
BEGIN:VEVENT
DTSTART;TZID=Australia/Brisbane:20170714T140000
DTEND;TZID=Australia/Brisbane:20170714T153000
DTSTAMP:20260426T131004
CREATED:20170629T000000Z
LAST-MODIFIED:20170629T000000Z
UID:12905-1500040800-1500046200@nicolejohnston.com.au
SUMMARY:Fairfield | Android help
DESCRIPTION:Learn how to find answers to your Android device questions and share tips with others in a group help session facilitated by library staff. Bring your own Android device. Basic Android skills required. Bookings essential.
URL:https://nicolejohnston.com.au/event/fairfield-android-help/
LOCATION:Fairfield Library\, Fairfield Gardens\, 180 Fairfield Rd\, Fairfield\, Queensland\, 4103\, Australia
GEO:-27.508752;153.025501
X-APPLE-STRUCTURED-LOCATION;VALUE=URI;X-ADDRESS=Fairfield Library Fairfield Gardens 180 Fairfield Rd Fairfield Queensland 4103 Australia;X-APPLE-RADIUS=500;X-TITLE=Fairfield Gardens\, 180 Fairfield Rd:geo:153.025501,-27.508752
END:VEVENT
BEGIN:VEVENT
DTSTART;TZID=Australia/Brisbane:20170715T103000
DTEND;TZID=Australia/Brisbane:20170715T120000
DTSTAMP:20260426T131004
CREATED:20170628T235034Z
LAST-MODIFIED:20170628T235034Z
UID:12891-1500114600-1500120000@nicolejohnston.com.au
SUMMARY:iPad help
DESCRIPTION:Learn how to find answers to your iPad questions and share tips with others in a group help session facilitated by library staff. Bring your own iPad and Apple account details. Basic iPad skills required. Bookings essential.
URL:https://nicolejohnston.com.au/event/ipad-help/
LOCATION:Annerley Library\, 469 Ipswich Rd\, Annerley\, Queensland\, 4103\, Australia
GEO:-27.5115338;153.0317863
X-APPLE-STRUCTURED-LOCATION;VALUE=URI;X-ADDRESS=Annerley Library 469 Ipswich Rd Annerley Queensland 4103 Australia;X-APPLE-RADIUS=500;X-TITLE=469 Ipswich Rd:geo:153.0317863,-27.5115338
END:VEVENT
BEGIN:VEVENT
DTSTART;TZID=Australia/Brisbane:20170719T110000
DTEND;TZID=Australia/Brisbane:20170719T123000
DTSTAMP:20260426T131004
CREATED:20170629T002948Z
LAST-MODIFIED:20170629T002948Z
UID:12931-1500462000-1500467400@nicolejohnston.com.au
SUMMARY:Corinda | iPad skills two
DESCRIPTION:Ready to learn more about your iPad? Customise your iPad by organising your apps and adjusting basic settings. Discover how to find and download useful apps on the App Store. Bring your own iPad and Apple ID account details. Bookings essential.
URL:https://nicolejohnston.com.au/event/corinda-ipad-skills-two/
LOCATION:Corinda Library\, 641 Oxley Road\, Corinda\, Queensland\, 4075\, Australia
GEO:-27.538881;152.98142
X-APPLE-STRUCTURED-LOCATION;VALUE=URI;X-ADDRESS=Corinda Library 641 Oxley Road Corinda Queensland 4075 Australia;X-APPLE-RADIUS=500;X-TITLE=641 Oxley Road:geo:152.98142,-27.538881
END:VEVENT
BEGIN:VEVENT
DTSTART;TZID=Australia/Brisbane:20170721T140000
DTEND;TZID=Australia/Brisbane:20170721T153000
DTSTAMP:20260426T131004
CREATED:20170629T000127Z
LAST-MODIFIED:20170629T000127Z
UID:12907-1500645600-1500651000@nicolejohnston.com.au
SUMMARY:Fairfield | TV streaming on the internet
DESCRIPTION:Never miss your favourite TV show again. Learn about online streaming and how to use the internet to watch television on a laptop\, mobile device or television. Basic computer and internet skills required. Bookings essential.
URL:https://nicolejohnston.com.au/event/fairfield-tv-streaming-on-the-internet/
LOCATION:Fairfield Library\, Fairfield Gardens\, 180 Fairfield Rd\, Fairfield\, Queensland\, 4103\, Australia
GEO:-27.508752;153.025501
X-APPLE-STRUCTURED-LOCATION;VALUE=URI;X-ADDRESS=Fairfield Library Fairfield Gardens 180 Fairfield Rd Fairfield Queensland 4103 Australia;X-APPLE-RADIUS=500;X-TITLE=Fairfield Gardens\, 180 Fairfield Rd:geo:153.025501,-27.508752
END:VEVENT
BEGIN:VEVENT
DTSTART;TZID=Australia/Brisbane:20170722T103000
DTEND;TZID=Australia/Brisbane:20170722T120000
DTSTAMP:20260426T131004
CREATED:20170628T235221Z
LAST-MODIFIED:20170628T235221Z
UID:12895-1500719400-1500724800@nicolejohnston.com.au
SUMMARY:Social media basics
DESCRIPTION:Learn about popular social media sites including Facebook\, Twitter\, Pinterest\, Tumblr and Instagram. Discover how these websites help you to connect with family\, friends and organisations online. Basic computer and internet skills required. Bookings essential.
URL:https://nicolejohnston.com.au/event/social-media-basics/
LOCATION:Annerley Library\, 469 Ipswich Rd\, Annerley\, Queensland\, 4103\, Australia
GEO:-27.5115338;153.0317863
X-APPLE-STRUCTURED-LOCATION;VALUE=URI;X-ADDRESS=Annerley Library 469 Ipswich Rd Annerley Queensland 4103 Australia;X-APPLE-RADIUS=500;X-TITLE=469 Ipswich Rd:geo:153.0317863,-27.5115338
END:VEVENT
BEGIN:VEVENT
DTSTART;TZID=Australia/Brisbane:20170723T090000
DTEND;TZID=Australia/Brisbane:20170723T150000
DTSTAMP:20260426T131004
CREATED:20170703T231154Z
LAST-MODIFIED:20170703T231155Z
UID:12999-1500800400-1500822000@nicolejohnston.com.au
SUMMARY:St Joseph's Primary School Fete
DESCRIPTION:
URL:https://nicolejohnston.com.au/event/st-josephs-primary-school-fete/
LOCATION:St Joseph’s Primary School\, 28 Clewley Street\, Corinda\, Qld\, 4075\, Australia
GEO:-27.537952;152.9835939
X-APPLE-STRUCTURED-LOCATION;VALUE=URI;X-ADDRESS=St Joseph’s Primary School 28 Clewley Street Corinda Qld 4075 Australia;X-APPLE-RADIUS=500;X-TITLE=28 Clewley Street:geo:152.9835939,-27.537952
END:VEVENT
BEGIN:VEVENT
DTSTART;TZID=Australia/Brisbane:20170724T093000
DTEND;TZID=Australia/Brisbane:20170724T100000
DTSTAMP:20260426T131004
CREATED:20170724T045723Z
LAST-MODIFIED:20170724T045723Z
UID:13308-1500888600-1500890400@nicolejohnston.com.au
SUMMARY:Seniors Gentle Yoga | Yeronga Community Centre
DESCRIPTION:
URL:https://nicolejohnston.com.au/event/seniors-gentle-yoga-yeronga-community-centre/2017-07-24/
LOCATION:Yeronga Community Centre\, 62 Park Rd\, Yeronga\, Queensland\, 4103\, Australia
GEO:-27.5178214;153.0308084
X-APPLE-STRUCTURED-LOCATION;VALUE=URI;X-ADDRESS=Yeronga Community Centre 62 Park Rd Yeronga Queensland 4103 Australia;X-APPLE-RADIUS=500;X-TITLE=62 Park Rd:geo:153.0308084,-27.5178214
END:VEVENT
BEGIN:VEVENT
DTSTART;TZID=Australia/Brisbane:20170724T100000
DTEND;TZID=Australia/Brisbane:20170724T120000
DTSTAMP:20260426T131004
CREATED:20170724T033725Z
LAST-MODIFIED:20170724T033725Z
UID:13241-1500890400-1500897600@nicolejohnston.com.au
SUMMARY:Seniors Morning Tea | Yeronga Community Centre
DESCRIPTION:Socialising and games
URL:https://nicolejohnston.com.au/event/seniors-morning-tea-yeronga-community-centre/2017-07-24/
LOCATION:Yeronga Community Centre\, 62 Park Rd\, Yeronga\, Queensland\, 4103\, Australia
GEO:-27.5178214;153.0308084
X-APPLE-STRUCTURED-LOCATION;VALUE=URI;X-ADDRESS=Yeronga Community Centre 62 Park Rd Yeronga Queensland 4103 Australia;X-APPLE-RADIUS=500;X-TITLE=62 Park Rd:geo:153.0308084,-27.5178214
END:VEVENT
BEGIN:VEVENT
DTSTART;TZID=Australia/Brisbane:20170724T180000
DTEND;TZID=Australia/Brisbane:20170724T190000
DTSTAMP:20260426T131004
CREATED:20170724T051457Z
LAST-MODIFIED:20170724T051457Z
UID:13624-1500919200-1500922800@nicolejohnston.com.au
SUMMARY:Yoga | Yeronga Community Centre
DESCRIPTION:Suited for all ages. $10 waged\, $5 unwaged. Held at Anglican Church Hall
URL:https://nicolejohnston.com.au/event/yoga-yeronga-community-centre/2017-07-24/
LOCATION:Yeronga Anglican Church\, 24 Killarney St\, Yeronga\, Qld\, 4104\, Australia
ORGANIZER;CN="Yeronga Community Centre":MAILTO:yeronga@communityplus.org.au
GEO:-27.5178178;153.018395
X-APPLE-STRUCTURED-LOCATION;VALUE=URI;X-ADDRESS=Yeronga Anglican Church 24 Killarney St Yeronga Qld 4104 Australia;X-APPLE-RADIUS=500;X-TITLE=24 Killarney St:geo:153.018395,-27.5178178
END:VEVENT
BEGIN:VEVENT
DTSTART;TZID=Australia/Brisbane:20170725T103000
DTEND;TZID=Australia/Brisbane:20170725T113000
DTSTAMP:20260426T131004
CREATED:20170629T003033Z
LAST-MODIFIED:20170629T003033Z
UID:12933-1500978600-1500982200@nicolejohnston.com.au
SUMMARY:Corinda | Meet Charlotte Nash
DESCRIPTION:Ten years ago\, Rachael West chose not to move to Sydney with high school sweetheart Matthew. Instead she stayed on the family wheat farm\, caring for her seriously ill mother and letting go of her dreams. Now Matthew is marrying someone else. And Rachael is invited to the wedding\, a lavish affair in Paris\, courtesy of the flamboyant family of Matthew’s fiancée – a once-in-a-lifetime celebration at someone else’s expense in Europe’s most romantic city. Friendships will be upended\, secrets will be revealed – and on the eve of the wedding\, Rachael is faced with an impossible dilemma: should she give up on the promise of love\, or destroy another woman’s life for a chance at happiness?\n\nJoin Charlotte as she discusses her latest novel The Paris Wedding. Books will be available for purchase on the day\, or bring your copy from home for Charlotte to sign. \nBookings essential.
URL:https://nicolejohnston.com.au/event/corinda-meet-charlotte-nash/
LOCATION:Corinda Library\, 641 Oxley Road\, Corinda\, Queensland\, 4075\, Australia
GEO:-27.538881;152.98142
X-APPLE-STRUCTURED-LOCATION;VALUE=URI;X-ADDRESS=Corinda Library 641 Oxley Road Corinda Queensland 4075 Australia;X-APPLE-RADIUS=500;X-TITLE=641 Oxley Road:geo:152.98142,-27.538881
END:VEVENT
BEGIN:VEVENT
DTSTART;TZID=Australia/Brisbane:20170726T073000
DTEND;TZID=Australia/Brisbane:20170726T083000
DTSTAMP:20260426T131004
CREATED:20170724T050210Z
LAST-MODIFIED:20170724T050210Z
UID:13415-1501054200-1501057800@nicolejohnston.com.au
SUMMARY:Community Breakfast | Yeronga Community Centre
DESCRIPTION:During the school term only
URL:https://nicolejohnston.com.au/event/community-breakfast-yeronga-community-centre/2017-07-26/
LOCATION:Yeronga Community Centre\, 62 Park Rd\, Yeronga\, Queensland\, 4103\, Australia
GEO:-27.5178214;153.0308084
X-APPLE-STRUCTURED-LOCATION;VALUE=URI;X-ADDRESS=Yeronga Community Centre 62 Park Rd Yeronga Queensland 4103 Australia;X-APPLE-RADIUS=500;X-TITLE=62 Park Rd:geo:153.0308084,-27.5178214
END:VEVENT
BEGIN:VEVENT
DTSTART;TZID=Australia/Brisbane:20170726T100000
DTEND;TZID=Australia/Brisbane:20170726T110000
DTSTAMP:20260426T131004
CREATED:20170724T050044Z
LAST-MODIFIED:20170724T050044Z
UID:13363-1501063200-1501066800@nicolejohnston.com.au
SUMMARY:Computer Assistance | Yeronga Community Centre
DESCRIPTION:Basic computer assistance based on individual needs. Help with Smart Phones\, tablet\, laptops\, etc. FREE!
URL:https://nicolejohnston.com.au/event/computer-assistance-yeronga-community-centre/2017-07-26/
LOCATION:Yeronga Community Centre\, 62 Park Rd\, Yeronga\, Queensland\, 4103\, Australia
GEO:-27.5178214;153.0308084
X-APPLE-STRUCTURED-LOCATION;VALUE=URI;X-ADDRESS=Yeronga Community Centre 62 Park Rd Yeronga Queensland 4103 Australia;X-APPLE-RADIUS=500;X-TITLE=62 Park Rd:geo:153.0308084,-27.5178214
END:VEVENT
BEGIN:VEVENT
DTSTART;TZID=Australia/Brisbane:20170726T110000
DTEND;TZID=Australia/Brisbane:20170726T123000
DTSTAMP:20260426T131004
CREATED:20170629T003114Z
LAST-MODIFIED:20170629T003114Z
UID:12935-1501066800-1501072200@nicolejohnston.com.au
SUMMARY:Corinda | Online safety and security basics
DESCRIPTION:Feel safe and confident online by learning the basics of secure internet use. Learn how to protect yourself against viruses and malware\, pay safely online and create strong passwords. Basic computer and internet skills required. Bookings essential.
URL:https://nicolejohnston.com.au/event/corinda-online-safety-and-security-basics/
LOCATION:Corinda Library\, 641 Oxley Road\, Corinda\, Queensland\, 4075\, Australia
GEO:-27.538881;152.98142
X-APPLE-STRUCTURED-LOCATION;VALUE=URI;X-ADDRESS=Corinda Library 641 Oxley Road Corinda Queensland 4075 Australia;X-APPLE-RADIUS=500;X-TITLE=641 Oxley Road:geo:152.98142,-27.538881
END:VEVENT
BEGIN:VEVENT
DTSTART;TZID=Australia/Brisbane:20170726T130000
DTEND;TZID=Australia/Brisbane:20170726T140000
DTSTAMP:20260426T131004
CREATED:20170629T000212Z
LAST-MODIFIED:20170629T000212Z
UID:12909-1501074000-1501077600@nicolejohnston.com.au
SUMMARY:Fairfield | Book chat
DESCRIPTION:In July\, read and discuss Last Day in the Dynamite Factory by Annah Faulkner. New members welcome.
URL:https://nicolejohnston.com.au/event/fairfield-book-chat-3/
LOCATION:Fairfield Library\, Fairfield Gardens\, 180 Fairfield Rd\, Fairfield\, Queensland\, 4103\, Australia
GEO:-27.508752;153.025501
X-APPLE-STRUCTURED-LOCATION;VALUE=URI;X-ADDRESS=Fairfield Library Fairfield Gardens 180 Fairfield Rd Fairfield Queensland 4103 Australia;X-APPLE-RADIUS=500;X-TITLE=Fairfield Gardens\, 180 Fairfield Rd:geo:153.025501,-27.508752
END:VEVENT
BEGIN:VEVENT
DTSTART;TZID=Australia/Brisbane:20170726T153000
DTEND;TZID=Australia/Brisbane:20170726T163000
DTSTAMP:20260426T131004
CREATED:20170629T000302Z
LAST-MODIFIED:20170629T000302Z
UID:12911-1501083000-1501086600@nicolejohnston.com.au
SUMMARY:Fairfield | FBI: Fairfield book investigators kid's club
DESCRIPTION:In July\, read and discuss Laugh Your Socks Off by Jeremy Strong. Ideal for children aged 6-11 years.
URL:https://nicolejohnston.com.au/event/fairfield-fbi-fairfield-book-investigators-kids-club-2/
LOCATION:Fairfield Library\, Fairfield Gardens\, 180 Fairfield Rd\, Fairfield\, Queensland\, 4103\, Australia
GEO:-27.508752;153.025501
X-APPLE-STRUCTURED-LOCATION;VALUE=URI;X-ADDRESS=Fairfield Library Fairfield Gardens 180 Fairfield Rd Fairfield Queensland 4103 Australia;X-APPLE-RADIUS=500;X-TITLE=Fairfield Gardens\, 180 Fairfield Rd:geo:153.025501,-27.508752
END:VEVENT
BEGIN:VEVENT
DTSTART;TZID=Australia/Brisbane:20170727T100000
DTEND;TZID=Australia/Brisbane:20170727T103000
DTSTAMP:20260426T131004
CREATED:20170724T050349Z
LAST-MODIFIED:20170724T050349Z
UID:13476-1501149600-1501151400@nicolejohnston.com.au
SUMMARY:Guided Meditation | Yeronga Community Centre
DESCRIPTION:
URL:https://nicolejohnston.com.au/event/guided-meditation-yeronga-community-centre/2017-07-27/
LOCATION:Yeronga Community Centre\, 62 Park Rd\, Yeronga\, Queensland\, 4103\, Australia
GEO:-27.5178214;153.0308084
X-APPLE-STRUCTURED-LOCATION;VALUE=URI;X-ADDRESS=Yeronga Community Centre 62 Park Rd Yeronga Queensland 4103 Australia;X-APPLE-RADIUS=500;X-TITLE=62 Park Rd:geo:153.0308084,-27.5178214
END:VEVENT
BEGIN:VEVENT
DTSTART;TZID=Australia/Brisbane:20170727T103000
DTEND;TZID=Australia/Brisbane:20170727T120000
DTSTAMP:20260426T131004
CREATED:20170724T050940Z
LAST-MODIFIED:20170724T050940Z
UID:13529-1501151400-1501156800@nicolejohnston.com.au
SUMMARY:Craft Group | Yeronga Community Centre
DESCRIPTION:BYO craft activity or share your skills with the group. New craft ideas welcome. Open to all levels. All welcome. Free!
URL:https://nicolejohnston.com.au/event/craft-group-yeronga-community-centre/2017-07-27/
LOCATION:Yeronga Community Centre\, 62 Park Rd\, Yeronga\, Queensland\, 4103\, Australia
GEO:-27.5178214;153.0308084
X-APPLE-STRUCTURED-LOCATION;VALUE=URI;X-ADDRESS=Yeronga Community Centre 62 Park Rd Yeronga Queensland 4103 Australia;X-APPLE-RADIUS=500;X-TITLE=62 Park Rd:geo:153.0308084,-27.5178214
END:VEVENT
BEGIN:VEVENT
DTSTART;TZID=Australia/Brisbane:20170727T103000
DTEND;TZID=Australia/Brisbane:20170727T120000
DTSTAMP:20260426T131004
CREATED:20170724T051125Z
LAST-MODIFIED:20170724T051125Z
UID:13547-1501151400-1501156800@nicolejohnston.com.au
SUMMARY:Art Classes | Yeronga Community Centre
DESCRIPTION:Practice art with an experienced art teacher.
URL:https://nicolejohnston.com.au/event/art-classes-yeronga-community-centre/2017-07-27/
LOCATION:Yeronga Community Centre\, 62 Park Rd\, Yeronga\, Queensland\, 4103\, Australia
GEO:-27.5178214;153.0308084
X-APPLE-STRUCTURED-LOCATION;VALUE=URI;X-ADDRESS=Yeronga Community Centre 62 Park Rd Yeronga Queensland 4103 Australia;X-APPLE-RADIUS=500;X-TITLE=62 Park Rd:geo:153.0308084,-27.5178214
END:VEVENT
END:VCALENDAR