BEGIN:VCALENDAR
VERSION:2.0
PRODID:-//Nicole Johnston - ECPv6.15.20//NONSGML v1.0//EN
CALSCALE:GREGORIAN
METHOD:PUBLISH
X-ORIGINAL-URL:https://nicolejohnston.com.au
X-WR-CALDESC:Events for Nicole Johnston
REFRESH-INTERVAL;VALUE=DURATION:PT1H
X-Robots-Tag:noindex
X-PUBLISHED-TTL:PT1H
BEGIN:VTIMEZONE
TZID:Australia/Brisbane
BEGIN:STANDARD
TZOFFSETFROM:+1000
TZOFFSETTO:+1000
TZNAME:AEST
DTSTART:20160101T000000
END:STANDARD
END:VTIMEZONE
BEGIN:VEVENT
DTSTART;TZID=Australia/Brisbane:20171101T110000
DTEND;TZID=Australia/Brisbane:20171101T123000
DTSTAMP:20260426T055602
CREATED:20171018T000724Z
LAST-MODIFIED:20171018T000724Z
UID:14283-1509534000-1509539400@nicolejohnston.com.au
SUMMARY:Corinda | eBay and Gumtree basics
DESCRIPTION:Looking to de-clutter\, or add to your home? Learn about buying and selling goods safely online through eBay and Gumtree. Basic computer and internet skills required. Bookings essential.\n\nA Brisbane Libraries Tech Connect workshop.
URL:https://nicolejohnston.com.au/event/corinda-ebay-and-gumtree-basics-3/
LOCATION:Corinda Library\, 641 Oxley Road\, Corinda\, Queensland\, 4075\, Australia
GEO:-27.538881;152.98142
X-APPLE-STRUCTURED-LOCATION;VALUE=URI;X-ADDRESS=Corinda Library 641 Oxley Road Corinda Queensland 4075 Australia;X-APPLE-RADIUS=500;X-TITLE=641 Oxley Road:geo:152.98142,-27.538881
END:VEVENT
BEGIN:VEVENT
DTSTART;TZID=Australia/Brisbane:20171102T160000
DTEND;TZID=Australia/Brisbane:20171102T173000
DTSTAMP:20260426T055602
CREATED:20171017T235802Z
LAST-MODIFIED:20171017T235802Z
UID:14267-1509638400-1509643800@nicolejohnston.com.au
SUMMARY:Fairfield | Sphero robots in space
DESCRIPTION:Create your won solar system by programming Sphero to orbit the sun. Join a coding adventure that is out of this world. No prior programming experience required. Ideal for children aged 9-12 years. Bookings essential.\n\nA BNEtechkids workshop.
URL:https://nicolejohnston.com.au/event/fairfield-sphero-robots-in-space/
LOCATION:Fairfield Library\, Fairfield Gardens\, 180 Fairfield Rd\, Fairfield\, Queensland\, 4103\, Australia
GEO:-27.508752;153.025501
X-APPLE-STRUCTURED-LOCATION;VALUE=URI;X-ADDRESS=Fairfield Library Fairfield Gardens 180 Fairfield Rd Fairfield Queensland 4103 Australia;X-APPLE-RADIUS=500;X-TITLE=Fairfield Gardens\, 180 Fairfield Rd:geo:153.025501,-27.508752
END:VEVENT
BEGIN:VEVENT
DTSTART;TZID=Australia/Brisbane:20171103T140000
DTEND;TZID=Australia/Brisbane:20171103T153000
DTSTAMP:20260426T055602
CREATED:20171017T235916Z
LAST-MODIFIED:20171017T235916Z
UID:14269-1509717600-1509723000@nicolejohnston.com.au
SUMMARY:Fairfield | Internet skills one
DESCRIPTION:Learn how to find your way around the internet safely\, save your favourite websites\, search for information and use Google to help you find answers. Basic computer skills required. Bookings essential.\n\nA Brisbane Libraries Tech Connect workshop.
URL:https://nicolejohnston.com.au/event/fairfield-internet-skills-one-2/
LOCATION:Fairfield Library\, Fairfield Gardens\, 180 Fairfield Rd\, Fairfield\, Queensland\, 4103\, Australia
GEO:-27.508752;153.025501
X-APPLE-STRUCTURED-LOCATION;VALUE=URI;X-ADDRESS=Fairfield Library Fairfield Gardens 180 Fairfield Rd Fairfield Queensland 4103 Australia;X-APPLE-RADIUS=500;X-TITLE=Fairfield Gardens\, 180 Fairfield Rd:geo:153.025501,-27.508752
END:VEVENT
BEGIN:VEVENT
DTSTART;TZID=Australia/Brisbane:20171104T090000
DTEND;TZID=Australia/Brisbane:20171104T160000
DTSTAMP:20260426T055602
CREATED:20171018T000002Z
LAST-MODIFIED:20171018T000002Z
UID:14271-1509786000-1509811200@nicolejohnston.com.au
SUMMARY:Fairfield | International Games Day
DESCRIPTION:Celebrate International Games Day by playing some of the fun board games\, card games and electronic games available just for today. Bring along your favourite game to share or reminisce by bringing along games from the past. Ideal for all ages.
URL:https://nicolejohnston.com.au/event/fairfield-international-games-day/
LOCATION:Fairfield Library\, Fairfield Gardens\, 180 Fairfield Rd\, Fairfield\, Queensland\, 4103\, Australia
GEO:-27.508752;153.025501
X-APPLE-STRUCTURED-LOCATION;VALUE=URI;X-ADDRESS=Fairfield Library Fairfield Gardens 180 Fairfield Rd Fairfield Queensland 4103 Australia;X-APPLE-RADIUS=500;X-TITLE=Fairfield Gardens\, 180 Fairfield Rd:geo:153.025501,-27.508752
END:VEVENT
BEGIN:VEVENT
DTSTART;TZID=Australia/Brisbane:20171106T091500
DTEND;TZID=Australia/Brisbane:20171106T100000
DTSTAMP:20260426T055602
CREATED:20171017T234746Z
LAST-MODIFIED:20171017T234746Z
UID:14259-1509959700-1509962400@nicolejohnston.com.au
SUMMARY:BYOB (Bring your own baby) book club
DESCRIPTION:Do you care for a child under four years of age and love to read books? BYOB (bring your own baby) book club is a baby-friendly book club for parents and caregivers who are interested in joining a book club without having to organise a babysitter. Join in to discuss great books in good company. Call the library for more details. Bookings essential.
URL:https://nicolejohnston.com.au/event/byob-bring-your-own-baby-book-club-3/
LOCATION:Annerley Library\, 469 Ipswich Rd\, Annerley\, Queensland\, 4103\, Australia
GEO:-27.5115338;153.0317863
X-APPLE-STRUCTURED-LOCATION;VALUE=URI;X-ADDRESS=Annerley Library 469 Ipswich Rd Annerley Queensland 4103 Australia;X-APPLE-RADIUS=500;X-TITLE=469 Ipswich Rd:geo:153.0317863,-27.5115338
END:VEVENT
BEGIN:VEVENT
DTSTART;TZID=Australia/Brisbane:20171107T103000
DTEND;TZID=Australia/Brisbane:20171107T113000
DTSTAMP:20260426T055602
CREATED:20171018T000813Z
LAST-MODIFIED:20171018T000813Z
UID:14286-1510050600-1510054200@nicolejohnston.com.au
SUMMARY:Fairfield | Literary event: Murder on the Orient Express
DESCRIPTION:To celebrate the film release of Agatha Christie’s Murder on the Orient Express\, literary events will be hosted by libraries across Brisbane to discuss this much-loved book. Join in with trivia\, facts and discussion – a must for every murder-mystery fan! Bookings essential.
URL:https://nicolejohnston.com.au/event/fairfield-literary-event-murder-on-the-orient-express/
LOCATION:Corinda Library\, 641 Oxley Road\, Corinda\, Queensland\, 4075\, Australia
GEO:-27.538881;152.98142
X-APPLE-STRUCTURED-LOCATION;VALUE=URI;X-ADDRESS=Corinda Library 641 Oxley Road Corinda Queensland 4075 Australia;X-APPLE-RADIUS=500;X-TITLE=641 Oxley Road:geo:152.98142,-27.538881
END:VEVENT
BEGIN:VEVENT
DTSTART;TZID=Australia/Brisbane:20171108T110000
DTEND;TZID=Australia/Brisbane:20171108T123000
DTSTAMP:20260426T055602
CREATED:20171018T000855Z
LAST-MODIFIED:20171018T000855Z
UID:14288-1510138800-1510144200@nicolejohnston.com.au
SUMMARY:Fairfield | Internet skills one
DESCRIPTION:Learn how to find your way around the internet safely\, save your favourite websites\, search for information and use Google to help you find answers. Basic computer skills are required. Bookings essential.\n\nA Brisbane Libraries Tech Connect workshop.
URL:https://nicolejohnston.com.au/event/fairfield-internet-skills-one-3/
LOCATION:Corinda Library\, 641 Oxley Road\, Corinda\, Queensland\, 4075\, Australia
GEO:-27.538881;152.98142
X-APPLE-STRUCTURED-LOCATION;VALUE=URI;X-ADDRESS=Corinda Library 641 Oxley Road Corinda Queensland 4075 Australia;X-APPLE-RADIUS=500;X-TITLE=641 Oxley Road:geo:152.98142,-27.538881
END:VEVENT
BEGIN:VEVENT
DTSTART;TZID=Australia/Brisbane:20171109T100000
DTEND;TZID=Australia/Brisbane:20171109T113000
DTSTAMP:20260426T055602
CREATED:20171018T000105Z
LAST-MODIFIED:20171018T000105Z
UID:14273-1510221600-1510227000@nicolejohnston.com.au
SUMMARY:Fairfield | CPR awareness
DESCRIPTION:Are you interested in developing practical knowledge and skill in cardiopulmonary resuscitation? This free workshop will give you the confidence to help keep someone alive using CPR while the ambulance is on its way. Presented by qualified trainers from the Queensland Local Ambulance Committee\, in partnership with the Queensland Ambulance Services.\n\nBookings essential.
URL:https://nicolejohnston.com.au/event/fairfield-cpr-awareness/
LOCATION:Fairfield Library\, Fairfield Gardens\, 180 Fairfield Rd\, Fairfield\, Queensland\, 4103\, Australia
GEO:-27.508752;153.025501
X-APPLE-STRUCTURED-LOCATION;VALUE=URI;X-ADDRESS=Fairfield Library Fairfield Gardens 180 Fairfield Rd Fairfield Queensland 4103 Australia;X-APPLE-RADIUS=500;X-TITLE=Fairfield Gardens\, 180 Fairfield Rd:geo:153.025501,-27.508752
END:VEVENT
BEGIN:VEVENT
DTSTART;TZID=Australia/Brisbane:20171109T180000
DTEND;TZID=Australia/Brisbane:20171109T190000
DTSTAMP:20260426T055602
CREATED:20171017T235052Z
LAST-MODIFIED:20171017T235052Z
UID:14261-1510250400-1510254000@nicolejohnston.com.au
SUMMARY:Local history night: Annerley Baptist Church
DESCRIPTION:Learn about how Annerley Baptist Church started in 1865. Bookings essential.
URL:https://nicolejohnston.com.au/event/local-history-night-annerley-baptist-church/
LOCATION:Annerley Library\, 469 Ipswich Rd\, Annerley\, Queensland\, 4103\, Australia
GEO:-27.5115338;153.0317863
X-APPLE-STRUCTURED-LOCATION;VALUE=URI;X-ADDRESS=Annerley Library 469 Ipswich Rd Annerley Queensland 4103 Australia;X-APPLE-RADIUS=500;X-TITLE=469 Ipswich Rd:geo:153.0317863,-27.5115338
END:VEVENT
BEGIN:VEVENT
DTSTART;TZID=Australia/Brisbane:20171110T140000
DTEND;TZID=Australia/Brisbane:20171110T153000
DTSTAMP:20260426T055602
CREATED:20171018T000141Z
LAST-MODIFIED:20171018T000141Z
UID:14275-1510322400-1510327800@nicolejohnston.com.au
SUMMARY:Fairfield | Library e-books for Androids and iPads
DESCRIPTION:Explore the wonderful world of Brisbane libraries’ free online e-books and e-audiobooks by learning how to set up your iPad or Android tablet to read or listen to your favourite online library content. Bring your own device\, Apple or Google Play Store details\, library card and email account details. Bookings essential.\n\nA Brisbane Libraries Tech Connect workshop.
URL:https://nicolejohnston.com.au/event/fairfield-library-e-books-for-androids-and-ipads-2/
LOCATION:Fairfield Library\, Fairfield Gardens\, 180 Fairfield Rd\, Fairfield\, Queensland\, 4103\, Australia
GEO:-27.508752;153.025501
X-APPLE-STRUCTURED-LOCATION;VALUE=URI;X-ADDRESS=Fairfield Library Fairfield Gardens 180 Fairfield Rd Fairfield Queensland 4103 Australia;X-APPLE-RADIUS=500;X-TITLE=Fairfield Gardens\, 180 Fairfield Rd:geo:153.025501,-27.508752
END:VEVENT
BEGIN:VEVENT
DTSTART;TZID=Australia/Brisbane:20171111T140000
DTEND;TZID=Australia/Brisbane:20171111T150000
DTSTAMP:20260426T055602
CREATED:20171018T001016Z
LAST-MODIFIED:20171018T001016Z
UID:14290-1510408800-1510412400@nicolejohnston.com.au
SUMMARY:Corinda | Second Saturday book club
DESCRIPTION:Read\, discuss and debate a fine selection of books with a friendly group. Please contact the library for further information. Bookings essential
URL:https://nicolejohnston.com.au/event/corinda-second-saturday-book-club-2/
LOCATION:Corinda Library\, 641 Oxley Road\, Corinda\, Queensland\, 4075\, Australia
GEO:-27.538881;152.98142
X-APPLE-STRUCTURED-LOCATION;VALUE=URI;X-ADDRESS=Corinda Library 641 Oxley Road Corinda Queensland 4075 Australia;X-APPLE-RADIUS=500;X-TITLE=641 Oxley Road:geo:152.98142,-27.538881
END:VEVENT
BEGIN:VEVENT
DTSTART;TZID=Australia/Brisbane:20171114T000000
DTEND;TZID=Australia/Brisbane:20171114T000000
DTSTAMP:20260426T055602
CREATED:20171114T010612Z
LAST-MODIFIED:20171114T010612Z
UID:9465-1510617600-1510617600@nicolejohnston.com.au
SUMMARY:Oxley Creek Catchment Association AGM 2016
DESCRIPTION:
URL:https://nicolejohnston.com.au/event/oxley-creek-catchment-association-agm-2016/
LOCATION:Qld
END:VEVENT
BEGIN:VEVENT
DTSTART;TZID=Australia/Brisbane:20171114T130000
DTEND;TZID=Australia/Brisbane:20171114T143000
DTSTAMP:20260426T055602
CREATED:20171017T235138Z
LAST-MODIFIED:20171017T235138Z
UID:14263-1510664400-1510669800@nicolejohnston.com.au
SUMMARY:Annerley | Online family history resources
DESCRIPTION:Learn how to search for your ancestors online using a range of library resources. Beginners and more advanced participants are welcome. Bookings essential.\n\nA Brisbane Libraries Tech Connect workshop.
URL:https://nicolejohnston.com.au/event/annerley-online-family-history-resources/
LOCATION:Annerley Library\, 469 Ipswich Rd\, Annerley\, Queensland\, 4103\, Australia
GEO:-27.5115338;153.0317863
X-APPLE-STRUCTURED-LOCATION;VALUE=URI;X-ADDRESS=Annerley Library 469 Ipswich Rd Annerley Queensland 4103 Australia;X-APPLE-RADIUS=500;X-TITLE=469 Ipswich Rd:geo:153.0317863,-27.5115338
END:VEVENT
BEGIN:VEVENT
DTSTART;TZID=Australia/Brisbane:20171115T110000
DTEND;TZID=Australia/Brisbane:20171115T123000
DTSTAMP:20260426T055602
CREATED:20171018T001122Z
LAST-MODIFIED:20171018T001122Z
UID:14292-1510743600-1510749000@nicolejohnston.com.au
SUMMARY:Corinda | Internet skills two
DESCRIPTION:Build on your basic internet skills by learning search strategies\, information evaluation techniques and exploring a range of interesting and useful online resources. Basic computer and internet skills are required. Bookings essential.\n\nA Brisbane Libraries Tech Connect workshop.
URL:https://nicolejohnston.com.au/event/corinda-internet-skills-two-2/
LOCATION:Corinda Library\, 641 Oxley Road\, Corinda\, Queensland\, 4075\, Australia
GEO:-27.538881;152.98142
X-APPLE-STRUCTURED-LOCATION;VALUE=URI;X-ADDRESS=Corinda Library 641 Oxley Road Corinda Queensland 4075 Australia;X-APPLE-RADIUS=500;X-TITLE=641 Oxley Road:geo:152.98142,-27.538881
END:VEVENT
BEGIN:VEVENT
DTSTART;TZID=Australia/Brisbane:20171117T140000
DTEND;TZID=Australia/Brisbane:20171117T153000
DTSTAMP:20260426T055602
CREATED:20171018T000223Z
LAST-MODIFIED:20171018T000223Z
UID:14277-1510927200-1510932600@nicolejohnston.com.au
SUMMARY:Fairfield | Facebook basics
DESCRIPTION:Learn how to create your own Facebook account to connect with family\, friends and your favourite organisations. Discover basic navigation skills and how to manage your privacy settings. Basic computer skills\, internet skills and an email account are required. Bookings essential.\n\nA Brisbane Libraries Tech Connect workshop.
URL:https://nicolejohnston.com.au/event/fairfield-facebook-basics-4/
LOCATION:Fairfield Library\, Fairfield Gardens\, 180 Fairfield Rd\, Fairfield\, Queensland\, 4103\, Australia
GEO:-27.508752;153.025501
X-APPLE-STRUCTURED-LOCATION;VALUE=URI;X-ADDRESS=Fairfield Library Fairfield Gardens 180 Fairfield Rd Fairfield Queensland 4103 Australia;X-APPLE-RADIUS=500;X-TITLE=Fairfield Gardens\, 180 Fairfield Rd:geo:153.025501,-27.508752
END:VEVENT
BEGIN:VEVENT
DTSTART;TZID=Australia/Brisbane:20171121T130000
DTEND;TZID=Australia/Brisbane:20171121T143000
DTSTAMP:20260426T055602
CREATED:20171017T235415Z
LAST-MODIFIED:20171017T235415Z
UID:14265-1511269200-1511274600@nicolejohnston.com.au
SUMMARY:Annerley | Trove basics
DESCRIPTION:Learn how to find and get access to more than four million Australian resources online including books\, images\, historic newspapers\, maps\, music\, archives and more. Bookings essential.\n\nA Brisbane Libraries Tech Connect workshop.
URL:https://nicolejohnston.com.au/event/annerley-trove-basics/
LOCATION:Annerley Library\, 469 Ipswich Rd\, Annerley\, Queensland\, 4103\, Australia
GEO:-27.5115338;153.0317863
X-APPLE-STRUCTURED-LOCATION;VALUE=URI;X-ADDRESS=Annerley Library 469 Ipswich Rd Annerley Queensland 4103 Australia;X-APPLE-RADIUS=500;X-TITLE=469 Ipswich Rd:geo:153.0317863,-27.5115338
END:VEVENT
BEGIN:VEVENT
DTSTART;TZID=Australia/Brisbane:20171121T173000
DTEND;TZID=Australia/Brisbane:20171121T200000
DTSTAMP:20260426T055602
CREATED:20171114T005045Z
LAST-MODIFIED:20171114T012425Z
UID:14452-1511285400-1511294400@nicolejohnston.com.au
SUMMARY:Oxley Creek Catchment Association AGM
DESCRIPTION:
URL:https://nicolejohnston.com.au/event/oxley-creek-catchment-association-agm/
LOCATION:Corinda Bowls Club\, 60 Hall St\, Corinda\, Qld\, 4075\, Australia
GEO:-27.5314721;152.986358
X-APPLE-STRUCTURED-LOCATION;VALUE=URI;X-ADDRESS=Corinda Bowls Club 60 Hall St Corinda Qld 4075 Australia;X-APPLE-RADIUS=500;X-TITLE=60 Hall St:geo:152.986358,-27.5314721
END:VEVENT
BEGIN:VEVENT
DTSTART;TZID=Australia/Brisbane:20171122T110000
DTEND;TZID=Australia/Brisbane:20171122T123000
DTSTAMP:20260426T055602
CREATED:20171018T001205Z
LAST-MODIFIED:20171018T001205Z
UID:14294-1511348400-1511353800@nicolejohnston.com.au
SUMMARY:Corinda | TV streaming on the internet
DESCRIPTION:Never miss your favourite television show again. Learn about online streaming and how to use the internet to watch television on a laptop\, mobile device or television. Basic computer knowledge and internet skills required. Bookings essential.\n\nA Brisbane Libraries Tech Connect workshop.
URL:https://nicolejohnston.com.au/event/corinda-tv-streaming-on-the-internet/
LOCATION:Corinda Library\, 641 Oxley Road\, Corinda\, Queensland\, 4075\, Australia
GEO:-27.538881;152.98142
X-APPLE-STRUCTURED-LOCATION;VALUE=URI;X-ADDRESS=Corinda Library 641 Oxley Road Corinda Queensland 4075 Australia;X-APPLE-RADIUS=500;X-TITLE=641 Oxley Road:geo:152.98142,-27.538881
END:VEVENT
BEGIN:VEVENT
DTSTART;TZID=Australia/Brisbane:20171124T140000
DTEND;TZID=Australia/Brisbane:20171124T153000
DTSTAMP:20260426T055602
CREATED:20171018T000331Z
LAST-MODIFIED:20171018T000331Z
UID:14279-1511532000-1511537400@nicolejohnston.com.au
SUMMARY:Fairfield | iPad help
DESCRIPTION:Learn how to find answers to your iPad questions and share tips with others in a group help session facilitated by library staff. Bring your own iPad and Apple ID account. Bookings essential.\n\nA Brisbane Libraries Tech Connect workshop.
URL:https://nicolejohnston.com.au/event/fairfield-ipad-help/
LOCATION:Fairfield Library\, Fairfield Gardens\, 180 Fairfield Rd\, Fairfield\, Queensland\, 4103\, Australia
GEO:-27.508752;153.025501
X-APPLE-STRUCTURED-LOCATION;VALUE=URI;X-ADDRESS=Fairfield Library Fairfield Gardens 180 Fairfield Rd Fairfield Queensland 4103 Australia;X-APPLE-RADIUS=500;X-TITLE=Fairfield Gardens\, 180 Fairfield Rd:geo:153.025501,-27.508752
END:VEVENT
BEGIN:VEVENT
DTSTART;TZID=Australia/Brisbane:20171125T133000
DTEND;TZID=Australia/Brisbane:20171125T143000
DTSTAMP:20260426T055602
CREATED:20171018T001249Z
LAST-MODIFIED:20171018T001249Z
UID:14296-1511616600-1511620200@nicolejohnston.com.au
SUMMARY:Corinda | Meet Jack Sim
DESCRIPTION:Brisbane’s infamous ‘man in black’\, Jack Sim\, walks the shadowy streets of town in search of stories and tales of horrible history. Join Jack for a thrilling story or two. Bookings essential.
URL:https://nicolejohnston.com.au/event/corinda-meet-jack-sim/
LOCATION:Corinda Library\, 641 Oxley Road\, Corinda\, Queensland\, 4075\, Australia
GEO:-27.538881;152.98142
X-APPLE-STRUCTURED-LOCATION;VALUE=URI;X-ADDRESS=Corinda Library 641 Oxley Road Corinda Queensland 4075 Australia;X-APPLE-RADIUS=500;X-TITLE=641 Oxley Road:geo:152.98142,-27.538881
END:VEVENT
BEGIN:VEVENT
DTSTART;TZID=Australia/Brisbane:20171126T063000
DTEND;TZID=Australia/Brisbane:20171126T210000
DTSTAMP:20260426T055602
CREATED:20171121T043036Z
LAST-MODIFIED:20171121T043036Z
UID:14548-1511677800-1511730000@nicolejohnston.com.au
SUMMARY:Sherwood Arboretum Bird Walk
DESCRIPTION:
URL:https://nicolejohnston.com.au/event/sherwood-arboretum-bird-walk-2/
LOCATION:Sherwood Arboretum\, 57 Dewar Terrace\, Sherwood\, Queensland\, 4075\, Australia
GEO:-27.532253;152.977305
X-APPLE-STRUCTURED-LOCATION;VALUE=URI;X-ADDRESS=Sherwood Arboretum 57 Dewar Terrace Sherwood Queensland 4075 Australia;X-APPLE-RADIUS=500;X-TITLE=57 Dewar Terrace:geo:152.977305,-27.532253
END:VEVENT
BEGIN:VEVENT
DTSTART;TZID=Australia/Brisbane:20171128T103000
DTEND;TZID=Australia/Brisbane:20171128T113000
DTSTAMP:20260426T055602
CREATED:20171018T001329Z
LAST-MODIFIED:20171018T001329Z
UID:14298-1511865000-1511868600@nicolejohnston.com.au
SUMMARY:Corinda | Literary event: Daphne Du Maurier
DESCRIPTION:Share your favourite Daphne Du Maurier books\, take part in some trivia and discuss this popular genre with other like-minded readers. Bookings essental.
URL:https://nicolejohnston.com.au/event/corinda-literary-event-daphne-du-maurier/
LOCATION:Corinda Library\, 641 Oxley Road\, Corinda\, Queensland\, 4075\, Australia
GEO:-27.538881;152.98142
X-APPLE-STRUCTURED-LOCATION;VALUE=URI;X-ADDRESS=Corinda Library 641 Oxley Road Corinda Queensland 4075 Australia;X-APPLE-RADIUS=500;X-TITLE=641 Oxley Road:geo:152.98142,-27.538881
END:VEVENT
BEGIN:VEVENT
DTSTART;TZID=Australia/Brisbane:20171129T110000
DTEND;TZID=Australia/Brisbane:20171129T123000
DTSTAMP:20260426T055602
CREATED:20171018T001407Z
LAST-MODIFIED:20171018T001407Z
UID:14300-1511953200-1511958600@nicolejohnston.com.au
SUMMARY:Corinda | Android help
DESCRIPTION:Learn how to find answers to your Android device questions and share tips with others in a group help session facilitated by library staff. Bring your own Android tablet and Google Play Store account details. Basic Android skills required. Bookings essential.\n\nA Brisbane Libraries Tech Connect workshop.
URL:https://nicolejohnston.com.au/event/corinda-android-help/
LOCATION:Corinda Library\, 641 Oxley Road\, Corinda\, Queensland\, 4075\, Australia
GEO:-27.538881;152.98142
X-APPLE-STRUCTURED-LOCATION;VALUE=URI;X-ADDRESS=Corinda Library 641 Oxley Road Corinda Queensland 4075 Australia;X-APPLE-RADIUS=500;X-TITLE=641 Oxley Road:geo:152.98142,-27.538881
END:VEVENT
BEGIN:VEVENT
DTSTART;TZID=Australia/Brisbane:20171129T153000
DTEND;TZID=Australia/Brisbane:20171129T163000
DTSTAMP:20260426T055602
CREATED:20171018T000420Z
LAST-MODIFIED:20171018T000420Z
UID:14281-1511969400-1511973000@nicolejohnston.com.au
SUMMARY:Fairfield | FBI: Fairfield book investigators kid's club
DESCRIPTION:In November\, read the Shaun the Sheep series. Ideal for children 6-11 years.
URL:https://nicolejohnston.com.au/event/fairfield-fbi-fairfield-book-investigators-kids-club-5/
LOCATION:Fairfield Library\, Fairfield Gardens\, 180 Fairfield Rd\, Fairfield\, Queensland\, 4103\, Australia
GEO:-27.508752;153.025501
X-APPLE-STRUCTURED-LOCATION;VALUE=URI;X-ADDRESS=Fairfield Library Fairfield Gardens 180 Fairfield Rd Fairfield Queensland 4103 Australia;X-APPLE-RADIUS=500;X-TITLE=Fairfield Gardens\, 180 Fairfield Rd:geo:153.025501,-27.508752
END:VEVENT
BEGIN:VEVENT
DTSTART;TZID=Australia/Brisbane:20171129T183000
DTEND;TZID=Australia/Brisbane:20171129T203000
DTSTAMP:20260426T055602
CREATED:20171114T004026Z
LAST-MODIFIED:20171114T004727Z
UID:14449-1511980200-1511987400@nicolejohnston.com.au
SUMMARY:Rocklea | Bush Connection Forum
DESCRIPTION:
URL:https://nicolejohnston.com.au/event/rocklea-bush-connection-forum/
LOCATION:Oxley Creek Common\, 271 Sherwood Rd\, Rocklea\, Qld\, 4106\, Australia
GEO:-27.535636;152.993047
X-APPLE-STRUCTURED-LOCATION;VALUE=URI;X-ADDRESS=Oxley Creek Common 271 Sherwood Rd Rocklea Qld 4106 Australia;X-APPLE-RADIUS=500;X-TITLE=271 Sherwood Rd:geo:152.993047,-27.535636
END:VEVENT
BEGIN:VEVENT
DTSTART;TZID=Australia/Brisbane:20171130T160000
DTEND;TZID=Australia/Brisbane:20171130T180000
DTSTAMP:20260426T055602
CREATED:20171114T010508Z
LAST-MODIFIED:20171114T010510Z
UID:14461-1512057600-1512064800@nicolejohnston.com.au
SUMMARY:Graceville | Sapphire Netball Club Registration Afternoon
DESCRIPTION:
URL:https://nicolejohnston.com.au/event/graceville-sapphire-netball-club-registration-afternoon/
LOCATION:Sapphire Netball Club\, 80 Waratah Ave\, Graceville\, Qld\, 4075\, Australia
GEO:-27.5191821;152.986163
X-APPLE-STRUCTURED-LOCATION;VALUE=URI;X-ADDRESS=Sapphire Netball Club 80 Waratah Ave Graceville Qld 4075 Australia;X-APPLE-RADIUS=500;X-TITLE=80 Waratah Ave:geo:152.986163,-27.5191821
END:VEVENT
END:VCALENDAR