BEGIN:VCALENDAR
VERSION:2.0
PRODID:-//Nicole Johnston - ECPv6.15.20//NONSGML v1.0//EN
CALSCALE:GREGORIAN
METHOD:PUBLISH
X-WR-CALNAME:Nicole Johnston
X-ORIGINAL-URL:https://nicolejohnston.com.au
X-WR-CALDESC:Events for Nicole Johnston
REFRESH-INTERVAL;VALUE=DURATION:PT1H
X-Robots-Tag:noindex
X-PUBLISHED-TTL:PT1H
BEGIN:VTIMEZONE
TZID:Australia/Brisbane
BEGIN:STANDARD
TZOFFSETFROM:+1000
TZOFFSETTO:+1000
TZNAME:AEST
DTSTART:20170101T000000
END:STANDARD
END:VTIMEZONE
BEGIN:VEVENT
DTSTART;TZID=Australia/Brisbane:20180405T150000
DTEND;TZID=Australia/Brisbane:20180405T160000
DTSTAMP:20260425T202850
CREATED:20180314T005237Z
LAST-MODIFIED:20180314T005237Z
UID:15209-1522940400-1522944000@nicolejohnston.com.au
SUMMARY:Fairfield | Billie B Brown's brilliant birthday party
DESCRIPTION:With exuberance\, humour and a very cheeky smile\, Billie B Brown has starred in more than 26 books – winning the hearts of children with her brave\, brilliant and bold personality. It’s been eight years since Billie first bounced onto the early reader scene and we think this beautiful birthday girl deserves a birthday celebration – you’re invited! Join an event of all things Billie and share your favourite reading experiences with other fans. Ideal for children aged 6-10 years. Bookings essential.
URL:https://nicolejohnston.com.au/event/fairfield-billie-b-browns-brilliant-birthday-party/
LOCATION:Fairfield Library\, Fairfield Gardens\, 180 Fairfield Rd\, Fairfield\, Queensland\, 4103\, Australia
GEO:-27.508752;153.025501
X-APPLE-STRUCTURED-LOCATION;VALUE=URI;X-ADDRESS=Fairfield Library Fairfield Gardens 180 Fairfield Rd Fairfield Queensland 4103 Australia;X-APPLE-RADIUS=500;X-TITLE=Fairfield Gardens\, 180 Fairfield Rd:geo:153.025501,-27.508752
END:VEVENT
BEGIN:VEVENT
DTSTART;TZID=Australia/Brisbane:20180406T110000
DTEND;TZID=Australia/Brisbane:20180406T114500
DTSTAMP:20260425T202850
CREATED:20180305T012138Z
LAST-MODIFIED:20180305T012138Z
UID:15155-1523012400-1523015100@nicolejohnston.com.au
SUMMARY:Annerley | Cover stories
DESCRIPTION:How does a book cover give readers clues about what’s inside? Be inspired by beautiful picture book artwork to create your own book cover and title. See if other participants can match your title with its cover! Ideal for children aged 6-10 years. Bookings essential.
URL:https://nicolejohnston.com.au/event/annerley-cover-stories/
LOCATION:Annerley Library\, 469 Ipswich Rd\, Annerley\, Queensland\, 4103\, Australia
GEO:-27.5115338;153.0317863
X-APPLE-STRUCTURED-LOCATION;VALUE=URI;X-ADDRESS=Annerley Library 469 Ipswich Rd Annerley Queensland 4103 Australia;X-APPLE-RADIUS=500;X-TITLE=469 Ipswich Rd:geo:153.0317863,-27.5115338
END:VEVENT
BEGIN:VEVENT
DTSTART;TZID=Australia/Brisbane:20180406T140000
DTEND;TZID=Australia/Brisbane:20180406T150000
DTSTAMP:20260425T202850
CREATED:20180326T045229Z
LAST-MODIFIED:20180326T045229Z
UID:15260-1523023200-1523026800@nicolejohnston.com.au
SUMMARY:Corinda | Maker space
DESCRIPTION:Enjoy your holidays with some great craft activities at the library
URL:https://nicolejohnston.com.au/event/corinda-maker-space-6/
LOCATION:Corinda Library\, 641 Oxley Road\, Corinda\, Queensland\, 4075\, Australia
GEO:-27.538881;152.98142
X-APPLE-STRUCTURED-LOCATION;VALUE=URI;X-ADDRESS=Corinda Library 641 Oxley Road Corinda Queensland 4075 Australia;X-APPLE-RADIUS=500;X-TITLE=641 Oxley Road:geo:152.98142,-27.538881
END:VEVENT
BEGIN:VEVENT
DTSTART;TZID=Australia/Brisbane:20180406T140000
DTEND;TZID=Australia/Brisbane:20180406T153000
DTSTAMP:20260425T202850
CREATED:20180314T005348Z
LAST-MODIFIED:20180314T005348Z
UID:15211-1523023200-1523028600@nicolejohnston.com.au
SUMMARY:Fairfield | iPad help
DESCRIPTION:Learn how to find answers to your iPad questions and share tips with others in a group help session facilitated by library staff. Bring your own iPad and Apple account details. Basic iPad skills required. Bookings essential.\n\nA Brisbane Libraries TechConnect workshop.
URL:https://nicolejohnston.com.au/event/fairfield-ipad-help-2/
LOCATION:Fairfield Library\, Fairfield Gardens\, 180 Fairfield Rd\, Fairfield\, Queensland\, 4103\, Australia
GEO:-27.508752;153.025501
X-APPLE-STRUCTURED-LOCATION;VALUE=URI;X-ADDRESS=Fairfield Library Fairfield Gardens 180 Fairfield Rd Fairfield Queensland 4103 Australia;X-APPLE-RADIUS=500;X-TITLE=Fairfield Gardens\, 180 Fairfield Rd:geo:153.025501,-27.508752
END:VEVENT
BEGIN:VEVENT
DTSTART;TZID=Australia/Brisbane:20180406T183000
DTEND;TZID=Australia/Brisbane:20180406T220000
DTSTAMP:20260425T202850
CREATED:20180326T050502Z
LAST-MODIFIED:20180326T050503Z
UID:15279-1523039400-1523052000@nicolejohnston.com.au
SUMMARY:Chelmer | Riverside Church Movie Night
DESCRIPTION:
URL:https://nicolejohnston.com.au/event/chelmer-riverside-church-movie-night/2018-04-06/
LOCATION:Riverside Christian Church\, 26 Glenwood St\, Chelmer\, Qld\, 4075\, Australia
GEO:-27.5122024;152.9768831
X-APPLE-STRUCTURED-LOCATION;VALUE=URI;X-ADDRESS=Riverside Christian Church 26 Glenwood St Chelmer Qld 4075 Australia;X-APPLE-RADIUS=500;X-TITLE=26 Glenwood St:geo:152.9768831,-27.5122024
END:VEVENT
BEGIN:VEVENT
DTSTART;TZID=Australia/Brisbane:20180409T130000
DTEND;TZID=Australia/Brisbane:20180409T150000
DTSTAMP:20260425T202850
CREATED:20180305T012651Z
LAST-MODIFIED:20180305T012651Z
UID:15157-1523278800-1523286000@nicolejohnston.com.au
SUMMARY:Annerley | Sporting stories
DESCRIPTION:Join in the fun and spirit of the Commonwealth games these holidays. Enjoy stories\, games\, trivia and craft with a sporting theme. Learn about the Commonwelth Games\, the sports and countires involved. Ideal for children aged 6-10 years. Bookings essential.
URL:https://nicolejohnston.com.au/event/annerley-sporting-stories/
LOCATION:Annerley Library\, 469 Ipswich Rd\, Annerley\, Queensland\, 4103\, Australia
GEO:-27.5115338;153.0317863
X-APPLE-STRUCTURED-LOCATION;VALUE=URI;X-ADDRESS=Annerley Library 469 Ipswich Rd Annerley Queensland 4103 Australia;X-APPLE-RADIUS=500;X-TITLE=469 Ipswich Rd:geo:153.0317863,-27.5115338
END:VEVENT
BEGIN:VEVENT
DTSTART;TZID=Australia/Brisbane:20180411T110000
DTEND;TZID=Australia/Brisbane:20180411T123000
DTSTAMP:20260425T202850
CREATED:20180326T045309Z
LAST-MODIFIED:20180326T045309Z
UID:15262-1523444400-1523449800@nicolejohnston.com.au
SUMMARY:Corinda | Facebook basics
DESCRIPTION:Learn how to create your own Facebook account to connect with family\, friends and your favourite organisations. Discover basic navigation skills and how to manage your privacy settings. Basic computer skills\, internet skills and an email account are required. Bookings essential.
URL:https://nicolejohnston.com.au/event/corinda-facebook-basics-2/
LOCATION:Corinda Library\, 641 Oxley Road\, Corinda\, Queensland\, 4075\, Australia
GEO:-27.538881;152.98142
X-APPLE-STRUCTURED-LOCATION;VALUE=URI;X-ADDRESS=Corinda Library 641 Oxley Road Corinda Queensland 4075 Australia;X-APPLE-RADIUS=500;X-TITLE=641 Oxley Road:geo:152.98142,-27.538881
END:VEVENT
BEGIN:VEVENT
DTSTART;TZID=Australia/Brisbane:20180411T140000
DTEND;TZID=Australia/Brisbane:20180411T150000
DTSTAMP:20260425T202850
CREATED:20180326T045352Z
LAST-MODIFIED:20180326T045352Z
UID:15264-1523455200-1523458800@nicolejohnston.com.au
SUMMARY:Corinda | Ozobot treasure hunt
DESCRIPTION:During this workshop\, participants will work in pairs to create a simple program for an Ozobot miniature robot to navigate a maze and get to the treasure. Ideal for children aged 8-12 years. Bookings essential.
URL:https://nicolejohnston.com.au/event/corinda-ozobot-treasure-hunt/
LOCATION:Corinda Library\, 641 Oxley Road\, Corinda\, Queensland\, 4075\, Australia
GEO:-27.538881;152.98142
X-APPLE-STRUCTURED-LOCATION;VALUE=URI;X-ADDRESS=Corinda Library 641 Oxley Road Corinda Queensland 4075 Australia;X-APPLE-RADIUS=500;X-TITLE=641 Oxley Road:geo:152.98142,-27.538881
END:VEVENT
BEGIN:VEVENT
DTSTART;TZID=Australia/Brisbane:20180412T140000
DTEND;TZID=Australia/Brisbane:20180412T150000
DTSTAMP:20260425T202850
CREATED:20180314T005444Z
LAST-MODIFIED:20180314T005444Z
UID:15213-1523541600-1523545200@nicolejohnston.com.au
SUMMARY:Fairfield | Commonwealth Games celebration
DESCRIPTION:Celebrate the Commonwealth Games at the Fairfield Library. Participate in the modified Commonwelath sports events\, play trivia and create some arts and craft. Ideal for children aged 6-12 years. Bookings essential.
URL:https://nicolejohnston.com.au/event/fairfield-commonwealth-games-celebration/
LOCATION:Fairfield Library\, Fairfield Gardens\, 180 Fairfield Rd\, Fairfield\, Queensland\, 4103\, Australia
GEO:-27.508752;153.025501
X-APPLE-STRUCTURED-LOCATION;VALUE=URI;X-ADDRESS=Fairfield Library Fairfield Gardens 180 Fairfield Rd Fairfield Queensland 4103 Australia;X-APPLE-RADIUS=500;X-TITLE=Fairfield Gardens\, 180 Fairfield Rd:geo:153.025501,-27.508752
END:VEVENT
BEGIN:VEVENT
DTSTART;TZID=Australia/Brisbane:20180413T140000
DTEND;TZID=Australia/Brisbane:20180413T150000
DTSTAMP:20260425T202850
CREATED:20180326T045429Z
LAST-MODIFIED:20180326T045429Z
UID:15266-1523628000-1523631600@nicolejohnston.com.au
SUMMARY:Corinda | Maker space
DESCRIPTION:Enjoy your holidays with some great craft activities at the library
URL:https://nicolejohnston.com.au/event/corinda-maker-space-7/
LOCATION:Corinda Library\, 641 Oxley Road\, Corinda\, Queensland\, 4075\, Australia
GEO:-27.538881;152.98142
X-APPLE-STRUCTURED-LOCATION;VALUE=URI;X-ADDRESS=Corinda Library 641 Oxley Road Corinda Queensland 4075 Australia;X-APPLE-RADIUS=500;X-TITLE=641 Oxley Road:geo:152.98142,-27.538881
END:VEVENT
BEGIN:VEVENT
DTSTART;TZID=Australia/Brisbane:20180413T140000
DTEND;TZID=Australia/Brisbane:20180413T153000
DTSTAMP:20260425T202850
CREATED:20180314T005538Z
LAST-MODIFIED:20180314T005601Z
UID:15215-1523628000-1523633400@nicolejohnston.com.au
SUMMARY:Fairfield | Social media basics
DESCRIPTION:Learn about popular social media sites including Facebook\, Twitter\, Pinterest\, Tumblr and Instagram. Discover how these websites help you to connect with family\, friends and organisations online. Basic computer and internet skills required. Bookings essential.\n\nA Brisbane Libraries TechConnect workshop.
URL:https://nicolejohnston.com.au/event/fairfield-social-media-basics-4/
LOCATION:Fairfield Library\, Fairfield Gardens\, 180 Fairfield Rd\, Fairfield\, Queensland\, 4103\, Australia
GEO:-27.508752;153.025501
X-APPLE-STRUCTURED-LOCATION;VALUE=URI;X-ADDRESS=Fairfield Library Fairfield Gardens 180 Fairfield Rd Fairfield Queensland 4103 Australia;X-APPLE-RADIUS=500;X-TITLE=Fairfield Gardens\, 180 Fairfield Rd:geo:153.025501,-27.508752
END:VEVENT
BEGIN:VEVENT
DTSTART;TZID=Australia/Brisbane:20180414T140000
DTEND;TZID=Australia/Brisbane:20180414T150000
DTSTAMP:20260425T202850
CREATED:20180326T045517Z
LAST-MODIFIED:20180326T045517Z
UID:15268-1523714400-1523718000@nicolejohnston.com.au
SUMMARY:Corinda | Second Saturday book club
DESCRIPTION:For April\, read and discuss The Enchanted April by Elizabeth Von  Arnim.  Bookings essential.
URL:https://nicolejohnston.com.au/event/corinda-second-saturday-book-club-4/
LOCATION:Corinda Library\, 641 Oxley Road\, Corinda\, Queensland\, 4075\, Australia
GEO:-27.538881;152.98142
X-APPLE-STRUCTURED-LOCATION;VALUE=URI;X-ADDRESS=Corinda Library 641 Oxley Road Corinda Queensland 4075 Australia;X-APPLE-RADIUS=500;X-TITLE=641 Oxley Road:geo:152.98142,-27.538881
END:VEVENT
BEGIN:VEVENT
DTSTART;TZID=Australia/Brisbane:20180414T140000
DTEND;TZID=Australia/Brisbane:20180414T153000
DTSTAMP:20260425T202850
CREATED:20180314T005651Z
LAST-MODIFIED:20180314T005651Z
UID:15217-1523714400-1523719800@nicolejohnston.com.au
SUMMARY:Fairfield | In the night garden
DESCRIPTION:In the subtropics\, enjoying your garden at night is sometimes the only time to enjoy it – especially during the summer months. This seminar with horticulturalist Claire Bickle looks at plant selection\, lighting\, water features and more to help you create a garden that can be enjoyed during the day and night. Bookings essential.
URL:https://nicolejohnston.com.au/event/fairfield-in-the-night-garden/
LOCATION:Fairfield Library\, Fairfield Gardens\, 180 Fairfield Rd\, Fairfield\, Queensland\, 4103\, Australia
GEO:-27.508752;153.025501
X-APPLE-STRUCTURED-LOCATION;VALUE=URI;X-ADDRESS=Fairfield Library Fairfield Gardens 180 Fairfield Rd Fairfield Queensland 4103 Australia;X-APPLE-RADIUS=500;X-TITLE=Fairfield Gardens\, 180 Fairfield Rd:geo:153.025501,-27.508752
END:VEVENT
BEGIN:VEVENT
DTSTART;TZID=Australia/Brisbane:20180414T173000
DTEND;TZID=Australia/Brisbane:20180414T210000
DTSTAMP:20260425T202850
CREATED:20180404T020417Z
LAST-MODIFIED:20180404T020421Z
UID:15318-1523727000-1523739600@nicolejohnston.com.au
SUMMARY:** Rescheduled** Chelmer | Movie in the Park
DESCRIPTION:
URL:https://nicolejohnston.com.au/event/rescheduled-chelmer-movie-in-the-park/
LOCATION:Sherwood Football Club\, 83 Oxley Rd\, Chelmer\, Qld\, 4068\, Australia
GEO:-27.5133743;152.9753593
X-APPLE-STRUCTURED-LOCATION;VALUE=URI;X-ADDRESS=Sherwood Football Club 83 Oxley Rd Chelmer Qld 4068 Australia;X-APPLE-RADIUS=500;X-TITLE=83 Oxley Rd:geo:152.9753593,-27.5133743
END:VEVENT
BEGIN:VEVENT
DTSTART;TZID=Australia/Brisbane:20180417T100000
DTEND;TZID=Australia/Brisbane:20180417T113000
DTSTAMP:20260425T202850
CREATED:20180305T012850Z
LAST-MODIFIED:20180305T012850Z
UID:15159-1523959200-1523964600@nicolejohnston.com.au
SUMMARY:Annerley | Smartphone skills
DESCRIPTION:Learn how to navigate your way around a smartphone with a touch screen. This includes how to make and receive calls\, create and send text messages\, add contacts and install apps. Perfect for the first time user. Bring your own smartphone. Bookings essential.
URL:https://nicolejohnston.com.au/event/annerley-smartphone-skills-3/
LOCATION:Annerley Library\, 469 Ipswich Rd\, Annerley\, Queensland\, 4103\, Australia
GEO:-27.5115338;153.0317863
X-APPLE-STRUCTURED-LOCATION;VALUE=URI;X-ADDRESS=Annerley Library 469 Ipswich Rd Annerley Queensland 4103 Australia;X-APPLE-RADIUS=500;X-TITLE=469 Ipswich Rd:geo:153.0317863,-27.5115338
END:VEVENT
BEGIN:VEVENT
DTSTART;TZID=Australia/Brisbane:20180418T110000
DTEND;TZID=Australia/Brisbane:20180418T123000
DTSTAMP:20260425T202850
CREATED:20180326T045600Z
LAST-MODIFIED:20180326T045600Z
UID:15270-1524049200-1524054600@nicolejohnston.com.au
SUMMARY:Corinda | Simple photo editing
DESCRIPTION:Learn how to organise your photos\, make simple changes to digital photos before printing and create photobooks. Bring your own photos or use sample images provided. Basic computer and internet skills required. Bookings essential.\n\nA Brisbane Libraries Tech Connect workshop.
URL:https://nicolejohnston.com.au/event/corinda-simple-photo-editing/
LOCATION:Corinda Library\, 641 Oxley Road\, Corinda\, Queensland\, 4075\, Australia
GEO:-27.538881;152.98142
X-APPLE-STRUCTURED-LOCATION;VALUE=URI;X-ADDRESS=Corinda Library 641 Oxley Road Corinda Queensland 4075 Australia;X-APPLE-RADIUS=500;X-TITLE=641 Oxley Road:geo:152.98142,-27.538881
END:VEVENT
BEGIN:VEVENT
DTSTART;TZID=Australia/Brisbane:20180420T140000
DTEND;TZID=Australia/Brisbane:20180420T153000
DTSTAMP:20260425T202850
CREATED:20180314T005808Z
LAST-MODIFIED:20180314T005808Z
UID:15219-1524232800-1524238200@nicolejohnston.com.au
SUMMARY:Fairfield | Android help
DESCRIPTION:Learn how to find answers to your Android device questions and share tips with others in a group help session facilitated by library staff. Bring your own Android tablet and Google Play Store account details. Basic Android skills required. Bookings essential.\n\nA Brisbane Libraries TechConnect workshop
URL:https://nicolejohnston.com.au/event/fairfield-android-help-3/
LOCATION:Fairfield Library\, Fairfield Gardens\, 180 Fairfield Rd\, Fairfield\, Queensland\, 4103\, Australia
GEO:-27.508752;153.025501
X-APPLE-STRUCTURED-LOCATION;VALUE=URI;X-ADDRESS=Fairfield Library Fairfield Gardens 180 Fairfield Rd Fairfield Queensland 4103 Australia;X-APPLE-RADIUS=500;X-TITLE=Fairfield Gardens\, 180 Fairfield Rd:geo:153.025501,-27.508752
END:VEVENT
BEGIN:VEVENT
DTSTART;TZID=Australia/Brisbane:20180421T103000
DTEND;TZID=Australia/Brisbane:20180421T113000
DTSTAMP:20260425T202850
CREATED:20180326T045639Z
LAST-MODIFIED:20180326T045639Z
UID:15272-1524306600-1524310200@nicolejohnston.com.au
SUMMARY:Corinda | World Kitchen: Tastes of Sri Lanka
DESCRIPTION:Enjoy a morning exploring the fresh and spicy cuisine of Sri Lanka. Presented by the Sinhala Association of Queensland. Bookings essential.
URL:https://nicolejohnston.com.au/event/corinda-world-kitchen-tastes-of-sri-lanka/
LOCATION:Corinda Library\, 641 Oxley Road\, Corinda\, Queensland\, 4075\, Australia
GEO:-27.538881;152.98142
X-APPLE-STRUCTURED-LOCATION;VALUE=URI;X-ADDRESS=Corinda Library 641 Oxley Road Corinda Queensland 4075 Australia;X-APPLE-RADIUS=500;X-TITLE=641 Oxley Road:geo:152.98142,-27.538881
END:VEVENT
BEGIN:VEVENT
DTSTART;TZID=Australia/Brisbane:20180424T100000
DTEND;TZID=Australia/Brisbane:20180424T113000
DTSTAMP:20260425T202850
CREATED:20180305T013027Z
LAST-MODIFIED:20180305T013027Z
UID:15161-1524564000-1524569400@nicolejohnston.com.au
SUMMARY:Annerley | Simple photo editing
DESCRIPTION:Learn how to organise your photos\, make simple changes to digital photos before printing and create photobooks. Bring your own photos or use sample images provided. Basic computer and internet skills required. Bookings essential.
URL:https://nicolejohnston.com.au/event/annerley-simple-photo-editing/
LOCATION:Annerley Library\, 469 Ipswich Rd\, Annerley\, Queensland\, 4103\, Australia
GEO:-27.5115338;153.0317863
X-APPLE-STRUCTURED-LOCATION;VALUE=URI;X-ADDRESS=Annerley Library 469 Ipswich Rd Annerley Queensland 4103 Australia;X-APPLE-RADIUS=500;X-TITLE=469 Ipswich Rd:geo:153.0317863,-27.5115338
END:VEVENT
BEGIN:VEVENT
DTSTART;TZID=Australia/Brisbane:20180424T103000
DTEND;TZID=Australia/Brisbane:20180424T113000
DTSTAMP:20260425T202850
CREATED:20180326T045723Z
LAST-MODIFIED:20180326T045723Z
UID:15274-1524565800-1524569400@nicolejohnston.com.au
SUMMARY:Corinda | Meet Lauren Loos
DESCRIPTION:When all we ever see are the highlights\, it’s easy to think our friends are leading perfect lives. But what happens when those perfect veneers begin to crumble?\n\nKate is beautiful and free. Rachel has the perfect family. Alex travels the world with her gorgeous husband. Michelle has an amazing career. But no matter how perfect their lives seem from the outside\, they all have secrets – disturbing\, mundane and heartbreaking secrets. There’s so much more to these women than cookie-cutter perfection. And they all feel as though they’re missing … something. \nAs jealousy threatens to tear friendships apart\, can these women see past their friends’ perfect lives to be there when they’re needed most? Perfect Lives is a funny\, relatable and at times devastatingly real novel about friendship\, jealousy and the fact that people’s lives are rarely what they seem. \nJoin Lauren Loos as she discusses her novel and takes a light-hearted look at the some of the challenges she encountered writing with a newborn. \nBooks will be available for purchase on the day\, or bring your copy from home for Lauren to sign. \nBookings essential. To reserve your place\, visit Eventbrite or phone the library.
URL:https://nicolejohnston.com.au/event/corinda-meet-lauren-loos/
LOCATION:Corinda Library\, 641 Oxley Road\, Corinda\, Queensland\, 4075\, Australia
GEO:-27.538881;152.98142
X-APPLE-STRUCTURED-LOCATION;VALUE=URI;X-ADDRESS=Corinda Library 641 Oxley Road Corinda Queensland 4075 Australia;X-APPLE-RADIUS=500;X-TITLE=641 Oxley Road:geo:152.98142,-27.538881
END:VEVENT
BEGIN:VEVENT
DTSTART;TZID=Australia/Brisbane:20180427T140000
DTEND;TZID=Australia/Brisbane:20180427T153000
DTSTAMP:20260425T202850
CREATED:20180314T005924Z
LAST-MODIFIED:20180314T005924Z
UID:15221-1524837600-1524843000@nicolejohnston.com.au
SUMMARY:Fairfield | eBay and Gumtree basics
DESCRIPTION:Looking to de-clutter or add to your home? Learn about buying and selling goods safely online through eBay and Gumtree. Basic computer and internet skills required. Bookings essential.\n\nA Brisbane Libraries TechConnect workshop.
URL:https://nicolejohnston.com.au/event/fairfield-ebay-and-gumtree-basics-3/
LOCATION:Fairfield Library\, Fairfield Gardens\, 180 Fairfield Rd\, Fairfield\, Queensland\, 4103\, Australia
GEO:-27.508752;153.025501
X-APPLE-STRUCTURED-LOCATION;VALUE=URI;X-ADDRESS=Fairfield Library Fairfield Gardens 180 Fairfield Rd Fairfield Queensland 4103 Australia;X-APPLE-RADIUS=500;X-TITLE=Fairfield Gardens\, 180 Fairfield Rd:geo:153.025501,-27.508752
END:VEVENT
BEGIN:VEVENT
DTSTART;TZID=Australia/Brisbane:20180428T110000
DTEND;TZID=Australia/Brisbane:20180428T130000
DTSTAMP:20260425T202850
CREATED:20180305T013133Z
LAST-MODIFIED:20180305T013133Z
UID:15163-1524913200-1524920400@nicolejohnston.com.au
SUMMARY:Annerley | Indoor plants for health
DESCRIPTION:Cities around the world see indoor plants as an effective way to enhance the health of office workers. These health benefits extend into our personal homes. Indoor plants are once again trendy! This workshop will look at a range of indoor plants to use in the home and at work for our health. Bookings essential.
URL:https://nicolejohnston.com.au/event/annerley-indoor-plants-for-health/
LOCATION:Annerley Library\, 469 Ipswich Rd\, Annerley\, Queensland\, 4103\, Australia
GEO:-27.5115338;153.0317863
X-APPLE-STRUCTURED-LOCATION;VALUE=URI;X-ADDRESS=Annerley Library 469 Ipswich Rd Annerley Queensland 4103 Australia;X-APPLE-RADIUS=500;X-TITLE=469 Ipswich Rd:geo:153.0317863,-27.5115338
END:VEVENT
BEGIN:VEVENT
DTSTART;TZID=Australia/Brisbane:20180429T113000
DTEND;TZID=Australia/Brisbane:20180429T140000
DTSTAMP:20260425T202850
CREATED:20180326T050151Z
LAST-MODIFIED:20180326T050151Z
UID:15276-1525001400-1525010400@nicolejohnston.com.au
SUMMARY:Sherwood Neighbourhood Watch Community BBQ
DESCRIPTION:
URL:https://nicolejohnston.com.au/event/sherwood-neighbourhood-watch-community-bbq/
LOCATION:Strickland Tce Park\, 11 Strickland Tce\, Sherwood\, Qld\, 4075\, Australia
GEO:-27.5283393;152.9895341
X-APPLE-STRUCTURED-LOCATION;VALUE=URI;X-ADDRESS=Strickland Tce Park 11 Strickland Tce Sherwood Qld 4075 Australia;X-APPLE-RADIUS=500;X-TITLE=11 Strickland Tce:geo:152.9895341,-27.5283393
END:VEVENT
END:VCALENDAR