BEGIN:VCALENDAR
VERSION:2.0
PRODID:-//Nicole Johnston - ECPv6.15.20//NONSGML v1.0//EN
CALSCALE:GREGORIAN
METHOD:PUBLISH
X-WR-CALNAME:Nicole Johnston
X-ORIGINAL-URL:https://nicolejohnston.com.au
X-WR-CALDESC:Events for Nicole Johnston
REFRESH-INTERVAL;VALUE=DURATION:PT1H
X-Robots-Tag:noindex
X-PUBLISHED-TTL:PT1H
BEGIN:VTIMEZONE
TZID:Australia/Brisbane
BEGIN:STANDARD
TZOFFSETFROM:+1000
TZOFFSETTO:+1000
TZNAME:AEST
DTSTART:20190101T000000
END:STANDARD
END:VTIMEZONE
BEGIN:VEVENT
DTSTART;TZID=Australia/Brisbane:20200403T170000
DTEND;TZID=Australia/Brisbane:20200403T200000
DTSTAMP:20260426T033328
CREATED:20200224T043519Z
LAST-MODIFIED:20200224T043519Z
UID:21533-1585933200-1585944000@nicolejohnston.com.au
SUMMARY:Graceville | Kayak Moon River
DESCRIPTION:Bookings essential. A great opportunity to enjoy a relaxing paddle and explore your local waterway in a kayak. Enjoy some family time\, get a group of friends together\, or come on your own to meet some new people. All equipment and instruction is provided\, perfect for beginners or those with experience. \nBookings essential. To book visit Paddle Queensland. For more information phone 0414 960 728.
URL:https://nicolejohnston.com.au/event/graceville-kayak-moon-river/
LOCATION:Simpsons Playground\, cnr Graceville Ave and Nadine St\,  Graceville\, Qld\, 4075\, Australia
GEO:-27.5235837;152.9920697
X-APPLE-STRUCTURED-LOCATION;VALUE=URI;X-ADDRESS=Simpsons Playground cnr Graceville Ave and Nadine St  Graceville Qld 4075 Australia;X-APPLE-RADIUS=500;X-TITLE=cnr Graceville Ave and Nadine St:geo:152.9920697,-27.5235837
END:VEVENT
BEGIN:VEVENT
DTSTART;TZID=Australia/Brisbane:20200406T080000
DTEND;TZID=Australia/Brisbane:20200406T110000
DTSTAMP:20260426T033328
CREATED:20200224T043658Z
LAST-MODIFIED:20200224T043658Z
UID:21535-1586160000-1586170800@nicolejohnston.com.au
SUMMARY:Graceville | Kayak Explore
DESCRIPTION:Bookings essential. Splash out and have some fun. A great opportunity to enjoy a relaxing paddle while exploring Brisbane’s waterways. Suitable for seniors and one or two accompanying children aged ten years and over. \nThis is a GOLD’n’Kids event suitable for seniors and children ten years and over. \nBookings essential. To book visit Paddle Queensland. For more information phone 0414 960 728. \nWear enclosed footwear and clothing suitable to paddle in and get wet. Bring a towel and a change of clothes.
URL:https://nicolejohnston.com.au/event/graceville-kayak-explore/
LOCATION:Simpsons Playground\, cnr Graceville Ave and Nadine St\,  Graceville\, Qld\, 4075\, Australia
GEO:-27.5235837;152.9920697
X-APPLE-STRUCTURED-LOCATION;VALUE=URI;X-ADDRESS=Simpsons Playground cnr Graceville Ave and Nadine St  Graceville Qld 4075 Australia;X-APPLE-RADIUS=500;X-TITLE=cnr Graceville Ave and Nadine St:geo:152.9920697,-27.5235837
END:VEVENT
BEGIN:VEVENT
DTSTART;TZID=Australia/Brisbane:20200406T100000
DTEND;TZID=Australia/Brisbane:20200406T123000
DTSTAMP:20260426T033328
CREATED:20200129T004320Z
LAST-MODIFIED:20200129T004339Z
UID:20639-1586167200-1586176200@nicolejohnston.com.au
SUMMARY:Sherwood | Ceramic Pinch Pot Animals
DESCRIPTION:Bookings essential. Learn how to make a ceramic animal using the double pinch pot method in the first session. Then glaze the animal in the second session. \nThis is a GOLD event suitable for seniors. \nBookings essential. To book email Sherwood Neighbourhood Centre. For more information phone 07 3379 6963 (from Monday – Thursday).
URL:https://nicolejohnston.com.au/event/sherwood-ceramic-pinch-pot-animals/2020-04-06/
LOCATION:Sherwood Neighbourhood Centre\, 38 Thallon Street\, Sherwood\, Queensland\, 4075\, Australia
GEO:-27.53402;152.981098
X-APPLE-STRUCTURED-LOCATION;VALUE=URI;X-ADDRESS=Sherwood Neighbourhood Centre 38 Thallon Street Sherwood Queensland 4075 Australia;X-APPLE-RADIUS=500;X-TITLE=38 Thallon Street:geo:152.981098,-27.53402
END:VEVENT
BEGIN:VEVENT
DTSTART;TZID=Australia/Brisbane:20200408T143000
DTEND;TZID=Australia/Brisbane:20200408T153000
DTSTAMP:20260426T033328
CREATED:20200129T004647Z
LAST-MODIFIED:20200129T004647Z
UID:20644-1586356200-1586359800@nicolejohnston.com.au
SUMMARY:Sherwood | Belly Dancing for Seniors
DESCRIPTION:Bookings essential. Develop balance\, flexibility\, coordination\, strength and brain health through the gentle art of belly dancing. \nThis is a GOLD event suitable for seniors. \nBookings essential. To book email Sherwood Neighbourhood Centre. For more information phone 07 3379 6963 (from Monday – Thursday).
URL:https://nicolejohnston.com.au/event/sherwood-belly-dancing-for-seniors/2020-04-08/
LOCATION:Sherwood Neighbourhood Centre\, 38 Thallon Street\, Sherwood\, Queensland\, 4075\, Australia
GEO:-27.53402;152.981098
X-APPLE-STRUCTURED-LOCATION;VALUE=URI;X-ADDRESS=Sherwood Neighbourhood Centre 38 Thallon Street Sherwood Queensland 4075 Australia;X-APPLE-RADIUS=500;X-TITLE=38 Thallon Street:geo:152.981098,-27.53402
END:VEVENT
BEGIN:VEVENT
DTSTART;TZID=Australia/Brisbane:20200415T093000
DTEND;TZID=Australia/Brisbane:20200415T110000
DTSTAMP:20260426T033328
CREATED:20200224T034915Z
LAST-MODIFIED:20200224T034915Z
UID:21529-1586943000-1586948400@nicolejohnston.com.au
SUMMARY:Graceville | Lawn Bowls for the Young and Young at Heart
DESCRIPTION:Come and learn to play lawn bowls. Great for grandparents and older grandchildren to play together. \nWear flat-soled shoes\, thongs or go barefoot. Suitable for children over 12 years old.
URL:https://nicolejohnston.com.au/event/graceville-lawn-bowls-for-the-young-and-young-at-heart/2020-04-15/
LOCATION:Graceville Bowls Club\, 16 Wylie St\, Graceville\, Qld\, 4075\, Australia
END:VEVENT
BEGIN:VEVENT
DTSTART;TZID=Australia/Brisbane:20200416T100000
DTEND;TZID=Australia/Brisbane:20200416T120000
DTSTAMP:20260426T033328
CREATED:20200224T044046Z
LAST-MODIFIED:20200224T044046Z
UID:21537-1587031200-1587038400@nicolejohnston.com.au
SUMMARY:Graceville | River Adventure Walk
DESCRIPTION:Bookings essential. Come and join in the fun of a guided walk by the beautiful Brisbane River at Graceville. Every family who comes along will receive a River Passport with a list of key features to find including scenery and animals. Your family will work together as a team to find all the special locations\, then get them stamped in your passport. \nThis is a GOLD’n’Kids event suitable for seniors and children 4 years and over. \nBookings essential. Bookings open one month in advance. To book visit Bazil Grumble. For more information phone Bazil Grumble on 0411 246 487.
URL:https://nicolejohnston.com.au/event/graceville-river-adventure-walk/
LOCATION:Simpsons Playground\, cnr Graceville Ave and Nadine St\,  Graceville\, Qld\, 4075\, Australia
GEO:-27.5235837;152.9920697
X-APPLE-STRUCTURED-LOCATION;VALUE=URI;X-ADDRESS=Simpsons Playground cnr Graceville Ave and Nadine St  Graceville Qld 4075 Australia;X-APPLE-RADIUS=500;X-TITLE=cnr Graceville Ave and Nadine St:geo:152.9920697,-27.5235837
END:VEVENT
BEGIN:VEVENT
DTSTART;TZID=Australia/Brisbane:20200418T100000
DTEND;TZID=Australia/Brisbane:20200418T120000
DTSTAMP:20260426T033328
CREATED:20200129T005238Z
LAST-MODIFIED:20200129T005238Z
UID:20752-1587204000-1587211200@nicolejohnston.com.au
SUMMARY:Sherwood | Comedy and Clowning
DESCRIPTION:Bookings essential. Do you love to make people laugh? Learn about many aspects of comedy and clowning including mime and movement\, voice and characterisation. Work creatively\, both individually and in groups\, to invent scenes and short performance routines and to explore the fundamentals of what makes an audience laugh. \nThis is a Chillout event suitable for young people 10-17 years. \nBookings essential. Bookings open one month in advance. To book visit Bazil Grumble or for more information phone 0411 246 487.
URL:https://nicolejohnston.com.au/event/sherwood-comedy-and-clowning/
LOCATION:Sherwood Arboretum\, 57 Dewar Terrace\, Sherwood\, Queensland\, 4075\, Australia
GEO:-27.532253;152.977305
X-APPLE-STRUCTURED-LOCATION;VALUE=URI;X-ADDRESS=Sherwood Arboretum 57 Dewar Terrace Sherwood Queensland 4075 Australia;X-APPLE-RADIUS=500;X-TITLE=57 Dewar Terrace:geo:152.977305,-27.532253
END:VEVENT
BEGIN:VEVENT
DTSTART;TZID=Australia/Brisbane:20200420T093000
DTEND;TZID=Australia/Brisbane:20200420T123000
DTSTAMP:20260426T033328
CREATED:20200129T005942Z
LAST-MODIFIED:20200129T005942Z
UID:20761-1587375000-1587385800@nicolejohnston.com.au
SUMMARY:Sherwood | Painting Monet Magic
DESCRIPTION:Bookings essential. Learn how to paint a magnificent work of art\, step by step\, using acrylic paint. Take your canvas home. \nThis is a GOLD event suitable for seniors. \nBookings essential. To book email Sherwood Neighbourhood Centre. For more information phone 07 3379 6963 (from Monday – Thursday). \nBring an apron\, old clothes and enclosed shoes. All other materials and equipment provided.
URL:https://nicolejohnston.com.au/event/sherwood-painting-monet-magic/2020-04-20/
LOCATION:Sherwood Neighbourhood Centre\, 38 Thallon Street\, Sherwood\, Queensland\, 4075\, Australia
GEO:-27.53402;152.981098
X-APPLE-STRUCTURED-LOCATION;VALUE=URI;X-ADDRESS=Sherwood Neighbourhood Centre 38 Thallon Street Sherwood Queensland 4075 Australia;X-APPLE-RADIUS=500;X-TITLE=38 Thallon Street:geo:152.981098,-27.53402
END:VEVENT
BEGIN:VEVENT
DTSTART;TZID=Australia/Brisbane:20200423T090000
DTEND;TZID=Australia/Brisbane:20200423T120000
DTSTAMP:20260426T033328
CREATED:20200224T044222Z
LAST-MODIFIED:20200224T044222Z
UID:21539-1587632400-1587643200@nicolejohnston.com.au
SUMMARY:Graceville | Kayak Explore
DESCRIPTION:Bookings essential. A great opportunity to enjoy a relaxing paddle and explore your local waterway. Enjoy family time\, get a group of friends together or come on your own to meet new people. All equipment and instructions are provided. Perfect for beginners or those with experience. \nThis is a GOLD event suitable for seniors. \nBookings essential. To book visit Paddle Queensland. For more information phone 0414 960 728. \nWear enclosed footwear and clothing suitable to paddle in and get wet. Bring a towel and a change of clothes.
URL:https://nicolejohnston.com.au/event/graceville-kayak-explore-2/
LOCATION:Simpsons Playground\, cnr Graceville Ave and Nadine St\,  Graceville\, Qld\, 4075\, Australia
GEO:-27.5235837;152.9920697
X-APPLE-STRUCTURED-LOCATION;VALUE=URI;X-ADDRESS=Simpsons Playground cnr Graceville Ave and Nadine St  Graceville Qld 4075 Australia;X-APPLE-RADIUS=500;X-TITLE=cnr Graceville Ave and Nadine St:geo:152.9920697,-27.5235837
END:VEVENT
BEGIN:VEVENT
DTSTART;TZID=Australia/Brisbane:20200424T143000
DTEND;TZID=Australia/Brisbane:20200424T160000
DTSTAMP:20260426T033328
CREATED:20200224T034649Z
LAST-MODIFIED:20200224T034649Z
UID:21520-1587738600-1587744000@nicolejohnston.com.au
SUMMARY:Graceville | Lawn Bowls for Beginners
DESCRIPTION:Come and try the fun and friendly sport of lawn bowls in a relaxed environment. \nWear flat-soled enclosed footwear.
URL:https://nicolejohnston.com.au/event/graceville-lawn-bowls-for-beginners/2020-04-24/
LOCATION:Graceville Bowls Club\, 16 Wylie St\, Graceville\, Qld\, 4075\, Australia
END:VEVENT
BEGIN:VEVENT
DTSTART;TZID=Australia/Brisbane:20200426T080000
DTEND;TZID=Australia/Brisbane:20200426T100000
DTSTAMP:20260426T033328
CREATED:20191210T234651Z
LAST-MODIFIED:20191210T234651Z
UID:20059-1587888000-1587895200@nicolejohnston.com.au
SUMMARY:Tennyson | Bike Riding Skills for Adults
DESCRIPTION:Ready to ride where you want to go by bike? This essential workshop will focus on how to ride on the road and will include learning how to ensure you are seen and can be seen. Experienced trainers will observe you putting your new skills into practice. They will also provide useful tips on riding to where you want to go\, including choosing suitable routes. Numbers strictly limited – book early. \n  \nPresented as part of Council’s Active and Healthy and Cycling Brisbane programs. Bookings essential. Contact 0427 431 481 for more information.
URL:https://nicolejohnston.com.au/event/tennyson-bike-riding-skills-for-adults/
LOCATION:Ken Fletcher Park\, 27 Softstone St\, Tennyson\, Queensland\, 4105\, Australia
GEO:-27.5260738;153.0052948
X-APPLE-STRUCTURED-LOCATION;VALUE=URI;X-ADDRESS=Ken Fletcher Park 27 Softstone St Tennyson Queensland 4105 Australia;X-APPLE-RADIUS=500;X-TITLE=27 Softstone St:geo:153.0052948,-27.5260738
END:VEVENT
END:VCALENDAR