BEGIN:VCALENDAR
VERSION:2.0
PRODID:-//Nicole Johnston - ECPv6.15.20//NONSGML v1.0//EN
CALSCALE:GREGORIAN
METHOD:PUBLISH
X-ORIGINAL-URL:https://nicolejohnston.com.au
X-WR-CALDESC:Events for Nicole Johnston
REFRESH-INTERVAL;VALUE=DURATION:PT1H
X-Robots-Tag:noindex
X-PUBLISHED-TTL:PT1H
BEGIN:VTIMEZONE
TZID:Australia/Brisbane
BEGIN:STANDARD
TZOFFSETFROM:+1000
TZOFFSETTO:+1000
TZNAME:AEST
DTSTART:20190101T000000
END:STANDARD
END:VTIMEZONE
BEGIN:VEVENT
DTSTART;TZID=Australia/Brisbane:20200508T100000
DTEND;TZID=Australia/Brisbane:20200508T120000
DTSTAMP:20260426T052023
CREATED:20200224T044542Z
LAST-MODIFIED:20200224T044542Z
UID:21541-1588932000-1588939200@nicolejohnston.com.au
SUMMARY:Graceville | A Pirate's Life for Me
DESCRIPTION:Bookings essential. Come dressed as a pirate to this session where children can learn how to talk like a pirate\, walk like a pirate and also learn how to play a pirate’s favourite games. This is a swash buckling session perfect for little buccaneers. \nBookings essential. Bookings open one month in advance. To book visit Bazil Grumble or for more information phone 0411 246 487.
URL:https://nicolejohnston.com.au/event/graceville-a-pirates-life-for-me/
LOCATION:Simpsons Playground\, cnr Graceville Ave and Nadine St\,  Graceville\, Qld\, 4075\, Australia
GEO:-27.5235837;152.9920697
X-APPLE-STRUCTURED-LOCATION;VALUE=URI;X-ADDRESS=Simpsons Playground cnr Graceville Ave and Nadine St  Graceville Qld 4075 Australia;X-APPLE-RADIUS=500;X-TITLE=cnr Graceville Ave and Nadine St:geo:152.9920697,-27.5235837
END:VEVENT
BEGIN:VEVENT
DTSTART;TZID=Australia/Brisbane:20200513T093000
DTEND;TZID=Australia/Brisbane:20200513T113000
DTSTAMP:20260426T052023
CREATED:20200129T010134Z
LAST-MODIFIED:20200129T010134Z
UID:20764-1589362200-1589369400@nicolejohnston.com.au
SUMMARY:Sherwood | Excellent Eye Sight
DESCRIPTION:Bookings essential. Learn about your visual system and easy ways to maintain the health of your eyes and improve eyesight through simple physical activities. \nThis is a GOLD event suitable for seniors. \nBookings essential. To book email Sherwood Neighbourhood Centre. For more information phone 07 3379 6963 (from Monday – Thursday). \nIt is essential that you bring drinking water and attend both sessions.
URL:https://nicolejohnston.com.au/event/sherwood-excellent-eye-sight/2020-05-13/
LOCATION:Sherwood Neighbourhood Centre\, 38 Thallon Street\, Sherwood\, Queensland\, 4075\, Australia
GEO:-27.53402;152.981098
X-APPLE-STRUCTURED-LOCATION;VALUE=URI;X-ADDRESS=Sherwood Neighbourhood Centre 38 Thallon Street Sherwood Queensland 4075 Australia;X-APPLE-RADIUS=500;X-TITLE=38 Thallon Street:geo:152.981098,-27.53402
END:VEVENT
BEGIN:VEVENT
DTSTART;TZID=Australia/Brisbane:20200519T100000
DTEND;TZID=Australia/Brisbane:20200519T120000
DTSTAMP:20260426T052023
CREATED:20200224T044725Z
LAST-MODIFIED:20200224T044725Z
UID:21543-1589882400-1589889600@nicolejohnston.com.au
SUMMARY:Sherwood | Rainbow Adventures
DESCRIPTION:Booking essential. Red and yellow and pink and green\, orange and purple and blue. Colours everywhere! On the earth and in the air! In this interactive workshop we will use drama and creative movement to learn about all the colours of the rainbow! Storytelling and games come together to create a workshop bursting with colour that will develop an appreciation of the wonderful colours found when exploring the great outdoors! \nBookings essential. Bookings open one month in advance. To book visit Bazil Grumble or for more information phone 0411 246 487.
URL:https://nicolejohnston.com.au/event/sherwood-rainbow-adventures/
LOCATION:Sherwood Arboretum\, 57 Dewar Terrace\, Sherwood\, Queensland\, 4075\, Australia
GEO:-27.532253;152.977305
X-APPLE-STRUCTURED-LOCATION;VALUE=URI;X-ADDRESS=Sherwood Arboretum 57 Dewar Terrace Sherwood Queensland 4075 Australia;X-APPLE-RADIUS=500;X-TITLE=57 Dewar Terrace:geo:152.977305,-27.532253
END:VEVENT
END:VCALENDAR