BEGIN:VCALENDAR
VERSION:2.0
PRODID:-//Nicole Johnston - ECPv6.15.20//NONSGML v1.0//EN
CALSCALE:GREGORIAN
METHOD:PUBLISH
X-ORIGINAL-URL:https://nicolejohnston.com.au
X-WR-CALDESC:Events for Nicole Johnston
REFRESH-INTERVAL;VALUE=DURATION:PT1H
X-Robots-Tag:noindex
X-PUBLISHED-TTL:PT1H
BEGIN:VTIMEZONE
TZID:Australia/Brisbane
BEGIN:STANDARD
TZOFFSETFROM:+1000
TZOFFSETTO:+1000
TZNAME:AEST
DTSTART:20220101T000000
END:STANDARD
END:VTIMEZONE
BEGIN:VEVENT
DTSTART;TZID=Australia/Brisbane:20231001T150000
DTEND;TZID=Australia/Brisbane:20231001T163000
DTSTAMP:20260426T110926
CREATED:20230807T033150Z
LAST-MODIFIED:20230807T033151Z
UID:26821-1696172400-1696177800@nicolejohnston.com.au
SUMMARY:Graceville | Beginning Lawn Bowls
DESCRIPTION:This is an introduction to the sport of lawn bowls\, a sport for all ages which helps to build leg and core strength\, stability and coordination in a friendly social environment. \nThis is a GOLD event suitable for seniors. \nTo book phone or text David on 0407 894 727 or email Graceville Bowls Club.
URL:https://nicolejohnston.com.au/event/graceville-beginning-lawn-bowls/2023-10-01/
LOCATION:Graceville Bowls Club\, 16 Wylie St\, Graceville\, Qld\, 4075\, Australia
ORGANIZER;CN="Graceville Bowls Club":MAILTO:dschonfe@bigpond.net.au
END:VEVENT
BEGIN:VEVENT
DTSTART;TZID=Australia/Brisbane:20231003T120000
DTEND;TZID=Australia/Brisbane:20231003T130000
DTSTAMP:20260426T110926
CREATED:20230807T031724Z
LAST-MODIFIED:20230807T031725Z
UID:26774-1696334400-1696338000@nicolejohnston.com.au
SUMMARY:Corinda | Aqua Yoga
DESCRIPTION:Aqua yoga is a low impact form of exercise that supports the body while still providing function and movement. Welcoming moments of stillness in our minds and fill our lives with inspiration\, purpose\, abundance and fun! Many yoga poses that you do in a class can be adapted for the pool\, sometimes using the pool walls as if it were the studio floor. \nNo bookings required. For more information phone Nichola on 0406 574 454.
URL:https://nicolejohnston.com.au/event/corinda-aqua-yoga-3/2023-10-03/
LOCATION:Dunlop Park Memorial Pool\, 794 Oxley Rd\, Corinda\, Qld\, 4075\, Australia
GEO:-27.5473096;152.9806407
X-APPLE-STRUCTURED-LOCATION;VALUE=URI;X-ADDRESS=Dunlop Park Memorial Pool 794 Oxley Rd Corinda Qld 4075 Australia;X-APPLE-RADIUS=500;X-TITLE=794 Oxley Rd:geo:152.9806407,-27.5473096
END:VEVENT
BEGIN:VEVENT
DTSTART;TZID=Australia/Brisbane:20231004T153000
DTEND;TZID=Australia/Brisbane:20231004T161500
DTSTAMP:20260426T110926
CREATED:20230807T022554Z
LAST-MODIFIED:20230807T022555Z
UID:26750-1696433400-1696436100@nicolejohnston.com.au
SUMMARY:Fairfield | Quest Football Academy Girls Fun Football (6-8 year olds)
DESCRIPTION:Come and learn the basics of soccer in a welcoming\, safe and enjoyable environment. Whether you have never played before or have limited experience\, our program is designed to give you the skills and confidence to enjoy the beautiful game. \nBookings essential. To book visit Quest Football Academy. For more information email us at info@questfa.com.au \n\n\nMeet to the left of the carpark and below the play ground. There is a car park off Hyde Road that is next to the kindergarten for the best parking.
URL:https://nicolejohnston.com.au/event/fairfield-quest-football-academy-girls-fun-football-6-8-year-olds/2023-10-04/
LOCATION:Fehlberg Park\, 230 Brisbane Corso\, Yeronga\, Qld\, 4104\, Australia
GEO:-27.5059029;153.0167108
X-APPLE-STRUCTURED-LOCATION;VALUE=URI;X-ADDRESS=Fehlberg Park 230 Brisbane Corso Yeronga Qld 4104 Australia;X-APPLE-RADIUS=500;X-TITLE=230 Brisbane Corso:geo:153.0167108,-27.5059029
END:VEVENT
BEGIN:VEVENT
DTSTART;TZID=Australia/Brisbane:20231004T161500
DTEND;TZID=Australia/Brisbane:20231004T170000
DTSTAMP:20260426T110926
CREATED:20230807T022854Z
LAST-MODIFIED:20230807T022855Z
UID:26755-1696436100-1696438800@nicolejohnston.com.au
SUMMARY:Quest Football Academy Girls Fun Football (9-11 year olds)
DESCRIPTION:Bookings essential. Come and learn the basics of soccer in a welcoming\, safe and enjoyable environment. Whether you have never played before or have limited experience\, our program is designed to give you the skills and confidence to enjoy the beautiful game. \nBookings essential. To book visit Quest Football Academy. For more information email us at info@questfa.com.au \nMeet to the left of the carpark and below the play ground. There is a car park off Hyde Road that is next to the kindergarten for the best parking.
URL:https://nicolejohnston.com.au/event/quest-football-academy-girls-fun-football-9-11-year-olds/2023-10-04/
LOCATION:Fehlberg Park\, 230 Brisbane Corso\, Yeronga\, Qld\, 4104\, Australia
GEO:-27.5059029;153.0167108
X-APPLE-STRUCTURED-LOCATION;VALUE=URI;X-ADDRESS=Fehlberg Park 230 Brisbane Corso Yeronga Qld 4104 Australia;X-APPLE-RADIUS=500;X-TITLE=230 Brisbane Corso:geo:153.0167108,-27.5059029
END:VEVENT
BEGIN:VEVENT
DTSTART;TZID=Australia/Brisbane:20231005T110000
DTEND;TZID=Australia/Brisbane:20231005T120000
DTSTAMP:20260426T110926
CREATED:20230807T032036Z
LAST-MODIFIED:20230807T032037Z
UID:26794-1696503600-1696507200@nicolejohnston.com.au
SUMMARY:Corinda | GOLD Aqua Yoga
DESCRIPTION:Aqua yoga is a low impact form of exercise that supports the body while still providing function and movement of body due to the water resistance and reducing weight bearing giving more support. Many yoga poses that you do in a class can be adapted for the pool\, sometimes using the pool walls. \nThis is a GOLD event suitable for seniors. \nNo bookings required. For more information phone Nichola on 0406 574 454.
URL:https://nicolejohnston.com.au/event/corinda-gold-aqua-yoga/2023-10-05/
LOCATION:Dunlop Park Memorial Pool\, 794 Oxley Rd\, Corinda\, Qld\, 4075\, Australia
GEO:-27.5473096;152.9806407
X-APPLE-STRUCTURED-LOCATION;VALUE=URI;X-ADDRESS=Dunlop Park Memorial Pool 794 Oxley Rd Corinda Qld 4075 Australia;X-APPLE-RADIUS=500;X-TITLE=794 Oxley Rd:geo:152.9806407,-27.5473096
END:VEVENT
BEGIN:VEVENT
DTSTART;TZID=Australia/Brisbane:20231007T070000
DTEND;TZID=Australia/Brisbane:20231007T080000
DTSTAMP:20260426T110926
CREATED:20230807T030515Z
LAST-MODIFIED:20230807T030516Z
UID:26760-1696662000-1696665600@nicolejohnston.com.au
SUMMARY:Annerley | Yoga
DESCRIPTION:Yoga to stretch\, tone and strengthen your body. Includes seated and standing yoga postures. \nNo bookings required. For more information phone Yoga Mind Body Brisbane on 0401 247 328. \nBring yoga mat\, towel\, 2 yoga blocks and a yoga strap if you have them.
URL:https://nicolejohnston.com.au/event/annerley-yoga-5/2023-10-07/
LOCATION:Vallely St Park\, 51 Vallely Street\, Annerley\, QLD\, 4103\, Australia
END:VEVENT
BEGIN:VEVENT
DTSTART;TZID=Australia/Brisbane:20231007T080000
DTEND;TZID=Australia/Brisbane:20231007T120000
DTSTAMP:20260426T110926
CREATED:20230921T052217Z
LAST-MODIFIED:20230921T052222Z
UID:26921-1696665600-1696680000@nicolejohnston.com.au
SUMMARY:Oxley | Oxley Men's Shed Open Day
DESCRIPTION:
URL:https://nicolejohnston.com.au/event/oxley-oxley-mens-shed-open-day/
LOCATION:Oxley Mens Shed\, 18 California Rd\, Oxley\, QLD\, 4075\, Australia
CATEGORIES:Community Event
ATTACH;FMTTYPE=image/png:https://nicolejohnston.com.au/wp-content/uploads/2023/09/Oxley-Mens-Shed-Open-Day-Expo.png
END:VEVENT
BEGIN:VEVENT
DTSTART;TZID=Australia/Brisbane:20231007T143000
DTEND;TZID=Australia/Brisbane:20231007T151500
DTSTAMP:20260426T110926
CREATED:20230807T032440Z
LAST-MODIFIED:20230807T032440Z
UID:26808-1696689000-1696691700@nicolejohnston.com.au
SUMMARY:Corinda | Awesome Aqua Aerobics
DESCRIPTION:Aqua Aerobics has always been an awesome exercise! If you have not tried it\, now is your chance! Stretch and tone your body\, and join like minded individuals who enjoy the benefits of the water\, great music\, and positive vibes! Everyone is welcome. \nNo bookings required. For more information phone or text Aqua English on 0406 063 737. \nPlease bring your own pool noodle for the class.
URL:https://nicolejohnston.com.au/event/corinda-awesome-aqua-aerobics/2023-10-07/
LOCATION:Dunlop Park Memorial Pool\, 794 Oxley Rd\, Corinda\, Qld\, 4075\, Australia
GEO:-27.5473096;152.9806407
X-APPLE-STRUCTURED-LOCATION;VALUE=URI;X-ADDRESS=Dunlop Park Memorial Pool 794 Oxley Rd Corinda Qld 4075 Australia;X-APPLE-RADIUS=500;X-TITLE=794 Oxley Rd:geo:152.9806407,-27.5473096
END:VEVENT
BEGIN:VEVENT
DTSTART;TZID=Australia/Brisbane:20231014T100000
DTEND;TZID=Australia/Brisbane:20231014T150000
DTSTAMP:20260426T110926
CREATED:20230921T065038Z
LAST-MODIFIED:20230921T065044Z
UID:26925-1697277600-1697295600@nicolejohnston.com.au
SUMMARY:Annerley | Annerley Junction Fest
DESCRIPTION:
URL:https://nicolejohnston.com.au/event/annerley-annerley-junction-fest-2/
LOCATION:Annerley Junction\, Crn Ipswich & Annerley Rd\, Annerley\, Qld\, 4103\, Australia
CATEGORIES:Community Event
ATTACH;FMTTYPE=image/jpeg:https://nicolejohnston.com.au/wp-content/uploads/2023/09/AJF-event-square.jpg
GEO:-27.509933;153.0327917
X-APPLE-STRUCTURED-LOCATION;VALUE=URI;X-ADDRESS=Annerley Junction Crn Ipswich & Annerley Rd Annerley Qld 4103 Australia;X-APPLE-RADIUS=500;X-TITLE=Crn Ipswich & Annerley Rd:geo:153.0327917,-27.509933
END:VEVENT
BEGIN:VEVENT
DTSTART;TZID=Australia/Brisbane:20231015T070000
DTEND;TZID=Australia/Brisbane:20231015T120000
DTSTAMP:20260426T110926
CREATED:20230801T001004Z
LAST-MODIFIED:20230801T001005Z
UID:26698-1697353200-1697371200@nicolejohnston.com.au
SUMMARY:Oxley | Oxley SS Car Boot Sale
DESCRIPTION:
URL:https://nicolejohnston.com.au/event/oxley-oxley-ss-car-boot-sale-2/
LOCATION:Oxley State School Oval\, Bannerman Street​\, Oxley QLD 4075\, Oxley\, QLD\, 4075\, Australia
CATEGORIES:Community Event
ATTACH;FMTTYPE=image/jpeg:https://nicolejohnston.com.au/wp-content/uploads/2023/08/Oxley-SS-Car-Boot-Sale.jpg
END:VEVENT
BEGIN:VEVENT
DTSTART;TZID=Australia/Brisbane:20231020T100000
DTEND;TZID=Australia/Brisbane:20231020T120000
DTSTAMP:20260426T110926
CREATED:20230925T031715Z
LAST-MODIFIED:20230925T031716Z
UID:26934-1697796000-1697803200@nicolejohnston.com.au
SUMMARY:Yeronga | Annerley-Yeronga QCWA Christmas Cent Auction
DESCRIPTION:
URL:https://nicolejohnston.com.au/event/yeronga-annerley-yeronga-qcwa-christmas-cent-auction/
LOCATION:Annerley Yeronga QCWA Hall\, 9 School Rd\, Yeronga\, QLD\, 4104\, Australia
CATEGORIES:Community Event
ATTACH;FMTTYPE=image/png:https://nicolejohnston.com.au/wp-content/uploads/2023/09/Annerley-Yeronga-QCWA-Christmas-Cent-Auction.png
END:VEVENT
BEGIN:VEVENT
DTSTART;TZID=Australia/Brisbane:20231021T110000
DTEND;TZID=Australia/Brisbane:20231021T160000
DTSTAMP:20260426T110926
CREATED:20230831T005037Z
LAST-MODIFIED:20230831T005037Z
UID:26897-1697886000-1697904000@nicolejohnston.com.au
SUMMARY:Yeronga | St Sebastian's School 'Under the Sea Spectacular' Fete
DESCRIPTION:An exciting day of fun\, rides\, stalls\, games and food at the St Sebastian’s Under The Sea Spectacular.
URL:https://nicolejohnston.com.au/event/yeronga-st-sebastians-school-under-the-sea-spectacular-fete/
LOCATION:St Sebastian’s School\, Kadumba Street\, Yeronga\, Queensland\, 4104\, Australia
CATEGORIES:Community Event
ATTACH;FMTTYPE=image/jpeg:https://nicolejohnston.com.au/wp-content/uploads/2023/08/Under-the-Sea-Fete.jpg
GEO:-27.515171;153.0119597
X-APPLE-STRUCTURED-LOCATION;VALUE=URI;X-ADDRESS=St Sebastian’s School Kadumba Street Yeronga Queensland 4104 Australia;X-APPLE-RADIUS=500;X-TITLE=Kadumba Street:geo:153.0119597,-27.515171
END:VEVENT
BEGIN:VEVENT
DTSTART;TZID=Australia/Brisbane:20231021T170000
DTEND;TZID=Australia/Brisbane:20231021T203000
DTSTAMP:20260426T110926
CREATED:20230925T033105Z
LAST-MODIFIED:20230925T033105Z
UID:26937-1697907600-1697920200@nicolejohnston.com.au
SUMMARY:Graceville | Movie in the Park: 'Minions: The Rise of Gru'
DESCRIPTION:Enjoy a FREE screening of ‘Minions: The Rise of Gru’ on the Graceville State School oval. Bring along a picnic blanket or camping chairs and enjoy a family-friendly night out under the stars. \nSouth Brisbane Federal Band will perform from 5pm\, followed by the movie screening after sunset. \nFood will be available to purchase on the night\, or BYO picnic. \nProudly supported by Cr Nicole Johnston\, Councillor for Tennyson Ward and the Lord Mayor’s Community Fund.
URL:https://nicolejohnston.com.au/event/graceville-movie-in-the-park-minions-the-rise-of-gru/
LOCATION:Graceville State School\, 23 Acacia Avenue\, Graceville\, Queensland\, 4075\, Australia
CATEGORIES:Community Event
ATTACH;FMTTYPE=image/png:https://nicolejohnston.com.au/wp-content/uploads/2023/09/Graceville-SS-MIP.png
GEO:-27.51779;152.979029
X-APPLE-STRUCTURED-LOCATION;VALUE=URI;X-ADDRESS=Graceville State School 23 Acacia Avenue Graceville Queensland 4075 Australia;X-APPLE-RADIUS=500;X-TITLE=23 Acacia Avenue:geo:152.979029,-27.51779
END:VEVENT
BEGIN:VEVENT
DTSTART;TZID=Australia/Brisbane:20231029T150000
DTEND;TZID=Australia/Brisbane:20231029T163000
DTSTAMP:20260426T110926
CREATED:20230807T033327Z
LAST-MODIFIED:20230807T033327Z
UID:26829-1698591600-1698597000@nicolejohnston.com.au
SUMMARY:Graceville | Lawn Bowls for the Young and Young at Heart
DESCRIPTION:Bookings essential. Come and learn to play lawn Bowls\, one of the few sports where grandparents and young people can play together. \nThis is a GOLD’n’Kids event suitable for seniors and children 6 years and over. \nBookings essential. To book phone or text David on 0407 894 727 or email dschonfe@bigpond.net.au
URL:https://nicolejohnston.com.au/event/graceville-lawn-bowls-for-the-young-and-young-at-heart-2/
LOCATION:Graceville Bowls Club\, 16 Wylie St\, Graceville\, Qld\, 4075\, Australia
ORGANIZER;CN="Graceville Bowls Club":MAILTO:dschonfe@bigpond.net.au
END:VEVENT
END:VCALENDAR