BEGIN:VCALENDAR
VERSION:2.0
PRODID:-//Nicole Johnston - ECPv6.15.20//NONSGML v1.0//EN
CALSCALE:GREGORIAN
METHOD:PUBLISH
X-ORIGINAL-URL:https://nicolejohnston.com.au
X-WR-CALDESC:Events for Nicole Johnston
REFRESH-INTERVAL;VALUE=DURATION:PT1H
X-Robots-Tag:noindex
X-PUBLISHED-TTL:PT1H
BEGIN:VTIMEZONE
TZID:Australia/Brisbane
BEGIN:STANDARD
TZOFFSETFROM:+1000
TZOFFSETTO:+1000
TZNAME:AEST
DTSTART:20220101T000000
END:STANDARD
END:VTIMEZONE
BEGIN:VEVENT
DTSTART;TZID=Australia/Brisbane:20231103T090000
DTEND;TZID=Australia/Brisbane:20231103T180000
DTSTAMP:20260426T091316
CREATED:20231018T054852Z
LAST-MODIFIED:20231018T054854Z
UID:26990-1699002000-1699034400@nicolejohnston.com.au
SUMMARY:Sherwood | Chapel Garden Artists Exhibition
DESCRIPTION:
URL:https://nicolejohnston.com.au/event/sherwood-chapel-garden-artists-exhibition/2023-11-03/
LOCATION:Sherwood Uniting Church\, cnr Thallon St and Sherwood Rd\, Sherwood\, qld\, 4075\, Australia
CATEGORIES:Community Event
ATTACH;FMTTYPE=image/png:https://nicolejohnston.com.au/wp-content/uploads/2023/10/UC-Sherwood-Art-Show.png
ORGANIZER;CN="Sherwood Uniting Church":MAILTO:refreshyourstash@gmail.com
GEO:-27.5320991;152.9806216
X-APPLE-STRUCTURED-LOCATION;VALUE=URI;X-ADDRESS=Sherwood Uniting Church cnr Thallon St and Sherwood Rd Sherwood qld 4075 Australia;X-APPLE-RADIUS=500;X-TITLE=cnr Thallon St and Sherwood Rd:geo:152.9806216,-27.5320991
END:VEVENT
BEGIN:VEVENT
DTSTART;TZID=Australia/Brisbane:20231103T160000
DTEND;TZID=Australia/Brisbane:20231103T210000
DTSTAMP:20260426T091316
CREATED:20231026T042806Z
LAST-MODIFIED:20231026T042808Z
UID:27003-1699027200-1699045200@nicolejohnston.com.au
SUMMARY:Oxley | Diwali in Oxley
DESCRIPTION:Cultural Performances\, Music & Dance\, Kids activities\, Food\, Drinks and Fireworks.
URL:https://nicolejohnston.com.au/event/oxley-diwali-in-oxley-2/
LOCATION:Oxley Bowls Club\, Englefield Road\, Oxley\, QLD\, 4075\, Australia
CATEGORIES:Community Event
ATTACH;FMTTYPE=image/jpeg:https://nicolejohnston.com.au/wp-content/uploads/2023/10/Diwali-in-Oxley.jpg
END:VEVENT
BEGIN:VEVENT
DTSTART;TZID=Australia/Brisbane:20231104T080000
DTEND;TZID=Australia/Brisbane:20231104T140000
DTSTAMP:20260426T091316
CREATED:20231026T045736Z
LAST-MODIFIED:20231026T045739Z
UID:27019-1699084800-1699106400@nicolejohnston.com.au
SUMMARY:Oxley | QCWA Oxley Annual Christmas Stall
DESCRIPTION:Craft\, jams\, cookbooks\, sweets and Christmas stocking stuffers.
URL:https://nicolejohnston.com.au/event/oxley-qcwa-oxley-annual-christmas-stall/
LOCATION:The Station Oxley\, 157 Oxley Station Rd\, Oxley\, QLD\, 4075\, Australia
CATEGORIES:Community Event
ORGANIZER;CN="QCWA Oxley":MAILTO:qcwaoxley@gmail.com
END:VEVENT
BEGIN:VEVENT
DTSTART;TZID=Australia/Brisbane:20231111T101500
DTEND;TZID=Australia/Brisbane:20231111T233000
DTSTAMP:20260426T091316
CREATED:20231030T055354Z
LAST-MODIFIED:20231030T055355Z
UID:27031-1699697700-1699745400@nicolejohnston.com.au
SUMMARY:Corinda | Sherwood-Indooroopilly RSL Sub Branch Remembrance Day Service
DESCRIPTION:10:15am for a 10:30am service at the Croll Memorial\, 2 Clewley St\, Corinda. 
URL:https://nicolejohnston.com.au/event/corinda-sherwood-indooroopilly-rsl-sub-branch-remembrance-day-service/
LOCATION:Croll Memorial Precinct\, Cnr Browne & Clewley Sts\, Corinda\, Qld\, 4075\, Australia
CATEGORIES:Community Event
ATTACH;FMTTYPE=image/png:https://nicolejohnston.com.au/wp-content/uploads/2023/10/Remembrance-Day-2023.png
GEO:-27.5384488;152.9806087
X-APPLE-STRUCTURED-LOCATION;VALUE=URI;X-ADDRESS=Croll Memorial Precinct Cnr Browne & Clewley Sts Corinda Qld 4075 Australia;X-APPLE-RADIUS=500;X-TITLE=Cnr Browne & Clewley Sts:geo:152.9806087,-27.5384488
END:VEVENT
BEGIN:VEVENT
DTSTART;TZID=Australia/Brisbane:20231111T103000
DTEND;TZID=Australia/Brisbane:20231111T233000
DTSTAMP:20260426T091316
CREATED:20231030T054958Z
LAST-MODIFIED:20231030T055854Z
UID:27026-1699698600-1699745400@nicolejohnston.com.au
SUMMARY:Yeronga | Stephens Sub Branch Inc. Remembrance Day Memorial Service
DESCRIPTION:Service commences at 10:30 am\, Saturday 11 November 2023. Yeronga Memorial Park\, Ipswich Road Yeronga. All welcome.
URL:https://nicolejohnston.com.au/event/yeronga-stephens-sub-branch-inc-remembrance-day-memorial-service/
LOCATION:Yeronga Memorial Park\, School Road\, Yeronga\, Queensland\, 4104\, Australia
CATEGORIES:Community Event
ATTACH;FMTTYPE=image/png:https://nicolejohnston.com.au/wp-content/uploads/2023/10/Remembrance-Day-2023.png
GEO:-27.5212612;153.0201362
X-APPLE-STRUCTURED-LOCATION;VALUE=URI;X-ADDRESS=Yeronga Memorial Park School Road Yeronga Queensland 4104 Australia;X-APPLE-RADIUS=500;X-TITLE=School Road:geo:153.0201362,-27.5212612
END:VEVENT
BEGIN:VEVENT
DTSTART;TZID=Australia/Brisbane:20231111T173000
DTEND;TZID=Australia/Brisbane:20231111T210000
DTSTAMP:20260426T091316
CREATED:20231012T052243Z
LAST-MODIFIED:20231012T052245Z
UID:26983-1699723800-1699736400@nicolejohnston.com.au
SUMMARY:Annerley | Movie in the Park: 'Sonic the Hedgehog 2'
DESCRIPTION:Enjoy a FREE screening of ‘Sonic the Hedgehog 2′ on the Junction Park State School oval. Bring along a picnic blanket or camping chairs and enjoy a family-friendly night out under the stars. \nFood will be available to purchase on the night\, or BYO picnic. \nProudly supported by Cr Nicole Johnston\, Councillor for Tennyson Ward; Cr Steve Griffiths\, Councillor for Moorooka Ward; and the Lord Mayor’s Community Fund.
URL:https://nicolejohnston.com.au/event/annerley-movie-in-the-park-sonic-the-hedgehog-2/
LOCATION:Junction Park State School\, 50 Waldheim St\, Annerley\, Qld\, 4103\, Australia
CATEGORIES:Community Event
ATTACH;FMTTYPE=image/jpeg:https://nicolejohnston.com.au/wp-content/uploads/2023/10/Junction-Park-SS-MIP.jpg
GEO:-27.5099957;153.0353483
X-APPLE-STRUCTURED-LOCATION;VALUE=URI;X-ADDRESS=Junction Park State School 50 Waldheim St Annerley Qld 4103 Australia;X-APPLE-RADIUS=500;X-TITLE=50 Waldheim St:geo:153.0353483,-27.5099957
END:VEVENT
BEGIN:VEVENT
DTSTART;TZID=Australia/Brisbane:20231118T090000
DTEND;TZID=Australia/Brisbane:20231118T130000
DTSTAMP:20260426T091316
CREATED:20231026T043415Z
LAST-MODIFIED:20231026T043417Z
UID:27006-1700298000-1700312400@nicolejohnston.com.au
SUMMARY:Chelmer | St David's Church Christmas Market
DESCRIPTION:
URL:https://nicolejohnston.com.au/event/chelmer-st-davids-church-christmas-market/
LOCATION:St David’s Anglican Church\, 62 Chelmer St East\, Chelmer\, Queensland\, 4068\, Australia
CATEGORIES:Community Event
ATTACH;FMTTYPE=image/png:https://nicolejohnston.com.au/wp-content/uploads/2023/10/Christmas-market-St-Davids.png
GEO:-27.514588;152.973768
X-APPLE-STRUCTURED-LOCATION;VALUE=URI;X-ADDRESS=St David’s Anglican Church 62 Chelmer St East Chelmer Queensland 4068 Australia;X-APPLE-RADIUS=500;X-TITLE=62 Chelmer St East:geo:152.973768,-27.514588
END:VEVENT
BEGIN:VEVENT
DTSTART;TZID=Australia/Brisbane:20231118T120000
DTEND;TZID=Australia/Brisbane:20231118T150000
DTSTAMP:20260426T091316
CREATED:20230807T033451Z
LAST-MODIFIED:20230807T033451Z
UID:26831-1700308800-1700319600@nicolejohnston.com.au
SUMMARY:Graceville | Kayak Explore
DESCRIPTION:Come along for some fun paddling while exploring your local waterway! All equipment and instruction is provided\, perfect for beginners or those with experience. \nBookings essential. To book visit Paddle Qld. For more information phone 0414 960 728. \nWear ENCLOSED FOOTWEAR\, water shoes\, not crocs or any footwear than can fall off and clothing suitable to paddle in and get wet. Towel and a change of clothes. Paddling is a low impact activity\, but due to the nature of paddlesports a reasonable level of fitness and health is required to participate.
URL:https://nicolejohnston.com.au/event/graceville-kayak-explore-3/
LOCATION:Simpsons Playground\, cnr Graceville Ave and Nadine St\,  Graceville\, Qld\, 4075\, Australia
GEO:-27.5235837;152.9920697
X-APPLE-STRUCTURED-LOCATION;VALUE=URI;X-ADDRESS=Simpsons Playground cnr Graceville Ave and Nadine St  Graceville Qld 4075 Australia;X-APPLE-RADIUS=500;X-TITLE=cnr Graceville Ave and Nadine St:geo:152.9920697,-27.5235837
END:VEVENT
BEGIN:VEVENT
DTSTART;TZID=Australia/Brisbane:20231118T150000
DTEND;TZID=Australia/Brisbane:20231118T190000
DTSTAMP:20260426T091316
CREATED:20231009T042422Z
LAST-MODIFIED:20231009T042423Z
UID:26970-1700319600-1700334000@nicolejohnston.com.au
SUMMARY:Sherwood | Sherwood Community Festival
DESCRIPTION:We would like to invite you to the Sherwood Community Festival on Saturday 18th November. This year will be bigger and better than ever before. Come join us for this family friendly event for:\n\nFree entry\nFree rides including giant slide\, rock climbing wall\, inflatables\, tea-cup ride and more\n2 stages with amazing free entertainment\nBuskers corner and roaming entertainment\nFree face-painting\, henna and hair-braiding\nFree family games and activities\n50+ Market stalls\nFood trucks and sausage sizzle\nArt workshops\nFree wellness hub\nPhotography competition\nCommunity light parade\, Santa\, and finale
URL:https://nicolejohnston.com.au/event/sherwood-sherwood-community-festival-2/
LOCATION:Sherwood Arboretum\, 57 Dewar Terrace\, Sherwood\, Queensland\, 4075\, Australia
CATEGORIES:Community Event
ATTACH;FMTTYPE=image/png:https://nicolejohnston.com.au/wp-content/uploads/2023/10/Sherwood-Festival.png
ORGANIZER;CN="Sherwood Community Festival":MAILTO:enquiries@sherwoodfestival.com
GEO:-27.532253;152.977305
X-APPLE-STRUCTURED-LOCATION;VALUE=URI;X-ADDRESS=Sherwood Arboretum 57 Dewar Terrace Sherwood Queensland 4075 Australia;X-APPLE-RADIUS=500;X-TITLE=57 Dewar Terrace:geo:152.977305,-27.532253
END:VEVENT
END:VCALENDAR