BEGIN:VCALENDAR
VERSION:2.0
PRODID:-//Nicole Johnston - ECPv6.15.20//NONSGML v1.0//EN
CALSCALE:GREGORIAN
METHOD:PUBLISH
X-WR-CALNAME:Nicole Johnston
X-ORIGINAL-URL:https://nicolejohnston.com.au
X-WR-CALDESC:Events for Nicole Johnston
REFRESH-INTERVAL;VALUE=DURATION:PT1H
X-Robots-Tag:noindex
X-PUBLISHED-TTL:PT1H
BEGIN:VTIMEZONE
TZID:Australia/Brisbane
BEGIN:STANDARD
TZOFFSETFROM:+1000
TZOFFSETTO:+1000
TZNAME:AEST
DTSTART:20230101T000000
END:STANDARD
END:VTIMEZONE
BEGIN:VEVENT
DTSTART;TZID=Australia/Brisbane:20240302T173000
DTEND;TZID=Australia/Brisbane:20240302T210000
DTSTAMP:20260426T021309
CREATED:20240129T001025Z
LAST-MODIFIED:20240227T050030Z
UID:27097-1709400600-1709413200@nicolejohnston.com.au
SUMMARY:Yeronga | Movie in the Park: 'Hunt for the Wilderpeople'
DESCRIPTION:Don’t miss a FREE outdoor screening of ‘Hunt for the Wilderpeople’ at the heritage-listed Yeronga Memorial Park.\n\n\nEnjoy a fabulous\, low cost and family-friendly night out. BYO picnic or food available to purchase on the night.\n\n\n\n Food stalls on the night or BYO picnic.\n🎵 Mango Jam Big Band performance from 5:30pm.\n Movie screening starts at sundown.\n\n\n\nI’m so proud to support wonderful community events in Tennyson Ward.
URL:https://nicolejohnston.com.au/event/yeronga-movie-in-the-park-hunt-for-the-wilderpeople/
LOCATION:Yeronga Memorial Park\, School Road\, Yeronga\, Queensland\, 4104\, Australia
CATEGORIES:Community Event
ATTACH;FMTTYPE=image/png:https://nicolejohnston.com.au/wp-content/uploads/2024/01/2024-Yeronga-MIP-1.png
GEO:-27.5212612;153.0201362
X-APPLE-STRUCTURED-LOCATION;VALUE=URI;X-ADDRESS=Yeronga Memorial Park School Road Yeronga Queensland 4104 Australia;X-APPLE-RADIUS=500;X-TITLE=School Road:geo:153.0201362,-27.5212612
END:VEVENT
END:VCALENDAR