BEGIN:VCALENDAR
VERSION:2.0
PRODID:-//Nicole Johnston - ECPv6.15.20//NONSGML v1.0//EN
CALSCALE:GREGORIAN
METHOD:PUBLISH
X-ORIGINAL-URL:https://nicolejohnston.com.au
X-WR-CALDESC:Events for Nicole Johnston
REFRESH-INTERVAL;VALUE=DURATION:PT1H
X-Robots-Tag:noindex
X-PUBLISHED-TTL:PT1H
BEGIN:VTIMEZONE
TZID:Australia/Brisbane
BEGIN:STANDARD
TZOFFSETFROM:+1000
TZOFFSETTO:+1000
TZNAME:AEST
DTSTART:20240101T000000
END:STANDARD
END:VTIMEZONE
BEGIN:VEVENT
DTSTART;TZID=Australia/Brisbane:20250601T080000
DTEND;TZID=Australia/Brisbane:20250601T090000
DTSTAMP:20260424T210141
CREATED:20250113T034335Z
LAST-MODIFIED:20250113T034335Z
UID:29061-1748764800-1748768400@nicolejohnston.com.au
SUMMARY:Fairfield | GOLD Tai Chi Qigong
DESCRIPTION:This dynamic activity is invigorating and will help you feel relaxed\, refreshed and calm. Rejuvenate your body and learn to create a tranquil mind. Join any week. \nThis is a GOLD event suitable for seniors. Meet near the playground\, off Sydney Street. \nFor more information phone Julian from Australian Academy of Tai Chi on 0439 073 860.
URL:https://nicolejohnston.com.au/event/fairfield-gold-tai-chi-qigong-2/2025-06-01/
LOCATION:Robinson Park\, 221 Fairfield Road\, Fairfield\, Queensland\, 4103\, Australia
GEO:-27.5099948;153.023042
X-APPLE-STRUCTURED-LOCATION;VALUE=URI;X-ADDRESS=Robinson Park 221 Fairfield Road Fairfield Queensland 4103 Australia;X-APPLE-RADIUS=500;X-TITLE=221 Fairfield Road:geo:153.023042,-27.5099948
END:VEVENT
BEGIN:VEVENT
DTSTART;TZID=Australia/Brisbane:20250602T110000
DTEND;TZID=Australia/Brisbane:20250602T113000
DTSTAMP:20260424T210141
CREATED:20250429T051333Z
LAST-MODIFIED:20250429T051333Z
UID:29617-1748862000-1748863800@nicolejohnston.com.au
SUMMARY:Annerley Library | National Reconciliation Week: First 5 Forever Children’s Storytime
DESCRIPTION:Join other jarjums in a special storytime and contribute to our Sea of Hearts Movement art installation. Ideal for children aged 2–5 years. \nBookings required. Phone Annerley Library on 07 3403 1735 to reserve your place.
URL:https://nicolejohnston.com.au/event/annerley-library-national-reconciliation-week-first-5-forever-childrens-storytime/
LOCATION:Annerley Library\, 469 Ipswich Rd\, Annerley\, Queensland\, 4103\, Australia
GEO:-27.5115338;153.0317863
X-APPLE-STRUCTURED-LOCATION;VALUE=URI;X-ADDRESS=Annerley Library 469 Ipswich Rd Annerley Queensland 4103 Australia;X-APPLE-RADIUS=500;X-TITLE=469 Ipswich Rd:geo:153.0317863,-27.5115338
END:VEVENT
BEGIN:VEVENT
DTSTART;TZID=Australia/Brisbane:20250602T190000
DTEND;TZID=Australia/Brisbane:20250602T200000
DTSTAMP:20260424T210141
CREATED:20250520T022942Z
LAST-MODIFIED:20250520T022942Z
UID:29824-1748890800-1748894400@nicolejohnston.com.au
SUMMARY:Yeronga | ASHG Talk: My Place
DESCRIPTION:Join Dr Michael Macklin on Monday 2 June at 7.00 pm for his presentation: My Place – the story of not only a house in Yeronga but a place from pre-colonial times to the present day.
URL:https://nicolejohnston.com.au/event/yeronga-ashg-talk-my-place/
LOCATION:Yeronga Community Centre\, 62 Park Rd\, Yeronga\, Queensland\, 4103\, Australia
CATEGORIES:Community Event
ATTACH;FMTTYPE=image/png:https://nicolejohnston.com.au/wp-content/uploads/2025/05/My-place-with-RSVP.png
ORGANIZER;CN="Annerley Stephens History Group":MAILTO:annerleystephenshistorygroupin@gmail.com
GEO:-27.5178214;153.0308084
X-APPLE-STRUCTURED-LOCATION;VALUE=URI;X-ADDRESS=Yeronga Community Centre 62 Park Rd Yeronga Queensland 4103 Australia;X-APPLE-RADIUS=500;X-TITLE=62 Park Rd:geo:153.0308084,-27.5178214
END:VEVENT
BEGIN:VEVENT
DTSTART;TZID=Australia/Brisbane:20250603T100000
DTEND;TZID=Australia/Brisbane:20250603T110000
DTSTAMP:20260424T210141
CREATED:20241113T051127Z
LAST-MODIFIED:20241113T051127Z
UID:29120-1748944800-1748948400@nicolejohnston.com.au
SUMMARY:Sherwood | Meditation and Relaxation
DESCRIPTION:Bookings essential. Learn techniques and skills to assist with relaxation and relieve stress in daily life. No prior experience is required. \n\n\nThis is a GOLD event suitable for seniors. \n\n\nTo book email Sherwood Neighbourhood Centre. For more information phone 3379 6963.
URL:https://nicolejohnston.com.au/event/sherwood-meditation-and-relaxation/2025-06-03/
LOCATION:Sherwood Neighbourhood Centre\, 38 Thallon Street\, Sherwood\, Queensland\, 4075\, Australia
GEO:-27.53402;152.981098
X-APPLE-STRUCTURED-LOCATION;VALUE=URI;X-ADDRESS=Sherwood Neighbourhood Centre 38 Thallon Street Sherwood Queensland 4075 Australia;X-APPLE-RADIUS=500;X-TITLE=38 Thallon Street:geo:152.981098,-27.53402
END:VEVENT
BEGIN:VEVENT
DTSTART;TZID=Australia/Brisbane:20250603T130000
DTEND;TZID=Australia/Brisbane:20250603T150000
DTSTAMP:20260424T210141
CREATED:20250516T034543Z
LAST-MODIFIED:20250516T034543Z
UID:29744-1748955600-1748962800@nicolejohnston.com.au
SUMMARY:Fairfield Library | Southside Community Craft Circle
DESCRIPTION:This is a craft group that makes items to support the disadvantaged in the community. Please call Elinor on 0481 754 999 for more information.
URL:https://nicolejohnston.com.au/event/fairfield-library-southside-community-craft-circle-9/
LOCATION:Fairfield Library\, Fairfield Gardens\, 180 Fairfield Rd\, Fairfield\, Queensland\, 4103\, Australia
GEO:-27.508752;153.025501
X-APPLE-STRUCTURED-LOCATION;VALUE=URI;X-ADDRESS=Fairfield Library Fairfield Gardens 180 Fairfield Rd Fairfield Queensland 4103 Australia;X-APPLE-RADIUS=500;X-TITLE=Fairfield Gardens\, 180 Fairfield Rd:geo:153.025501,-27.508752
END:VEVENT
BEGIN:VEVENT
DTSTART;TZID=Australia/Brisbane:20250604T083000
DTEND;TZID=Australia/Brisbane:20250604T093000
DTSTAMP:20260424T210141
CREATED:20241113T051229Z
LAST-MODIFIED:20241113T051229Z
UID:29155-1749025800-1749029400@nicolejohnston.com.au
SUMMARY:Yeronga | Yoga for Mobility
DESCRIPTION:A gentle movement class blended with yoga to improve your strength\, balance and posture. No floor work included. Suitable for all fitness levels. \nFor more information phone Cassie from Foxinsox Yoga on 0431 594 388.
URL:https://nicolejohnston.com.au/event/yeronga-yoga-for-mobility/2025-06-04/
LOCATION:John Walker Place\, 323 Brisbane Corso\, Yeronga\, QLD\, 4104\, Australia
END:VEVENT
BEGIN:VEVENT
DTSTART;TZID=Australia/Brisbane:20250604T090000
DTEND;TZID=Australia/Brisbane:20250604T170000
DTSTAMP:20260424T210141
CREATED:20250520T021649Z
LAST-MODIFIED:20250520T022115Z
UID:29806-1749027600-1749056400@nicolejohnston.com.au
SUMMARY:Sherwood | Half Dozen Group of Artists Annual Exhibition and Art Sale
DESCRIPTION:
URL:https://nicolejohnston.com.au/event/sherwood-half-dozen-group-of-artists-annual-exhibition-and-art-sale/2025-06-04/
LOCATION:Half Dozen Group of Artists Art Studio\, 37 Quarry Rd\, Sherwood\, Qld\, 4075\, Australia
CATEGORIES:Community Event
ATTACH;FMTTYPE=image/png:https://nicolejohnston.com.au/wp-content/uploads/2025/05/HDG-Annual-Exhibition-and-Sale.png
GEO:-27.5354658;152.9803733
X-APPLE-STRUCTURED-LOCATION;VALUE=URI;X-ADDRESS=Half Dozen Group of Artists Art Studio 37 Quarry Rd Sherwood Qld 4075 Australia;X-APPLE-RADIUS=500;X-TITLE=37 Quarry Rd:geo:152.9803733,-27.5354658
END:VEVENT
BEGIN:VEVENT
DTSTART;TZID=Australia/Brisbane:20250604T093000
DTEND;TZID=Australia/Brisbane:20250604T100000
DTSTAMP:20260424T210141
CREATED:20250516T034639Z
LAST-MODIFIED:20250516T034639Z
UID:29746-1749029400-1749031200@nicolejohnston.com.au
SUMMARY:Fairfield Library | First 5 Forever Babies\, Books and Rhymes
DESCRIPTION:Meet other parents and babies for a fun session of singing\, clapping and dancing. Learn songs and action rhymes to nurture your baby’s pre-literacy\, communication\, language and social skills. Ideal for babies aged up to one year.
URL:https://nicolejohnston.com.au/event/fairfield-library-first-5-forever-babies-books-and-rhymes-36/
LOCATION:Fairfield Library\, Fairfield Gardens\, 180 Fairfield Rd\, Fairfield\, Queensland\, 4103\, Australia
GEO:-27.508752;153.025501
X-APPLE-STRUCTURED-LOCATION;VALUE=URI;X-ADDRESS=Fairfield Library Fairfield Gardens 180 Fairfield Rd Fairfield Queensland 4103 Australia;X-APPLE-RADIUS=500;X-TITLE=Fairfield Gardens\, 180 Fairfield Rd:geo:153.025501,-27.508752
END:VEVENT
BEGIN:VEVENT
DTSTART;TZID=Australia/Brisbane:20250604T103000
DTEND;TZID=Australia/Brisbane:20250604T110000
DTSTAMP:20260424T210141
CREATED:20250516T034745Z
LAST-MODIFIED:20250516T034745Z
UID:29748-1749033000-1749034800@nicolejohnston.com.au
SUMMARY:Fairfield Library | First 5 Forever Toddler Time
DESCRIPTION:Meet other parents and toddlers for a fun session of singing\, clapping and dancing. Learn action rhymes and songs which will help your child’s pre-literacy\, communication\, language and social skills. Ideal for babies and toddlers aged 1-2 years.
URL:https://nicolejohnston.com.au/event/fairfield-library-first-5-forever-toddler-time-30/
LOCATION:Fairfield Library\, Fairfield Gardens\, 180 Fairfield Rd\, Fairfield\, Queensland\, 4103\, Australia
GEO:-27.508752;153.025501
X-APPLE-STRUCTURED-LOCATION;VALUE=URI;X-ADDRESS=Fairfield Library Fairfield Gardens 180 Fairfield Rd Fairfield Queensland 4103 Australia;X-APPLE-RADIUS=500;X-TITLE=Fairfield Gardens\, 180 Fairfield Rd:geo:153.025501,-27.508752
END:VEVENT
BEGIN:VEVENT
DTSTART;TZID=Australia/Brisbane:20250604T140000
DTEND;TZID=Australia/Brisbane:20250604T150000
DTSTAMP:20260424T210141
CREATED:20241113T053527Z
LAST-MODIFIED:20241113T053527Z
UID:29137-1749045600-1749049200@nicolejohnston.com.au
SUMMARY:Sherwood | GOLD Belly Dance
DESCRIPTION:Bookings essential. Enjoy gentle dance focused on fitness\, co-ordination\, flexibility\, relaxation and fun. Belly dance provides physical\, emotional and psychological benefits. Suitable for all levels.  Bring a belly dance belt if you have one. \nThis is a GOLD event suitable for seniors. \nBookings essential. To book email Sherwood Neighbourhood Centre. For more information phone 3379 6963.
URL:https://nicolejohnston.com.au/event/sherwood-belly-dance-3/2025-06-04/
LOCATION:Sherwood Neighbourhood Centre\, 38 Thallon Street\, Sherwood\, Queensland\, 4075\, Australia
GEO:-27.53402;152.981098
X-APPLE-STRUCTURED-LOCATION;VALUE=URI;X-ADDRESS=Sherwood Neighbourhood Centre 38 Thallon Street Sherwood Queensland 4075 Australia;X-APPLE-RADIUS=500;X-TITLE=38 Thallon Street:geo:152.981098,-27.53402
END:VEVENT
BEGIN:VEVENT
DTSTART;TZID=Australia/Brisbane:20250605T090000
DTEND;TZID=Australia/Brisbane:20250605T100000
DTSTAMP:20260424T210141
CREATED:20241113T053629Z
LAST-MODIFIED:20241113T053629Z
UID:29106-1749114000-1749117600@nicolejohnston.com.au
SUMMARY:Sherwood | Tai Chi Qigong
DESCRIPTION:This dynamic activity is invigorating and will help you feel relaxed\, refreshed and calm. Rejuvenate your body and learn to create a tranquil mind. Join any week. \nFor more information phone Julia from Minds Ease on 0412 362 338.
URL:https://nicolejohnston.com.au/event/sherwood-tai-chi-qigong-5/2025-06-05/
LOCATION:Sherwood Arboretum\, 57 Dewar Terrace\, Sherwood\, Queensland\, 4075\, Australia
GEO:-27.532253;152.977305
X-APPLE-STRUCTURED-LOCATION;VALUE=URI;X-ADDRESS=Sherwood Arboretum 57 Dewar Terrace Sherwood Queensland 4075 Australia;X-APPLE-RADIUS=500;X-TITLE=57 Dewar Terrace:geo:152.977305,-27.532253
END:VEVENT
BEGIN:VEVENT
DTSTART;TZID=Australia/Brisbane:20250605T090000
DTEND;TZID=Australia/Brisbane:20250605T100000
DTSTAMP:20260424T210141
CREATED:20241212T010414Z
LAST-MODIFIED:20241212T010414Z
UID:29090-1749114000-1749117600@nicolejohnston.com.au
SUMMARY:Oxley | Mums and Bubs Yoga
DESCRIPTION:A mum and bubs yoga class to connect with yourself\, your baby and others. Designed to support you post-natally\, gentle stretching and strengthening practices\, breathing exercises\, meditation. \nFor more information phone Nichola on 0406 574 454.
URL:https://nicolejohnston.com.au/event/oxley-mums-and-bubs-yoga-6/2025-06-05/
LOCATION:Nixon Park\, 929 Oxley Road\, OXLEY\, QLD\, 4075\, Australia
GEO:-27.552171;152.9789711
X-APPLE-STRUCTURED-LOCATION;VALUE=URI;X-ADDRESS=Nixon Park 929 Oxley Road OXLEY QLD 4075 Australia;X-APPLE-RADIUS=500;X-TITLE=929 Oxley Road:geo:152.9789711,-27.552171
END:VEVENT
BEGIN:VEVENT
DTSTART;TZID=Australia/Brisbane:20250605T090000
DTEND;TZID=Australia/Brisbane:20250605T170000
DTSTAMP:20260424T210141
CREATED:20250520T021649Z
LAST-MODIFIED:20250520T022115Z
UID:29809-1749114000-1749142800@nicolejohnston.com.au
SUMMARY:Sherwood | Half Dozen Group of Artists Annual Exhibition and Art Sale
DESCRIPTION:
URL:https://nicolejohnston.com.au/event/sherwood-half-dozen-group-of-artists-annual-exhibition-and-art-sale/2025-06-05/
LOCATION:Half Dozen Group of Artists Art Studio\, 37 Quarry Rd\, Sherwood\, Qld\, 4075\, Australia
CATEGORIES:Community Event
ATTACH;FMTTYPE=image/png:https://nicolejohnston.com.au/wp-content/uploads/2025/05/HDG-Annual-Exhibition-and-Sale.png
GEO:-27.5354658;152.9803733
X-APPLE-STRUCTURED-LOCATION;VALUE=URI;X-ADDRESS=Half Dozen Group of Artists Art Studio 37 Quarry Rd Sherwood Qld 4075 Australia;X-APPLE-RADIUS=500;X-TITLE=37 Quarry Rd:geo:152.9803733,-27.5354658
END:VEVENT
BEGIN:VEVENT
DTSTART;TZID=Australia/Brisbane:20250605T130000
DTEND;TZID=Australia/Brisbane:20250605T140000
DTSTAMP:20260424T210141
CREATED:20241212T005526Z
LAST-MODIFIED:20241212T005526Z
UID:29012-1749128400-1749132000@nicolejohnston.com.au
SUMMARY:Corinda | Aqua Yoga
DESCRIPTION:This is a low impact form of exercise that supports the body while still providing function and movement. Many yoga poses that you do in a class can be adapted for the pool\, sometimes using the pool walls as if it were the studio floor. \nThis is a GOLD event suitable for seniors. \nFor more information phone Nichola on 0406 574 454.
URL:https://nicolejohnston.com.au/event/corinda-aqua-yoga-6/2025-06-05/
LOCATION:Dunlop Park Memorial Pool\, 794 Oxley Rd\, Corinda\, Qld\, 4075\, Australia
GEO:-27.5473096;152.9806407
X-APPLE-STRUCTURED-LOCATION;VALUE=URI;X-ADDRESS=Dunlop Park Memorial Pool 794 Oxley Rd Corinda Qld 4075 Australia;X-APPLE-RADIUS=500;X-TITLE=794 Oxley Rd:geo:152.9806407,-27.5473096
END:VEVENT
BEGIN:VEVENT
DTSTART;TZID=Australia/Brisbane:20250605T170000
DTEND;TZID=Australia/Brisbane:20250605T180000
DTSTAMP:20260424T210141
CREATED:20250516T034854Z
LAST-MODIFIED:20250516T034854Z
UID:29750-1749142800-1749146400@nicolejohnston.com.au
SUMMARY:Fairfield Library | Chess Club
DESCRIPTION:Play chess in a fun and friendly atmosphere. Practise against others of similar ages or seek tougher challenges if desired\, focusing on improving skills by having fun. Ideal for those aged 6–15 years. \nBookings required. Phone Fairfield Library on 07 3403 8615 to reserve your place.
URL:https://nicolejohnston.com.au/event/fairfield-library-chess-club/
LOCATION:Fairfield Library\, Fairfield Gardens\, 180 Fairfield Rd\, Fairfield\, Queensland\, 4103\, Australia
GEO:-27.508752;153.025501
X-APPLE-STRUCTURED-LOCATION;VALUE=URI;X-ADDRESS=Fairfield Library Fairfield Gardens 180 Fairfield Rd Fairfield Queensland 4103 Australia;X-APPLE-RADIUS=500;X-TITLE=Fairfield Gardens\, 180 Fairfield Rd:geo:153.025501,-27.508752
END:VEVENT
BEGIN:VEVENT
DTSTART;TZID=Australia/Brisbane:20250606T090000
DTEND;TZID=Australia/Brisbane:20250606T170000
DTSTAMP:20260424T210141
CREATED:20250520T021649Z
LAST-MODIFIED:20250520T022116Z
UID:29810-1749200400-1749229200@nicolejohnston.com.au
SUMMARY:Sherwood | Half Dozen Group of Artists Annual Exhibition and Art Sale
DESCRIPTION:
URL:https://nicolejohnston.com.au/event/sherwood-half-dozen-group-of-artists-annual-exhibition-and-art-sale/2025-06-06/
LOCATION:Half Dozen Group of Artists Art Studio\, 37 Quarry Rd\, Sherwood\, Qld\, 4075\, Australia
CATEGORIES:Community Event
ATTACH;FMTTYPE=image/png:https://nicolejohnston.com.au/wp-content/uploads/2025/05/HDG-Annual-Exhibition-and-Sale.png
GEO:-27.5354658;152.9803733
X-APPLE-STRUCTURED-LOCATION;VALUE=URI;X-ADDRESS=Half Dozen Group of Artists Art Studio 37 Quarry Rd Sherwood Qld 4075 Australia;X-APPLE-RADIUS=500;X-TITLE=37 Quarry Rd:geo:152.9803733,-27.5354658
END:VEVENT
BEGIN:VEVENT
DTSTART;TZID=Australia/Brisbane:20250606T091500
DTEND;TZID=Australia/Brisbane:20250606T094500
DTSTAMP:20260424T210141
CREATED:20250508T032233Z
LAST-MODIFIED:20250508T032233Z
UID:29621-1749201300-1749203100@nicolejohnston.com.au
SUMMARY:Annerley Library | First 5 Forever Babies\, Books and Rhymes
DESCRIPTION:Meet other parents and babies for a fun session of singing\, clapping and dancing. Learn songs and action rhymes to nurture your baby’s pre-literacy\, communication\, language and social skills. Ideal for babies aged up to one year.
URL:https://nicolejohnston.com.au/event/annerley-library-first-5-forever-babies-books-and-rhymes-33/
LOCATION:Annerley Library\, 469 Ipswich Rd\, Annerley\, Queensland\, 4103\, Australia
GEO:-27.5115338;153.0317863
X-APPLE-STRUCTURED-LOCATION;VALUE=URI;X-ADDRESS=Annerley Library 469 Ipswich Rd Annerley Queensland 4103 Australia;X-APPLE-RADIUS=500;X-TITLE=469 Ipswich Rd:geo:153.0317863,-27.5115338
END:VEVENT
BEGIN:VEVENT
DTSTART;TZID=Australia/Brisbane:20250606T091500
DTEND;TZID=Australia/Brisbane:20250606T094500
DTSTAMP:20260424T210141
CREATED:20250516T020701Z
LAST-MODIFIED:20250516T020701Z
UID:29703-1749201300-1749203100@nicolejohnston.com.au
SUMMARY:Corinda Library | First 5 Forever Babies\, Books and Rhymes
DESCRIPTION:Meet other parents and babies for a fun session of singing\, clapping and dancing. Learn songs and action rhymes to nurture your baby’s pre-literacy\, communication\, language and social skills. Ideal for babies aged up to one year.
URL:https://nicolejohnston.com.au/event/corinda-library-first-5-forever-babies-books-and-rhymes-34/
LOCATION:Corinda Library\, 641 Oxley Road\, Corinda\, Queensland\, 4075\, Australia
GEO:-27.538881;152.98142
X-APPLE-STRUCTURED-LOCATION;VALUE=URI;X-ADDRESS=Corinda Library 641 Oxley Road Corinda Queensland 4075 Australia;X-APPLE-RADIUS=500;X-TITLE=641 Oxley Road:geo:152.98142,-27.538881
END:VEVENT
BEGIN:VEVENT
DTSTART;TZID=Australia/Brisbane:20250606T140000
DTEND;TZID=Australia/Brisbane:20250606T153000
DTSTAMP:20260424T210141
CREATED:20250516T035004Z
LAST-MODIFIED:20250516T035004Z
UID:29752-1749218400-1749223800@nicolejohnston.com.au
SUMMARY:Fairfield Library | One-On-One Tech Help
DESCRIPTION:Contact Fairfield library to enquire about one-on-one tech assistance to troubleshoot technical issues\, develop digital skills and improve online confidence. A Brisbane Libraries Tech Connect workshop. \nBookings required. Phone Fairfield Library on 07 3403 8615 to reserve your place.
URL:https://nicolejohnston.com.au/event/fairfield-library-one-on-one-tech-help-13/
LOCATION:Fairfield Library\, Fairfield Gardens\, 180 Fairfield Rd\, Fairfield\, Queensland\, 4103\, Australia
GEO:-27.508752;153.025501
X-APPLE-STRUCTURED-LOCATION;VALUE=URI;X-ADDRESS=Fairfield Library Fairfield Gardens 180 Fairfield Rd Fairfield Queensland 4103 Australia;X-APPLE-RADIUS=500;X-TITLE=Fairfield Gardens\, 180 Fairfield Rd:geo:153.025501,-27.508752
END:VEVENT
BEGIN:VEVENT
DTSTART;TZID=Australia/Brisbane:20250606T143000
DTEND;TZID=Australia/Brisbane:20250606T160000
DTSTAMP:20260424T210141
CREATED:20250113T035246Z
LAST-MODIFIED:20250113T035246Z
UID:29080-1749220200-1749225600@nicolejohnston.com.au
SUMMARY:Graceville | Beginning Lawn Bowls
DESCRIPTION:An introduction to the sport of lawn bowls. A sport that helps to build leg and core strength\, stability and coordination in a friendly social environment. \nThis is a GOLD event suitable for seniors. \nFor bookings phone or text David on 0407 894 727 or email dschonfe@bigpond.net.au.
URL:https://nicolejohnston.com.au/event/graceville-beginning-lawn-bowls-2/2025-06-06/
LOCATION:Graceville Bowls Club\, 16 Wylie St\, Graceville\, Qld\, 4075\, Australia
END:VEVENT
BEGIN:VEVENT
DTSTART;TZID=Australia/Brisbane:20250606T153000
DTEND;TZID=Australia/Brisbane:20250606T163000
DTSTAMP:20260424T210141
CREATED:20250516T035047Z
LAST-MODIFIED:20250516T035047Z
UID:29754-1749223800-1749227400@nicolejohnston.com.au
SUMMARY:Fairfield Library | Tween STEAM
DESCRIPTION:Join us for an afternoon of games and activities exploring science\, technology\, reading and art. Challenge your thinking and discover your creativity in a fun environment. Ideal for children aged 8-12 years. \nBookings required. Phone Fairfield Library on 07 3403 8615 to reserve your place.
URL:https://nicolejohnston.com.au/event/fairfield-library-tween-steam-3/
LOCATION:Fairfield Library\, Fairfield Gardens\, 180 Fairfield Rd\, Fairfield\, Queensland\, 4103\, Australia
GEO:-27.508752;153.025501
X-APPLE-STRUCTURED-LOCATION;VALUE=URI;X-ADDRESS=Fairfield Library Fairfield Gardens 180 Fairfield Rd Fairfield Queensland 4103 Australia;X-APPLE-RADIUS=500;X-TITLE=Fairfield Gardens\, 180 Fairfield Rd:geo:153.025501,-27.508752
END:VEVENT
BEGIN:VEVENT
DTSTART;TZID=Australia/Brisbane:20250606T163000
DTEND;TZID=Australia/Brisbane:20250606T173000
DTSTAMP:20260424T210141
CREATED:20250516T043534Z
LAST-MODIFIED:20250516T043534Z
UID:29786-1749227400-1749231000@nicolejohnston.com.au
SUMMARY:Graceville | Obstacle Training Circuit
DESCRIPTION:Join us for an exciting obstacle training circuit! Develop new skills and techniques on the obstacle course while building strength and improving your fitness. It’s a fun and energising session you won’t want to miss. \nNo bookings required.  For more information phone Emma from Centenary Playground on 0419 592 777.
URL:https://nicolejohnston.com.au/event/graceville-obstacle-training-circuit-5/
LOCATION:Graceville Riverside Parklands\, Graceville Avenue\, Graceville\, Queensland\, 4075\, Australia
GEO:-27.5228793;152.9875616
X-APPLE-STRUCTURED-LOCATION;VALUE=URI;X-ADDRESS=Graceville Riverside Parklands Graceville Avenue Graceville Queensland 4075 Australia;X-APPLE-RADIUS=500;X-TITLE=Graceville Avenue:geo:152.9875616,-27.5228793
END:VEVENT
BEGIN:VEVENT
DTSTART;TZID=Australia/Brisbane:20250607T070000
DTEND;TZID=Australia/Brisbane:20250607T080000
DTSTAMP:20260424T210141
CREATED:20241113T060545Z
LAST-MODIFIED:20241113T060545Z
UID:28997-1749279600-1749283200@nicolejohnston.com.au
SUMMARY:Annerley | Yoga
DESCRIPTION:Focus on a range of movements to relax the mind and body. Stretching\, breathing\, strength and balance exercises are included by incorporating standing poses and mat work into the session. \nFor more information phone Deanna from Yoga Mind Body Brisbane on 0401 247 328.
URL:https://nicolejohnston.com.au/event/annerley-yoga-9/2025-06-07/
LOCATION:Vallely St Park\, 51 Vallely Street\, Annerley\, QLD\, 4103\, Australia
END:VEVENT
BEGIN:VEVENT
DTSTART;TZID=Australia/Brisbane:20250607T080000
DTEND;TZID=Australia/Brisbane:20250607T170000
DTSTAMP:20260424T210141
CREATED:20250520T021649Z
LAST-MODIFIED:20250520T022116Z
UID:29811-1749283200-1749315600@nicolejohnston.com.au
SUMMARY:Sherwood | Half Dozen Group of Artists Annual Exhibition and Art Sale
DESCRIPTION:
URL:https://nicolejohnston.com.au/event/sherwood-half-dozen-group-of-artists-annual-exhibition-and-art-sale/2025-06-07/
LOCATION:Half Dozen Group of Artists Art Studio\, 37 Quarry Rd\, Sherwood\, Qld\, 4075\, Australia
CATEGORIES:Community Event
ATTACH;FMTTYPE=image/png:https://nicolejohnston.com.au/wp-content/uploads/2025/05/HDG-Annual-Exhibition-and-Sale.png
GEO:-27.5354658;152.9803733
X-APPLE-STRUCTURED-LOCATION;VALUE=URI;X-ADDRESS=Half Dozen Group of Artists Art Studio 37 Quarry Rd Sherwood Qld 4075 Australia;X-APPLE-RADIUS=500;X-TITLE=37 Quarry Rd:geo:152.9803733,-27.5354658
END:VEVENT
BEGIN:VEVENT
DTSTART;TZID=Australia/Brisbane:20250607T100000
DTEND;TZID=Australia/Brisbane:20250607T120000
DTSTAMP:20260424T210141
CREATED:20250605T052955Z
LAST-MODIFIED:20250605T053009Z
UID:30099-1749290400-1749297600@nicolejohnston.com.au
SUMMARY:Sherwood | Sherwood Community Kindy Community Day
DESCRIPTION:Coffee Van\, Free face painter\, Raffle prizes\, Live music\, Bake sale\, Sausage sizzle\, Craft stall and Plant sale.
URL:https://nicolejohnston.com.au/event/sherwood-sherwood-community-kindy-community-day/
LOCATION:Sherwood Community Kindergarten\, 44 Thallon St\, Sherwood\, Qld\, 4075\, Australia
CATEGORIES:Community Event
ATTACH;FMTTYPE=image/jpeg:https://nicolejohnston.com.au/wp-content/uploads/2025/06/Sherwood-Kindy-Open-Day.jpg
GEO:-27.5343501;152.9802232
X-APPLE-STRUCTURED-LOCATION;VALUE=URI;X-ADDRESS=Sherwood Community Kindergarten 44 Thallon St Sherwood Qld 4075 Australia;X-APPLE-RADIUS=500;X-TITLE=44 Thallon St:geo:152.9802232,-27.5343501
END:VEVENT
BEGIN:VEVENT
DTSTART;TZID=Australia/Brisbane:20250607T110000
DTEND;TZID=Australia/Brisbane:20250607T113000
DTSTAMP:20260424T210141
CREATED:20250508T032342Z
LAST-MODIFIED:20250508T032342Z
UID:29623-1749294000-1749295800@nicolejohnston.com.au
SUMMARY:Annerley Library | Family STEAM
DESCRIPTION:Join us for a morning of games and activities exploring science\, technology\, reading and art. Ideal for children of all ages and their families.
URL:https://nicolejohnston.com.au/event/annerley-library-family-steam-4/
LOCATION:Annerley Library\, 469 Ipswich Rd\, Annerley\, Queensland\, 4103\, Australia
GEO:-27.5115338;153.0317863
X-APPLE-STRUCTURED-LOCATION;VALUE=URI;X-ADDRESS=Annerley Library 469 Ipswich Rd Annerley Queensland 4103 Australia;X-APPLE-RADIUS=500;X-TITLE=469 Ipswich Rd:geo:153.0317863,-27.5115338
END:VEVENT
BEGIN:VEVENT
DTSTART;TZID=Australia/Brisbane:20250607T110000
DTEND;TZID=Australia/Brisbane:20250607T120000
DTSTAMP:20260424T210141
CREATED:20250113T042246Z
LAST-MODIFIED:20250113T042246Z
UID:29181-1749294000-1749297600@nicolejohnston.com.au
SUMMARY:Yeronga | Deep Water Running
DESCRIPTION:This is an aquatic workout that uses all major muscle groups. Participants wear a buoyancy belt so there’s no need to worry about being in deep water however you do require basic swimming skills. Classes will be held in the outdoor 25m/50m pool. \nThis is an aquatic workout that uses all major muscle groups. Participants wear a buoyancy belt so there’s no need to worry about being in deep water however you do require basic swimming skills. Classes will be held in the outdoor 25m/50m pool. \nAll participants must bring their own buoyancy belt and towel.
URL:https://nicolejohnston.com.au/event/yeronga-deep-water-running-6/2025-06-07/
LOCATION:Yeronga Park Pool\, 81 School Rd\, Yeronga\, Qld\, 4104\, Australia
GEO:-27.5210935;153.019099
X-APPLE-STRUCTURED-LOCATION;VALUE=URI;X-ADDRESS=Yeronga Park Pool 81 School Rd Yeronga Qld 4104 Australia;X-APPLE-RADIUS=500;X-TITLE=81 School Rd:geo:153.019099,-27.5210935
END:VEVENT
BEGIN:VEVENT
DTSTART;TZID=Australia/Brisbane:20250607T130000
DTEND;TZID=Australia/Brisbane:20250607T140000
DTSTAMP:20260424T210141
CREATED:20241212T005708Z
LAST-MODIFIED:20241212T005708Z
UID:29029-1749301200-1749304800@nicolejohnston.com.au
SUMMARY:Corinda | Deep Water Running
DESCRIPTION:This is an aquatic workout that uses all major muscle groups. Participants wear a buoyancy belt so there’s no need to worry about being in deep water however you do require basic swimming skills. Classes will be held in the outdoor 50m pool. \nFor more information phone or text Aqua English on 0406 063 737.
URL:https://nicolejohnston.com.au/event/corinda-deep-water-running-3/2025-06-07/
LOCATION:Dunlop Park Memorial Pool\, 794 Oxley Rd\, Corinda\, Qld\, 4075\, Australia
GEO:-27.5473096;152.9806407
X-APPLE-STRUCTURED-LOCATION;VALUE=URI;X-ADDRESS=Dunlop Park Memorial Pool 794 Oxley Rd Corinda Qld 4075 Australia;X-APPLE-RADIUS=500;X-TITLE=794 Oxley Rd:geo:152.9806407,-27.5473096
END:VEVENT
BEGIN:VEVENT
DTSTART;TZID=Australia/Brisbane:20250608T080000
DTEND;TZID=Australia/Brisbane:20250608T090000
DTSTAMP:20260424T210141
CREATED:20250113T034335Z
LAST-MODIFIED:20250113T034335Z
UID:29062-1749369600-1749373200@nicolejohnston.com.au
SUMMARY:Fairfield | GOLD Tai Chi Qigong
DESCRIPTION:This dynamic activity is invigorating and will help you feel relaxed\, refreshed and calm. Rejuvenate your body and learn to create a tranquil mind. Join any week. \nThis is a GOLD event suitable for seniors. Meet near the playground\, off Sydney Street. \nFor more information phone Julian from Australian Academy of Tai Chi on 0439 073 860.
URL:https://nicolejohnston.com.au/event/fairfield-gold-tai-chi-qigong-2/2025-06-08/
LOCATION:Robinson Park\, 221 Fairfield Road\, Fairfield\, Queensland\, 4103\, Australia
GEO:-27.5099948;153.023042
X-APPLE-STRUCTURED-LOCATION;VALUE=URI;X-ADDRESS=Robinson Park 221 Fairfield Road Fairfield Queensland 4103 Australia;X-APPLE-RADIUS=500;X-TITLE=221 Fairfield Road:geo:153.023042,-27.5099948
END:VEVENT
BEGIN:VEVENT
DTSTART;TZID=Australia/Brisbane:20250608T080000
DTEND;TZID=Australia/Brisbane:20250608T170000
DTSTAMP:20260424T210141
CREATED:20250520T021649Z
LAST-MODIFIED:20250520T022116Z
UID:29812-1749369600-1749402000@nicolejohnston.com.au
SUMMARY:Sherwood | Half Dozen Group of Artists Annual Exhibition and Art Sale
DESCRIPTION:
URL:https://nicolejohnston.com.au/event/sherwood-half-dozen-group-of-artists-annual-exhibition-and-art-sale/2025-06-08/
LOCATION:Half Dozen Group of Artists Art Studio\, 37 Quarry Rd\, Sherwood\, Qld\, 4075\, Australia
CATEGORIES:Community Event
ATTACH;FMTTYPE=image/png:https://nicolejohnston.com.au/wp-content/uploads/2025/05/HDG-Annual-Exhibition-and-Sale.png
GEO:-27.5354658;152.9803733
X-APPLE-STRUCTURED-LOCATION;VALUE=URI;X-ADDRESS=Half Dozen Group of Artists Art Studio 37 Quarry Rd Sherwood Qld 4075 Australia;X-APPLE-RADIUS=500;X-TITLE=37 Quarry Rd:geo:152.9803733,-27.5354658
END:VEVENT
END:VCALENDAR