BEGIN:VCALENDAR
VERSION:2.0
PRODID:-//Nicole Johnston - ECPv6.15.20//NONSGML v1.0//EN
CALSCALE:GREGORIAN
METHOD:PUBLISH
X-WR-CALNAME:Nicole Johnston
X-ORIGINAL-URL:https://nicolejohnston.com.au
X-WR-CALDESC:Events for Nicole Johnston
REFRESH-INTERVAL;VALUE=DURATION:PT1H
X-Robots-Tag:noindex
X-PUBLISHED-TTL:PT1H
BEGIN:VTIMEZONE
TZID:Australia/Brisbane
BEGIN:STANDARD
TZOFFSETFROM:+1000
TZOFFSETTO:+1000
TZNAME:AEST
DTSTART:20250101T000000
END:STANDARD
END:VTIMEZONE
BEGIN:VEVENT
DTSTART;TZID=Australia/Brisbane:20260501T091500
DTEND;TZID=Australia/Brisbane:20260501T094500
DTSTAMP:20260424T042131
CREATED:20260318T022650Z
LAST-MODIFIED:20260318T022650Z
UID:32334-1777626900-1777628700@nicolejohnston.com.au
SUMMARY:Corinda Library | First 5 Forever Babies\, Books and Rhymes
DESCRIPTION:Meet other parents and babies for a fun rhyme time session of singing\, clapping and dancing. Learn songs and action rhymes to nurture your baby’s pre-literacy\, communication\, language and social skills. Ideal for babies aged up to one year.
URL:https://nicolejohnston.com.au/event/corinda-library-first-5-forever-babies-books-and-rhymes-70/
LOCATION:Corinda Library\, 641 Oxley Road\, Corinda\, Queensland\, 4075\, Australia
GEO:-27.538881;152.98142
X-APPLE-STRUCTURED-LOCATION;VALUE=URI;X-ADDRESS=Corinda Library 641 Oxley Road Corinda Queensland 4075 Australia;X-APPLE-RADIUS=500;X-TITLE=641 Oxley Road:geo:152.98142,-27.538881
END:VEVENT
BEGIN:VEVENT
DTSTART;TZID=Australia/Brisbane:20260501T091500
DTEND;TZID=Australia/Brisbane:20260501T094500
DTSTAMP:20260424T042131
CREATED:20260318T022749Z
LAST-MODIFIED:20260318T022749Z
UID:32336-1777626900-1777628700@nicolejohnston.com.au
SUMMARY:Annerley Library | First 5 Forever Babies\, Books and Rhymes
DESCRIPTION:Meet other parents and babies for a fun rhyme time session of singing\, clapping and dancing. Learn songs and action rhymes to nurture your baby’s pre-literacy\, communication\, language and social skills. Ideal for babies aged up to one year.
URL:https://nicolejohnston.com.au/event/annerley-library-first-5-forever-babies-books-and-rhymes-69/
LOCATION:Annerley Library\, 469 Ipswich Rd\, Annerley\, Queensland\, 4103\, Australia
GEO:-27.5115338;153.0317863
X-APPLE-STRUCTURED-LOCATION;VALUE=URI;X-ADDRESS=Annerley Library 469 Ipswich Rd Annerley Queensland 4103 Australia;X-APPLE-RADIUS=500;X-TITLE=469 Ipswich Rd:geo:153.0317863,-27.5115338
END:VEVENT
BEGIN:VEVENT
DTSTART;TZID=Australia/Brisbane:20260501T140000
DTEND;TZID=Australia/Brisbane:20260501T153000
DTSTAMP:20260424T042131
CREATED:20260318T022911Z
LAST-MODIFIED:20260318T022911Z
UID:32338-1777644000-1777649400@nicolejohnston.com.au
SUMMARY:Fairfield Library | One-On-One Tech Help
DESCRIPTION:Contact Fairfield library to enquire about one-on-one tech assistance to troubleshoot technical issues\, develop digital skills and improve online confidence. A Brisbane Libraries Tech Connect workshop. \nBookings required. Phone Fairfield Library on 07 3403 8615 to reserve your place.
URL:https://nicolejohnston.com.au/event/fairfield-library-one-on-one-tech-help-28/
LOCATION:Fairfield Library\, Fairfield Gardens\, 180 Fairfield Rd\, Fairfield\, Queensland\, 4103\, Australia
GEO:-27.508752;153.025501
X-APPLE-STRUCTURED-LOCATION;VALUE=URI;X-ADDRESS=Fairfield Library Fairfield Gardens 180 Fairfield Rd Fairfield Queensland 4103 Australia;X-APPLE-RADIUS=500;X-TITLE=Fairfield Gardens\, 180 Fairfield Rd:geo:153.025501,-27.508752
END:VEVENT
BEGIN:VEVENT
DTSTART;TZID=Australia/Brisbane:20260501T150000
DTEND;TZID=Australia/Brisbane:20260501T160000
DTSTAMP:20260424T042131
CREATED:20260302T051606Z
LAST-MODIFIED:20260302T051606Z
UID:32204-1777647600-1777651200@nicolejohnston.com.au
SUMMARY:Graceville | GOLD Beginners Lawn Bowls
DESCRIPTION:Try lawn bowls\, a sport that helps to build leg and core strength\, stability and coordination in a friendly social environment. This is a GOLD event suitable for seniors. \nBookings essential. To book phone or text David on 0407 894 727 or email dschonfe@bigpond.net.au
URL:https://nicolejohnston.com.au/event/graceville-gold-beginners-lawn-bowls/
LOCATION:Graceville Bowls Club\, 16 Wylie St\, Graceville\, Qld\, 4075\, Australia
ORGANIZER;CN="Graceville Bowls Club":MAILTO:dschonfe@bigpond.net.au
END:VEVENT
BEGIN:VEVENT
DTSTART;TZID=Australia/Brisbane:20260501T153000
DTEND;TZID=Australia/Brisbane:20260501T163000
DTSTAMP:20260424T042131
CREATED:20260318T023021Z
LAST-MODIFIED:20260318T023021Z
UID:32340-1777649400-1777653000@nicolejohnston.com.au
SUMMARY:Fairfield Library | Tween STEAM
DESCRIPTION:Join us for fun games and activities exploring emerging technologies\, robotics\, coding\, science\, communication and art. Ideal for children aged 8 – 12 years. \nBookings required. Phone Fairfield Library on 07 3403 8615 to reserve your place.
URL:https://nicolejohnston.com.au/event/fairfield-library-tween-steam-10/
LOCATION:Fairfield Library\, Fairfield Gardens\, 180 Fairfield Rd\, Fairfield\, Queensland\, 4103\, Australia
GEO:-27.508752;153.025501
X-APPLE-STRUCTURED-LOCATION;VALUE=URI;X-ADDRESS=Fairfield Library Fairfield Gardens 180 Fairfield Rd Fairfield Queensland 4103 Australia;X-APPLE-RADIUS=500;X-TITLE=Fairfield Gardens\, 180 Fairfield Rd:geo:153.025501,-27.508752
END:VEVENT
BEGIN:VEVENT
DTSTART;TZID=Australia/Brisbane:20260501T163000
DTEND;TZID=Australia/Brisbane:20260501T173000
DTSTAMP:20260424T042131
CREATED:20260302T052235Z
LAST-MODIFIED:20260302T052235Z
UID:32206-1777653000-1777656600@nicolejohnston.com.au
SUMMARY:Graceville | Obstacle Training Circuit
DESCRIPTION:Join us for an exciting obstacle training circuit! Develop new skills and techniques on the obstacle course while building strength and improving your fitness. It’s a fun and energising session you won’t want to miss! Meet at the obstacle course at Simpsons Playground. \nNo bookings required. For more information phone Emma from Centenary Playground on 0419 592 777.
URL:https://nicolejohnston.com.au/event/graceville-obstacle-training-circuit-34/
LOCATION:Graceville Riverside Parklands\, Graceville Avenue\, Graceville\, Queensland\, 4075\, Australia
GEO:-27.5228793;152.9875616
X-APPLE-STRUCTURED-LOCATION;VALUE=URI;X-ADDRESS=Graceville Riverside Parklands Graceville Avenue Graceville Queensland 4075 Australia;X-APPLE-RADIUS=500;X-TITLE=Graceville Avenue:geo:152.9875616,-27.5228793
END:VEVENT
BEGIN:VEVENT
DTSTART;TZID=Australia/Brisbane:20260502T070000
DTEND;TZID=Australia/Brisbane:20260502T080000
DTSTAMP:20260424T042131
CREATED:20260302T052336Z
LAST-MODIFIED:20260302T052336Z
UID:32208-1777705200-1777708800@nicolejohnston.com.au
SUMMARY:Annerley | Yoga
DESCRIPTION:Focus on a range of movements to relax the mind and body. Stretching\, breathing\, strength and balance exercises are included by incorporating standing poses and mat work into the session. \nNo bookings required. For more information phone Deanna on 0401 247 328. \nBYO exercise mat\, towel\, two blocks and a yoga strap if you have them.
URL:https://nicolejohnston.com.au/event/annerley-yoga-38/
LOCATION:Vallely St Park\, 51 Vallely Street\, Annerley\, QLD\, 4103\, Australia
END:VEVENT
BEGIN:VEVENT
DTSTART;TZID=Australia/Brisbane:20260502T093000
DTEND;TZID=Australia/Brisbane:20260502T101500
DTSTAMP:20260424T042131
CREATED:20260302T052628Z
LAST-MODIFIED:20260302T052628Z
UID:32210-1777714200-1777716900@nicolejohnston.com.au
SUMMARY:Corinda | Deep Water Running
DESCRIPTION:This is an aquatic workout that uses all major muscle groups. Participants wear a buoyancy belt so there’s no need to worry about being in deep water however you do require basic swimming skills. Classes will be held in the outdoor 50m pool. You must bring your own buoyancy belt for this class. \nNo bookings required. For more information text or phone Marise on 0408 515 128.
URL:https://nicolejohnston.com.au/event/corinda-deep-water-running-33/
LOCATION:Dunlop Park Memorial Pool\, 794 Oxley Rd\, Corinda\, Qld\, 4075\, Australia
GEO:-27.5473096;152.9806407
X-APPLE-STRUCTURED-LOCATION;VALUE=URI;X-ADDRESS=Dunlop Park Memorial Pool 794 Oxley Rd Corinda Qld 4075 Australia;X-APPLE-RADIUS=500;X-TITLE=794 Oxley Rd:geo:152.9806407,-27.5473096
END:VEVENT
BEGIN:VEVENT
DTSTART;TZID=Australia/Brisbane:20260502T104500
DTEND;TZID=Australia/Brisbane:20260502T113000
DTSTAMP:20260424T042131
CREATED:20260302T053008Z
LAST-MODIFIED:20260302T053008Z
UID:32212-1777718700-1777721400@nicolejohnston.com.au
SUMMARY:Yeronga | Deep Water Running
DESCRIPTION:This is an aquatic workout that uses all major muscle groups. Participants wear a buoyancy belt so there’s no need to worry about being in deep water however you do require basic swimming skills. Classes will be held in the outdoor 50m pool. You must bring your own buoyancy belt for this class. \nNo bookings required. For more information text or phone Marise on 0408 515 128.
URL:https://nicolejohnston.com.au/event/yeronga-deep-water-running-35/
LOCATION:Yeronga Park Pool\, 81 School Rd\, Yeronga\, Qld\, 4104\, Australia
GEO:-27.5210935;153.019099
X-APPLE-STRUCTURED-LOCATION;VALUE=URI;X-ADDRESS=Yeronga Park Pool 81 School Rd Yeronga Qld 4104 Australia;X-APPLE-RADIUS=500;X-TITLE=81 School Rd:geo:153.019099,-27.5210935
END:VEVENT
BEGIN:VEVENT
DTSTART;TZID=Australia/Brisbane:20260502T110000
DTEND;TZID=Australia/Brisbane:20260502T120000
DTSTAMP:20260424T042131
CREATED:20260318T031605Z
LAST-MODIFIED:20260318T031605Z
UID:32342-1777719600-1777723200@nicolejohnston.com.au
SUMMARY:Annerley Library | Family STEAM
DESCRIPTION:Join us for a morning of games and activities exploring science\, technology\, reading and art. Ideal for children of all ages and their families. \nBookings required. Phone Annerley Library on 07 3403 1735 to reserve your place.
URL:https://nicolejohnston.com.au/event/annerley-library-family-steam-14/
LOCATION:Annerley Library\, 469 Ipswich Rd\, Annerley\, Queensland\, 4103\, Australia
GEO:-27.5115338;153.0317863
X-APPLE-STRUCTURED-LOCATION;VALUE=URI;X-ADDRESS=Annerley Library 469 Ipswich Rd Annerley Queensland 4103 Australia;X-APPLE-RADIUS=500;X-TITLE=469 Ipswich Rd:geo:153.0317863,-27.5115338
END:VEVENT
BEGIN:VEVENT
DTSTART;TZID=Australia/Brisbane:20260503T080000
DTEND;TZID=Australia/Brisbane:20260503T090000
DTSTAMP:20260424T042131
CREATED:20260302T053220Z
LAST-MODIFIED:20260302T053220Z
UID:32214-1777795200-1777798800@nicolejohnston.com.au
SUMMARY:Fairfield | GOLD Tai Chi Qigong
DESCRIPTION:This dynamic activity is invigorating and will help you feel relaxed\, refreshed and calm. Rejuvenate your body and learn to create a tranquil mind. Join any week. This is a GOLD event suitable for seniors. \nNo bookings required. For more information phone Rod from Australian Academy of Tai Chi on 0400 335 645. \nMeet near the playground\, off Sydney Street.
URL:https://nicolejohnston.com.au/event/fairfield-gold-tai-chi-qigong-32/
LOCATION:Robinson Park\, 221 Fairfield Road\, Fairfield\, Queensland\, 4103\, Australia
GEO:-27.5099948;153.023042
X-APPLE-STRUCTURED-LOCATION;VALUE=URI;X-ADDRESS=Robinson Park 221 Fairfield Road Fairfield Queensland 4103 Australia;X-APPLE-RADIUS=500;X-TITLE=221 Fairfield Road:geo:153.023042,-27.5099948
END:VEVENT
BEGIN:VEVENT
DTSTART;TZID=Australia/Brisbane:20260503T093000
DTEND;TZID=Australia/Brisbane:20260503T150000
DTSTAMP:20260424T042131
CREATED:20260416T062935Z
LAST-MODIFIED:20260416T062936Z
UID:32615-1777800600-1777820400@nicolejohnston.com.au
SUMMARY:Annerley | Junction Park State School Carnival of Colour
DESCRIPTION:All welcome to join in a colourful celebration filled with games\, rides\, music\, entertainment\, food and market stalls\, face painting\, craft activities and best dressed prizes.
URL:https://nicolejohnston.com.au/event/annerley-junction-park-state-school-carnival-of-colour/
LOCATION:Junction Park State School\, 50 Waldheim St\, Annerley\, Qld\, 4103\, Australia
CATEGORIES:Community Event
ATTACH;FMTTYPE=image/png:https://nicolejohnston.com.au/wp-content/uploads/2026/04/JPSS-Carnival-of-Colour.png
GEO:-27.5099957;153.0353483
X-APPLE-STRUCTURED-LOCATION;VALUE=URI;X-ADDRESS=Junction Park State School 50 Waldheim St Annerley Qld 4103 Australia;X-APPLE-RADIUS=500;X-TITLE=50 Waldheim St:geo:153.0353483,-27.5099957
END:VEVENT
BEGIN:VEVENT
DTSTART;TZID=Australia/Brisbane:20260505T070000
DTEND;TZID=Australia/Brisbane:20260505T090000
DTSTAMP:20260424T042131
CREATED:20260119T012619Z
LAST-MODIFIED:20260119T012619Z
UID:31726-1777964400-1777971600@nicolejohnston.com.au
SUMMARY:Rocklea | Oxley Creek Tuesday Common Carers
DESCRIPTION:Weeding and planting to improve habitat.  Tools provided. Contact Mary Lou on 0429 911 555.
URL:https://nicolejohnston.com.au/event/rocklea-oxley-creek-tuesday-common-carers/2026-05-05/
LOCATION:Oxley Creek Common\, 271 Sherwood Rd\, Rocklea\, Qld\, 4106\, Australia
ORGANIZER;CN="Friends of Oxley Creek Common":MAILTO:friendsofoxleycreekcommon@gmail.com
GEO:-27.535636;152.993047
X-APPLE-STRUCTURED-LOCATION;VALUE=URI;X-ADDRESS=Oxley Creek Common 271 Sherwood Rd Rocklea Qld 4106 Australia;X-APPLE-RADIUS=500;X-TITLE=271 Sherwood Rd:geo:152.993047,-27.535636
END:VEVENT
BEGIN:VEVENT
DTSTART;TZID=Australia/Brisbane:20260505T130000
DTEND;TZID=Australia/Brisbane:20260505T150000
DTSTAMP:20260424T042131
CREATED:20260318T031710Z
LAST-MODIFIED:20260318T031710Z
UID:32344-1777986000-1777993200@nicolejohnston.com.au
SUMMARY:Fairfield Library | Southside Community Craft Circle
DESCRIPTION:This is a craft group that makes items to support the disadvantaged in the community.
URL:https://nicolejohnston.com.au/event/fairfield-library-southside-community-craft-circle-17/
LOCATION:Fairfield Library\, Fairfield Gardens\, 180 Fairfield Rd\, Fairfield\, Queensland\, 4103\, Australia
GEO:-27.508752;153.025501
X-APPLE-STRUCTURED-LOCATION;VALUE=URI;X-ADDRESS=Fairfield Library Fairfield Gardens 180 Fairfield Rd Fairfield Queensland 4103 Australia;X-APPLE-RADIUS=500;X-TITLE=Fairfield Gardens\, 180 Fairfield Rd:geo:153.025501,-27.508752
END:VEVENT
BEGIN:VEVENT
DTSTART;TZID=Australia/Brisbane:20260506T083000
DTEND;TZID=Australia/Brisbane:20260506T093000
DTSTAMP:20260424T042131
CREATED:20260302T053332Z
LAST-MODIFIED:20260302T053332Z
UID:32216-1778056200-1778059800@nicolejohnston.com.au
SUMMARY:Yeronga | GOLD Yoga for Mobility
DESCRIPTION:A gentle movement class blended with yoga to improve your strength\, balance and posture. No floor work included. Suitable for all fitness levels. An exercise band is required. \nMeet under the large shady trees opposite Cansdale Street and right of the playground. \nThis is a GOLD event suitable for seniors. \nNo bookings required. For more information phone Cassie from Foxinsox Yoga on 0431 594 388.
URL:https://nicolejohnston.com.au/event/yeronga-gold-yoga-for-mobility-33/
LOCATION:John Walker Place\, 323 Brisbane Corso\, Yeronga\, QLD\, 4104\, Australia
END:VEVENT
BEGIN:VEVENT
DTSTART;TZID=Australia/Brisbane:20260506T093000
DTEND;TZID=Australia/Brisbane:20260506T100000
DTSTAMP:20260424T042131
CREATED:20260318T031817Z
LAST-MODIFIED:20260318T031817Z
UID:32346-1778059800-1778061600@nicolejohnston.com.au
SUMMARY:Fairfield Library | First 5 Forever Babies\, Books and Rhymes
DESCRIPTION:Meet other parents and babies for a fun rhyme time session of singing\, clapping and dancing. Learn songs and action rhymes to nurture your baby’s pre-literacy\, communication\, language and social skills. Ideal for babies aged up to one year.
URL:https://nicolejohnston.com.au/event/fairfield-library-first-5-forever-babies-books-and-rhymes-75/
LOCATION:Fairfield Library\, Fairfield Gardens\, 180 Fairfield Rd\, Fairfield\, Queensland\, 4103\, Australia
GEO:-27.508752;153.025501
X-APPLE-STRUCTURED-LOCATION;VALUE=URI;X-ADDRESS=Fairfield Library Fairfield Gardens 180 Fairfield Rd Fairfield Queensland 4103 Australia;X-APPLE-RADIUS=500;X-TITLE=Fairfield Gardens\, 180 Fairfield Rd:geo:153.025501,-27.508752
END:VEVENT
BEGIN:VEVENT
DTSTART;TZID=Australia/Brisbane:20260506T103000
DTEND;TZID=Australia/Brisbane:20260506T110000
DTSTAMP:20260424T042131
CREATED:20260318T032221Z
LAST-MODIFIED:20260318T032221Z
UID:32348-1778063400-1778065200@nicolejohnston.com.au
SUMMARY:Fairfield Library | First 5 Forever Toddler Time
DESCRIPTION:Meet other parents and toddlers for a fun session of singing\, clapping and dancing. Learn action rhymes and songs which will help your child’s pre-literacy\, communication\, language and social skills. Ideal for babies and toddlers aged 1-2 years.
URL:https://nicolejohnston.com.au/event/fairfield-library-first-5-forever-toddler-time-69/
LOCATION:Fairfield Library\, Fairfield Gardens\, 180 Fairfield Rd\, Fairfield\, Queensland\, 4103\, Australia
GEO:-27.508752;153.025501
X-APPLE-STRUCTURED-LOCATION;VALUE=URI;X-ADDRESS=Fairfield Library Fairfield Gardens 180 Fairfield Rd Fairfield Queensland 4103 Australia;X-APPLE-RADIUS=500;X-TITLE=Fairfield Gardens\, 180 Fairfield Rd:geo:153.025501,-27.508752
END:VEVENT
BEGIN:VEVENT
DTSTART;TZID=Australia/Brisbane:20260506T140000
DTEND;TZID=Australia/Brisbane:20260506T150000
DTSTAMP:20260424T042131
CREATED:20260302T053440Z
LAST-MODIFIED:20260302T053440Z
UID:32218-1778076000-1778079600@nicolejohnston.com.au
SUMMARY:Sherwood | GOLD Belly Dance
DESCRIPTION:Enjoy gentle dance focused on fitness\, coordination\, flexibility\, relaxation and fun. Belly dance provides physical\, emotional and psychological benefits. Suitable for all levels. Bring a belly dance belt if you have one. \nThis is a GOLD event suitable for seniors. \nBookings essential. To book email Sherwood Neighbourhood Centre. For more information phone 07 3379 6963.
URL:https://nicolejohnston.com.au/event/sherwood-gold-belly-dance-32/
LOCATION:Sherwood Neighbourhood Centre\, 38 Thallon Street\, Sherwood\, Queensland\, 4075\, Australia
GEO:-27.53402;152.981098
X-APPLE-STRUCTURED-LOCATION;VALUE=URI;X-ADDRESS=Sherwood Neighbourhood Centre 38 Thallon Street Sherwood Queensland 4075 Australia;X-APPLE-RADIUS=500;X-TITLE=38 Thallon Street:geo:152.981098,-27.53402
END:VEVENT
BEGIN:VEVENT
DTSTART;TZID=Australia/Brisbane:20260507T090000
DTEND;TZID=Australia/Brisbane:20260507T100000
DTSTAMP:20260424T042131
CREATED:20260302T053544Z
LAST-MODIFIED:20260302T053544Z
UID:32220-1778144400-1778148000@nicolejohnston.com.au
SUMMARY:Oxley | Mums and Bubs Yoga
DESCRIPTION:A mum and bubs yoga class to connect with yourself\, your baby and others. Designed to support you post-natally with gentle stretching and strengthening practices and breathing exercises. \nNo bookings required. For more information phone Nichola on 0406 574 454.
URL:https://nicolejohnston.com.au/event/oxley-mums-and-bubs-yoga-37/
LOCATION:Nixon Park\, 929 Oxley Road\, OXLEY\, QLD\, 4075\, Australia
GEO:-27.552171;152.9789711
X-APPLE-STRUCTURED-LOCATION;VALUE=URI;X-ADDRESS=Nixon Park 929 Oxley Road OXLEY QLD 4075 Australia;X-APPLE-RADIUS=500;X-TITLE=929 Oxley Road:geo:152.9789711,-27.552171
END:VEVENT
BEGIN:VEVENT
DTSTART;TZID=Australia/Brisbane:20260507T090000
DTEND;TZID=Australia/Brisbane:20260507T100000
DTSTAMP:20260424T042131
CREATED:20260302T053647Z
LAST-MODIFIED:20260302T053647Z
UID:32222-1778144400-1778148000@nicolejohnston.com.au
SUMMARY:Sherwood | Tai Chi Qigong
DESCRIPTION:This dynamic activity is invigorating and will help you feel relaxed\, refreshed and calm. Rejuvenate your body and learn to create a tranquil mind. Join any week. \nNo bookings required. For more information phone Julia from Minds Ease on 0412 362 338. \nMeet at the picnic tables overlooking the river.
URL:https://nicolejohnston.com.au/event/sherwood-tai-chi-qigong-36/
LOCATION:Sherwood Arboretum\, 57 Dewar Terrace\, Sherwood\, Queensland\, 4075\, Australia
GEO:-27.532253;152.977305
X-APPLE-STRUCTURED-LOCATION;VALUE=URI;X-ADDRESS=Sherwood Arboretum 57 Dewar Terrace Sherwood Queensland 4075 Australia;X-APPLE-RADIUS=500;X-TITLE=57 Dewar Terrace:geo:152.977305,-27.532253
END:VEVENT
BEGIN:VEVENT
DTSTART;TZID=Australia/Brisbane:20260507T091500
DTEND;TZID=Australia/Brisbane:20260507T094500
DTSTAMP:20260424T042131
CREATED:20260318T032338Z
LAST-MODIFIED:20260318T032338Z
UID:32350-1778145300-1778147100@nicolejohnston.com.au
SUMMARY:Corinda Library | First 5 Forever Toddler Time
DESCRIPTION:Meet other parents and toddlers for a fun session of singing\, clapping and dancing. Learn action rhymes and songs which will help your child’s pre-literacy\, communication\, language and social skills. Ideal for babies and toddlers aged 1-2 years.
URL:https://nicolejohnston.com.au/event/corinda-library-first-5-forever-toddler-time-72/
LOCATION:Corinda Library\, 641 Oxley Road\, Corinda\, Queensland\, 4075\, Australia
GEO:-27.538881;152.98142
X-APPLE-STRUCTURED-LOCATION;VALUE=URI;X-ADDRESS=Corinda Library 641 Oxley Road Corinda Queensland 4075 Australia;X-APPLE-RADIUS=500;X-TITLE=641 Oxley Road:geo:152.98142,-27.538881
END:VEVENT
BEGIN:VEVENT
DTSTART;TZID=Australia/Brisbane:20260507T170000
DTEND;TZID=Australia/Brisbane:20260507T180000
DTSTAMP:20260424T042131
CREATED:20260318T032508Z
LAST-MODIFIED:20260318T032508Z
UID:32352-1778173200-1778176800@nicolejohnston.com.au
SUMMARY:Fairfield Library | Chess Club
DESCRIPTION:Play chess in a fun and friendly atmosphere. Some chess experience required. Ideal for those aged 6–15 years.
URL:https://nicolejohnston.com.au/event/fairfield-library-chess-club-14/
LOCATION:Fairfield Library\, Fairfield Gardens\, 180 Fairfield Rd\, Fairfield\, Queensland\, 4103\, Australia
GEO:-27.508752;153.025501
X-APPLE-STRUCTURED-LOCATION;VALUE=URI;X-ADDRESS=Fairfield Library Fairfield Gardens 180 Fairfield Rd Fairfield Queensland 4103 Australia;X-APPLE-RADIUS=500;X-TITLE=Fairfield Gardens\, 180 Fairfield Rd:geo:153.025501,-27.508752
END:VEVENT
BEGIN:VEVENT
DTSTART;TZID=Australia/Brisbane:20260508T091500
DTEND;TZID=Australia/Brisbane:20260508T094500
DTSTAMP:20260424T042131
CREATED:20260318T032618Z
LAST-MODIFIED:20260318T032618Z
UID:32354-1778231700-1778233500@nicolejohnston.com.au
SUMMARY:Corinda Library | First 5 Forever Babies\, Books and Rhymes
DESCRIPTION:Meet other parents and babies for a fun rhyme time session of singing\, clapping and dancing. Learn songs and action rhymes to nurture your baby’s pre-literacy\, communication\, language and social skills. Ideal for babies aged up to one year.
URL:https://nicolejohnston.com.au/event/corinda-library-first-5-forever-babies-books-and-rhymes-71/
LOCATION:Corinda Library\, 641 Oxley Road\, Corinda\, Queensland\, 4075\, Australia
GEO:-27.538881;152.98142
X-APPLE-STRUCTURED-LOCATION;VALUE=URI;X-ADDRESS=Corinda Library 641 Oxley Road Corinda Queensland 4075 Australia;X-APPLE-RADIUS=500;X-TITLE=641 Oxley Road:geo:152.98142,-27.538881
END:VEVENT
BEGIN:VEVENT
DTSTART;TZID=Australia/Brisbane:20260508T091500
DTEND;TZID=Australia/Brisbane:20260508T094500
DTSTAMP:20260424T042131
CREATED:20260318T032843Z
LAST-MODIFIED:20260318T032843Z
UID:32356-1778231700-1778233500@nicolejohnston.com.au
SUMMARY:Annerley Library | First 5 Forever Babies\, Books and Rhymes
DESCRIPTION:Meet other parents and babies for a fun rhyme time session of singing\, clapping and dancing. Learn songs and action rhymes to nurture your baby’s pre-literacy\, communication\, language and social skills. Ideal for babies aged up to one year.
URL:https://nicolejohnston.com.au/event/annerley-library-first-5-forever-babies-books-and-rhymes-70/
LOCATION:Annerley Library\, 469 Ipswich Rd\, Annerley\, Queensland\, 4103\, Australia
GEO:-27.5115338;153.0317863
X-APPLE-STRUCTURED-LOCATION;VALUE=URI;X-ADDRESS=Annerley Library 469 Ipswich Rd Annerley Queensland 4103 Australia;X-APPLE-RADIUS=500;X-TITLE=469 Ipswich Rd:geo:153.0317863,-27.5115338
END:VEVENT
BEGIN:VEVENT
DTSTART;TZID=Australia/Brisbane:20260508T140000
DTEND;TZID=Australia/Brisbane:20260508T153000
DTSTAMP:20260424T042131
CREATED:20260318T033158Z
LAST-MODIFIED:20260318T033158Z
UID:32358-1778248800-1778254200@nicolejohnston.com.au
SUMMARY:Fairfield Library | One-On-One Tech Help
DESCRIPTION:Contact Fairfield library to enquire about one-on-one tech assistance to troubleshoot technical issues\, develop digital skills and improve online confidence. A Brisbane Libraries Tech Connect workshop. \nBookings required. Phone Fairfield Library on 07 3403 8615 to reserve your place.
URL:https://nicolejohnston.com.au/event/fairfield-library-one-on-one-tech-help-29/
LOCATION:Fairfield Library\, Fairfield Gardens\, 180 Fairfield Rd\, Fairfield\, Queensland\, 4103\, Australia
GEO:-27.508752;153.025501
X-APPLE-STRUCTURED-LOCATION;VALUE=URI;X-ADDRESS=Fairfield Library Fairfield Gardens 180 Fairfield Rd Fairfield Queensland 4103 Australia;X-APPLE-RADIUS=500;X-TITLE=Fairfield Gardens\, 180 Fairfield Rd:geo:153.025501,-27.508752
END:VEVENT
BEGIN:VEVENT
DTSTART;TZID=Australia/Brisbane:20260508T150000
DTEND;TZID=Australia/Brisbane:20260508T163000
DTSTAMP:20260424T042131
CREATED:20260302T053755Z
LAST-MODIFIED:20260302T053755Z
UID:32224-1778252400-1778257800@nicolejohnston.com.au
SUMMARY:Graceville | GOLD Beginners Lawn Bowls
DESCRIPTION:Try lawn bowls\, a sport that helps to build leg and core strength\, stability and coordination in a friendly social environment. This is a GOLD event suitable for seniors. \nBookings essential. To book phone or text David on 0407 894 727 or email dschonfe@bigpond.net.au
URL:https://nicolejohnston.com.au/event/graceville-gold-beginners-lawn-bowls-2/
LOCATION:Graceville Bowls Club\, 16 Wylie St\, Graceville\, Qld\, 4075\, Australia
END:VEVENT
BEGIN:VEVENT
DTSTART;TZID=Australia/Brisbane:20260508T163000
DTEND;TZID=Australia/Brisbane:20260508T173000
DTSTAMP:20260424T042131
CREATED:20260302T053913Z
LAST-MODIFIED:20260302T053913Z
UID:32226-1778257800-1778261400@nicolejohnston.com.au
SUMMARY:Graceville | Obstacle Training Circuit
DESCRIPTION:Join us for an exciting obstacle training circuit! Develop new skills and techniques on the obstacle course while building strength and improving your fitness. It’s a fun and energising session you won’t want to miss! Meet at the obstacle course at Simpsons Playground. \nNo bookings required. For more information phone Emma from Centenary Playground on 0419 592 777.
URL:https://nicolejohnston.com.au/event/graceville-obstacle-training-circuit-35/
LOCATION:Graceville Riverside Parklands\, Graceville Avenue\, Graceville\, Queensland\, 4075\, Australia
GEO:-27.5228793;152.9875616
X-APPLE-STRUCTURED-LOCATION;VALUE=URI;X-ADDRESS=Graceville Riverside Parklands Graceville Avenue Graceville Queensland 4075 Australia;X-APPLE-RADIUS=500;X-TITLE=Graceville Avenue:geo:152.9875616,-27.5228793
END:VEVENT
BEGIN:VEVENT
DTSTART;TZID=Australia/Brisbane:20260509T070000
DTEND;TZID=Australia/Brisbane:20260509T080000
DTSTAMP:20260424T042131
CREATED:20260302T054013Z
LAST-MODIFIED:20260302T054013Z
UID:32228-1778310000-1778313600@nicolejohnston.com.au
SUMMARY:Annerley | Yoga
DESCRIPTION:Focus on a range of movements to relax the mind and body. Stretching\, breathing\, strength and balance exercises are included by incorporating standing poses and mat work into the session. \nNo bookings required. For more information phone Deanna on 0401 247 328. \nExercise mat\, towel\, two blocks and a yoga strap if you have them.
URL:https://nicolejohnston.com.au/event/annerley-yoga-39/
LOCATION:Vallely St Park\, 51 Vallely Street\, Annerley\, QLD\, 4103\, Australia
END:VEVENT
BEGIN:VEVENT
DTSTART;TZID=Australia/Brisbane:20260509T090000
DTEND;TZID=Australia/Brisbane:20260509T160000
DTSTAMP:20260424T042131
CREATED:20260413T031100Z
LAST-MODIFIED:20260413T031100Z
UID:32586-1778317200-1778342400@nicolejohnston.com.au
SUMMARY:Sherwood | Sherwood State School Fete
DESCRIPTION:Market day stalls\, rides\, food\, raffles\, entertainment and more.
URL:https://nicolejohnston.com.au/event/sherwood-sherwood-state-school-fete-4/
LOCATION:Sherwood State School\, 464 Oxley Rd\, Sherwood\, Qld\, 4075\, Australia
CATEGORIES:Community Event
ATTACH;FMTTYPE=image/png:https://nicolejohnston.com.au/wp-content/uploads/2026/04/Sherwod-SS-Fete.png
GEO:-27.5317202;152.9831449
X-APPLE-STRUCTURED-LOCATION;VALUE=URI;X-ADDRESS=Sherwood State School 464 Oxley Rd Sherwood Qld 4075 Australia;X-APPLE-RADIUS=500;X-TITLE=464 Oxley Rd:geo:152.9831449,-27.5317202
END:VEVENT
BEGIN:VEVENT
DTSTART;TZID=Australia/Brisbane:20260509T093000
DTEND;TZID=Australia/Brisbane:20260509T101500
DTSTAMP:20260424T042131
CREATED:20260318T043228Z
LAST-MODIFIED:20260318T043228Z
UID:32424-1778319000-1778321700@nicolejohnston.com.au
SUMMARY:Yeronga | Deep Water Running
DESCRIPTION:This is an aquatic workout that uses all major muscle groups. Participants wear a buoyancy belt so there’s no need to worry about being in deep water however you do require basic swimming skills. Classes will be held in the outdoor 50m pool. You must bring your own buoyancy belt for this class. \nNo bookings required. For more information text or phone Marise on 0408 515 128.
URL:https://nicolejohnston.com.au/event/yeronga-deep-water-running-36/
LOCATION:Yeronga Park Pool\, 81 School Rd\, Yeronga\, Qld\, 4104\, Australia
GEO:-27.5210935;153.019099
X-APPLE-STRUCTURED-LOCATION;VALUE=URI;X-ADDRESS=Yeronga Park Pool 81 School Rd Yeronga Qld 4104 Australia;X-APPLE-RADIUS=500;X-TITLE=81 School Rd:geo:153.019099,-27.5210935
END:VEVENT
END:VCALENDAR