BEGIN:VCALENDAR
VERSION:2.0
PRODID:-//Nicole Johnston - ECPv6.15.20//NONSGML v1.0//EN
CALSCALE:GREGORIAN
METHOD:PUBLISH
X-WR-CALNAME:Nicole Johnston
X-ORIGINAL-URL:https://nicolejohnston.com.au
X-WR-CALDESC:Events for Nicole Johnston
REFRESH-INTERVAL;VALUE=DURATION:PT1H
X-Robots-Tag:noindex
X-PUBLISHED-TTL:PT1H
BEGIN:VTIMEZONE
TZID:Australia/Brisbane
BEGIN:STANDARD
TZOFFSETFROM:+1000
TZOFFSETTO:+1000
TZNAME:AEST
DTSTART:20250101T000000
END:STANDARD
END:VTIMEZONE
BEGIN:VEVENT
DTSTART;TZID=Australia/Brisbane:20260601T083000
DTEND;TZID=Australia/Brisbane:20260601T090000
DTSTAMP:20260424T060130
CREATED:20260319T022419Z
LAST-MODIFIED:20260319T022419Z
UID:32509-1780302600-1780304400@nicolejohnston.com.au
SUMMARY:Yeronga | Billy Buddies Ball Sports
DESCRIPTION:This program is designed for kids aged 2-7 and serves as the home of Non-Contact Rugby League for children. At Billy Buddies\, they celebrate all sports not just Rugby League! Their programs focus on fun\, helping kids build social skills while learning the fundamentals of Rugby League and ball sports in general. \nBookings essential. To book visit Billy’s Buddies. For more information email office@billysbuddies.com.au.
URL:https://nicolejohnston.com.au/event/yeronga-billy-buddies-ball-sports-10/
LOCATION:Hyde Rd Park\, Yeronga\, 331 Fairfield Rd\, Yeronga\, QLD\, 4104\, Australia
END:VEVENT
BEGIN:VEVENT
DTSTART;TZID=Australia/Brisbane:20260601T090000
DTEND;TZID=Australia/Brisbane:20260601T093000
DTSTAMP:20260424T060130
CREATED:20260319T022510Z
LAST-MODIFIED:20260319T022510Z
UID:32511-1780304400-1780306200@nicolejohnston.com.au
SUMMARY:Yeronga | Billy Buddies Ball Sports
DESCRIPTION:This program is designed for kids aged 2-7 and serves as the home of Non-Contact Rugby League for children. At Billy Buddies\, they celebrate all sports not just Rugby League! Their programs focus on fun\, helping kids build social skills while learning the fundamentals of Rugby League and ball sports in general. \nBookings essential. To book visit Billy’s Buddies. For more information email office@billysbuddies.com.au.
URL:https://nicolejohnston.com.au/event/yeronga-billy-buddies-ball-sports-11/
LOCATION:Hyde Rd Park\, Yeronga\, 331 Fairfield Rd\, Yeronga\, QLD\, 4104\, Australia
END:VEVENT
BEGIN:VEVENT
DTSTART;TZID=Australia/Brisbane:20260601T100000
DTEND;TZID=Australia/Brisbane:20260601T110000
DTSTAMP:20260424T060130
CREATED:20260319T022615Z
LAST-MODIFIED:20260319T022615Z
UID:32513-1780308000-1780311600@nicolejohnston.com.au
SUMMARY:Sherwood | GOLD Bollywood Fitness
DESCRIPTION:Bollywood inspired dance fitness class suitable for all abilities\, where we laugh\, move and have fun with simple\, enjoyable dance steps together. \nThis is a GOLD event suitable for seniors. \nBookings essential. To book email Sherwood Neighbourhood Centre. For more information phone 07 3379 6963.
URL:https://nicolejohnston.com.au/event/sherwood-gold-bollywood-fitness-33/
LOCATION:Sherwood Neighbourhood Centre\, 38 Thallon Street\, Sherwood\, Queensland\, 4075\, Australia
GEO:-27.53402;152.981098
X-APPLE-STRUCTURED-LOCATION;VALUE=URI;X-ADDRESS=Sherwood Neighbourhood Centre 38 Thallon Street Sherwood Queensland 4075 Australia;X-APPLE-RADIUS=500;X-TITLE=38 Thallon Street:geo:152.981098,-27.53402
END:VEVENT
BEGIN:VEVENT
DTSTART;TZID=Australia/Brisbane:20260601T110000
DTEND;TZID=Australia/Brisbane:20260601T113000
DTSTAMP:20260424T060130
CREATED:20260318T041732Z
LAST-MODIFIED:20260318T041732Z
UID:32422-1780311600-1780313400@nicolejohnston.com.au
SUMMARY:Annerley Library | National Reconciliation Week Storytime
DESCRIPTION:Join other jarjums in a First 5 Forever children’s storytime and contribute to our Sea of Hearts Movement art installation. Ideal for children aged 2–5 years.
URL:https://nicolejohnston.com.au/event/annerley-library-national-reconciliation-week-storytime/
LOCATION:Annerley Library\, 469 Ipswich Rd\, Annerley\, Queensland\, 4103\, Australia
GEO:-27.5115338;153.0317863
X-APPLE-STRUCTURED-LOCATION;VALUE=URI;X-ADDRESS=Annerley Library 469 Ipswich Rd Annerley Queensland 4103 Australia;X-APPLE-RADIUS=500;X-TITLE=469 Ipswich Rd:geo:153.0317863,-27.5115338
END:VEVENT
BEGIN:VEVENT
DTSTART;TZID=Australia/Brisbane:20260601T111500
DTEND;TZID=Australia/Brisbane:20260601T121500
DTSTAMP:20260424T060130
CREATED:20260319T023124Z
LAST-MODIFIED:20260319T023124Z
UID:32515-1780312500-1780316100@nicolejohnston.com.au
SUMMARY:Sherwood | GOLD Yoga
DESCRIPTION:A supportive class designed to promote active\, healthy aging while calming the mind and body. Enjoy a mix of stretching\, breathing\, strength\, and balance exercises\, incorporating both standing poses and mat work. This gentle session is tailored to meet participants needs\, with no prior experience required. \nThis is a GOLD event suitable for seniors. \nBookings essential. To book email Sherwood Neighbourhood Centre. For more information phone 07 3379 6963.
URL:https://nicolejohnston.com.au/event/sherwood-gold-yoga-35/
LOCATION:Sherwood Neighbourhood Centre\, 38 Thallon Street\, Sherwood\, Queensland\, 4075\, Australia
GEO:-27.53402;152.981098
X-APPLE-STRUCTURED-LOCATION;VALUE=URI;X-ADDRESS=Sherwood Neighbourhood Centre 38 Thallon Street Sherwood Queensland 4075 Australia;X-APPLE-RADIUS=500;X-TITLE=38 Thallon Street:geo:152.981098,-27.53402
END:VEVENT
BEGIN:VEVENT
DTSTART;TZID=Australia/Brisbane:20260602T070000
DTEND;TZID=Australia/Brisbane:20260602T090000
DTSTAMP:20260424T060130
CREATED:20260119T012619Z
LAST-MODIFIED:20260119T012619Z
UID:31730-1780383600-1780390800@nicolejohnston.com.au
SUMMARY:Rocklea | Oxley Creek Tuesday Common Carers
DESCRIPTION:Weeding and planting to improve habitat.  Tools provided. Contact Mary Lou on 0429 911 555.
URL:https://nicolejohnston.com.au/event/rocklea-oxley-creek-tuesday-common-carers/2026-06-02/
LOCATION:Oxley Creek Common\, 271 Sherwood Rd\, Rocklea\, Qld\, 4106\, Australia
ORGANIZER;CN="Friends of Oxley Creek Common":MAILTO:friendsofoxleycreekcommon@gmail.com
GEO:-27.535636;152.993047
X-APPLE-STRUCTURED-LOCATION;VALUE=URI;X-ADDRESS=Oxley Creek Common 271 Sherwood Rd Rocklea Qld 4106 Australia;X-APPLE-RADIUS=500;X-TITLE=271 Sherwood Rd:geo:152.993047,-27.535636
END:VEVENT
BEGIN:VEVENT
DTSTART;TZID=Australia/Brisbane:20260603T083000
DTEND;TZID=Australia/Brisbane:20260603T093000
DTSTAMP:20260424T060130
CREATED:20260319T031429Z
LAST-MODIFIED:20260319T031429Z
UID:32517-1780475400-1780479000@nicolejohnston.com.au
SUMMARY:Yeronga | GOLD Yoga For Mobility
DESCRIPTION:A gentle movement class blended with yoga to improve your strength\, balance and posture. No floor work included. Suitable for all fitness levels. An exercise band is required. \nThis is a GOLD event suitable for seniors. \nNo bookings required. For more information phone Cassie from Foxinsox Yoga on 0431 594 388.
URL:https://nicolejohnston.com.au/event/yeronga-gold-yoga-for-mobility-37/
LOCATION:John Walker Place\, 323 Brisbane Corso\, Yeronga\, QLD\, 4104\, Australia
END:VEVENT
BEGIN:VEVENT
DTSTART;TZID=Australia/Brisbane:20260603T140000
DTEND;TZID=Australia/Brisbane:20260603T150000
DTSTAMP:20260424T060130
CREATED:20260319T033332Z
LAST-MODIFIED:20260319T033332Z
UID:32519-1780495200-1780498800@nicolejohnston.com.au
SUMMARY:Sherwood | GOLD Belly Dance
DESCRIPTION:Enjoy gentle dance focused on fitness\, coordination\, flexibility\, relaxation and fun. Belly dance provides physical\, emotional and psychological benefits. Suitable for all levels. Bring a belly dance belt if you have one. \nThis is a GOLD event suitable for seniors. \nBookings essential. To book email Sherwood Neighbourhood Centre. For more information phone 07 3379 6963.
URL:https://nicolejohnston.com.au/event/sherwood-gold-belly-dance-36/
LOCATION:Sherwood Neighbourhood Centre\, 38 Thallon Street\, Sherwood\, Queensland\, 4075\, Australia
GEO:-27.53402;152.981098
X-APPLE-STRUCTURED-LOCATION;VALUE=URI;X-ADDRESS=Sherwood Neighbourhood Centre 38 Thallon Street Sherwood Queensland 4075 Australia;X-APPLE-RADIUS=500;X-TITLE=38 Thallon Street:geo:152.981098,-27.53402
END:VEVENT
BEGIN:VEVENT
DTSTART;TZID=Australia/Brisbane:20260604T070000
DTEND;TZID=Australia/Brisbane:20260604T090000
DTSTAMP:20260424T060130
CREATED:20260119T013448Z
LAST-MODIFIED:20260119T013448Z
UID:31790-1780556400-1780563600@nicolejohnston.com.au
SUMMARY:Corinda | Creekcare: Nosworthy Park
DESCRIPTION:OCCA’s CreekCare Team is a roving group of volunteers that assists both OCCA Bushcare and Habitat Brisbane groups in Oxley Creek Catchment. The group meets at different regeneration sites each Thursday morning from 7 am to 9 am. \nCome along and enjoy the company of this hard working group of volunteers\, contribute to the maintenance of some significant sites in the catchment and share in morning tea. \nIf you are interested in being involved\, please contact the coordinator: Trevor Armstrong on 0414 691 264 or trevor.r.armstrong@gmail.com to confirm details of the next group.
URL:https://nicolejohnston.com.au/event/corinda-creekcare-nosworthy-park/2026-06-04/
LOCATION:Nosworthy Park\, Corinda\, 2 Hall Ave\, Corinda\, 4075\, Australia
ORGANIZER;CN="OCCA Creekcare Team":MAILTO:trevor.r.armstrong@gmail.com
END:VEVENT
BEGIN:VEVENT
DTSTART;TZID=Australia/Brisbane:20260605T150000
DTEND;TZID=Australia/Brisbane:20260605T163000
DTSTAMP:20260424T060130
CREATED:20260319T033438Z
LAST-MODIFIED:20260319T033438Z
UID:32521-1780671600-1780677000@nicolejohnston.com.au
SUMMARY:Graceville | Beginners Lawn Bowls
DESCRIPTION:Try lawn bowls\, a sport that helps to build leg and core strength\, stability and coordination in a friendly social environment. This is a GOLD event suitable for seniors. \nBookings essential. To book phone or text David on 0407 894 727 or email dschonfe@bigpond.net.au
URL:https://nicolejohnston.com.au/event/graceville-beginners-lawn-bowls-7/
LOCATION:Graceville Bowls Club\, 16 Wylie St\, Graceville\, Qld\, 4075\, Australia
ORGANIZER;CN="Graceville Bowls Club":MAILTO:dschonfe@bigpond.net.au
END:VEVENT
BEGIN:VEVENT
DTSTART;TZID=Australia/Brisbane:20260607T080000
DTEND;TZID=Australia/Brisbane:20260607T090000
DTSTAMP:20260424T060130
CREATED:20260319T033617Z
LAST-MODIFIED:20260319T033617Z
UID:32523-1780819200-1780822800@nicolejohnston.com.au
SUMMARY:Fairfield | Tai Chi Qigong
DESCRIPTION:This dynamic activity is invigorating and will help you feel relaxed\, refreshed and calm. Rejuvenate your body and learn to create a tranquil mind. Join any week. This is a GOLD event suitable for seniors. \nNo bookings required. For more information phone Rod from Australian Academy of Tai Chi on 0400 335 645. \nMeet near the playground\, off Sydney Street.
URL:https://nicolejohnston.com.au/event/fairfield-tai-chi-qigong-4/
LOCATION:Robinson Park\, 221 Fairfield Road\, Fairfield\, Queensland\, 4103\, Australia
GEO:-27.5099948;153.023042
X-APPLE-STRUCTURED-LOCATION;VALUE=URI;X-ADDRESS=Robinson Park 221 Fairfield Road Fairfield Queensland 4103 Australia;X-APPLE-RADIUS=500;X-TITLE=221 Fairfield Road:geo:153.023042,-27.5099948
END:VEVENT
BEGIN:VEVENT
DTSTART;TZID=Australia/Brisbane:20260609T070000
DTEND;TZID=Australia/Brisbane:20260609T090000
DTSTAMP:20260424T060130
CREATED:20260119T012619Z
LAST-MODIFIED:20260119T012619Z
UID:31731-1780988400-1780995600@nicolejohnston.com.au
SUMMARY:Rocklea | Oxley Creek Tuesday Common Carers
DESCRIPTION:Weeding and planting to improve habitat.  Tools provided. Contact Mary Lou on 0429 911 555.
URL:https://nicolejohnston.com.au/event/rocklea-oxley-creek-tuesday-common-carers/2026-06-09/
LOCATION:Oxley Creek Common\, 271 Sherwood Rd\, Rocklea\, Qld\, 4106\, Australia
ORGANIZER;CN="Friends of Oxley Creek Common":MAILTO:friendsofoxleycreekcommon@gmail.com
GEO:-27.535636;152.993047
X-APPLE-STRUCTURED-LOCATION;VALUE=URI;X-ADDRESS=Oxley Creek Common 271 Sherwood Rd Rocklea Qld 4106 Australia;X-APPLE-RADIUS=500;X-TITLE=271 Sherwood Rd:geo:152.993047,-27.535636
END:VEVENT
BEGIN:VEVENT
DTSTART;TZID=Australia/Brisbane:20260610T100000
DTEND;TZID=Australia/Brisbane:20260610T160000
DTSTAMP:20260424T060130
CREATED:20260302T021020Z
LAST-MODIFIED:20260302T021020Z
UID:32151-1781085600-1781107200@nicolejohnston.com.au
SUMMARY:Sherwood | HDG Artists Annual Exhibition
DESCRIPTION:All welcome.
URL:https://nicolejohnston.com.au/event/sherwood-hdg-artists-annual-exhibition/2026-06-10/
LOCATION:Half Dozen Group of Artists Art Studio\, 37 Quarry Rd\, Sherwood\, Qld\, 4075\, Australia
GEO:-27.5354658;152.9803733
X-APPLE-STRUCTURED-LOCATION;VALUE=URI;X-ADDRESS=Half Dozen Group of Artists Art Studio 37 Quarry Rd Sherwood Qld 4075 Australia;X-APPLE-RADIUS=500;X-TITLE=37 Quarry Rd:geo:152.9803733,-27.5354658
END:VEVENT
BEGIN:VEVENT
DTSTART;TZID=Australia/Brisbane:20260611T100000
DTEND;TZID=Australia/Brisbane:20260611T160000
DTSTAMP:20260424T060130
CREATED:20260302T021020Z
LAST-MODIFIED:20260302T021020Z
UID:32152-1781172000-1781193600@nicolejohnston.com.au
SUMMARY:Sherwood | HDG Artists Annual Exhibition
DESCRIPTION:All welcome.
URL:https://nicolejohnston.com.au/event/sherwood-hdg-artists-annual-exhibition/2026-06-11/
LOCATION:Half Dozen Group of Artists Art Studio\, 37 Quarry Rd\, Sherwood\, Qld\, 4075\, Australia
GEO:-27.5354658;152.9803733
X-APPLE-STRUCTURED-LOCATION;VALUE=URI;X-ADDRESS=Half Dozen Group of Artists Art Studio 37 Quarry Rd Sherwood Qld 4075 Australia;X-APPLE-RADIUS=500;X-TITLE=37 Quarry Rd:geo:152.9803733,-27.5354658
END:VEVENT
BEGIN:VEVENT
DTSTART;TZID=Australia/Brisbane:20260612T090000
DTEND;TZID=Australia/Brisbane:20260612T143000
DTSTAMP:20260424T060130
CREATED:20260319T033926Z
LAST-MODIFIED:20260319T033926Z
UID:32525-1781254800-1781274600@nicolejohnston.com.au
SUMMARY:Corinda | Community Immunisation Clinic
DESCRIPTION:Brisbane City Council provides free vaccinations to eligible residents (aged from 6 weeks and above) through our community immunisation clinics. Immunisation helps protect people against diseases such as influenza\, measles\, whooping cough\, polio and tetanus. \nTake a look at Immunisation Schedule Queensland for advice about when you should be vaccinated. \nNo bookings required. \nAttending the clinic \n\nResidents must attend the clinic by no later than 15 minutes prior to the clinic closing time.\nBring your Medicare card (if you have one)\, along with your Child Health Book (for childhood vaccinations).\n\n 
URL:https://nicolejohnston.com.au/event/corinda-community-immunisation-clinic/
LOCATION:Corinda Bowls Club\, 60 Hall St\, Corinda\, Qld\, 4075\, Australia
GEO:-27.5314721;152.986358
X-APPLE-STRUCTURED-LOCATION;VALUE=URI;X-ADDRESS=Corinda Bowls Club 60 Hall St Corinda Qld 4075 Australia;X-APPLE-RADIUS=500;X-TITLE=60 Hall St:geo:152.986358,-27.5314721
END:VEVENT
BEGIN:VEVENT
DTSTART;TZID=Australia/Brisbane:20260612T100000
DTEND;TZID=Australia/Brisbane:20260612T160000
DTSTAMP:20260424T060130
CREATED:20260302T021020Z
LAST-MODIFIED:20260302T021020Z
UID:32153-1781258400-1781280000@nicolejohnston.com.au
SUMMARY:Sherwood | HDG Artists Annual Exhibition
DESCRIPTION:All welcome.
URL:https://nicolejohnston.com.au/event/sherwood-hdg-artists-annual-exhibition/2026-06-12/
LOCATION:Half Dozen Group of Artists Art Studio\, 37 Quarry Rd\, Sherwood\, Qld\, 4075\, Australia
GEO:-27.5354658;152.9803733
X-APPLE-STRUCTURED-LOCATION;VALUE=URI;X-ADDRESS=Half Dozen Group of Artists Art Studio 37 Quarry Rd Sherwood Qld 4075 Australia;X-APPLE-RADIUS=500;X-TITLE=37 Quarry Rd:geo:152.9803733,-27.5354658
END:VEVENT
BEGIN:VEVENT
DTSTART;TZID=Australia/Brisbane:20260613T100000
DTEND;TZID=Australia/Brisbane:20260613T160000
DTSTAMP:20260424T060130
CREATED:20260302T021020Z
LAST-MODIFIED:20260302T021020Z
UID:32154-1781344800-1781366400@nicolejohnston.com.au
SUMMARY:Sherwood | HDG Artists Annual Exhibition
DESCRIPTION:All welcome.
URL:https://nicolejohnston.com.au/event/sherwood-hdg-artists-annual-exhibition/2026-06-13/
LOCATION:Half Dozen Group of Artists Art Studio\, 37 Quarry Rd\, Sherwood\, Qld\, 4075\, Australia
GEO:-27.5354658;152.9803733
X-APPLE-STRUCTURED-LOCATION;VALUE=URI;X-ADDRESS=Half Dozen Group of Artists Art Studio 37 Quarry Rd Sherwood Qld 4075 Australia;X-APPLE-RADIUS=500;X-TITLE=37 Quarry Rd:geo:152.9803733,-27.5354658
END:VEVENT
BEGIN:VEVENT
DTSTART;TZID=Australia/Brisbane:20260613T130000
DTEND;TZID=Australia/Brisbane:20260613T200000
DTSTAMP:20260424T060130
CREATED:20260413T022735Z
LAST-MODIFIED:20260413T022735Z
UID:32583-1781355600-1781380800@nicolejohnston.com.au
SUMMARY:Oxley | Oxley Community Festival
DESCRIPTION:Free entry\, free rides\, fireworks\, live music\, food trucks and a whole lot of family fun at Club Oxley\, Brisbane.
URL:https://nicolejohnston.com.au/event/oxley-oxley-community-festival-6/
LOCATION:Oxley Bowls Club\, Englefield Road\, Oxley\, QLD\, 4075\, Australia
CATEGORIES:Community Event
ATTACH;FMTTYPE=image/png:https://nicolejohnston.com.au/wp-content/uploads/2026/04/Save-the-date-1920-x-1005-px.png
END:VEVENT
BEGIN:VEVENT
DTSTART;TZID=Australia/Brisbane:20260614T100000
DTEND;TZID=Australia/Brisbane:20260614T160000
DTSTAMP:20260424T060130
CREATED:20260302T021020Z
LAST-MODIFIED:20260302T021020Z
UID:32155-1781431200-1781452800@nicolejohnston.com.au
SUMMARY:Sherwood | HDG Artists Annual Exhibition
DESCRIPTION:All welcome.
URL:https://nicolejohnston.com.au/event/sherwood-hdg-artists-annual-exhibition/2026-06-14/
LOCATION:Half Dozen Group of Artists Art Studio\, 37 Quarry Rd\, Sherwood\, Qld\, 4075\, Australia
GEO:-27.5354658;152.9803733
X-APPLE-STRUCTURED-LOCATION;VALUE=URI;X-ADDRESS=Half Dozen Group of Artists Art Studio 37 Quarry Rd Sherwood Qld 4075 Australia;X-APPLE-RADIUS=500;X-TITLE=37 Quarry Rd:geo:152.9803733,-27.5354658
END:VEVENT
BEGIN:VEVENT
DTSTART;TZID=Australia/Brisbane:20260615T100000
DTEND;TZID=Australia/Brisbane:20260615T160000
DTSTAMP:20260424T060130
CREATED:20260302T021020Z
LAST-MODIFIED:20260302T021020Z
UID:32156-1781517600-1781539200@nicolejohnston.com.au
SUMMARY:Sherwood | HDG Artists Annual Exhibition
DESCRIPTION:All welcome.
URL:https://nicolejohnston.com.au/event/sherwood-hdg-artists-annual-exhibition/2026-06-15/
LOCATION:Half Dozen Group of Artists Art Studio\, 37 Quarry Rd\, Sherwood\, Qld\, 4075\, Australia
GEO:-27.5354658;152.9803733
X-APPLE-STRUCTURED-LOCATION;VALUE=URI;X-ADDRESS=Half Dozen Group of Artists Art Studio 37 Quarry Rd Sherwood Qld 4075 Australia;X-APPLE-RADIUS=500;X-TITLE=37 Quarry Rd:geo:152.9803733,-27.5354658
END:VEVENT
BEGIN:VEVENT
DTSTART;TZID=Australia/Brisbane:20260616T070000
DTEND;TZID=Australia/Brisbane:20260616T090000
DTSTAMP:20260424T060130
CREATED:20260119T012619Z
LAST-MODIFIED:20260119T012619Z
UID:31732-1781593200-1781600400@nicolejohnston.com.au
SUMMARY:Rocklea | Oxley Creek Tuesday Common Carers
DESCRIPTION:Weeding and planting to improve habitat.  Tools provided. Contact Mary Lou on 0429 911 555.
URL:https://nicolejohnston.com.au/event/rocklea-oxley-creek-tuesday-common-carers/2026-06-16/
LOCATION:Oxley Creek Common\, 271 Sherwood Rd\, Rocklea\, Qld\, 4106\, Australia
ORGANIZER;CN="Friends of Oxley Creek Common":MAILTO:friendsofoxleycreekcommon@gmail.com
GEO:-27.535636;152.993047
X-APPLE-STRUCTURED-LOCATION;VALUE=URI;X-ADDRESS=Oxley Creek Common 271 Sherwood Rd Rocklea Qld 4106 Australia;X-APPLE-RADIUS=500;X-TITLE=271 Sherwood Rd:geo:152.993047,-27.535636
END:VEVENT
BEGIN:VEVENT
DTSTART;TZID=Australia/Brisbane:20260616T100000
DTEND;TZID=Australia/Brisbane:20260616T160000
DTSTAMP:20260424T060130
CREATED:20260302T021020Z
LAST-MODIFIED:20260302T021020Z
UID:32157-1781604000-1781625600@nicolejohnston.com.au
SUMMARY:Sherwood | HDG Artists Annual Exhibition
DESCRIPTION:All welcome.
URL:https://nicolejohnston.com.au/event/sherwood-hdg-artists-annual-exhibition/2026-06-16/
LOCATION:Half Dozen Group of Artists Art Studio\, 37 Quarry Rd\, Sherwood\, Qld\, 4075\, Australia
GEO:-27.5354658;152.9803733
X-APPLE-STRUCTURED-LOCATION;VALUE=URI;X-ADDRESS=Half Dozen Group of Artists Art Studio 37 Quarry Rd Sherwood Qld 4075 Australia;X-APPLE-RADIUS=500;X-TITLE=37 Quarry Rd:geo:152.9803733,-27.5354658
END:VEVENT
BEGIN:VEVENT
DTSTART;TZID=Australia/Brisbane:20260618T070000
DTEND;TZID=Australia/Brisbane:20260618T090000
DTSTAMP:20260424T060130
CREATED:20260119T013953Z
LAST-MODIFIED:20260119T013953Z
UID:31794-1781766000-1781773200@nicolejohnston.com.au
SUMMARY:Corinda | Creekcare: Pennywort Creek
DESCRIPTION:OCCA’s CreekCare Team is a roving group of volunteers that assists both OCCA Bushcare and Habitat Brisbane groups in Oxley Creek Catchment. The group meets at different regeneration sites each Thursday morning from 7 am to 9 am. \nCome along and enjoy the company of this hard working group of volunteers\, contribute to the maintenance of some significant sites in the catchment and share in morning tea. \nIf you are interested in being involved\, please contact the coordinator: Trevor Armstrong on 0414 691 264 or trevor.r.armstrong@gmail.com to confirm details of the next group.
URL:https://nicolejohnston.com.au/event/corinda-creekcare-pennywort-creek/2026-06-18/
LOCATION:George Scarlett Park\, Corinda\, 101 Pratten St\, Corinda\, Queensland\, 4075\, Australia
ORGANIZER;CN="Pennywort Creek Bushcare Group":MAILTO:trevor.r.armstrong@gmail.com
END:VEVENT
BEGIN:VEVENT
DTSTART;TZID=Australia/Brisbane:20260623T070000
DTEND;TZID=Australia/Brisbane:20260623T090000
DTSTAMP:20260424T060130
CREATED:20260119T012619Z
LAST-MODIFIED:20260119T012619Z
UID:31733-1782198000-1782205200@nicolejohnston.com.au
SUMMARY:Rocklea | Oxley Creek Tuesday Common Carers
DESCRIPTION:Weeding and planting to improve habitat.  Tools provided. Contact Mary Lou on 0429 911 555.
URL:https://nicolejohnston.com.au/event/rocklea-oxley-creek-tuesday-common-carers/2026-06-23/
LOCATION:Oxley Creek Common\, 271 Sherwood Rd\, Rocklea\, Qld\, 4106\, Australia
ORGANIZER;CN="Friends of Oxley Creek Common":MAILTO:friendsofoxleycreekcommon@gmail.com
GEO:-27.535636;152.993047
X-APPLE-STRUCTURED-LOCATION;VALUE=URI;X-ADDRESS=Oxley Creek Common 271 Sherwood Rd Rocklea Qld 4106 Australia;X-APPLE-RADIUS=500;X-TITLE=271 Sherwood Rd:geo:152.993047,-27.535636
END:VEVENT
BEGIN:VEVENT
DTSTART;TZID=Australia/Brisbane:20260630T070000
DTEND;TZID=Australia/Brisbane:20260630T090000
DTSTAMP:20260424T060130
CREATED:20260119T012619Z
LAST-MODIFIED:20260119T012619Z
UID:31734-1782802800-1782810000@nicolejohnston.com.au
SUMMARY:Rocklea | Oxley Creek Tuesday Common Carers
DESCRIPTION:Weeding and planting to improve habitat.  Tools provided. Contact Mary Lou on 0429 911 555.
URL:https://nicolejohnston.com.au/event/rocklea-oxley-creek-tuesday-common-carers/2026-06-30/
LOCATION:Oxley Creek Common\, 271 Sherwood Rd\, Rocklea\, Qld\, 4106\, Australia
ORGANIZER;CN="Friends of Oxley Creek Common":MAILTO:friendsofoxleycreekcommon@gmail.com
GEO:-27.535636;152.993047
X-APPLE-STRUCTURED-LOCATION;VALUE=URI;X-ADDRESS=Oxley Creek Common 271 Sherwood Rd Rocklea Qld 4106 Australia;X-APPLE-RADIUS=500;X-TITLE=271 Sherwood Rd:geo:152.993047,-27.535636
END:VEVENT
END:VCALENDAR