BEGIN:VCALENDAR
VERSION:2.0
PRODID:-//Nicole Johnston - ECPv6.15.20//NONSGML v1.0//EN
CALSCALE:GREGORIAN
METHOD:PUBLISH
X-ORIGINAL-URL:https://nicolejohnston.com.au
X-WR-CALDESC:Events for Nicole Johnston
REFRESH-INTERVAL;VALUE=DURATION:PT1H
X-Robots-Tag:noindex
X-PUBLISHED-TTL:PT1H
BEGIN:VTIMEZONE
TZID:Australia/Brisbane
BEGIN:STANDARD
TZOFFSETFROM:+1000
TZOFFSETTO:+1000
TZNAME:AEST
DTSTART:20250101T000000
END:STANDARD
END:VTIMEZONE
BEGIN:VEVENT
DTSTART;TZID=Australia/Brisbane:20260702T070000
DTEND;TZID=Australia/Brisbane:20260702T090000
DTSTAMP:20260424T075235
CREATED:20260119T014137Z
LAST-MODIFIED:20260119T014137Z
UID:31796-1782975600-1782982800@nicolejohnston.com.au
SUMMARY:Sherwood | Creekcare: Strickland Terrace Parklands
DESCRIPTION:OCCA’s CreekCare Team is a roving group of volunteers that assists both OCCA Bushcare and Habitat Brisbane groups in Oxley Creek Catchment. The group meets at different regeneration sites each Thursday morning from 7 am to 9 am. \nCome along and enjoy the company of this hard working group of volunteers\, contribute to the maintenance of some significant sites in the catchment and share in morning tea. \nIf you are interested in being involved\, please contact the coordinator: Trevor Armstrong on 0414 691 264 or trevor.r.armstrong@gmail.com to confirm details of the next group.
URL:https://nicolejohnston.com.au/event/sherwood-creekcare-strickland-terrace-parklands/2026-07-02/
LOCATION:Strickland Tce Park\, 11 Strickland Tce\, Sherwood\, Qld\, 4075\, Australia
ORGANIZER;CN="OCCA Creekcare Team":MAILTO:trevor.r.armstrong@gmail.com
GEO:-27.5283393;152.9895341
X-APPLE-STRUCTURED-LOCATION;VALUE=URI;X-ADDRESS=Strickland Tce Park 11 Strickland Tce Sherwood Qld 4075 Australia;X-APPLE-RADIUS=500;X-TITLE=11 Strickland Tce:geo:152.9895341,-27.5283393
END:VEVENT
BEGIN:VEVENT
DTSTART;TZID=Australia/Brisbane:20260707T070000
DTEND;TZID=Australia/Brisbane:20260707T090000
DTSTAMP:20260424T075235
CREATED:20260119T012619Z
LAST-MODIFIED:20260119T012619Z
UID:31735-1783407600-1783414800@nicolejohnston.com.au
SUMMARY:Rocklea | Oxley Creek Tuesday Common Carers
DESCRIPTION:Weeding and planting to improve habitat.  Tools provided. Contact Mary Lou on 0429 911 555.
URL:https://nicolejohnston.com.au/event/rocklea-oxley-creek-tuesday-common-carers/2026-07-07/
LOCATION:Oxley Creek Common\, 271 Sherwood Rd\, Rocklea\, Qld\, 4106\, Australia
ORGANIZER;CN="Friends of Oxley Creek Common":MAILTO:friendsofoxleycreekcommon@gmail.com
GEO:-27.535636;152.993047
X-APPLE-STRUCTURED-LOCATION;VALUE=URI;X-ADDRESS=Oxley Creek Common 271 Sherwood Rd Rocklea Qld 4106 Australia;X-APPLE-RADIUS=500;X-TITLE=271 Sherwood Rd:geo:152.993047,-27.535636
END:VEVENT
BEGIN:VEVENT
DTSTART;TZID=Australia/Brisbane:20260714T070000
DTEND;TZID=Australia/Brisbane:20260714T090000
DTSTAMP:20260424T075235
CREATED:20260119T012619Z
LAST-MODIFIED:20260119T012619Z
UID:31736-1784012400-1784019600@nicolejohnston.com.au
SUMMARY:Rocklea | Oxley Creek Tuesday Common Carers
DESCRIPTION:Weeding and planting to improve habitat.  Tools provided. Contact Mary Lou on 0429 911 555.
URL:https://nicolejohnston.com.au/event/rocklea-oxley-creek-tuesday-common-carers/2026-07-14/
LOCATION:Oxley Creek Common\, 271 Sherwood Rd\, Rocklea\, Qld\, 4106\, Australia
ORGANIZER;CN="Friends of Oxley Creek Common":MAILTO:friendsofoxleycreekcommon@gmail.com
GEO:-27.535636;152.993047
X-APPLE-STRUCTURED-LOCATION;VALUE=URI;X-ADDRESS=Oxley Creek Common 271 Sherwood Rd Rocklea Qld 4106 Australia;X-APPLE-RADIUS=500;X-TITLE=271 Sherwood Rd:geo:152.993047,-27.535636
END:VEVENT
BEGIN:VEVENT
DTSTART;TZID=Australia/Brisbane:20260716T070000
DTEND;TZID=Australia/Brisbane:20260716T090000
DTSTAMP:20260424T075235
CREATED:20260119T014309Z
LAST-MODIFIED:20260119T014309Z
UID:31798-1784185200-1784192400@nicolejohnston.com.au
SUMMARY:Corinda | Creekcare: Benarrawa Reserve
DESCRIPTION:OCCA’s CreekCare Team is a roving group of volunteers that assists both OCCA Bushcare and Habitat Brisbane groups in Oxley Creek Catchment. The group meets at different regeneration sites each Thursday morning from 7 am to 9 am. \nCome along and enjoy the company of this hard working group of volunteers\, contribute to the maintenance of some significant sites in the catchment and share in morning tea. \nIf you are interested in being involved\, please contact the coordinator: Trevor Armstrong on 0414 691 264 or trevor.r.armstrong@gmail.com to confirm details of the next group.
URL:https://nicolejohnston.com.au/event/corinda-creekcare-benarrawa-reserve/2026-07-16/
LOCATION:Benarrawa Reserve\, 68 Gray Ave\, Corinda\, Queensland\, 4075\, Australia
ORGANIZER;CN="OCCA Creekcare Team":MAILTO:trevor.r.armstrong@gmail.com
END:VEVENT
BEGIN:VEVENT
DTSTART;TZID=Australia/Brisbane:20260721T070000
DTEND;TZID=Australia/Brisbane:20260721T090000
DTSTAMP:20260424T075235
CREATED:20260119T012619Z
LAST-MODIFIED:20260119T012619Z
UID:31737-1784617200-1784624400@nicolejohnston.com.au
SUMMARY:Rocklea | Oxley Creek Tuesday Common Carers
DESCRIPTION:Weeding and planting to improve habitat.  Tools provided. Contact Mary Lou on 0429 911 555.
URL:https://nicolejohnston.com.au/event/rocklea-oxley-creek-tuesday-common-carers/2026-07-21/
LOCATION:Oxley Creek Common\, 271 Sherwood Rd\, Rocklea\, Qld\, 4106\, Australia
ORGANIZER;CN="Friends of Oxley Creek Common":MAILTO:friendsofoxleycreekcommon@gmail.com
GEO:-27.535636;152.993047
X-APPLE-STRUCTURED-LOCATION;VALUE=URI;X-ADDRESS=Oxley Creek Common 271 Sherwood Rd Rocklea Qld 4106 Australia;X-APPLE-RADIUS=500;X-TITLE=271 Sherwood Rd:geo:152.993047,-27.535636
END:VEVENT
BEGIN:VEVENT
DTSTART;TZID=Australia/Brisbane:20260723T070000
DTEND;TZID=Australia/Brisbane:20260723T090000
DTSTAMP:20260424T075235
CREATED:20260119T014857Z
LAST-MODIFIED:20260119T014857Z
UID:31800-1784790000-1784797200@nicolejohnston.com.au
SUMMARY:Corinda | Creekcare: Blackheath Rd Park
DESCRIPTION:OCCA’s CreekCare Team is a roving group of volunteers that assists both OCCA Bushcare and Habitat Brisbane groups in Oxley Creek Catchment. The group meets at different regeneration sites each Thursday morning from 7 am to 9 am. \nCome along and enjoy the company of this hard working group of volunteers\, contribute to the maintenance of some significant sites in the catchment and share in morning tea. \nIf you are interested in being involved\, please contact the coordinator: Trevor Armstrong on 0414 691 264 or trevor.r.armstrong@gmail.com to confirm details of the next group.
URL:https://nicolejohnston.com.au/event/corinda-creekcare-blackheath-rd-park/2026-07-23/
LOCATION:Blackheath Road Park\, Corinda\, 154 Blackheath Rd\, Corinda\, Queensland\, 4075\, Australia
ORGANIZER;CN="Blackheath Road Park Bushcare Group":MAILTO:davojk22@gmail.com
END:VEVENT
BEGIN:VEVENT
DTSTART;TZID=Australia/Brisbane:20260728T070000
DTEND;TZID=Australia/Brisbane:20260728T090000
DTSTAMP:20260424T075235
CREATED:20260119T012619Z
LAST-MODIFIED:20260119T012619Z
UID:31738-1785222000-1785229200@nicolejohnston.com.au
SUMMARY:Rocklea | Oxley Creek Tuesday Common Carers
DESCRIPTION:Weeding and planting to improve habitat.  Tools provided. Contact Mary Lou on 0429 911 555.
URL:https://nicolejohnston.com.au/event/rocklea-oxley-creek-tuesday-common-carers/2026-07-28/
LOCATION:Oxley Creek Common\, 271 Sherwood Rd\, Rocklea\, Qld\, 4106\, Australia
ORGANIZER;CN="Friends of Oxley Creek Common":MAILTO:friendsofoxleycreekcommon@gmail.com
GEO:-27.535636;152.993047
X-APPLE-STRUCTURED-LOCATION;VALUE=URI;X-ADDRESS=Oxley Creek Common 271 Sherwood Rd Rocklea Qld 4106 Australia;X-APPLE-RADIUS=500;X-TITLE=271 Sherwood Rd:geo:152.993047,-27.535636
END:VEVENT
BEGIN:VEVENT
DTSTART;TZID=Australia/Brisbane:20260730T070000
DTEND;TZID=Australia/Brisbane:20260730T090000
DTSTAMP:20260424T075235
CREATED:20260119T015104Z
LAST-MODIFIED:20260119T015104Z
UID:31802-1785394800-1785402000@nicolejohnston.com.au
SUMMARY:Corinda | Creekcare: Cliveden Ave Reserve
DESCRIPTION:OCCA’s CreekCare Team is a roving group of volunteers that assists both OCCA Bushcare and Habitat Brisbane groups in Oxley Creek Catchment. The group meets at different regeneration sites each Thursday morning from 7 am to 9 am. \nCome along and enjoy the company of this hard working group of volunteers\, contribute to the maintenance of some significant sites in the catchment and share in morning tea. \nIf you are interested in being involved\, please contact the coordinator: Trevor Armstrong on 0414 691 264 or trevor.r.armstrong@gmail.com to confirm details of the next group.
URL:https://nicolejohnston.com.au/event/corinda-creekcare-cliveden-ave-reserve/2026-07-30/
LOCATION:Cliveden Avenue Reserve\, 449 Cliveden Ave\, Oxley\, Queensland\, 4075\, Australia
ORGANIZER;CN="Cliveden Reserve Bushcare Group":MAILTO:bristowc@bigpond.net.au
END:VEVENT
END:VCALENDAR