BEGIN:VCALENDAR
VERSION:2.0
PRODID:-//Nicole Johnston - ECPv6.15.20//NONSGML v1.0//EN
CALSCALE:GREGORIAN
METHOD:PUBLISH
X-ORIGINAL-URL:https://nicolejohnston.com.au
X-WR-CALDESC:Events for Nicole Johnston
REFRESH-INTERVAL;VALUE=DURATION:PT1H
X-Robots-Tag:noindex
X-PUBLISHED-TTL:PT1H
BEGIN:VTIMEZONE
TZID:Australia/Brisbane
BEGIN:STANDARD
TZOFFSETFROM:+1000
TZOFFSETTO:+1000
TZNAME:AEST
DTSTART:20140101T000000
END:STANDARD
END:VTIMEZONE
BEGIN:VEVENT
DTSTART;TZID=Australia/Brisbane:20150824T100000
DTEND;TZID=Australia/Brisbane:20150824T120000
DTSTAMP:20260424T200020
CREATED:20150702T024917Z
LAST-MODIFIED:20150702T024917Z
UID:3440-1440410400-1440417600@nicolejohnston.com.au
SUMMARY:50+ - Brain Fitness
DESCRIPTION:Bringing together the latest information on the brain and neuroplasticity with Brain Gym to explore ways to enhance mental fitness as we age.  Enjoy activating your brain through movement\, improving your focus\, concentration and mental clarity. \n*Please bring water to both sessions. \n*Bookings required and participants must attend BOTH sessions.
URL:https://nicolejohnston.com.au/event/50-brain-fitness/2015-08-24/
LOCATION:Sherwood Neighbourhood Centre\, 38 Thallon Street\, Sherwood\, Queensland\, 4075\, Australia
GEO:-27.53402;152.981098
X-APPLE-STRUCTURED-LOCATION;VALUE=URI;X-ADDRESS=Sherwood Neighbourhood Centre 38 Thallon Street Sherwood Queensland 4075 Australia;X-APPLE-RADIUS=500;X-TITLE=38 Thallon Street:geo:152.981098,-27.53402
END:VEVENT
END:VCALENDAR