BEGIN:VCALENDAR
VERSION:2.0
PRODID:-//Nicole Johnston - ECPv6.15.20//NONSGML v1.0//EN
CALSCALE:GREGORIAN
METHOD:PUBLISH
X-WR-CALNAME:Nicole Johnston
X-ORIGINAL-URL:https://nicolejohnston.com.au
X-WR-CALDESC:Events for Nicole Johnston
REFRESH-INTERVAL;VALUE=DURATION:PT1H
X-Robots-Tag:noindex
X-PUBLISHED-TTL:PT1H
BEGIN:VTIMEZONE
TZID:Australia/Brisbane
BEGIN:STANDARD
TZOFFSETFROM:+1000
TZOFFSETTO:+1000
TZNAME:AEST
DTSTART:20140101T000000
END:STANDARD
END:VTIMEZONE
BEGIN:VEVENT
DTSTART;TZID=Australia/Brisbane:20151016T153000
DTEND;TZID=Australia/Brisbane:20151016T163000
DTSTAMP:20260424T161040
CREATED:20151012T112621Z
LAST-MODIFIED:20151012T112621Z
UID:4389-1445009400-1445013000@nicolejohnston.com.au
SUMMARY:ACTivate Jnr Children's Club
DESCRIPTION:Children will get healthy and active\, meet new friends and develop a new skill each week. \nUsing balls\, hoops\, parachutes\, tunnels\, jumping sacks\, puppets\, storybooks\, costumes and music\, participants will explore all different ways their growing bodies can move. \nThese sessions will ACT-ivate the children and their caregivers and have a focus on creativity and fun in a safe\, relaxed and energetic environment. \nBookings are required – login to our website to book now!  Classes are for children aged 3 – 5 years.
URL:https://nicolejohnston.com.au/event/activate-jnr-childrens-club/2015-10-16/
LOCATION:Yeronga Memorial Park\, School Road\, Yeronga\, Queensland\, 4104\, Australia
GEO:-27.5212612;153.0201362
X-APPLE-STRUCTURED-LOCATION;VALUE=URI;X-ADDRESS=Yeronga Memorial Park School Road Yeronga Queensland 4104 Australia;X-APPLE-RADIUS=500;X-TITLE=School Road:geo:153.0201362,-27.5212612
END:VEVENT
END:VCALENDAR