BEGIN:VCALENDAR
VERSION:2.0
PRODID:-//Nicole Johnston - ECPv6.15.20//NONSGML v1.0//EN
CALSCALE:GREGORIAN
METHOD:PUBLISH
X-WR-CALNAME:Nicole Johnston
X-ORIGINAL-URL:https://nicolejohnston.com.au
X-WR-CALDESC:Events for Nicole Johnston
REFRESH-INTERVAL;VALUE=DURATION:PT1H
X-Robots-Tag:noindex
X-PUBLISHED-TTL:PT1H
BEGIN:VTIMEZONE
TZID:Australia/Brisbane
BEGIN:STANDARD
TZOFFSETFROM:+1000
TZOFFSETTO:+1000
TZNAME:AEST
DTSTART:20140101T000000
END:STANDARD
END:VTIMEZONE
BEGIN:VEVENT
DTSTART;TZID=Australia/Brisbane:20150716T091500
DTEND;TZID=Australia/Brisbane:20150716T101500
DTSTAMP:20260424T201502
CREATED:20150702T024511Z
LAST-MODIFIED:20150702T024511Z
UID:3426-1437038100-1437041700@nicolejohnston.com.au
SUMMARY:Active & Healthy: Fitness & Pilates
DESCRIPTION:Easy movement and fitness exercises including warm up\, strength\, pilates and cool down. \n*Bookings required. \n*Meet near the children’s playground.
URL:https://nicolejohnston.com.au/event/active-healthy-fitness-pilates/2015-07-16/
LOCATION:Graceville Riverside Parklands\, Graceville Avenue\, Graceville\, Queensland\, 4075\, Australia
GEO:-27.5228793;152.9875616
X-APPLE-STRUCTURED-LOCATION;VALUE=URI;X-ADDRESS=Graceville Riverside Parklands Graceville Avenue Graceville Queensland 4075 Australia;X-APPLE-RADIUS=500;X-TITLE=Graceville Avenue:geo:152.9875616,-27.5228793
END:VEVENT
END:VCALENDAR