BEGIN:VCALENDAR
VERSION:2.0
PRODID:-//Nicole Johnston - ECPv6.15.20//NONSGML v1.0//EN
CALSCALE:GREGORIAN
METHOD:PUBLISH
X-WR-CALNAME:Nicole Johnston
X-ORIGINAL-URL:https://nicolejohnston.com.au
X-WR-CALDESC:Events for Nicole Johnston
REFRESH-INTERVAL;VALUE=DURATION:PT1H
X-Robots-Tag:noindex
X-PUBLISHED-TTL:PT1H
BEGIN:VTIMEZONE
TZID:Australia/Brisbane
BEGIN:STANDARD
TZOFFSETFROM:+1000
TZOFFSETTO:+1000
TZNAME:AEST
DTSTART:20220101T000000
END:STANDARD
END:VTIMEZONE
BEGIN:VEVENT
DTSTART;TZID=Australia/Brisbane:20230717T110000
DTEND;TZID=Australia/Brisbane:20230717T113000
DTSTAMP:20260424T215503
CREATED:20230626T235727Z
LAST-MODIFIED:20230626T235727Z
UID:26239-1689591600-1689593400@nicolejohnston.com.au
SUMMARY:Annerley | First 5 Forever Children's Storytime
DESCRIPTION:Experience the magic of storytime with your child at the library. This interactive session includes stories\, songs and mark making activities for young children. Ideal for children aged 2-5 years. \nThe First 5 Forever initiative is funded by the Queensland Government.
URL:https://nicolejohnston.com.au/event/annerley-first-5-forever-childrens-storytime/2023-07-17/
LOCATION:Annerley Library\, 469 Ipswich Rd\, Annerley\, Queensland\, 4103\, Australia
GEO:-27.5115338;153.0317863
X-APPLE-STRUCTURED-LOCATION;VALUE=URI;X-ADDRESS=Annerley Library 469 Ipswich Rd Annerley Queensland 4103 Australia;X-APPLE-RADIUS=500;X-TITLE=469 Ipswich Rd:geo:153.0317863,-27.5115338
END:VEVENT
END:VCALENDAR