BEGIN:VCALENDAR
VERSION:2.0
PRODID:-//Nicole Johnston - ECPv6.15.20//NONSGML v1.0//EN
CALSCALE:GREGORIAN
METHOD:PUBLISH
X-ORIGINAL-URL:https://nicolejohnston.com.au
X-WR-CALDESC:Events for Nicole Johnston
REFRESH-INTERVAL;VALUE=DURATION:PT1H
X-Robots-Tag:noindex
X-PUBLISHED-TTL:PT1H
BEGIN:VTIMEZONE
TZID:Australia/Brisbane
BEGIN:STANDARD
TZOFFSETFROM:+1000
TZOFFSETTO:+1000
TZNAME:AEST
DTSTART:20170101T000000
END:STANDARD
END:VTIMEZONE
BEGIN:VEVENT
DTSTART;TZID=Australia/Brisbane:20180702T130000
DTEND;TZID=Australia/Brisbane:20180702T150000
DTSTAMP:20260424T231658
CREATED:20180625T041252Z
LAST-MODIFIED:20180625T041315Z
UID:17505-1530536400-1530543600@nicolejohnston.com.au
SUMMARY:Annerley | Maker space: Find your treasure
DESCRIPTION:Enjoy free school holiday craft activities with a Children’s Book Week theme. Ideal for children aged 6-10 years and their carers. \n  \nBooking\nNot required.
URL:https://nicolejohnston.com.au/event/annerley-maker-space-find-your-treasure/2018-07-02/
LOCATION:Annerley Library\, 469 Ipswich Rd\, Annerley\, Queensland\, 4103\, Australia
GEO:-27.5115338;153.0317863
X-APPLE-STRUCTURED-LOCATION;VALUE=URI;X-ADDRESS=Annerley Library 469 Ipswich Rd Annerley Queensland 4103 Australia;X-APPLE-RADIUS=500;X-TITLE=469 Ipswich Rd:geo:153.0317863,-27.5115338
END:VEVENT
END:VCALENDAR