BEGIN:VCALENDAR
VERSION:2.0
PRODID:-//Nicole Johnston - ECPv6.15.20//NONSGML v1.0//EN
CALSCALE:GREGORIAN
METHOD:PUBLISH
X-ORIGINAL-URL:https://nicolejohnston.com.au
X-WR-CALDESC:Events for Nicole Johnston
REFRESH-INTERVAL;VALUE=DURATION:PT1H
X-Robots-Tag:noindex
X-PUBLISHED-TTL:PT1H
BEGIN:VTIMEZONE
TZID:Australia/Brisbane
BEGIN:STANDARD
TZOFFSETFROM:+1000
TZOFFSETTO:+1000
TZNAME:AEST
DTSTART:20190101T000000
END:STANDARD
END:VTIMEZONE
BEGIN:VEVENT
DTSTART;TZID=Australia/Brisbane:20200724T100000
DTEND;TZID=Australia/Brisbane:20200724T103000
DTSTAMP:20260424T195837
CREATED:20200708T044910Z
LAST-MODIFIED:20200708T044910Z
UID:22156-1595584800-1595586600@nicolejohnston.com.au
SUMMARY:Chelmer | Fun Soccer
DESCRIPTION:Fun soccer activities for 2-4 year old’s. Exciting and fun soccer activities with enthusiastic and energetic coaches! A safe and relaxed environment for children to get active\, play soccer and have fun! \nBookings essential. To book visit Ginger Sport. For more information phone 07 3890 3338. \nMeet on the open grassed area to the opposite of the playground.
URL:https://nicolejohnston.com.au/event/chelmer-fun-soccer-2/2020-07-24/
LOCATION:Gordon Thomson Park\, 90 Wharf St\, Chelmer\, QLD\, 4068\, Australia
END:VEVENT
END:VCALENDAR