BEGIN:VCALENDAR
VERSION:2.0
PRODID:-//Nicole Johnston - ECPv6.15.20//NONSGML v1.0//EN
CALSCALE:GREGORIAN
METHOD:PUBLISH
X-ORIGINAL-URL:https://nicolejohnston.com.au
X-WR-CALDESC:Events for Nicole Johnston
REFRESH-INTERVAL;VALUE=DURATION:PT1H
X-Robots-Tag:noindex
X-PUBLISHED-TTL:PT1H
BEGIN:VTIMEZONE
TZID:Australia/Brisbane
BEGIN:STANDARD
TZOFFSETFROM:+1000
TZOFFSETTO:+1000
TZNAME:AEST
DTSTART:20190101T000000
END:STANDARD
END:VTIMEZONE
BEGIN:VEVENT
DTSTART;TZID=Australia/Brisbane:20200713T093000
DTEND;TZID=Australia/Brisbane:20200713T103000
DTSTAMP:20260425T015630
CREATED:20200629T020503Z
LAST-MODIFIED:20200629T021108Z
UID:21902-1594632600-1594636200@nicolejohnston.com.au
SUMMARY:Chelmer | Swiss Ball Pilates
DESCRIPTION:A low intensity\, easy workout that includes a mixture of strength\, balance and pilates exercises. \nThis is a GOLD event suitable for seniors. \nBookings essential. To book phone Jen on 0410 010 316. \nBring a swiss ball and small dumbbells.
URL:https://nicolejohnston.com.au/event/chelmer-swiss-ball-pilates-2020-07-13/2020-07-13/
LOCATION:Chelmer Recreation Reserve\, 83 Oxley Rd\, Chelmer\, QLD\, 4068\, Australia
END:VEVENT
END:VCALENDAR